Workbook
Name AgencyCode: #REF!
Name AgencyCode: #REF!
Name AgencyCode: #REF!
Name AgencyCode: #REF!
Name AgencyName: #REF!
Name AgencyName: #REF!
Name AgencyName: #REF!
Name AgencyName: #REF!
Name davit: #REF!
Name davit: #REF!
Name davit: #REF!
Name davit: #REF!
Name Functional1: #REF!
Name Functional1: #REF!
Name Functional1: #REF!
Name Functional1: #REF!
Name ggg: #REF!
Name ggg: #REF!
Name ggg: #REF!
Name ggg: #REF!
Name PANature: #REF!
Name PANature: #REF!
Name PANature: #REF!
Name PANature: #REF!
Name PAType: #REF!
Name PAType: #REF!
Name PAType: #REF!
Name PAType: #REF!
Name Performance2: #REF!
Name Performance2: #REF!
Name Performance2: #REF!
Name Performance2: #REF!
Name PerformanceType: #REF!
Name PerformanceType: #REF!
Name PerformanceType: #REF!
Name PerformanceType: #REF!
Name Հավելված: #REF!
Name Հավելված: #REF!
Name Հավելված: #REF!
Name Հավելված: #REF!
Name Մաս: #REF!
Name Մաս: #REF!
Name Մաս: #REF!
Name Մաս: #REF!
Name շախմատիստ: #REF!
Name շախմատիստ: #REF!
Name շախմատիստ: #REF!
Name շախմատիստ: #REF!

Sheet havelvac 1
F1: Հավելված 1
C2: ՀՀ կառավարության 2022 թվականի
C3: ______________ ի ___Ն որոշման
A5: «ՀԱՅԱUՏԱՆԻ ՀԱՆՐԱՊԵՏՈՒԹՅԱՆ 2022 ԹՎԱԿԱՆԻ ՊԵՏԱԿԱՆ ԲՅՈՒՋԵԻ ՄԱUԻՆ» ՀԱՅԱUՏԱՆԻ ՀԱՆՐԱՊԵՏՈՒԹՅԱՆ OՐԵՆՔԻ N 1 ՀԱՎԵԼՎԱԾԻ N 2 ԱՂՅՈՒՍԱԿՈՒՄ ԿԱՏԱՐՎՈՂ ՎԵՐԱԲԱՇԽՈՒՄԸ ԵՎ ՀԱՅԱՍՏԱՆԻ ՀԱՆՐԱՊԵՏՈՒԹՅԱՆ ԿԱՌԱՎԱՐՈՒԹՅԱՆ 2021 ԹՎԱԿԱՆԻ ԴԵԿՏԵՄԲԵՐԻ 23-Ի ԹԻՎ 2121-Ն ՈՐՈՇՄԱՆ N 5 ՀԱՎԵԼՎԱԾԻ N 1 ԱՂՅՈՒՍԱԿՈՒՄ ԿԱՏԱՐՎՈՂ ԼՐԱՑՈՒՄՆԵՐԸ ԵՎ ՓՈՓՈԽՈՒԹՅՈՒՆՆԵՐԸ
E7: /հազար դրամ/
A8: Ծրագրային դասիչը | C8: Բյուջետային հատկացումների գլխավոր կարգադրիչների, ծրագրերի և միջոցառումների անվանումները | D8: Ցուցանիշների փոփոխությունը (ավելացումները նշված են դրական նշանով, իսկ նվազեցումները` փակագծերում)
A9: Ծրագիրը | B9: Միջոցառումը | D9: Առաջին կիսամյակ | E9: Ինն ամիս | F9: Տարի
B10: ԸՆԴԱՄԵՆԸ | D10: =+D11+D25 -> 0 | E10: =+E11+E25 -> 0 | F10: =+F11+F25 -> 0
C11: ՀՀ կառավարություն | D11: =+D18 -> -45301 | E11: =+E18 -> -45301 | F11: =+F18 -> -45301
A12: 1139 | C12: Ծրագրի անվանումը`
C13: ՀՀ կառավարության պահուստային ֆոնդ
C14: Ծրագրի նպատակը`
C15: Պետական բյուջեում չկանխատեսված՝ ինչպես նաև բյուջետային երաշխիքների ապահովման ծախսերի ֆինանսավորման ապահովում
C16: Վերջնական արդյունքի նկարագրությունը`
C17: Պահուստային ֆոնդի կառավարման արդյունավետություն և թափանցիկություն
B18: 11001 | C18: Միջոցառման անվանումը` | D18: -45301 | E18: =+D18 -> -45301 | F18: =+E18 -> -45301
C19: ՀՀ կառավարության պահուստային ֆոնդ
C20: Միջոցառման նկարագրությունը`
C21: ՀՀ պետական բյուջեում նախատեսված ելքերի լրացուցիչ ֆինանսավորման՝ պետական բյուջեում չկանխատեսված ելքերի՝ ինչպես նաև բյուջետային երաշխիքների ապահովման ելքերի ֆինանսավորման ապահովում
C22: Միջոցառման տեսակը
C23: Ծառայությունների մատուցում
C24: ՀՀ տարածքային կառավարման և ենթակառուցվածքների նախարարություն
A25: 1157 | C25: Ծրագրի անվանումը՝ | D25: =+D32 -> 45301 | E25: =+E32 -> 45301 | F25: =+F32 -> 45301
C26: Քաղաքային զարգացում
C27: Ծրագրի նպատակը՝
C28: Քաղաքային ենթակառուցվածքների զարգացում
C29: Վերջնական արդյունքի նկարագրությունը՝
C30: Քաղաքային ենթակառուցվածքների արդիականացում և բարելավում
A31: Ծրագրի միջոցառումներ
B32: 31001 | C32: Միջոցառման անվանումը՝ | D32: 45301 | E32: =+D32 -> 45301 | F32: =+E32 -> 45301
C33: =+'[1]havelvac 1'!F34 -> Երևանի Բուսաբանական այգու տարածքում անտառպուրակի կառուցապատման նախագծային աշխատանքների իրականացում
C34: Միջոցառման նկարագրությունը՝
C35: =+C33 -> Երևանի Բուսաբանական այգու տարածքում անտառպուրակի կառուցապատման նախագծային աշխատանքների իրականացում
C36: Միջոցառման տեսակը՝
C37: Պետական մարմինների կողմից օգտագործվող ոչ ֆինանսական ակտիվների հետ գործառնություններ
A41: ՀԱՅԱՍՏԱՆԻ ՀԱՆՐԱՊԵՏՈՒԹՅԱՆ
A42: ՎԱՐՉԱՊԵՏԻ ԱՇԽԱՏԱԿԱԶՄԻ
C43: ՂԵԿԱՎԱՐ՝ Ա.ՀԱՐՈՒԹՅՈՒՆՅԱՆ

Sheet havelvac 2
I1: Հավելված 2
F2: ՀՀ կառավարության 2022 թվականի
F3: ______________ ի ___Ն որոշման
A6: ՀԱՅԱՍՏԱՆԻ ՀԱՆՐԱՊԵՏՈՒԹՅԱՆ ԿԱՌԱՎԱՐՈՒԹՅԱՆ 2021 ԹՎԱԿԱՆԻ ԴԵԿՏԵՄԲԵՐԻ 23-Ի N 2121-Ն ՈՐՈՇՄԱՆ N 3 և N 4 ՀԱՎԵԼՎԱԾՆԵՐՈՒՄ ԿԱՏԱՐՎՈՂ ԼՐԱՑՈՒՄՆԵՐԸ ԵՎ ՓՈՓՈԽՈՒԹՅՈՒՆՆԵՐԸ
I8: /հազար դրամ/
A9: Գործառական դասիչը | D9: Ծրագրային դասիչը | F9: Բյուջետային ծախսերի գործառական դասակարգման բաժինների, խմբերի և դասերի, բյուջետային ծրագրերի, միջոցառումների բյուջետային հատկացումնեյի գլխավոր կարկադրիչների անվանումները | G9: Ցուցանիշների փոփոխությունը (ավելացումները նշված են դրական նշանով, իսկ նվազեցումները` փակագծերում)
A10: Բաժին | B10: Խումբ | C10: Դաս | D10: Ծրագիր | E10: Միջոցառում | G10: Առաջին կիսամյակ | H10: Ինն ամիս | I10: Տարի
F11: ԸՆԴԱՄԵՆԸ | G11: =+G12+G27 -> 0 | H11: =+H12+H27 -> 0 | I11: =+I12+I27 -> 0
A12: 11 | F12: ՀԻՄՆԱԿԱՆ ԲԱԺԻՆՆԵՐԻՆ ՉԴԱՍՎՈՂ ՊԱՀՈՒՍՏԱՅԻՆ ՖՈՆԴԵՐ | G12: =+G14 -> -45301 | H12: =+H14 -> -45301 | I12: =+I14 -> -45301
F13: այդ թվում`
B14: 01 | F14: ՀՀ կառավարության և համայնքների պահուստային ֆոնդ | G14: =G16 -> -45301 | H14: =H16 -> -45301 | I14: =I16 -> -45301
F15: այդ թվում`
C16: 01 | F16: ՀՀ կառավարության պահուստային ֆոնդ | G16: =G18 -> -45301 | H16: =H18 -> -45301 | I16: =I18 -> -45301
F17: այդ թվում`
F18: ՀՀ կառավարություն | G18: =G19 -> -45301 | H18: =H19 -> -45301 | I18: =I19 -> -45301
D19: 1139 | E19: 11001 | F19: ՀՀ կառավարության պահուստային ֆոնդ | G19: =G21 -> -45301 | H19: =H21 -> -45301 | I19: =I21 -> -45301
F20: այդ թվում` ըստ կատարողների
F21: ՀՀ կառավարություն | G21: =G23 -> -45301 | H21: =H23 -> -45301 | I21: =I23 -> -45301
F22: այդ թվում` բյուջետային ծախսերի տնտեսագիտական դասակարգման հոդվածներ
F23: ԸՆԴԱՄԵՆԸ ԾԱԽՍԵՐ | G23: =G24 -> -45301 | H23: =H24 -> -45301 | I23: =I24 -> -45301
F24: ԸՆԹԱՑԻԿ ԾԱԽՍԵՐ | G24: =G25 -> -45301 | H24: =H25 -> -45301 | I24: =I25 -> -45301
F25: ԱՅԼ ԾԱԽՍԵՐ | G25: =G26 -> -45301 | H25: =H26 -> -45301 | I25: =I26 -> -45301
F26: Պահուստային միջոցներ | G26: -45301 | H26: =+G26 -> -45301 | I26: =+H26 -> -45301
A27: 08 | F27: ՀԱՆԳԻՍՏ, ՄՇԱԿՈՒՅԹ ԵՎ ԿՐՈՆ | G27: =+G29 -> 45301 | H27: =+H29 -> 45301 | I27: =+I29 -> 45301
F28: այդ թվում`
B29: 02 | F29: Մշակութային ծառայություններ | G29: =+G31 -> 45301 | H29: =+H31 -> 45301 | I29: =+I31 -> 45301
F30: այդ թվում՝
C31: 04 | F31: Այլ մշակութային կազմակերպություններ | G31: =G34 -> 45301 | H31: =H34 -> 45301 | I31: =I34 -> 45301
F32: =+'havelvac 1'!C24 -> ՀՀ տարածքային կառավարման և ենթակառուցվածքների նախարարություն
F33: այդ թվում`
D34: 1157 | E34: 31001 | F34: Երևանի Բուսաբանական այգու տարածքում անտառպուրակի կառուցապատման նախագծային աշխատանքների իրականացում | G34: =+G36 -> 45301 | H34: =+H36 -> 45301 | I34: =+I36 -> 45301
F35: այդ թվում` ըստ կատարողների
F36: =+F32 -> ՀՀ տարածքային կառավարման և ենթակառուցվածքների նախարարություն | G36: =+G38 -> 45301 | H36: =+H38 -> 45301 | I36: =+I38 -> 45301
F37: այդ թվում` բյուջետային ծախսերի տնտեսագիտական դասակարգման հոդվածներ
F38: ԸՆԴԱՄԵՆԸ ԾԱԽՍԵՐ | G38: =+G39 -> 45301 | H38: =+H39 -> 45301 | I38: =+I39 -> 45301
F39: ՈՉ ՖԻՆԱՆՍԱԿԱՆ ԱԿՏԻՎՆԵՐԻ ԳԾՈՎ ԾԱԽՍԵՐ | G39: =+G40 -> 45301 | H39: =+H40 -> 45301 | I39: =+I40 -> 45301
F40: ՀԻՄՆԱԿԱՆ ՄԻՋՈՑՆԵՐ | G40: =+G41 -> 45301 | H40: =+H41 -> 45301 | I40: =+I41 -> 45301
F41: ԱՅԼ ՀԻՄՆԱԿԱՆ ՄԻՋՈՑՆԵՐ | G41: =+G42 -> 45301 | H41: =+H42 -> 45301 | I41: =+I42 -> 45301
F42: -Նախագծահետազոտական ծախսեր | G42: =64301-19000 -> 45301 | H42: =64301-19000 -> 45301 | I42: =64301-19000 -> 45301
B45: ՀԱՅԱՍՏԱՆԻ ՀԱՆՐԱՊԵՏՈՒԹՅԱՆ ՎԱՐՉԱՊԵՏԻ ԱՇԽԱՏԱԿԱԶՄԻ ՂԵԿԱՎԱՐ՝ | H45: Ա.ՀԱՐՈՒԹՅՈՒՆՅԱՆ

Sheet havelvac 3
E1: Հավելված 3
C2: ՀՀ կառավարության 2022 թվականի
C3: ______________ ի ___Ն որոշման
A4: ՀԱՅԱՍՏԱՆԻ ՀԱՆՐԱՊԵՏՈՒԹՅԱՆ ԿԱՌԱՎԱՐՈՒԹՅԱՆ 2021 ԹՎԱԿԱՆԻ ԴԵԿՏԵՄԲԵՐԻ 23-Ի ԹԻՎ 2121-Ն ՈՐՈՇՄԱՆ N 5 ՀԱՎԵԼՎԱԾԻ N 2 ԱՂՅՈՒՍԱԿՈՒՄ ԿԱՏԱՐՎՈՂ ԼՐԱՑՈՒՄԸ
G5: /հազար դրամ/
A6: Ծրագրային դասիչը | C6: Բյուջետային հատկացումների գլխավոր կարգադրիչների, ծրագրերի, միջոցառումների, ծախսային ուղղությունների անվանումները | E6: Ցուցանիշների փոփոխությունը (ավելացումները նշված են դրական նշանով)
A7: Ծրագիրը | B7: Միջոցառումը | E7: Առաջին կիսամյակ | F7: Ինն ամիս | G7: Տարի
C8: ԸՆԴԱՄԵՆԸ, | E8: =+E10 -> 45301 | F8: =+F10 -> 45301 | G8: =+G10 -> 45301
C9: այդ թվում՝
C10: ՀՀ ՏԱՐԱԾՔԱՅԻՆ ԿԱՌԱՎԱՐՄԱՆ ԵՎ ԵՆԹԱԿԱՌՈՒՑՎԱԾՔՆԵՐԻ ՆԱԽԱՐԱՐՈՒԹՅՈՒՆ | E10: =+E12 -> 45301 | F10: =+F12 -> 45301 | G10: =+G12 -> 45301
C11: այդ թվում՝
A12: 1157 | B12: 31001 | C12: =+'[1]havelvac 2'!C33 -> Երևանի Բուսաբանական այգու տարածքում անտառպուրակի կառուցապատման նախագծային աշխատանքների իրականացում | E12: =E14 -> 45301 | F12: =F14 -> 45301 | G12: =G14 -> 45301
B13: այդ թվում՝ ըստ կատարողների
C14: ՀՀ տարածքային կառավարման և ենթակառուցվածքների նախարարություն | E14: =+'havelvac 1'!D25 -> 45301 | F14: =+E14 -> 45301 | G14: =+F14 -> 45301
C15: այդ թվում՝ ըստ ուղղությունների
B16: 1 | C16: =+C12 -> Երևանի Բուսաբանական այգու տարածքում անտառպուրակի կառուցապատման նախագծային աշխատանքների իրականացում | E16: 45301 | F16: 45301 | G16: 45301
A19: ՀԱՅԱՍՏԱՆԻ ՀԱՆՐԱՊԵՏՈՒԹՅԱՆ
A20: ՎԱՐՉԱՊԵՏԻ ԱՇԽԱՏԱԿԱԶՄԻ
C21: ՂԵԿԱՎԱՐ՝ Ա.ՀԱՐՈՒԹՅՈՒՆՅԱՆ

Sheet havelvac 4
E1: Հավելված 4
C2: ՀՀ կառավարության 2022 թվականի
C3: ______________ ի ___Ն որոշման
A5: «ՀԱՅԱUՏԱՆԻ ՀԱՆՐԱՊԵՏՈՒԹՅԱՆ 2022 ԹՎԱԿԱՆԻ ՊԵՏԱԿԱՆ ԲՅՈՒՋԵԻ ՄԱUԻՆ» ՀԱՅԱUՏԱՆԻ ՀԱՆՐԱՊԵՏՈՒԹՅԱՆ OՐԵՆՔԻ N 1 ՀԱՎԵԼՎԱԾԻ N 3 ԱՂՅՈՒՍԱԿՈՒՄ ԿԱՏԱՐՎՈՂ ԼՐԱՑՈՒՄԸ
I6: /հազար դրամ/
A7: Ծրագրային դասիչը | C7: Բյուջետային գլխավոր կարգադրիչների, ծրագրերի, միջոցառումների և ուղղությունների անվանումները | E7: Ցուցանիշների փոփոխությունը (ավելացումները նշված են դրական նշանով)
A8: Ծրագիրը | B8: Միջոցառումը | E8: Ընդամենը | F8: այդ թվում՝
F9: կառուցման աշխատանքներ | G9: վերակառուցման, վերանորոգման և վերականգնման աշխատանքներ | H9: նախագծահետազոտական, գեոդեզիա-քարտեզագրական աշխատանքներ | I9: ոչ ֆինանսական այլ ակտիվների ձեռքբերում
C10: ԸՆԴԱՄԵՆԸ, | E10: =+E12 -> 45301 | F10: 0 | G10: 0 | H10: =+H12 -> 45301 | I10: 0
C11: այդ թվում՝
C12: ՀՀ ՏԱՐԱԾՔԱՅԻՆ ԿԱՌԱՎԱՐՄԱՆ ԵՎ ԵՆԹԱԿԱՌՈՒՑՎԱԾՔՆԵՐԻ ՆԱԽԱՐԱՐՈՒԹՅՈՒՆ | E12: =+E14 -> 45301 | F12: 0 | G12: 0 | H12: =+H14 -> 45301 | I12: 0
C13: այդ թվում՝
A14: 1157 | B14: 31001 | C14: =+'[1]havelvac 2'!C33 -> Երևանի Բուսաբանական այգու տարածքում անտառպուրակի կառուցապատման նախագծային աշխատանքների իրականացում | E14: =+E16 -> 45301 | F14: 0 | G14: 0 | H14: =+H16 -> 45301 | I14: 0
B15: այդ թվում՝
B16: 1 | C16: =+C14 -> Երևանի Բուսաբանական այգու տարածքում անտառպուրակի կառուցապատման նախագծային աշխատանքների իրականացում | E16: 45301 | F16: 0 | G16: 0 | H16: 45301 | I16: 0
A20: ՀԱՅԱՍՏԱՆԻ ՀԱՆՐԱՊԵՏՈՒԹՅԱՆ
A21: ՎԱՐՉԱՊԵՏԻ ԱՇԽԱՏԱԿԱԶՄԻ
C22: ՂԵԿԱՎԱՐ՝ Ա.ՀԱՐՈՒԹՅՈՒՆՅԱՆ

Sheet havelvac 5
F2: Հավելված 5
F3: ՀՀ կառավարության 2022 թվականի
F4: ______________ ի ___Ն որոշման
A6: ՀԱՅԱՍՏԱՆԻ ՀԱՆՐԱՊԵՏՈՒԹՅԱՆ ԿԱՌԱՎԱՐՈՒԹՅԱՆ 2021 ԹՎԱԿԱՆԻ ԴԵԿՏԵՄԲԵՐԻ 23-Ի ԹԻՎ 2121-Ն ՈՐՈՇՄԱՆ N 9 ԵՎ 9.1 ՀԱՎԵԼՎԱԾՆԵՐԻ NN 9.7, 9.47, 9.1.8 ԵՎ 9.1.58 ԱՂՅՈՒՍԱԿՆԵՐՈՒՄ ԿԱՏԱՐՎՈՂ ՓՈՓՈԽՈՒԹՅՈՒՆՆԵՐԸ ԵՎ ԼՐԱՑՈՒՄՆԵՐԸ
F7: Աղյուսակ 9.7 և 9.1.8
A8: ՀՀ տարածքային կառավարման և ենթակառուցվածքների նախարարություն
B10: Ծրագրի դասիչը | C10: Ծրագրի անվանումը
B11: 1157 | C11: =+'havelvac 1'!C26 -> Քաղաքային զարգացում
B13: Ծրագրի դասիչը՝ | C13: 1157 | D13: Ցուցանիշների փոփոխությունը (ավելացումները նշված են դրական նշանով)
B14: Միջոցառման դասիչը՝ | C14: 31001 | D14: Առաջին կիսամյակ | E14: Ինն ամիս | F14: Տարի
B15: Միջոցառման անվանումը՝ | C15: =+'havelvac 1'!C33 -> Երևանի Բուսաբանական այգու տարածքում անտառպուրակի կառուցապատման նախագծային աշխատանքների իրականացում
B16: Նկարագրությունը՝ | C16: =+'havelvac 1'!C33 -> Երևանի Բուսաբանական այգու տարածքում անտառպուրակի կառուցապատման նախագծային աշխատանքների իրականացում
B17: Միջոցառման տեսակը՝ | C17: =+'havelvac 1'!C37 -> Պետական մարմինների կողմից օգտագործվող ոչ ֆինանսական ակտիվների հետ գործառնություններ
B18: Միջոցառումն իրականացնողի անվանումը | C18: Մասնագիտացված միավոր
B19: Արդյունքի չափորոշիչներ
B20: Պայմանագրերի թիվ, հատ | D20: 1 | E20: 1 | F20: 1
B21: Միջոցառման վրա կատարվող ծախսը (հազար դրամ) | D21: =+'havelvac 1'!D25 -> 45301 | E21: =+'havelvac 1'!E25 -> 45301 | F21: =+'havelvac 1'!F25 -> 45301
F23: Աղյուսակ 9.47 և 9.1.58
A24: ՀՀ կառավարություն
B26: Ծրագրի դասիչը | C26: Ծրագրի անվանումը
B27: 1139 | C27: ՀՀ կառավարության պահուստային ֆոնդ
B28: Ծրագրի միջոցառումները
B29: Ծրագրի դասիչը՝ | C29: 1139 | D29: Ցուցանիշների փոփոխությունը (նվազեցումները նշված են փակագծերում)
B30: Միջոցառման դասիչը՝ | C30: 11001 | D30: Առաջին կիսամյակ | E30: Ինն ամիս | F30: Տարի
B31: Միջոցառման անվանումը՝ | C31: ՀՀ կառավարության պահուստային ֆոնդ
B32: Նկարագրությունը՝ | C32: ՀՀ պետական բյուջեում նախատեսված ելքերի լրացուցիչ ֆինանսավորման՝ պետական բյուջեում չկանխատեսված ելքերի, ինչպես նաև բյուջետային երաշխիքների ապահովման ելքերի ֆինանսավորման ապահովում
B33: Միջոցառման տեսակը՝ | C33: Ծառայությունների մատուցում
B34: Միջոցառումն իրականացնողի անվանումը | C34: ՀՀ կառավարություն
C35: Արդյունքի չափորոշիչներ
B36: Միջոցառման վրա կատարվող ծախսը (հազար դրամ) | D36: =+'havelvac 1'!D18 -> -45301 | E36: =+F36 -> -45301 | F36: =+'havelvac 1'!F18 -> -45301
A39: ՀԱՅԱՍՏԱՆԻ ՀԱՆՐԱՊԵՏՈՒԹՅԱՆ
A40: ՎԱՐՉԱՊԵՏԻ ԱՇԽԱՏԱԿԱԶՄԻ
B41: ՂԵԿԱՎԱՐ՝ Ա.ՀԱՐՈՒԹՅՈՒՆՅԱՆ

Sheet havelvac 6
H1: Հավելված N 6
I2: ՀՀ կառավարության 2022 թվականի
I3: ______________ ի ___Ն որոշման
A5: ՀԱՅԱՍՏԱՆԻ ՀԱՆՐԱՊԵՏՈՒԹՅԱՆ ԿԱՌԱՎԱՐՈՒԹՅԱՆ 2021 ԹՎԱԿԱՆԻ ԴԵԿՏԵՄԲԵՐԻ 23-Ի ԹԻՎ 2121-Ն ՈՐՈՇՄԱՆ N 10 ՀԱՎԵԼՎԱԾՈՒՄ ԿԱՏԱՐՎՈՂ ԼՐԱՑՈՒՄՆԵՐԸ
A6: Կոդը | B6: Անվանումը | E6: Գնման ձևը | F6: Չափման միավորը | G6: Միավորի գինը | H6: Քանակը | I6: Ցուցանիշների փոփոխությունը (ավելացումները նշված են դրական նշանով)
I7: Գումարը (հազար դրամ)
B8: Ընդամենը | I8: =+I9 -> 45301
A9: ՀՀ տարածքային կառավարման և ենթակառուցվածքների նախարարություն | I9: =+I10 -> 45301
A10: Բաժին N 08 | B10: Խումբ N 02 | C10: Դաս N 04 | D10: =+'havelvac 2'!F31 -> Այլ մշակութային կազմակերպություններ | I10: =+I11 -> 45301
A11: 1157-31001 | B11: =+'havelvac 5'!C15 -> Երևանի Բուսաբանական այգու տարածքում անտառպուրակի կառուցապատման նախագծային աշխատանքների իրականացում | I11: =+I12 -> 45301
B12: ՄԱՍ III. ԾԱՌԱՅՈՒԹՅՈՒՆՆԵՐ | I12: =+I13+I14 -> 45301
A13: 71241200 | B13: Նախագծերի պատրաստում, ծախսերի գնահատում | E13: ՀՄԱ | F13: դրամ | G13: 44486000 | H13: 1 | I13: =+G13*H13/1000 -> 44486
A14: 50531140 | B14: Փորձաքննության ծառայություններ | E14: ՀՄԱ | F14: դրամ | G14: 815000 | H14: 1 | I14: =+G14*H14/1000 -> 815
A19: ՀԱՅԱՍՏԱՆԻ ՀԱՆՐԱՊԵՏՈՒԹՅԱՆ
A20: ՎԱՐՉԱՊԵՏԻ ԱՇԽԱՏԱԿԱԶՄԻ
B21: ՂԵԿԱՎԱՐ՝ Ա.ՀԱՐՈՒԹՅՈՒՆՅԱՆ
