Workbook

Sheet Հավելված 1
F1: Հավելված N 1
A2: «ՀԱՅԱՍՏԱՆԻ ՀԱՆՐԱՊԵՏՈՒԹՅԱՆ 2022 ԹՎԱԿԱՆԻ ՊԵՏԱԿԱՆ ԲՅՈՒՋԵԻ ՄԱՍԻՆ» ՀԱՅԱՍՏԱՆԻ ՀԱՆՐԱՊԵՏՈՒԹՅԱՆ ՕՐԵՆՔԻ N 1 ՀԱՎԵԼՎԱԾԻ N 2 ԱՂՅՈՒՍԱԿՈՒՄ ԿԱՏԱՐՎՈՂ ՎԵՐԱԲԱՇԽՈՒՄԸ ԵՎ ՀԱՅԱՍՏԱՆԻ ՀԱՆՐԱՊԵՏՈՒԹՅԱՆ ԿԱՌԱՎԱՐՈՒԹՅԱՆ 2021 ԹՎԱԿԱՆԻ ԴԵԿՏԵՄԲԵՐԻ 23-Ի N 2121-Ն ՈՐՈՇՄԱՆ N 5 ՀԱՎԵԼՎԱԾԻ N 1 ԱՂՅՈՒՍԱԿՈՒՄ ԿԱՏԱՐՎՈՂ ՓՈՓՈԽՈՒԹՅՈՒՆՆԵՐԸ
F3: հազար դրամներով
A4: Ծրագրային դասիչը | C4: Բյուջետային հատկացումների գլխավոր կարգադրիչների, ծրագրերի և միջոցառումների անվանումները | D4: Ցուցանիշների փոփոխությունը (ավելացումները նշված են դրական նշանով, իսկ նվազեցումները՝ փակագծերում)
A5: Ծրագիր | B5: Միջոցառում | D5: Առաջին կիսամյակ | E5: Ինն ամիս | F5: Տարի
C6: ԸՆԴԱՄԵՆԸ | D6: =D7+D45 -> 0 | E6: =E7+E45 -> 0 | F6: =F7+F45 -> 0
C7: ՀՀ պետական եկամուտների կոմիտե | D7: =D8 -> 0 | E7: =E8 -> 0 | F7: =F8 -> 0
A8: 1023 | C8: Ծրագրի անվանումը՝ | D8: =ROUND(D15+D21+D27+D33+D39,1) -> 0 | E8: =ROUND(E15+E21+E27+E33+E39,1) -> 0 | F8: =ROUND(F15+F21+F27+F33+F39,1) -> 0
C9: Հարկային և մաքսային ծառայություններ
C10: Ծրագրի նպատակը՝
C11: Հարկային և մաքսային միասնական պետական քաղաքականության իրականացում, հարկային և մաքսային օրենսդրության ամբողջական և համահավասար կիրառում
C12: Վերջնական արդյունքի նկարագրությունը՝
C13: Արդյունավետ հարկային և մաքսային հսկողության իրականացում, պետական բյուջեի եկամուտների ապահովում
A14: Ծրագրի միջոցառումներ
B15: 11001 | C15: Միջոցառման անվանումը` | D15: ='Հավելված 3'!G18 -> -23787.2 | E15: ='Հավելված 3'!H18 -> 0 | F15: ='Հավելված 3'!I18 -> 0
C16: Հարկային և մաքսային ծառայություններ
C17: Միջոցառման նկարագրությունը`
C18: Հարկային և մաքսային քաղաքականության մշակման, պլանավորման, մոնիտորինգի, ծրագրերի համակարգման, գանձման, վերահսկողության և աջակցության ծառայություններ
C19: Միջոցառման տեսակը
C20: Ծառայությունների մատուցում
B21: 31001 | C21: Միջոցառման անվանումը՝ | D21: ='Հավելված 3'!G28 -> 0 | E21: ='Հավելված 3'!H28 -> 303446.1 | F21: ='Հավելված 3'!I28 -> 303446.1
C22: ՀՀ պետական եկամուտների կոմիտեի տեխնիկական հագեցվածության բարելավում
C23: Միջոցառման նկարագրությունը`
C24: ՀՀ պետական եկամուտների կոմիտեի տեխնիկական հագեցվածության բարելավում
C25: Միջոցառման տեսակը
C26: Պետական մարմինների կողմից օգտագործվող ոչ ֆինանսական ակտիվների հետ գործառնություններ
B27: 31003 | C27: Միջոցառման անվանումը` | D27: ='Հավելված 3'!G39 -> -132548.2 | E27: ='Հավելված 3'!H39 -> -491067.7 | F27: ='Հավելված 3'!I39 -> -491067.7
C28: ՀՀ պետական եկամուտների կոմիտեի շենքային ապահովվածության բարելավում_x000D_
C29: Միջոցառման նկարագրությունը`
C30: ՀՀ պետական եկամուտների կոմիտեի նոր շենքերի և շինությունների շինարարություն, նախագծային աշխատանքների ձեռքբերում
C31: Միջոցառման տեսակը
C32: Պետական մարմինների կողմից օգտագործվող ոչ ֆինանսական ակտիվների հետ գործառնություններ
B33: 31004 | C33: Միջոցառման անվանումը` | D33: ='Հավելված 3'!G48 -> 156335.4 | E33: ='Հավելված 3'!H48 -> 182516.6 | F33: ='Հավելված 3'!I48 -> 182516.6
C34: ՀՀ պետական եկամուտների կոմիտեի շենքային պայմանների բարելավում
C35: Միջոցառման նկարագրությունը`
C36: ՀՀ պետական եկամուտների կոմիտեի շենքերի և շինությունների կապիտալ վերանորոգում, նախագծային աշխատանքների ձեռքբերում
C37: Միջոցառման տեսակը
C38: Պետական մարմինների կողմից օգտագործվող ոչ ֆինանսական ակտիվների հետ գործառնություններ
B39: 31005 | C39: Միջոցառման անվանումը` | D39: ='Հավելված 3'!G57 -> 0 | E39: ='Հավելված 3'!H57 -> 5105 | F39: ='Հավելված 3'!I57 -> 5105
C40: ՀՀ պետական եկամուտների կոմիտեի շենքային պայմաններով ապահովում
...

Sheet Հավելված 2
H1: Հավելված N 2
A2: «ՀԱՅԱՍՏԱՆԻ ՀԱՆՐԱՊԵՏՈՒԹՅԱՆ 2022 ԹՎԱԿԱՆԻ ՊԵՏԱԿԱՆ ԲՅՈՒՋԵԻ ՄԱՍԻՆ» ՀԱՅԱՍՏԱՆԻ ՀԱՆՐԱՊԵՏՈՒԹՅԱՆ ՕՐԵՆՔԻ N 1 ՀԱՎԵԼՎԱԾԻ N 3 ԱՂՅՈՒՍԱԿՈՒՄ ԿԱՏԱՐՎՈՂ ՓՈՓՈԽՈՒԹՅՈՒՆՆԵՐԸ ԵՎ ԼՐԱՑՈՒՄՆԵՐԸ
H3: հազար դրամներով
A4: Ծրագրային դասիչ | C4: Բյուջետային գլխավոր կարգադրիչների, ծրագրերի, միջոցառումների և ուղղությունների անվանումները | D4: Ցուցանիշների փոփոխությունը (ավելացումները նշված են դրական նշանով, իսկ նվազեցումները՝ փակագծերում)
D5: Ընդամենը | E5: այդ թվում՝
E6: Կառուցման աշխատանքներ | F6: Վերակառուցման, վերանորոգման և վերականգնման աշխատանքներ | G6: Նախագծահետազոտական, գեոդեզա-քարտեզագրական աշխատանքներ | H6: Ոչ ֆինանսական այլ ակտիվների ձեռքբերում
A7: Ծրագիր | B7: Միջոցառում
C8: ԸՆԴԱՄԵՆԸ | D8: =D10 -> 0 | E8: =E10 -> -491067.7 | F8: =F10 -> 182516.6 | G8: =G10 -> 0 | H8: =H10 -> 308551.1
C9: այդ թվում՝
C10: ՀՀ ՊԵՏԱԿԱՆ ԵԿԱՄՈՒՏՆԵՐԻ ԿՈՄԻՏԵ | D10: =ROUND(D12+D13+D18+D24,1) -> 0 | E10: =E12+E13+E18+E24 -> -491067.7 | F10: =F12+F13+F18+F24 -> 182516.6 | G10: =G12+G13+G18+G24 -> 0 | H10: =H12+H13+H18+H24 -> 308551.1
C11: այդ թվում`
A12: 1023 | B12: 31001 | C12: ՀՀ պետական եկամուտների կոմիտեի տեխնիկական հագեցվածության բարելավում | D12: =E12+F12+G12+H12 -> 303446.1 | H12: ='Հավելված 3'!I28 -> 303446.1
A13: 1023 | B13: 31003 | C13: ՀՀ պետական եկամուտների կոմիտեի շենքային ապահովվածության բարելավում | D13: =SUM(E13:H13) -> -491067.7 | E13: =SUM(E14:E17) -> -491067.7 | F13: =SUM(F14:F17) -> 0 | G13: =SUM(G14:G17) -> 0 | H13: =SUM(H14:H17) -> 0
C14: ՀՀ պետական եկամուտների կոմիտեի Գյումրի քաղաքի Թբիլիսյան խճուղի թիվ 2/14 հասցեում գտնվող արտաքին տնտեսական գործունեության կենտրոնի կառուցման աշխատանքներ | D14: =E14+F14+G14+H14 -> -583623.4 | E14: ='Հավելված 4'!F17 -> -583623.4
C15: Երևան քաղաքի Կոմիտասի պողոտա 35 հասցեում գտնվող վարչական շենքի կիսանկուղային հարկի տարածքում ճաշարանի վերակառուցման աշխատանքներ | D15: =E15+F15+G15+H15 -> 1247.9 | E15: ='Հավելված 4'!F18 -> 1247.9
C16: Արևելյան մաքսատուն-վարչության Գոգավան-Պրիվոլնոյե մաքսային կետ-բաժնի տարածքում 100 տոննա կշռողականությամբ ավտոմոբիլային կշեռքի կառուցում | D16: =E16+F16+G16+H16 -> 45061.3 | E16: ='Հավելված 4'!F19 -> 45061.3
C17: Արևելյան մաքսատուն-վարչության Բագրատաշենի մաքսային կետ-բաժնի տարածքում 100 տոննա կշռողականությամբ ավտոմոբիլային կշեռքի և ծածկարանի կառուցում | D17: =E17+F17+G17+H17 -> 46246.5 | E17: ='Հավելված 4'!F20 -> 46246.5
A18: 1023 | B18: 31004 | C18: ՀՀ պետական եկամուտների կոմիտեի շենքային պայմանների բարելավում | D18: =SUM(D19:D23) -> 182516.6 | E18: =SUM(E19:E23) -> 0 | F18: =SUM(F19:F23) -> 182516.6 | G18: =SUM(G19:G23) -> 0 | H18: =SUM(H19:H23) -> 0
C19: ք. Երևան, Արարատյան 90 հասցեում գտնվող շինության վերանորոգման աշխատանքներ | D19: =E19+F19+G19+H19 -> 26968.6 | F19: ='Հավելված 4'!F25 -> 26968.6
C20: Երևան քաղաքի Դեղատան 3 հասցեում գտնվող վարչական շենքի վերանորոգման աշխատանքներ | D20: =E20+F20+G20+H20 -> 20830 | F20: ='Հավելված 4'!F26 -> 20830
C21: ՀՀ ՊԵԿ Երևան քաղաքի Ծովակալ Իսակովի թիվ 10 հասցեի վարչական շենքի վերանորոգման աշխատանքներ | D21: =E21+F21+G21+H21 -> 45634 | F21: ='Հավելված 4'!F27 -> 45634
C22: Արևմտյան մաքսատուն-վարչության Երևան քաղաքի Երևան 42 հասցեում գտնվող վարչական շենքի տարածքի վերանորոգման աշխատանքներ | D22: =E22+F22+G22+H22 -> 43010.2 | F22: ='Հավելված 4'!F28 -> 43010.2
C23: ՀՀ ՊԵԿ-ի Հարավային մաքսատուն-վարչության տարածքում վերանորոգման աշխատանքներ | D23: =E23+F23+G23+H23 -> 46073.8 | F23: ='Հավելված 4'!F29 -> 46073.8
A24: 1023 | B24: 31005 | C24: ՀՀ պետական եկամուտների կոմիտեի շենքային պայմաններով ապահովում | D24: =D25 -> 5105 | E24: =E25 -> 0 | F24: =F25 -> 0 | G24: =G25 -> 0 | H24: =H25 -> 5105
C25: ՀՀ Սյունիքի մարզ, Մեղրի համայնք, գյուղ Կարճևան, հողամաս | D25: =E25+F25+G25+H25 -> 5105 | H25: ='Հավելված 4'!F30 -> 5105

Sheet Հավելված 3
I1: Հավելված N 3
A2: ՀԱՅԱՍՏԱՆԻ ՀԱՆՐԱՊԵՏՈՒԹՅԱՆ ԿԱՌԱՎԱՐՈՒԹՅԱՆ 2021 ԹՎԱԿԱՆԻ ԴԵԿՏԵՄԲԵՐԻ 23-Ի N 2121-Ն ՈՐՈՇՄԱՆ NN 3 ԵՎ 4 ՀԱՎԵԼՎԱԾՆԵՐԻ ԱՂՅՈՒՍԱԿՆԵՐՈՒՄ ԿԱՏԱՐՎՈՂ ՓՈՓՈԽՈՒԹՅՈՒՆՆԵՐԸ ԵՎ ԼՐԱՑՈՒՄՆԵՐԸ
I4: հազար դրամներով
A5: Գործառնական դասիչը | D5: Ծրագրային դասիչը | F5: Բյուջետային ծախսերի գործառնական դասակարգման բաժինների, խմբերի և դասերի, բյուջետային ծրագրերի միջոցառումների, բյուջետային հատկացումների գլխավոր կարգադրիչների անվանումները | G5: Ցուցանիշների փոփոխությունը (ավելացումները նշված են դրական նշանով, իսկ նվազեցումները՝ փակագծերում)
A6: բաժին | B6: խումբ | C6: դաս | D6: ծրագիր | E6: միջոցառում | G6: Առաջին կիսամյակ | H6: Ինն ամիս | I6: Տարի
F7: ԸՆԴԱՄԵՆԸ ԾԱԽՍԵՐ | G7: =G9+G66 -> 0 | H7: =H9+H66 -> 0 | I7: =I9+I66 -> 0
F8: այդ թվում՝
A9: 01 | F9: ԸՆԴՀԱՆՈՒՐ ԲՆՈՒՅԹԻ ՀԱՆՐԱՅԻՆ ԾԱՌԱՅՈՒԹՅՈՒՆՆԵՐ | G9: =G11 -> 0 | H9: =H11 -> 0 | I9: =I11 -> 0
F10: այդ թվում՝
B11: 01 | F11: Օրենսդիր և գործադիր մարմիններ, պետական կառավարում, ֆինանսական և հարկաբյուջետային հարաբերություններ, արտաքին հարաբերություններ | G11: =G13 -> 0 | H11: =H13 -> 0 | I11: =I13 -> 0
F12: այդ թվում՝
C13: 02 | F13: Ֆինանսական և հարկաբյուջետային հարաբերություններ | G13: =G15 -> 0 | H13: =H15 -> 0 | I13: =I15 -> 0
F14: այդ թվում՝
F15: ՀՀ պետական եկամուտների կոմիտե | G15: =G16 -> 0 | H15: =H16 -> 0 | I15: =I16 -> 0
D16: 1023 | F16: Հարկային և մաքսային ծառայություններ | G16: =ROUND(G18+G28+G39+G48+G57,1) -> 0 | H16: =ROUND(H18+H28+H39+H48+H57,1) -> 0 | I16: =ROUND(I18+I28+I39+I48+I57,1) -> 0
F17: այդ թվում՝
E18: 11001 | F18: Հարկային և մաքսային ծառայություններ | G18: =G20 -> -23787.2 | H18: =H20 -> 0 | I18: =I20 -> 0
F19: այդ թվում` ըստ կատարողների
F20: ՀՀ պետական եկամուտների կոմիտե | G20: =G22 -> -23787.2 | H20: =H22 -> 0 | I20: =I22 -> 0
F21: այդ թվում` բյուջետային ծախսերի տնտեսագիտական դասակարգման հոդվածներ
F22: ԸՆԴԱՄԵՆԸ ԾԱԽՍԵՐ | G22: =G23 -> -23787.2 | H22: =H23 -> 0 | I22: =I23 -> 0
F23: ԸՆԹԱՑԻԿ ԾԱԽՍԵՐ | G23: =G24 -> -23787.2 | H23: =H24 -> 0 | I23: =I24 -> 0
F24: ԸՆԹԱՑԻԿ ԾԱԽՍԵՐ | G24: =G25 -> -23787.2 | H24: =H25 -> 0 | I24: =I25 -> 0
F25: ԱՇԽԱՏԱՆՔԻ ՎԱՐՁԱՏՐՈՒԹՅՈՒՆ | G25: =G26 -> -23787.2 | H25: =H26 -> 0 | I25: =I26 -> 0
F26: Դրամով վճարվող աշխատավարձեր և հավելավճարներ | G26: =G27 -> -23787.2 | H26: =H27 -> 0 | I26: =I27 -> 0
F27: - Աշխատողների աշխատավարձեր և հավելավճարներ | G27: -23787.2 | H27: 0
E28: 31001 | F28: ՀՀ պետական եկամուտների կոմիտեի տեխնիկական հագեցվածության բարելավում | G28: =G30 -> 0 | H28: =H30 -> 303446.1 | I28: =I30 -> 303446.1
F29: այդ թվում` ըստ կատարողների
F30: ՀՀ պետական եկամուտների կոմիտե | G30: =G32 -> 0 | H30: =H32 -> 303446.1 | I30: =I32 -> 303446.1
F31: այդ թվում` բյուջետային ծախսերի տնտեսագիտական դասակարգման հոդվածներ
F32: ԸՆԴԱՄԵՆԸ ԾԱԽՍԵՐ | G32: =G33 -> 0 | H32: =H33 -> 303446.1 | I32: =I33 -> 303446.1
F33: ՈՉ ՖԻՆԱՆՍԱԿԱՆ ԱԿՏԻՎՆԵՐԻ ԳԾՈՎ ԾԱԽՍԵՐ | G33: =G34 -> 0 | H33: =H34 -> 303446.1 | I33: =I34 -> 303446.1
F34: ՀԻՄՆԱԿԱՆ ՄԻՋՈՑՆԵՐ | G34: =G35+G37 -> 0 | H34: =H35+H37 -> 303446.1 | I34: =I35+I37 -> 303446.1
F35: ՄԵՔԵՆԱՆԵՐ ԵՎ ՍԱՐՔԱՎՈՐՈՒՄՆԵՐ | G35: =G36 -> 0 | H35: =H36 -> 56348.1 | I35: =I36 -> 56348.1
F36: - Վարչական սարքավորումներ | G36: 0 | H36: =27177.9+25066.2+4104 -> 56348.1 | I36: =27177.9+25066.2+4104 -> 56348.1
F37: ԱՅԼ ՀԻՄՆԱԿԱՆ ՄԻՋՈՑՆԵՐ | G37: =G38 -> 0 | H37: =H38 -> 247098 | I37: =I38 -> 247098
F38: - Ոչ նյութական հիմնական միջոցներ | G38: 0 | H38: =21000+30000+95000+33000+10098+58000 -> 247098 | I38: =21000+30000+95000+33000+10098+58000 -> 247098
E39: 31003 | F39: ՀՀ պետական եկամուտների կոմիտեի շենքային ապահովվածության բարելավում | G39: =G41 -> -132548.2 | H39: =H41 -> -491067.7 | I39: =I41 -> -491067.7
F40: այդ թվում` ըստ կատարողների
F41: ՀՀ պետական եկամուտների կոմիտե | G41: =G43 -> -132548.2 | H41: =H43 -> -491067.7 | I41: =I43 -> -491067.7
...

Sheet Հավելված 4
F1: Հավելված N 4
A2: ՀԱՅԱՍՏԱՆԻ ՀԱՆՐԱՊԵՏՈՒԹՅԱՆ ԿԱՌԱՎԱՐՈՒԹՅԱՆ 2021 ԹՎԱԿԱՆԻ ԴԵԿՏԵՄԲԵՐԻ 23-Ի N 2121-Ն ՈՐՈՇՄԱՆ N 5 ՀԱՎԵԼՎԱԾԻ N 2 ԱՂՅՈՒՍԱԿՈՒՄ ԿԱՏԱՐՎՈՂ ՓՈՓՈԽՈՒԹՅՈՒՆՆԵՐԸ ԵՎ ԼՐԱՑՈՒՄՆԵՐԸ
F3: հազար դրամներով
A4: Ծրագրային դասիչը | C4: Բյուջետային գլխավոր կարգադրիչների, ծրագրերի, միջոցառումների, միջոցառումները կատարող պետական մարմինների և ուղղությունների անվանումները | D4: Ցուցանիշների փոփոխությունը (ավելացումները նշված են դրական նշանով, իսկ նվազեցումները՝ փակագծերում)
A5: Ծրագիրը | B5: Միջոցառումը | D5: Առաջին կիսամյակ | E5: Ինն ամիս | F5: Տարի
C6: ԸՆԴԱՄԵՆԸ | D6: =D8 -> 23787.2 | E6: =E8 -> 0 | F6: =F8 -> 0
C7: այդ թվում՝
C8: ՀՀ ՊԵՏԱԿԱՆ ԵԿԱՄՈՒՏՆԵՐԻ ԿՈՄԻՏԵ | D8: =ROUND(D10+D13+D21+D30,1) -> 23787.2 | E8: =ROUND(E10+E13+E21+E30,1) -> 0 | F8: =ROUND(F10+F13+F21+F30,1) -> 0
C9: այդ թվում`
A10: 1023 | B10: 31001 | C10: ՀՀ պետական եկամուտների կոմիտեի տեխնիկական հագեցվածության բարելավում | D10: =D12 -> 0 | E10: =E12 -> 303446.1 | F10: =F12 -> 303446.1
C11: այդ թվում` ըստ կատարողների
C12: ՀՀ պետական եկամուտների կոմիտե | D12: ='Հավելված 3'!G28 -> 0 | E12: ='Հավելված 3'!H28 -> 303446.1 | F12: ='Հավելված 3'!I28 -> 303446.1
A13: 1023 | B13: 31003 | C13: ՀՀ պետական եկամուտների կոմիտեի շենքային ապահովվածության բարելավում | D13: =D15 -> -132548.2 | E13: =E15 -> -491067.7 | F13: =F15 -> -491067.7
C14: այդ թվում` ըստ կատարողների
C15: ՀՀ պետական եկամուտների կոմիտե | D15: =SUM(D17:D20) -> -132548.2 | E15: =SUM(E17:E20) -> -491067.7 | F15: =SUM(F17:F20) -> -491067.7
C16: այդ թվում` ըստ ուղղությունների
C17: ՀՀ պետական եկամուտների կոմիտեի Գյումրի քաղաքի Թբիլիսյան խճուղի թիվ 2/14 հասցեում գտնվող արտաքին տնտեսական գործունեության կենտրոնի կառուցման աշխատանքներ | D17: -133796.1 | E17: -583623.4 | F17: -583623.4
C18: Երևան քաղաքի Կոմիտասի պողոտա 35 հասցեում գտնվող վարչական շենքի կիսանկուղային հարկի տարածքում ճաշարանի վերակառուցման աշխատանքներ | D18: =1225.1+22.8 -> 1247.9 | E18: =1225.1+22.8 -> 1247.9 | F18: =1225.1+22.8 -> 1247.9
C19: Արևելյան մաքսատուն-վարչության Գոգավան-Պրիվոլնոյե մաքսային կետ-բաժնի տարածքում 100 տոննա կշռողականությամբ ավտոմոբիլային կշեռքի կառուցում | E19: 45061.3 | F19: 45061.3
C20: Արևելյան մաքսատուն-վարչության Բագրատաշենի մաքսային կետ-բաժնի տարածքում 100 տոննա կշռողականությամբ ավտոմոբիլային կշեռքի և ծածկարանի կառուցում | E20: 46246.5 | F20: 46246.5
A21: 1023 | B21: 31004 | C21: ՀՀ պետական եկամուտների կոմիտեի շենքային պայմանների բարելավում | D21: =D23 -> 156335.4 | E21: =E23 -> 182516.6 | F21: =F23 -> 182516.6
C22: այդ թվում` ըստ կատարողների
C23: ՀՀ պետական եկամուտների կոմիտե | D23: =SUM(D25:D29) -> 156335.4 | E23: =SUM(E25:E29) -> 182516.6 | F23: =SUM(F25:F29) -> 182516.6
C24: այդ թվում` ըստ ուղղությունների
C25: ք. Երևան, Արարատյան 90 հասցեում գտնվող շինության վերանորոգման աշխատանքներ | D25: 10787.4 | E25: 26968.6 | F25: 26968.6
C26: Երևան քաղաքի Դեղատան 3 հասցեում գտնվող վարչական շենքի վերանորոգման աշխատանքներ | D26: 20830 | E26: 20830 | F26: 20830
C27: ՀՀ ՊԵԿ Երևան քաղաքի Ծովակալ Իսակովի թիվ 10 հասցեի վարչական շենքի վերանորոգման աշխատանքներ | D27: 45634 | E27: 45634 | F27: 45634
C28: Արևմտյան մաքսատուն-վարչության Երևան քաղաքի Երևան 42 հասցեում գտնվող վարչական շենքի տարածքի վերանորոգման աշխատանքներ | D28: 43010.2 | E28: 43010.2 | F28: 43010.2
C29: ՀՀ ՊԵԿ-ի Հարավային մաքսատուն-վարչության տարածքում վերանորոգման աշխատանքներ | D29: 36073.8 | E29: 46073.8 | F29: 46073.8
A30: 1023 | B30: 31005 | C30: ՀՀ պետական եկամուտների կոմիտեի շենքային պայմաններով ապահովում | D30: =D32 -> 0 | E30: =E32 -> 5105 | F30: =F32 -> 5105
C31: այդ թվում` ըստ կատարողների
C32: ՀՀ պետական եկամուտների կոմիտե | D32: =D34 -> 0 | E32: =E34 -> 5105 | F32: =F34 -> 5105
C33: այդ թվում` ըստ ուղղությունների
C34: ՀՀ Սյունիքի մարզ, Մեղրի համայնք, գյուղ Կարճևան, հողամաս | D34: 0 | E34: 5105 | F34: 5105

Sheet Հավելված 5 աղյուսակներ 1,2
E1: Հավելված N 5
E2: Աղյուսակ N 1
A3: ՀԱՅԱՍՏԱՆԻ ՀԱՆՐԱՊԵՏՈՒԹՅԱՆ ԿԱՌԱՎԱՐՈՒԹՅԱՆ 2021 ԹՎԱԿԱՆԻ ԴԵԿՏԵՄԲԵՐԻ 23-Ի N 2121-Ն ՈՐՈՇՄԱՆ N 9 ՀԱՎԵԼՎԱԾԻ N 9.25 ԱՂՅՈՒՍԱԿՈՒՄ ԿԱՏԱՐՎՈՂ ՓՈՓՈԽՈՒԹՅՈՒՆՆԵՐԸ ԵՎ ԼՐԱՑՈՒՄՆԵՐԸ
A5: ՀՀ պետական եկամուտների կոմիտե
A7: ՄԱՍ 2. ՊԵՏԱԿԱՆ ՄԱՐՄՆԻ ԳԾՈՎ ԱՐԴՅՈՒՆՔԱՅԻՆ (ԿԱՏԱՐՈՂԱԿԱՆ) ՑՈՒՑԱՆԻՇՆԵՐԸ
A9: Ծրագրի դասիչը | B9: Ծրագրի անվանումը
A10: 1023 | B10: Հարկային և մաքսային ծառայություններ
A12: Ծրագրի միջոցառումները
A14: Ծրագրի դասիչը՝ | B14: 1023 | C14: Ցուցանիշների փոփոխությունը (նվազեցումները նշված են փակագծերում)
A15: Միջոցառման դասիչը՝ | B15: 11001 | C15: Առաջին կիսամյակ | D15: Ինն ամիս | E15: Տարի
A16: Միջոցառման անվանումը՝ | B16: Հարկային և մաքսային ծառայություններ
A17: Նկարագրությունը՝ | B17: Հարկային և մաքսային քաղաքականության մշակման, պլանավորման, մոնիտորինգի, ծրագրերի համակարգման, գանձման, վերահսկողության և աջակցության ծառայություններ
A18: Միջոցառման տեսակը՝ | B18: Ծառայությունների մատուցում
A19: Ծառայությունը մատուցող կազմակերպության անվանումը | B19: ՀՀ պետական եկամուտների կոմիտե
B20: Արդյունքի չափորոշիչներ
A21: Միջոցառման վրա կատարվող ծախսը (հազար դրամ) | C21: ='Հավելված 3'!G18 -> -23787.2 | D21: ='Հավելված 3'!H18 -> 0 | E21: ='Հավելված 3'!I18 -> 0
A23: Ծրագրի դասիչը` | B23: 1023 | C23: Ցուցանիշների փոփոխությունը (ավելացումները նշված են դրական նշանով)
A24: Միջոցառման դասիչը` | B24: 31001 | C24: Առաջին կիսամյակ | D24: Ինն ամիս | E24: Տարի
A25: Միջոցառման անվանումը` | B25: ՀՀ պետական եկամուտների կոմիտեի տեխնիկական հագեցվածության բարելավում
A26: Նկարագրությունը` | B26: ՀՀ պետական եկամուտների կոմիտեի տեխնիկական հագեցվածության բարելավում_x000D_
A27: Միջոցառման տեսակը` | B27: Պետական մարմինների կողմից օգտագործվող ոչ ֆինանսական ակտիվների հետ գործառնություններ
A28: Ակտիվն օգտագործող կազմակերպության անվանումը | B28: ՀՀ պետական եկամուտների կոմիտե
A29: Արդյունքի չափորոշիչներ
A30: Համակարգչային սարքավորումների քանակ, հատ | D30: =1+2+9 -> 12 | E30: =1+2+9 -> 12
A31: ՀՀ պետական եկամուտների կոմիտեի նոր պաշտոնական կայքի ներդրում, հատ | D31: 1 | E31: 1
A32: Էլեկտրոնային կշեռքների համակարգ, հատ | D32: 1 | E32: 1
A33: Էլեկտրոնային հաշվառման համակարգերի ներդրում, հատ | D33: 4 | E33: 4
A34: Միջոցառման վրա կատարվող ծախսը (հազար դրամ) | C34: ='Հավելված 3'!G28 -> 0 | D34: ='Հավելված 3'!H28 -> 303446.1 | E34: ='Հավելված 3'!I28 -> 303446.1
A36: Ծրագրի դասիչը` | B36: 1023 | C36: Ցուցանիշների փոփոխությունը (ավելացումները նշված են դրական նշանով, իսկ նվազեցումները՝ փակագծերում)
A37: Միջոցառման դասիչը` | B37: 31003 | C37: Առաջին կիսամյակ | D37: Ինն ամիս | E37: Տարի
A38: Միջոցառման անվանումը` | B38: ՀՀ պետական եկամուտների կոմիտեի շենքային ապահովվածության բարելավում
A39: Նկարագրությունը` | B39: ՀՀ պետական եկամուտների կոմիտեի նոր շենքերի և շինությունների շինարարություն, նախագծային աշխատանքների ձեռքբերում
A40: Միջոցառման տեսակը` | B40: Պետական մարմինների կողմից օգտագործվող ոչ ֆինանսական ակտիվների հետ գործառնություններ
A41: Միջոցառումն իրականացնողի անվանումը | B41: ՀՀ պետական եկամուտների կոմիտե
A42: Արդյունքի չափորոշիչներ
A43: Շինարարական օբյեկտների թիվ, հատ | C43: 1 | D43: 3 | E43: 3
A44: Բյուջետային տարում կառուցապատման մակերես, ք.մ. | C44: =6.63-255 -> -248.37 | D44: =6.63-1193.7 -> -1187.07 | E44: =6.63-1416.4 -> -1409.77
A45: Շինարարական աշխատանքների ավարտվածության աստիճանը, տոկոս | C45: 50 | D45: 100 | E45: 100
A46: Միջոցառման վրա կատարվող ծախսը (հազար դրամ) | C46: ='Հավելված 3'!G39 -> -132548.2 | D46: ='Հավելված 3'!H39 -> -491067.7 | E46: ='Հավելված 3'!I39 -> -491067.7
A48: Ծրագրի դասիչը` | B48: 1023 | C48: Ցուցանիշների փոփոխությունը (ավելացումները նշված են դրական նշանով)
...

Sheet Հավելված 6
G1: Հավելված N 6
A2: ՀԱՅԱՍՏԱՆԻ ՀԱՆՐԱՊԵՏՈՒԹՅԱՆ ԿԱՌԱՎԱՐՈՒԹՅԱՆ 2021 ԹՎԱԿԱՆԻ ԴԵԿՏԵՄԲԵՐԻ 23-Ի N 2121-Ն ՈՐՈՇՄԱՆ N 10 ՀԱՎԵԼՎԱԾՈՒՄ ԿԱՏԱՐՎՈՂ ՓՈՓՈԽՈՒԹՅՈՒՆՆԵՐՆ ՈՒ ԼՐԱՑՈՒՄՆԵՐԸ
A4: Գնման առարկայի | E4: Ցուցանիշների փոփոխությունը (ավելացումները նշված են դրական նշանով, իսկ նվազեցումները՝ փակագծերում)
A5: կոդը | B5: անվանումը | C5: գնման ձևը | D5: չափի միավորը | E5: միավորի գինը | F5: քանակը | G5: Գումարը (հազար դրամ)
A7: ՀՀ պետական եկամուտների կոմիտե | G7: =G8 -> 0.027
A8: Բաժին N 01 | B8: Խումբ N 01 | C8: Դաս N 02 | D8: Ֆինանսական և հարկաբյուջետային հարաբերություններ | G8: =G9+G21+G33+G51 -> 0.027
A9: 1023 31001 | B9: ՀՀ պետական եկամուտների կոմիտեի տեխնիկական հագեցվածության բարելավում | G9: =G10+G14 -> 303446.11
B10: ՄԱՍ I. ԱՊՐԱՆՔՆԵՐ | G10: =G11+G12+G13 -> 56348.106
A11: 31211300-501 | B11: կոմուտատորներ | C11: ԷԱՃ | D11: հատ | E11: 12533103 | F11: 2 | G11: =E11*F11/1000 -> 25066.206
A12: 48821100 | B12: ցանցային սերվերներ | C12: ԷԱՃ | D12: լրակազմ | E12: 27177900 | F12: 1 | G12: =E12*F12/1000 -> 27177.9
A13: 30211220-504 | B13: սեղանի համակարգիչներ | C13: ԷԱՃ | D13: հատ | E13: 456000 | F13: 9 | G13: =E13*F13/1000 -> 4104
B14: ՄԱՍ III. ԾԱՌԱՅՈՒԹՅՈՒՆՆԵՐ | G14: =G15+G16+G17+G18+G19+G20 -> 247098
A15: 72261110-522 | B15: ծրագրային ապահովման մշակման ծառայություններ | C15: ԲՄ | D15: դրամ | E15: 21000000 | F15: 1 | G15: =E15*F15/1000 -> 21000
A16: 72261110-529 | B16: ծրագրային ապահովման մշակման ծառայություններ | C16: ԳՀ | D16: դրամ | E16: 30000000 | F16: 1 | G16: =E16*F16/1000 -> 30000
A17: 72261110-531 | B17: ծրագրային ապահովման մշակման ծառայություններ | C17: ՀԲՄ | D17: դրամ | E17: 95000000 | F17: 1 | G17: =E17*F17/1000 -> 95000
A18: 72261110-528 | B18: ծրագրային ապահովման մշակման ծառայություններ | C18: ԳՀ | D18: դրամ | E18: 33000000 | F18: 1 | G18: =E18*F18/1000 -> 33000
A19: 72261110/521 | B19: ծրագրային ապահովման մշակման ծառայություններ | C19: ԳՀ | D19: դրամ | E19: 10098000 | F19: 1 | G19: =E19*F19/1000 -> 10098
A20: 72261110/503 | B20: ծրագրային ապահովման մշակման ծառայություններ | C20: ԳՀ | D20: դրամ | E20: 58000000 | F20: 1 | G20: =E20*F20/1000 -> 58000
A21: 1023 31003 | B21: ՀՀ պետական եկամուտների կոմիտեի շենքային ապահովվածության բարելավում | G21: =G22+G27 -> -491067.68
B22: ՄԱՍ II. ԱՇԽԱՏԱՆՔՆԵՐ | G22: =G23+G24+G25+G26 -> -492505.28
A23: 45451700-1 | B23: վերակառուցման աշխատանքներ | C23: ԲՄ | D23: դրամ | G23: -583623.4
A24: 45451700 | B24: վերակառուցման աշխատանքներ | C24: ԳՀ | D24: դրամ | E24: 1225123 | F24: 1 | G24: =E24*F24/1000 -> 1225.123
A25: 45451700 | B25: վերակառուցման աշխատանքներ | C25: ԳՀ | D25: դրամ | E25: 44368900 | F25: 1 | G25: =E25*F25/1000 -> 44368.9
A26: 45451700 | B26: վերակառուցման աշխատանքներ | C26: ԳՀ | D26: դրամ | E26: 45524100 | F26: 1 | G26: =E26*F26/1000 -> 45524.1
B27: ՄԱՍ III. ԾԱՌԱՅՈՒԹՅՈՒՆՆԵՐ | G27: =G28+G29+G30+G31+G32 -> 1437.6
A28: 71351540 | B28: տեխնիկական հսկողության ծառայություններ | C28: ԳՀ | D28: դրամ | E28: 532600 | F28: 1 | G28: =E28*F28/1000 -> 532.6
A29: 71351540 | B29: տեխնիկական հսկողության ծառայություններ | C29: ԳՀ | D29: դրամ | E29: 555700 | F29: 1 | G29: =E29*F29/1000 -> 555.7
A30: 98111140 | B30: հեղինակային հսկողության ծառայություններ | C30: ՄԱ | D30: դրամ | E30: 159800 | F30: 1 | G30: =E30*F30/1000 -> 159.8
A31: 98111140 | B31: հեղինակային հսկողության ծառայություններ | C31: ՄԱ | D31: դրամ | E31: 166700 | F31: 1 | G31: =E31*F31/1000 -> 166.7
A32: 98111140 | B32: հեղինակային հսկողության ծառայություններ | C32: ՄԱ | D32: դրամ | E32: 22800 | F32: 1 | G32: =E32*F32/1000 -> 22.8
A33: 1023 31004 | B33: ՀՀ պետական եկամուտների կոմիտեի շենքային պայմանների բարելավում | G33: =G34+G40+0.1 -> 182516.6
B34: ՄԱՍ II. ԱՇԽԱՏԱՆՔՆԵՐ | G34: =G35+G36+G37+G38+G39 -> 178767.85
A35: 45611300 | B35: այլ շենքերի, շինությունների հիմնանորոգում | C35: ԲՄ | D35: դրամ | E35: 26703340 | F35: 1 | G35: =E35*F35/1000 -> 26703.34
A36: 45611300 | B36: այլ շենքերի, շինությունների հիմնանորոգում | C36: ԲՄ | D36: դրամ | E36: 20416640 | F36: 1 | G36: =E36*F36/1000 -> 20416.64
A37: 45611300 | B37: այլ շենքերի, շինությունների հիմնանորոգում | C37: ԳՀ | D37: դրամ | E37: 44570900 | F37: 1 | G37: =E37*F37/1000 -> 44570.9
A38: 45611300 | B38: այլ շենքերի, շինությունների հիմնանորոգում | C38: ԳՀ | D38: դրամ | E38: 41974218 | F38: 1 | G38: =E38*F38/1000 -> 41974.218
A39: 45611300 | B39: այլ շենքերի, շինությունների հիմնանորոգում | C39: ԲՄ | D39: դրամ | E39: 45102750 | F39: 1 | G39: =E39*F39/1000 -> 45102.75
B40: ՄԱՍ III. ԾԱՌԱՅՈՒԹՅՈՒՆՆԵՐ | G40: =G41+G42+G43+G44+G45+G46+G47+G48+G49+G50 -> 3748.65
A41: 71351540 | B41: տեխնիկական հսկողության ծառայություններ | C41: ԳՀ | D41: դրամ | E41: 128800 | F41: 1 | G41: =E41*F41/1000 -> 128.8
A42: 71351540 | B42: տեխնիկական հսկողության ծառայություններ | C42: ԳՀ | D42: դրամ | E42: 305770 | F42: 1 | G42: =E42*F42/1000 -> 305.77
...

Sheet Հավելված 7
I1: Հավելված N 7
A2: ՀԱՅԱՍՏԱՆԻ ՀԱՆՐԱՊԵՏՈՒԹՅԱՆ 2022 ԹՎԱԿԱՆԻ ՊԵՏԱԿԱՆ ԲՅՈՒՋԵՈՎ ՆԱԽԱՏԵՍՎԱԾ՝ ՀԱՅԱՍՏԱՆԻ ՀԱՆՐԱՊԵՏՈՒԹՅԱՆ ԿԱՌԱՎԱՐՈՒԹՅԱՆ ՊԱՀՈՒՍՏԱՅԻՆ ՖՈՆԴԻՑ ՀԱՏԿԱՑՈՒՄՆԵՐ ԿԱՏԱՐԵԼՈՒ ՎԵՐԱԲԵՐՅԱԼ
I4: հազար դրամներով
A5: Գործառնական դասիչը | D5: Ծրագրային դասիչը | F5: Բյուջետային ծախսերի գործառնական դասակարգման բաժինների, խմբերի և դասերի, բյուջետային ծրագրերի միջոցառումների, բյուջետային հատկացումների գլխավոր կարգադրիչների անվանումները | G5: Ցուցանիշների փոփոխությունը (ավելացումները նշված են դրական նշանով, իսկ նվազեցումները՝ փակագծերում)
A6: բաժին | B6: խումբ | C6: դաս | D6: ծրագիր | E6: միջոցառում | G6: Առաջին կիսամյակ | H6: Ինն ամիս | I6: Տարի
F7: ԸՆԴԱՄԵՆԸ ԾԱԽՍԵՐ | G7: =G9+G26 -> 0 | H7: =H9+H26 -> 0 | I7: =I9+I26 -> 0
F8: այդ թվում՝
A9: 11 | F9: ՀԻՄՆԱԿԱՆ ԲԱԺԻՆՆԵՐԻՆ ՉԴԱՍՎՈՂ ՊԱՀՈՒՍՏԱՅԻՆ ՖՈՆԴԵՐ | G9: =G11 -> 0 | H9: =H11 -> -5105 | I9: =I11 -> -5105
F10: այդ թվում`
B11: 01 | F11: ՀՀ կառավարության և համայնքների պահուստային ֆոնդ | G11: =G13 -> 0 | H11: =H13 -> -5105 | I11: =I13 -> -5105
F12: այդ թվում`
C13: 01 | F13: ՀՀ կառավարության պահուստային ֆոնդ | G13: =G15 -> 0 | H13: =H15 -> -5105 | I13: =I15 -> -5105
F14: այդ թվում`
F15: ՀՀ կառավարություն | G15: =G16 -> 0 | H15: =H16 -> -5105 | I15: =I16 -> -5105
D16: 1139 | F16: ՀՀ կառավարության պահուստային ֆոնդ | G16: =G18 -> 0 | H16: =H18 -> -5105 | I16: =I18 -> -5105
F17: այդ թվում`
E18: 11001 | F18: ՀՀ կառավարության պահուստային ֆոնդ | G18: =G20 -> 0 | H18: =H20 -> -5105 | I18: =I20 -> -5105
F19: այդ թվում` ըստ կատարողների
F20: ՀՀ կառավարություն | G20: =G22 -> 0 | H20: =H22 -> -5105 | I20: =I22 -> -5105
F21: այդ թվում` բյուջետային ծախսերի տնտեսագիտական դասակարգման հոդվածներ
F22: ԸՆԴԱՄԵՆԸ ԾԱԽՍԵՐ | G22: =G23 -> 0 | H22: =H23 -> -5105 | I22: =I23 -> -5105
F23: ԸՆԹԱՑԻԿ ԾԱԽՍԵՐ | G23: =G24 -> 0 | H23: =H24 -> -5105 | I23: =I24 -> -5105
F24: ԱՅԼ ԾԱԽՍԵՐ | G24: =G25 -> 0 | H24: =H25 -> -5105 | I24: =I25 -> -5105
F25: Պահուստային միջոցներ | G25: ='Հավելված 3'!G90 -> 0 | H25: ='Հավելված 3'!H90 -> -5105 | I25: ='Հավելված 3'!I90 -> -5105
A26: 01 | F26: ԸՆԴՀԱՆՈՒՐ ԲՆՈՒՅԹԻ ՀԱՆՐԱՅԻՆ ԾԱՌԱՅՈՒԹՅՈՒՆՆԵՐ | G26: =G28 -> 0 | H26: =H28 -> 5105 | I26: =I28 -> 5105
F27: այդ թվում՝
B28: 01 | F28: Օրենսդիր և գործադիր մարմիններ, պետական կառավարում, ֆինանսական և հարկաբյուջետային հարաբերություններ, արտաքին հարաբերություններ | G28: =G30 -> 0 | H28: =H30 -> 5105 | I28: =I30 -> 5105
F29: այդ թվում՝
C30: 02 | F30: Ֆինանսական և հարկաբյուջետային հարաբերություններ | G30: =G32 -> 0 | H30: =H32 -> 5105 | I30: =I32 -> 5105
F31: այդ թվում՝
F32: ՀՀ պետական եկամուտների կոմիտե | G32: =G33 -> 0 | H32: =H33 -> 5105 | I32: =I33 -> 5105
D33: 1023 | F33: Հարկային և մաքսային ծառայություններ | G33: =G35 -> 0 | H33: =H35 -> 5105 | I33: =I35 -> 5105
F34: այդ թվում՝
E35: 31005 | F35: ՀՀ պետական եկամուտների կոմիտեի շենքային պայմաններով ապահովում | G35: =G37 -> 0 | H35: =H37 -> 5105 | I35: =I37 -> 5105
F36: այդ թվում` ըստ կատարողների
F37: ՀՀ պետական եկամուտների կոմիտե | G37: =G39 -> 0 | H37: =H39 -> 5105 | I37: =I39 -> 5105
F38: այդ թվում` բյուջետային ծախսերի տնտեսագիտական դասակարգման հոդվածներ
F39: ԸՆԴԱՄԵՆԸ ԾԱԽՍԵՐ | G39: =G40 -> 0 | H39: =H40 -> 5105 | I39: =I40 -> 5105
F40: ՈՉ ՖԻՆԱՆՍԱԿԱՆ ԱԿՏԻՎՆԵՐԻ ԳԾՈՎ ԾԱԽՍԵՐ | G40: =G41 -> 0 | H40: =H41 -> 5105 | I40: =I41 -> 5105
F41: ՉԱՐՏԱԴՐՎԱԾ ԱԿՏԻՎՆԵՐ | G41: =G42 -> 0 | H41: =H42 -> 5105 | I41: =I42 -> 5105
...
