Workbook

Sheet 1
A1: Հավելված N 1
A2: ՀՀ կառավարության 2022 թվականի
A3: ------------ N ---------- որոշման
A5: «ՀԱՅԱՍՏԱՆԻ ՀԱՆՐԱՊԵՏՈՒԹՅԱՆ 2022 ԹՎԱԿԱՆԻ ՊԵՏԱԿԱՆ ԲՅՈՒՋԵԻ ՄԱՍԻՆ» ՀԱՅԱՍՏԱՆԻ ՀԱՆՐԱՊԵՏՈՒԹՅԱՆ ՕՐԵՆՔԻ N 1 ՀԱՎԵԼՎԱԾԻ N 2 ԱՂՅՈՒՍԱԿՈՒՄ ԿԱՏԱՐՎՈՂ ՎԵՐԱԲԱՇԽՈՒՄԸ ԵՎ ՀԱՅԱՍՏԱՆԻ ՀԱՆՐԱՊԵՏՈՒԹՅԱՆ ԿԱՌԱՎԱՐՈՒԹՅԱՆ 2021 ԹՎԱԿԱՆԻ ԴԵԿՏԵՄԲԵՐԻ 23-Ի N 2121-Ն ՈՐՈՇՄԱՆ N 5 ՀԱՎԵԼՎԱԾԻ N 1 ԱՂՅՈՒՍԱԿՈՒՄ ԿԱՏԱՐՎՈՂ ՓՈՓՈԽՈՒԹՅՈՒՆՆԵՐԸ
F6: հազար դրամներով
A7: Ծրագրային դասիչը | C7: Բյուջետային հատկացումների գլխավոր կարգադրիչների, ծրագրերի և միջոցառումների անվանումները | D7: Ցուցանիշների փոփոխությունը (ավելացումները նշված են դրական նշանով, իսկ նվազեցումները՝ փակագծերում)
A9: ծրագիրը | B9: միջոցառումը | D9: Առաջին կիսամյակ | E9: Ինն ամիս | F9: Տարի
C10: ԸՆԴԱՄԵՆԸ | D10: =+D11+D24 -> 0 | E10: =+E11+E24 -> 0 | F10: =+F11+F24 -> 0
A11: ՀՀ վարչապետի աշխատակազմ | D11: =+D12+D25 -> 0 | E11: =+E12+E25 -> 0 | F11: =+F12+F25 -> 0
A12: 1033 | C12: Ծրագրի անվանումը` | D12: =+D19 -> 8039 | E12: =+E19 -> 8039 | F12: =+F19 -> 8039
C13: Աջակցություն քաղաքական կուսակցություններին, հասարակական կազմակերպություններին և արհմիություններին
C14: Ծրագրի նպատակը`
C15: Քաղաքացիական հասարակության զարգացում
C16: Վերջնական արդյունքի նկարագրությունը`
C17: Քաղաքացիական հասարակության կառույցների և նրանց կարողությունների զարգացում, տնտեսական և քաղաքական կյանքում ՔՀԿ-ների ընդգրկվածության և մասնակցության աճ
A18: Ծրագրի միջոցառումներ
B19: 11003 | C19: Միջոցառման անվանումը | D19: ='2'!G49 -> 8039 | E19: ='2'!H49 -> 8039 | F19: ='2'!I49 -> 8039
C20: Աջակցություն հասարակական կազմակերպություններին
C21: Միջոցառման նկարագրությունը
C22: Աջակցություն հասարակական կազմակերպություններին
C23: Միջոցառման տեսակը
C24: Ծառայությունների մատուցում
A25: 1136 | C25: Ծրագրի անվանումը` | D25: =+D32 -> -8039 | E25: =+E32 -> -8039 | F25: =+F32 -> -8039
C26: ՀՀ Վարչապետի լիազորությունների իրականացման ապահովում
C27: Ծրագրի նպատակը`
C28: Աջակցել կառավարության, վարչապետի և փոխվարչապետերի գործունեությանը
C29: Վերջնական արդյունքի նկարագրությունը`
C30: ՀՀ կառավարության և վարչապետի որոշումների ու հանձնարարականների կատարման վերահսկողության ապահովում
A31: Ծրագրի միջոցառումներ
B32: 11001 | C32: Միջոցառման անվանումը` | D32: =+'2'!G22 -> -8039 | E32: =+'2'!H22 -> -8039 | F32: =+'2'!I22 -> -8039
C33: Ծառայությունների, ծրագրերի համակարգում
C34: Միջոցառման նկարագրությունը`
C35: Աջակցություն ՀՀ կառավարությանը` քաղաքականության և ծրագրերի մշակման և իրականացման գործընթացում, վերահսկողության կատարման գործընթացում
C36: Միջոցառման տեսակը
C37: Ծառայությունների մատուցում

Sheet 2
A1: Հավելված N 2
A2: ՀՀ կառավարության 2022 թվականի
A3: ------------ N ---------- որոշման
A5: ՀԱՅԱՍՏԱՆԻ ՀԱՆՐԱՊԵՏՈՒԹՅԱՆ ԿԱՌԱՎԱՐՈՒԹՅԱՆ 2021 ԹՎԱԿԱՆԻ ԴԵԿՏԵՄԲԵՐԻ 23-Ի N 2121-Ն ՈՐՈՇՄԱՆ NN 3 ԵՎ 4 ՀԱՎԵԼՎԱԾՆԵՐՈՒՄ ԿԱՏԱՐՎՈՂ ՓՈՓՈԽՈՒԹՅՈՒՆՆԵՐԸ
I6: հազար դրամներով
A7: Գործառական դասիչը | D7: Ծրագրային դասիչը | F7: Բյուջետային ծախսերի գործառական դասակարգման բաժինների, խմբերի և դասերի, բյուջետային ծրագրերի միջոցառումների, բյուջետային հատկացումների գլխավոր կարգադրիչների անվանումները | G7: Ցուցանիշների փոփոխությունը (ավելացումները նշված են դրական նշանով, իսկ նվազեցումները՝ փակագծերում)
A8: Բաժին | B8: Խումբ | C8: Դաս | D8: Ծրագիր | E8: Միջոցա ռում
A9: բաժինը | B9: խումբը | C9: դասը | D9: ծրագիրը | E9: միջոցա-ռումը | G9: Առաջին կիսամյակ | H9: Ինն ամիս | I9: Տարի
F10: ԸՆԴԱՄԵՆԸ՝ ԾԱԽՍԵՐ | G10: =G12+G31 -> 0 | H10: =H12+H31 -> 0 | I10: =I12+I31 -> 0
F11: այդ թվում`
A12: 01 | F12: ԸՆԴՀԱՆՈՒՐ ԲՆՈՒՅԹԻ ՀԱՆՐԱՅԻՆ ԾԱՌԱՅՈՒԹՅՈՒՆՆԵՐ | G12: =G14 -> -8039 | H12: =H14 -> -8039 | I12: =I14 -> -8039
F13: այդ թվում`
B14: 01 | F14: Օրենսդիր և գործադիր մարմիններ, պետական կառավարում, ֆինանսական և հարկաբյուջետային հարաբերություններ, արտաքին հարաբերություններ | G14: =G16 -> -8039 | H14: =H16 -> -8039 | I14: =I16 -> -8039
F15: այդ թվում`
C16: 01 | F16: Օրենսդիր և գործադիր մարմիններ, պետական կառավարում | G16: =G20 -> -8039 | H16: =H20 -> -8039 | I16: =I20 -> -8039
F17: այդ թվում`
F18: ՀՀ վարչապետի աշխատակազմ
F19: այդ թվում`
D20: 1136 | F20: ՀՀ Վարչապետի լիազորությունների իրականացման ապահովում | G20: =G22 -> -8039 | H20: =H22 -> -8039 | I20: =I22 -> -8039
F21: այդ թվում`
E22: 11001 | F22: Ծառայությունների, ծրագրերի համակարգում | G22: =G24 -> -8039 | H22: =H24 -> -8039 | I22: =I24 -> -8039
F23: այդ թվում` ըստ կատարողների
F24: ՀՀ վարչապետի աշխատակազմ | G24: =G26 -> -8039 | H24: =H26 -> -8039 | I24: =I26 -> -8039
F25: այդ թվում` ըստ բյուջետային ծախսերի տնտեսագիտական դասակարգման հոդվածների
F26: ԸՆԴԱՄԵՆԸ՝ ԾԱԽՍԵՐ | G26: =G27 -> -8039 | H26: =H27 -> -8039 | I26: =I27 -> -8039
F27: ԸՆԹԱՑԻԿ ԾԱԽՍԵՐ | G27: =G28 -> -8039 | H27: =H28 -> -8039 | I27: =I28 -> -8039
F28: ԾԱՌԱՅՈՒԹՅՈՒՆՆԵՐԻ ԵՎ ԱՊՐԱՆՔՆԵՐԻ ՁԵՌՔԲԵՐՈՒՄ | G28: =G30 -> -8039 | H28: =H30 -> -8039 | I28: =I30 -> -8039
F29: Շարունակական ծախսեր | G29: =+G30 -> -8039 | H29: =+H30 -> -8039 | I29: =+I30 -> -8039
F30: - Գույքի և սարքավորումների վարձակալություն | G30: =-G49 -> -8039 | H30: =-H49 -> -8039 | I30: =-I49 -> -8039
A31: 08 | F31: ՀԱՆԳԻՍՏ, ՄՇԱԿՈՒՅԹ ԵՎ ԿՐՈՆ | G31: =G33 -> 8039 | H31: =H33 -> 8039 | I31: =I33 -> 8039
F32: այդ թվում`
B33: 04 | F33: Կրոնական և հասարակական այլ ծառայություններ | G33: =G35 -> 8039 | H33: =H35 -> 8039 | I33: =I35 -> 8039
F34: այդ թվում`
C35: 02 | F35: Քաղաքական կուսակցություններ, հասարակական կազմակերպություններ, արհմիություններ | G35: =G37 -> 8039 | H35: =H37 -> 8039 | I35: =I37 -> 8039
F36: այդ թվում`
F37: ՀՀ վարչապետի աշխատակազմ | G37: =G39 -> 8039 | H37: =H39 -> 8039 | I37: =I39 -> 8039
F38: այդ թվում`
D39: 1033 | F39: Աջակցություն քաղաքական կուսակցություններին, հասարակական կազմակերպություններին և արհմիություններին | G39: =G41 -> 8039 | H39: =H41 -> 8039 | I39: =I41 -> 8039
F40: այդ թվում`
E41: 11003 | F41: Աջակցություն հասարակական կազմակերպություններին | G41: =G43 -> 8039 | H41: =H43 -> 8039 | I41: =I43 -> 8039
...

Sheet 3
A1: Հավելված N 3
A2: ՀՀ կառավարության 2022 թվականի
A3: ------------ N ---------- որոշման
A5: ՀՀ ԿԱՌԱՎԱՐՈՒԹՅԱՆ 2021 ԹՎԱԿԱՆԻ ԴԵԿՏԵՄԲԵՐԻ 23-Ի N 2121-Ն ՈՐՈՇՄԱՆ NN 9 ԵՎ 9.1 ՀԱՎԵԼՎԱԾՆԵՐԻ NN 9.3 ԵՎ 9.1.3 ԱՂՅՈՒՍԱԿՆԵՐՈՒՄ ԿԱՏԱՐՎՈՂ ՓՈՓՈԽՈՒԹՅՈՒՆՆԵՐԸ
B6: ՀՀ վարչապետի աշխատակազմ
A8: Ծրագրի դասիչը | B8: Ծրագրի անվանումը
A9: 1033 | B9: Աջակցություն քաղաքական կուսակցություններին, հասարակական կազմակերպություններին և արհմիություններին
A11: Ծրագրի միջոցառումները
A13: Ծրագրի դասիչը` | B13: 1033 | C13: Ցուցանիշների փոփոխությունը (ավելացումները նշված են դրական նշանով)
A14: Միջոցառման դասիչը` | B14: 11003 | C14: Առաջին կիսամյակ | D14: Ինն ամիս | E14: Տարի
A15: Միջոցառման անվանումը` | B15: Աջակցություն հասարակական կազմակերպություններին
A16: Նկարագրությունը` | B16: Աջակցություն հասարակական կազմակերպություններին
A17: Միջոցառման տեսակը` | B17: Ծառայությունների մատուցում
A18: Ծառայությունը մատուցող կազմակերպությունների անվանումները | B18: Մասնագիտացված կազմակերպություն
A19: Արդյունքի չափորոշիչներ
A20: Քանակական | B20: Աջակցություն ստացող կազմակերպությունների քանակ, հատ | C20: 1 | D20: 1 | E20: 1
A21: Միջոցառման վրա կատարվող ծախսը (հազար դրամ) | C21: ='2'!G41 -> 8039 | D21: ='2'!H41 -> 8039 | E21: ='2'!I41 -> 8039
A23: Ծրագրի դասիչը | B23: Ծրագրի անվանումը
A24: 1136 | B24: ՀՀ Վարչապետի լիազորությունների իրականացման ապահովում
A26: Ծրագրի միջոցառումները
A28: Ծրագրի դասիչը` | B28: 1136 | C28: Ցուցանիշների փոփոխությունը (նվազեցումները նշված են փակագծերում)
A29: Միջոցառման դասիչը` | B29: 11001 | C29: Առաջին կիսամյակ | D29: Ինն ամիս | E29: Տարի
A30: Միջոցառման անվանումը` | B30: Ծառայությունների, ծրագրերի համակարգում
A31: Նկարագրությունը` | B31: Աջակցություն ՀՀ կառավարությանը` քաղաքականության և ծրագրերի մշակման և իրականացման գործընթացում, վերահսկողության կատարման գործընթացում
A32: Միջոցառման տեսակը` | B32: Ծառայությունների մատուցում
A33: Միջոցառումն իրականացնողի անվանումը | B33: ՀՀ վարչապետի աշխատակազմ
A34: Արդյունքի չափորոշիչներ
A35: Միջոցառման վրա կատարվող ծախսը (հազար դրամ) | C35: ='2'!G22 -> -8039 | D35: ='2'!H22 -> -8039 | E35: ='2'!I22 -> -8039

Sheet 4
A1: Հավելված N 4
A2: ՀՀ կառավարության 2022 թվականի
A3: ------------ N ---------- որոշման
A4: ՀԱՅԱՍՏԱՆԻ ՀԱՆՐԱՊԵՏՈՒԹՅԱՆ ԿԱՌԱՎԱՐՈՒԹՅԱՆ 2021 ԹՎԱԿԱՆԻ ԴԵԿՏԵՄԲԵՐԻ 23-Ի N 2121-Ն ՈՐՈՇՄԱՆ N 10 ՀԱՎԵԼՎԱԾՈՒՄ ԿԱՏԱՐՎՈՂ ՓՈՓՈԽՈՒԹՅՈՒՆՆԵՐԸ
A6: Գնման առարկայի | H6: Ցուցանիշների փոփոխությունը (նվազեցումները նշված են փակագծերում)
A7: կոդը | B7: անվանումը | C7: գնման ձևը | D7: չափի միավորը | F7: միավորի գինը | G7: քանակը | H7: Գումարը (հազար դրամներով)
A9: ՀՀ վարչապետի աշխատակազմ | H9: =H11 -> -8039
A10: Բաժին N 01 | B10: Խումբ N 01 | C10: Դաս N 01 | D10: Օրենսդիր և գործադիր մարմիններ, պետական կառավարում
A11: 1136 11001 | B11: Ծառայությունների, ծրագրերի համակարգում | H11: =H12 -> -8039
A12: ՄԱՍ III. ԾԱՌԱՅՈՒԹՅՈՒՆՆԵՐ | H12: =SUM(H13:I13) -> -8039
A13: 70221100-1 | B13: ոչ բնակելի անշարժ գույքի վարձակալության կամ լիզինգի ծառայություն | C13: ՄԱ | D13: դրամ | H13: -8039
