Workbook
Name AgencyCode: #REF!
Name AgencyCode: #REF!
Name AgencyCode: #REF!
Name AgencyName: #REF!
Name AgencyName: #REF!
Name Functional1: #REF!
Name Functional1: #REF!
Name PANature: #REF!
Name PANature: #REF!
Name PAType: #REF!
Name PAType: #REF!
Name Performance2: #REF!
Name Performance2: #REF!
Name PerformanceType: #REF!
Name PerformanceType: #REF!

Sheet 1
H1: Հավելված N1
H2: ՀՀ կառավարության 2022 թվականի
H3: ______________ ի ___Ն որոշման
A4: «ՀԱՅԱՍՏԱՆԻ ՀԱՆՐԱՊԵՏՈՒԹՅԱՆ 2022 ԹՎԱԿԱՆԻ ՊԵՏԱԿԱՆ ԲՅՈՒՋԵԻ ՄԱՍԻՆ» ՀԱՅԱՍՏԱՆԻ ՀԱՆՐԱՊԵՏՈՒԹՅԱՆ ՕՐԵՆՔԻ N 1 ՀԱՎԵԼՎԱԾԻ N 3 ԱՂՅՈՒՍԱԿՈՒՄ ԿԱՏԱՐՎՈՂ ՓՈՓՈԽՈՒԹՅՈՒՆՆԵՐԸ ԵՎ ԼՐԱՑՈՒՄՆԵՐԸ
G5: հազ. դրամ
A6: Ծրագրային դասիչ | C6: Բյուջետային գլխավոր կարգադրիչների, ծրագրերի, միջոցառումների և ուղղությունների անվանումները | D6: Ցուցանիշների փոփոխությունը (ավելացումները նշված են դրական նշանով, իսկ նվազեցումները` փակագծերում)
D7: Ընդամենը, | E7: այդ թվում՝
A8: Ծրագիր | B8: Միջոցառում | E8: Կառուցման աշխատանքներ | F8: Վերակառուցման, վերանորոգման և վերականգնման աշխատանքներ | G8: Նախագծահե- տազոտական, գեոդեզիա- քարտեզագրա- կան աշխա- տանքներ | H8: Ոչ ֆինանսական այլ ակտիվների ձեռքբերում
C9: ԸՆԴԱՄԵՆԸ | D9: =+E9+F9+G9+H9 -> 0 | E9: =E11 -> 0 | F9: =F11 -> 0 | G9: =G11 -> 0 | H9: =H11 -> 0
C10: այդ թվում՝
C11: ՀՀ ՏԱՐԱԾՔԱՅԻՆ ԿԱՌԱՎԱՐՄԱՆ ԵՎ ԵՆԹԱԿԱՌՈՒՑՎԱԾՔՆԵՐԻ ՆԱԽԱՐԱՐՈՒԹՅՈՒՆ | D11: =+E11+F11+G11+H11 -> 0 | E11: =+E13+E17 -> 0 | F11: =+F13+F17 -> 0 | G11: =+G13+G17 -> 0 | H11: =+H13+H17 -> 0
C12: այդ թվում`
A13: 1049 | B13: 21001 | C13: Պետական նշանակության ավտոճանապարհների հիմնանորոգում | D13: =+E13+F13+G13+H13 -> 2835372 | E13: =+E15 -> 0 | F13: =+F15 -> 2835372 | G13: =+G15 -> 0 | H13: =+H15 -> 0
C14: այդ թվում`
B15: 2 | C15: Հանրապետական նշանակության ավտոճանապարհներ, այդ թվում | D15: =+E15+F15+G15+H15 -> 2835372 | E15: =SUM(E16:E16) -> 0 | F15: =SUM(F16:F16) -> 2835372 | G15: =SUM(G16:G16) -> 0 | H15: =SUM(H16:H16) -> 0
C16: Հ-70, Մ-6 – Աթան հանրապետական նշանակության ավտոճանապարհի կմ0+000 - կմ27+500 հատվածի հիմնանորոգում | D16: =+E16+F16+G16+H16 -> 2835372 | E16: 0 | F16: =+'3'!G19 -> 2835372 | G16: 0 | H16: 0
A17: 1049 | B17: 21001 | C17: Պետական նշանակության ավտոճանապարհների հիմնանորոգում | D17: =+E17+F17+G17+H17 -> -2835372 | E17: =-E13 -> 0 | F17: =-F13 -> -2835372 | G17: =-G13 -> 0 | H17: =-H13 -> 0
A18: 1049 | B18: 21002 | C18: Տրանսպորտային օբյեկտների հիմնանորոգում | D18: =+E18+F18+G18+H18 -> -278860 | E18: =-E14 -> 0 | F18: =+'3'!G22 -> -278860 | G18: =-G14 -> 0 | H18: =-H14 -> 0
A19: 1049 | B19: 21002 | C19: Տրանսպորտային օբյեկտների հիմնանորոգում, այդ թվում | D19: =+E19+F19+G19+H19 -> 278860 | E19: =-E18 -> 0 | F19: =-F18 -> 278860 | G19: =-G18 -> 0 | H19: =-H18 -> 0
C20: Մ-4, Երևան - Սևան - Իջևան - Ադրբեջանի սահման կմ 14+796 հատվածում գտնվող կամրջի վերանորոգում | D20: =+E20+F20+G20+H20 -> 116162 | E20: =+E18 -> 0 | F20: ='3'!G25 -> 116162 | G20: =+G18 -> 0 | H20: =+H18 -> 0
C21: Մ-4, Երևան - Սևան - Իջևան - Ադրբեջանի սահման կմ 104+300 հատվածում գտնվող կամուրջի վերանորոգում | D21: =+E21+F21+G21+H21 -> 162698 | E21: =+E19 -> 0 | F21: ='3'!G26 -> 162698 | G21: =+G19 -> 0 | H21: =+H19 -> 0

Sheet 2
A1: Հավելված N2
A2: ՀՀ կառավարության 2022 թվականի
A3: ______________ ի ___Ն որոշման
A5: ՀԱՅԱՍՏԱՆԻ ՀԱՆՐԱՊԵՏՈՒԹՅԱՆ ԿԱՌԱՎԱՐՈՒԹՅԱՆ 2021 ԹՎԱԿԱՆԻ ԴԵԿՏԵՄԲԵՐԻ 23-Ի N 2121-Ն ՈՐՈՇՄԱՆ N 3 ԵՎ N 4 ՀԱՎԵԼՎԱԾՆԵՐՈՒՄ ԿԱՏԱՐՎՈՂ ՓՈՓՈԽՈՒԹՅՈՒՆՆԵՐԸ ԵՎ ԼՐԱՑՈՒՄՆԵՐԸ
I7: հազ. դրամ
A8: Գործառական դասիչը | D8: Ծրագրային դասիչը | F8: Բյուջետային ծախսերի գործառական դասակարգման բաժինների, խմբերի և դասերի, բյուջետային հատկացումների գլխավոր կարգադրիչների, ծրագրերի, միջոցառումների և միջոցառումները կատարող պետական մարմինների անվանումները | G8: Ցուցանիշների փոփոխությունը (ավելացումները նշված են դրական նշանով, իսկ նվազեցումները` փակագծերում)
A9: Բաժին | B9: Խումբ | C9: Դաս | D9: Ծրագիր | E9: Միջոցառում | G9: Առաջին եռամսյակ | H9: Առաջին կիսամյակ | I9: Ինն ամիս | J9: Տարի
F10: ԸՆԴԱՄԵՆԸ ԾԱԽՍԵՐ | G10: =G12 -> 0 | H10: =H12 -> 0 | I10: =I12 -> 0 | J10: =J12 -> 0
F11: այդ թվում`
A12: 04 | F12: ՏՆՏԵՍԱԿԱՆ ՀԱՐԱԲԵՐՈՒԹՅՈՒՆՆԵՐ | G12: =G14 -> 0 | H12: =H14 -> 0 | I12: =I14 -> 0 | J12: =J14 -> 0
F13: այդ թվում`
B14: 05 | F14: Տրանսպորտ | G14: =G16 -> 0 | H14: =H16 -> 0 | I14: =I16 -> 0 | J14: =J16 -> 0
F15: այդ թվում`
C16: 01 | F16: Ճանապարհային տրանսպորտ | G16: =G18 -> 0 | H16: =H18 -> 0 | I16: =I18 -> 0 | J16: =J18 -> 0
F17: այդ թվում`
F18: ՀՀ ՏԱՐԱԾՔԱՅԻՆ ԿԱՌԱՎԱՐՄԱՆ ԵՎ ԵՆԹԱԿԱՌՈՒՑՎԱԾՔՆԵՐԻ ՆԱԽԱՐԱՐՈՒԹՅՈՒՆ | G18: =+G20 -> 0 | H18: =+H20 -> 0 | I18: =+I20 -> 0 | J18: =+J20 -> 0
F19: այդ թվում`
D20: 1049 | F20: Ճանապարհային ցանցի բարելավում | G20: =+G22+G38 -> 0 | H20: =+H22+H38 -> 0 | I20: =+I22+I38 -> 0 | J20: =+J22+J38 -> 0
F21: այդ թվում`
E22: 21001 | F22: Պետական նշանակության ավտոճանապարհների հիմնանորոգում | G22: =+G24+G31 -> 0 | H22: =+H24+H31 -> 0 | I22: =+I24+I31 -> 0 | J22: =+J24+J31 -> 0
F23: այդ թվում` ըստ կատարողների
F24: ՀՀ կառավարություն | G24: =+G26 -> 0 | H24: =+H26 -> -80000 | I24: =+I26 -> -1417686 | J24: =+J26 -> -2835372
F25: այդ թվում` բյուջետային ծախսերի տնտեսագիտական դասակարգման հոդվածների
F26: ԸՆԴԱՄԵՆԸ ԾԱԽՍԵՐ | G26: =+G27 -> 0 | H26: =+H27 -> -80000 | I26: =+I27 -> -1417686 | J26: =+J27 -> -2835372
F27: ՈՉ ՖԻՆԱՆՍԱԿԱՆ ԱԿՏԻՎՆԵՐԻ ԳԾՈՎ ԾԱԽՍԵՐ | G27: =+G28 -> 0 | H27: =+H28 -> -80000 | I27: =+I28 -> -1417686 | J27: =+J28 -> -2835372
F28: ՀԻՄՆԱԿԱՆ ՄԻՋՈՑՆԵՐ | G28: =+G29 -> 0 | H28: =+H29 -> -80000 | I28: =+I29 -> -1417686 | J28: =+J29 -> -2835372
F29: ՇԵՆՔԵՐ ԵՎ ՇԻՆՈՒԹՅՈՒՆՆԵՐ | G29: =+G30 -> 0 | H29: =+H30 -> -80000 | I29: =+I30 -> -1417686 | J29: =+J30 -> -2835372
F30: - Շենքերի և շինությունների կապիտալ վերանորոգում | G30: =-G31 -> 0 | H30: =-H31 -> -80000 | I30: =-I31 -> -1417686 | J30: =-J31 -> -2835372
F31: ՀՀ տարածքային կառավարման և ենթակառուցվածքների նախարարություն | G31: =+G33 -> 0 | H31: =+H33 -> 80000 | I31: =+I33 -> 1417686 | J31: =+J33 -> 2835372
F32: այդ թվում` բյուջետային ծախսերի տնտեսագիտական դասակարգման հոդվածների
F33: ԸՆԴԱՄԵՆԸ ԾԱԽՍԵՐ | G33: =+G34 -> 0 | H33: =+H34 -> 80000 | I33: =+I34 -> 1417686 | J33: =+J34 -> 2835372
F34: ՈՉ ՖԻՆԱՆՍԱԿԱՆ ԱԿՏԻՎՆԵՐԻ ԳԾՈՎ ԾԱԽՍԵՐ | G34: =+G35 -> 0 | H34: =+H35 -> 80000 | I34: =+I35 -> 1417686 | J34: =+J35 -> 2835372
F35: ՀԻՄՆԱԿԱՆ ՄԻՋՈՑՆԵՐ | G35: =+G36 -> 0 | H35: =+H36 -> 80000 | I35: =+I36 -> 1417686 | J35: =+J36 -> 2835372
F36: ՇԵՆՔԵՐ ԵՎ ՇԻՆՈՒԹՅՈՒՆՆԵՐ | G36: =+G37 -> 0 | H36: =+H37 -> 80000 | I36: =+I37 -> 1417686 | J36: =+J37 -> 2835372
F37: - Շենքերի և շինությունների կապիտալ վերանորոգում | G37: =+'3'!D18 -> 0 | H37: ='3'!E18 -> 80000 | I37: ='3'!F18 -> 1417686 | J37: ='3'!G18 -> 2835372
E38: 21002 | F38: Տրանսպորտային օբյեկտների հիմնանորոգում | G38: =+G40+G47 -> 0 | H38: =+H40+H47 -> 0 | I38: =+I40+I47 -> 0 | J38: =+J40+J47 -> 0
F39: այդ թվում` ըստ կատարողների
F40: ՀՀ կառավարություն | G40: =+G42 -> 0 | H40: =+H42 -> -111545 | I40: =+I42 -> -278860 | J40: =+J42 -> -278860
F41: այդ թվում` բյուջետային ծախսերի տնտեսագիտական դասակարգման հոդվածներ
F42: ԸՆԴԱՄԵՆԸ ԾԱԽՍԵՐ | G42: =+G43 -> 0 | H42: =+H43 -> -111545 | I42: =+I43 -> -278860 | J42: =+J43 -> -278860
F43: ՈՉ ՖԻՆԱՆՍԱԿԱՆ ԱԿՏԻՎՆԵՐԻ ԳԾՈՎ ԾԱԽՍԵՐ | G43: =+G44 -> 0 | H43: =+H44 -> -111545 | I43: =+I44 -> -278860 | J43: =+J44 -> -278860
F44: ՀԻՄՆԱԿԱՆ ՄԻՋՈՑՆԵՐ | G44: =+G45 -> 0 | H44: =+H45 -> -111545 | I44: =+I45 -> -278860 | J44: =+J45 -> -278860
F45: ՇԵՆՔԵՐ ԵՎ ՇԻՆՈՒԹՅՈՒՆՆԵՐ | G45: =+G46 -> 0 | H45: =+H46 -> -111545 | I45: =+I46 -> -278860 | J45: =+J46 -> -278860
F46: - Շենքերի և շինությունների կապիտալ վերանորոգում | G46: =+'3'!D22 -> 0 | H46: =+'3'!E22 -> -111545 | I46: =+'3'!F22 -> -278860 | J46: =+'3'!G22 -> -278860
F47: ՀՀ տարածքային կառավարման և ենթակառուցվածքների նախարարություն | G47: =+G49 -> 0 | H47: =+H49 -> 111545 | I47: =+I49 -> 278860 | J47: =+J49 -> 278860
F48: այդ թվում` բյուջետային ծախսերի տնտեսագիտական դասակարգման հոդվածներ
F49: ԸՆԴԱՄԵՆԸ ԾԱԽՍԵՐ | G49: =+G50 -> 0 | H49: =+H50 -> 111545 | I49: =+I50 -> 278860 | J49: =+J50 -> 278860
F50: ՈՉ ՖԻՆԱՆՍԱԿԱՆ ԱԿՏԻՎՆԵՐԻ ԳԾՈՎ ԾԱԽՍԵՐ | G50: =+G51 -> 0 | H50: =+H51 -> 111545 | I50: =+I51 -> 278860 | J50: =+J51 -> 278860
F51: ՀԻՄՆԱԿԱՆ ՄԻՋՈՑՆԵՐ | G51: =+G52 -> 0 | H51: =+H52 -> 111545 | I51: =+I52 -> 278860 | J51: =+J52 -> 278860
F52: ՇԵՆՔԵՐ ԵՎ ՇԻՆՈՒԹՅՈՒՆՆԵՐ | G52: =+G53 -> 0 | H52: =+H53 -> 111545 | I52: =+I53 -> 278860 | J52: =+J53 -> 278860
F53: - Շենքերի և շինությունների կապիտալ վերանորոգում | G53: =-G46 -> 0 | H53: =-H46 -> 111545 | I53: =-I46 -> 278860 | J53: =-J46 -> 278860

Sheet 3
A1: Հավելված N3
A2: ՀՀ կառավարության 2022 թվականի
A3: ______________ ի ___Ն որոշման
A5: ՀԱՅԱՍՏԱՆԻ ՀԱՆՐԱՊԵՏՈՒԹՅԱՆ ԿԱՌԱՎԱՐՈՒԹՅԱՆ 2021 ԹՎԱԿԱՆԻ ԴԵԿՏԵՄԲԵՐԻ 23-Ի N 2121-Ն ՈՐՈՇՄԱՆ N 5 ՀԱՎԵԼՎԱԾԻ N 2 ԱՂՅՈՒՍԱԿՈՒՄ ԿԱՏԱՐՎՈՂ ՓՈՓՈԽՈՒԹՅՈՒՆՆԵՐԸ ԵՎ ԼՐԱՑՈՒՄՆԵՐԸ
F6: հազ. դրամ
A7: Ծրագրային դասիչ | C7: Բյուջետային գլխավոր կարգադրիչների, ծրագրերի, միջոցառումների և ուղղությունների անվանումները | D7: Ցուցանիշների փոփոխությունը (ավելացումները նշված են դրական նշանով, իսկ նվազեցումները` փակագծերում)
A8: Ծրագիր | B8: Միջոցառում | D8: Առաջին եռամսյակ | E8: Առաջին կիսամյակ | F8: Ինն ամիս | G8: Տարի
C9: ԸՆԴԱՄԵՆԸ | D9: =D11 -> 0 | E9: =E11 -> 0 | F9: =F11 -> 0 | G9: =G11 -> 0
C10: այդ թվում՝
C11: ՀՀ ՏԱՐԱԾՔԱՅԻՆ ԿԱՌԱՎԱՐՄԱՆ ԵՎ ԵՆԹԱԿԱՌՈՒՑՎԱԾՔՆԵՐԻ ՆԱԽԱՐԱՐՈՒԹՅՈՒՆ | D11: =+D13 -> 0 | E11: =+E13 -> 0 | F11: =+F13 -> 0 | G11: =+G13 -> 0
C12: այդ թվում`
A13: 1049 | B13: 21001 | C13: Պետական նշանակության ավտոճանապարհների հիմնանորոգում | D13: =+D15+D16 -> 0 | E13: =+E15+E16 -> 0 | F13: =+F15+F16 -> 0 | G13: =+G15+G16 -> 0
C14: այդ թվում` ըստ կատարողների
C15: ՀՀ կառավարություն | D15: =-D16 -> 0 | E15: =-E16 -> -80000 | F15: =-F16 -> -1417686 | G15: =-G16 -> -2835372
C16: ՀՀ տարածքային կառավարման և ենթակառուցվածքների նախարարություն | D16: =+D18 -> 0 | E16: =+E18 -> 80000 | F16: =+F18 -> 1417686 | G16: =+G18 -> 2835372
C17: այդ թվում՝ ըստ ուղղությունների
B18: 2 | C18: Հանրապետական նշանակության ավտոճանապարհներ, այդ թվում | D18: =SUM(D19:D19) -> 0 | E18: =SUM(E19:E19) -> 80000 | F18: =SUM(F19:F19) -> 1417686 | G18: =SUM(G19:G19) -> 2835372
C19: Հ-70, Մ-6 – Աթան հանրապետական նշանակության ավտոճանապարհի կմ0+000 - կմ27+500 հատվածի հիմնանորոգում | D19: 0 | E19: 80000 | F19: 1417686 | G19: 2835372
A20: 1049 | B20: 21002 | C20: Տրանսպորտային օբյեկտների հիմնանորոգում | D20: =+D22+D23 -> 0 | E20: =+E22+E23 -> 0 | F20: =+F22+F23 -> 0 | G20: =+G22+G23 -> 0
C21: այդ թվում` ըստ կատարողների
C22: ՀՀ կառավարություն | D22: =-D23 -> 0 | E22: =-E23 -> -111545 | F22: =-F23 -> -278860 | G22: =-G23 -> -278860
C23: ՀՀ տարածքային կառավարման և ենթակառուցվածքների նախարարություն | D23: =+D26+D38+D44 -> 0 | E23: =+E25+E26 -> 111545 | F23: =+F25+F26 -> 278860 | G23: =+G25+G26 -> 278860
C24: այդ թվում՝ ըստ ուղղությունների
C25: Մ-4, Երևան - Սևան - Իջևան - Ադրբեջանի սահման կմ 14+796 հատվածում գտնվող կամրջի վերանորոգում | E25: 46465 | F25: 116162 | G25: 116162
C26: Մ-4, Երևան - Սևան - Իջևան - Ադրբեջանի սահման կմ 104+300 հատվածում գտնվող կամուրջի վերանորոգում | D26: 0 | E26: 65080 | F26: 162698 | G26: 162698

Sheet 4
F1: Հավելված N4
A2: ՀՀ կառավարության 2022 թվականի
A3: ______________ ի ___Ն որոշման
A4: ՀԱՅԱՍՏԱՆԻ ՀԱՆՐԱՊԵՏՈՒԹՅԱՆ ԿԱՌԱՎԱՐՈՒԹՅԱՆ 2021 ԹՎԱԿԱՆԻ ԴԵԿՏԵՄԲԵՐԻ 23-Ի N 2121-Ն ՈՐՈՇՄԱՆ N 9.1 ՀԱՎԵԼՎԱԾԻ NN 9.1.8 և 9.1.59 ԱՂՅՈՒՍԱԿՆԵՐՈՒՄ ԿԱՏԱՐՎՈՂ ՓՈՓՈԽՈՒԹՅՈՒՆՆԵՐԸ ԵՎ ԼՐԱՑՈՒՄՆԵՐԸ
F5: Աղյուսակ 9.1.8
A6: ՀՀ ՏԱՐԱԾՔԱՅԻՆ ԿԱՌԱՎԱՐՄԱՆ ԵՎ ԵՆԹԱԿԱՌՈՒՑՎԱԾՔՆԵՐԻ ՆԱԽԱՐԱՐՈՒԹՅՈՒՆ
A7: ՄԱՍ 1. ՊԵՏԱԿԱՆ ՄԱՐՄՆԻ ԳԾՈՎ ԱՐԴՅՈՒՆՔԱՅԻՆ (ԿԱՏԱՐՈՂԱԿԱՆ) ՑՈՒՑԱՆԻՇՆԵՐԸ
A8: Ծրագրի դասիչը | B8: Ծրագրի անվանումը
A9: 1049 | B9: Ճանապարհային ցանցի բարելավում
A11: Ծրագրի միջոցառումները
A13: Ծրագրի դասիչը` | B13: 1049 | C13: Ցուցանիշների փոփոխությունը (ավելացումները նշված են դրական նշանով, իսկ նվազեցումները` փակագծերում)
A14: Միջոցառման դասիչը` | B14: 21001 | C14: Առաջին եռամսյակ | D14: Առաջին կիսամյակ | E14: Ինն ամիս | F14: Տարի
A15: Միջոցառման անվանումը` | B15: Պետական նշանակության ավտոճանապարհների հիմնանորոգում
A16: Նկարագրությունը` | B16: Միջպետական՝ հանրապետական և մարզային նշանակության ավտոճանապարհների քայքայված ծածկի վերանորոգում՝ մաշված ծածկի փոխարինում_x000D_
A17: Միջոցառման տեսակը` | B17: Հանրության կողմից անմիջականորեն օգտագործվող ակտիվների հետ կապված միջոցառումներ
A18: Միջոցառումն իրականացնողի անվանումը | B18: Մասնագիտացված միավոր
A19: Արդյունքի չափորոշիչներ
A20: Միջպետական նշանակության ավտոճանապարհներ | C20: =-C53 -> 0 | D20: =-D53 -> 0 | E20: =-E53 -> 0 | F20: =-F53 -> 0
A21: Հանրապետական նշանակության ավտոճանապարհներ | C21: 0 | D21: =-D54 -> 0 | E21: =-E54 -> 16.8 | F21: =-F54 -> 27.5
A22: Միջոցառման վրա կատարվող ծախսը (հազար դրամ) | C22: =+'3'!D16 -> 0 | D22: =+'3'!E16 -> 80000 | E22: =+'3'!F16 -> 1417686 | F22: =+'3'!G16 -> 2835372
A24: Ծրագրի դասիչը` | B24: 1049 | C24: Ցուցանիշների փոփոխությունը (ավելացումները նշված են դրական նշանով, իսկ նվազեցումները` փակագծերում)
A25: Միջոցառման դասիչը` | B25: 21002 | C25: Առաջին եռամսյակ | D25: Առաջին կիսամյակ | E25: Ինն ամիս | F25: Տարի
A26: Միջոցառման անվանումը` | B26: Տրանսպորտային օբյեկտների հիմնանորոգում
A27: Նկարագրությունը` | B27: Ավտոմոբիլային ճանապարհների վրա գտնվող կամուրջների հիմնանորոգում
A28: Միջոցառման տեսակը` | B28: Հանրության կողմից անմիջականորեն օգտագործվող ակտիվների հետ կապված միջոցառումներ
A29: Միջոցառումն իրականացնողի անվանումը | B29: Մասնագիտացված միավոր
A30: Արդյունքի չափորոշիչներ
A31: Կամուրջներ, այդ թվում աշխատանքներ և ծառայություններ | C31: =+C32 -> 0 | D31: =+D32 -> 0 | E31: =+E32 -> 2 | F31: =+F32 -> 2
A32: Շինարարություն, հատ | C32: 0 | D32: 0 | E32: 2 | F32: 2
A33: Կամուրջներ (մ) | C33: =+C34 -> 0 | D33: =+D34 -> 0 | E33: =+E34 -> 88 | F33: =+F34 -> 88
A34: Շինարարություն (մ) | C34: 0 | D34: 0 | E34: 88 | F34: 88
A35: Միջոցառման վրա կատարվող ծախսը (հազար դրամ) | C35: =+'3'!D23 -> 0 | D35: =+'3'!E23 -> 111545 | E35: =+'3'!F23 -> 278860 | F35: =+'3'!G23 -> 278860
F39: Աղյուսակ 9.1.59
A40: ՀՀ ԿԱՌԱՎԱՐՈՒԹՅՈՒՆ
A41: ՄԱՍ 1. ՊԵՏԱԿԱՆ ՄԱՐՄՆԻ ԳԾՈՎ ԱՐԴՅՈՒՆՔԱՅԻՆ (ԿԱՏԱՐՈՂԱԿԱՆ) ՑՈՒՑԱՆԻՇՆԵՐԸ
A42: Ծրագրի դասիչը | B42: Ծրագրի անվանումը
A43: 1049 | B43: Ճանապարհային ցանցի բարելավում
A45: Ծրագրի միջոցառումները
A47: Ծրագրի դասիչը` | B47: 1049 | C47: Ցուցանիշների փոփոխությունը (ավելացումները նշված են դրական նշանով, իսկ նվազեցումները` փակագծերում)
A48: Միջոցառման դասիչը` | B48: 21001 | C48: Առաջին եռամսյակ | D48: Առաջին կիսամյակ | E48: Ինն ամիս | F48: Տարի
A49: Միջոցառման անվանումը` | B49: Պետական նշանակության ավտոճանապարհների հիմնանորոգում
A50: Նկարագրությունը` | B50: Միջպետական՝ հանրապետական և մարզային նշանակության ավտոճանապարհների քայքայված ծածկի վերանորոգում՝ մաշված ծածկի փոխարինում_x000D_
A51: Միջոցառման տեսակը` | B51: Հանրության կողմից անմիջականորեն օգտագործվող ակտիվների հետ կապված միջոցառումներ
A52: Արդյունքի չափորոշիչներ
A53: Միջպետական նշանակության ավտոճանապարհներ | C53: 0 | D53: 0 | E53: 0 | F53: 0
A54: Հանրապետական նշանակության ավտոճանապարհներ | C54: 0 | D54: 0 | E54: -16.8 | F54: -27.5
A55: Միջոցառման վրա կատարվող ծախսը (հազար դրամ) | C55: =-C22 -> 0 | D55: =-D22 -> -80000 | E55: =-E22 -> -1417686 | F55: =-F22 -> -2835372
A57: Ծրագրի դասիչը` | B57: 1049 | C57: Ցուցանիշների փոփոխությունը (ավելացումները նշված են դրական նշանով, իսկ նվազեցումները` փակագծերում)
A58: Միջոցառման դասիչը` | B58: 21002 | C58: Առաջին եռամսյակ | D58: Առաջին կիսամյակ | E58: Ինն ամիս | F58: Տարի
A59: Միջոցառման անվանումը` | B59: Տրանսպորտային օբյեկտների հիմնանորոգում
A60: Նկարագրությունը` | B60: Ավտոմոբիլային ճանապարհների վրա գտնվող կամուրջների հիմնանորոգում
A61: Միջոցառման տեսակը` | B61: Հանրության կողմից անմիջականորեն օգտագործվող ակտիվների հետ կապված միջոցառումներ
A62: Միջոցառումն իրականացնողի անվանումը | B62: Մասնագիտացված միավոր
A63: Արդյունքի չափորոշիչներ
A64: Կամուրջներ, այդ թվում աշխատանքներ և ծառայություններ | C64: =+C65 -> 0 | D64: =+D65 -> 0 | E64: =+E65 -> -2 | F64: =+F65 -> -2
A65: Շինարարություն, հատ | C65: 0 | D65: 0 | E65: -2 | F65: -2
A66: Կամուրջներ (մ) | C66: =+C67 -> 0 | D66: =+D67 -> 0 | E66: =+E67 -> -88 | F66: =+F67 -> -88
A67: Շինարարություն (մ) | C67: 0 | D67: 0 | E67: -88 | F67: -88
A68: Միջոցառման վրա կատարվող ծախսը (հազար դրամ) | C68: =+'3'!D22 -> 0 | D68: =+'3'!E22 -> -111545 | E68: =+'3'!F22 -> -278860 | F68: =+'3'!G22 -> -278860

Sheet 5
A1: Հավելված N5
A2: ՀՀ կառավարության 2022 թվականի
A3: ______________ ի ___Ն որոշման
A5: ՀԱՅԱՍՏԱՆԻ ՀԱՆՐԱՊԵՏՈՒԹՅԱՆ ԿԱՌԱՎԱՐՈՒԹՅԱՆ 2021 ԹՎԱԿԱՆԻ ԴԵԿՏԵՄԲԵՐԻ 23-Ի N 2121-Ն ՈՐՈՇՄԱՆ N 10 ՀԱՎԵԼՎԱԾՈՒՄ ԿԱՏԱՐՎՈՂ ԼՐԱՑՈՒՄՆԵՐԸ
A6: Կոդը | B6: Անվանումը | C6: Գնման ձևը | D6: Չափման միավորը | E6: Միավորի գինը | F6: Ցուցանիշների փոփոխությունը (ավելացումները նշված են դրական նշանով)
F7: Քանակը | G7: Գումարը (հազար դրամով)
A8: ՀՀ տարածքային կառավարման և ենթակառուցվածքների նախարարություն | G8: =+G9 -> 3114231
A9: Բաժին N 04 | B9: Խումբ N 05 | C9: Դաս N 01 | D9: Ճանապարհային տրանսպորտ | G9: =+G10+G16 -> 3114231
A10: 1049 21001 | B10: Պետական նշանակության ավտոճանապարհների հիմնանորոգում | G10: =+G11+G13 -> 2835371.9
A11: ՄԱՍ II. ԱՇԽԱՏԱՆՔՆԵՐ | G11: =SUM(G12:G12) -> 2720000
A12: 45231177/580 | B12: ճանապարհների վերանորոգման աշխատանքներ | C12: ՀԲՄ | D12: դրամ | E12: 2720000000 | F12: 1 | G12: =+F12*E12/1000 -> 2720000
A13: ՄԱՍ III. ԾԱՌԱՅՈՒԹՅՈՒՆՆԵՐ | G13: =SUM(G14:G15) -> 115371.89
A14: 98111140/53 | B14: հեղինակային հսկողության ծառայություններ | C14: ՄԱ | D14: դրամ | E14: 23180550 | F14: 1 | G14: =+F14*E14/1000 -> 23180.55
A15: 71351540/532 | B15: տեխնիկական հսկողության ծառայություններ | C15: ՀԲՄ | D15: դրամ | E15: 92191335 | F15: 1 | G15: =+F15*E15/1000 -> 92191.335
A16: 1049 21002 | B16: Տրանսպորտային օբյեկտների հիմնանորոգում | G16: =+G17+G20 -> 278859.12
A17: ՄԱՍ II. ԱՇԽԱՏԱՆՔՆԵՐ | G17: =SUM(G18:G19) -> 271548.62
A18: 45221117/504 | B18: կամուրջների վերանորոգման շինարարական աշխատանքներեր | C18: ՀԲՄ | D18: դրամ | E18: 113775870 | F18: 1 | G18: =+E18*F18/1000 -> 113775.87
A19: 45221117/505 | B19: կամուրջների վերանորոգման շինարարական աշխատանքներեր | C19: ՀԲՄ | D19: դրամ | E19: 157772754 | F19: 1 | G19: =+E19*F19/1000 -> 157772.75
A20: ՄԱՍ III. ԾԱՌԱՅՈՒԹՅՈՒՆՆԵՐ | G20: =SUM(G21:G23) -> 7310.499
A21: 98111140 | B21: հեղինակային հսկողության ծառայություններ | C21: ՄԱ | D21: դրամ | E21: 705707 | F21: 1 | G21: =+F21*E21/1000 -> 705.707
A22: 98111140 | B22: հեղինակային հսկողության ծառայություններ | C22: ՄԱ | D22: դրամ | E22: 1456792 | F22: 1 | G22: =+F22*E22/1000 -> 1456.792
A23: 71351540/545 | B23: տեխնիկական հսկողության ծառայություններ | C23: ՀԲՄ | D23: դրամ | E23: 5148000 | F23: 1 | G23: =+F23*E23/1000 -> 5148
