Workbook

Sheet 1
G1: Հավելված N 1
G2: ՀՀ կառավարության 2022 թվականի
G3: -ի N -Ն որոշման
A4: «ՀԱՅԱՍՏԱՆԻ ՀԱՆՐԱՊԵՏՈՒԹՅԱՆ 2022 ԹՎԱԿԱՆԻ ՊԵՏԱԿԱՆ ԲՅՈՒՋԵԻ ՄԱՍԻՆ» ՀԱՅԱՍՏԱՆԻ ՀԱՆՐԱՊԵՏՈՒԹՅԱՆ ՕՐԵՆՔԻ N 1 ՀԱՎԵԼՎԱԾԻ N 2 ԱՂՅՈՒՍԱԿՈՒՄ ԿԱՏԱՐՎՈՂ ՎԵՐԱԲԱՇԽՈՒՄԸ ԵՎ ԼՐԱՑՈՒՄԸ, ՀԱՅԱՍՏԱՆԻ ՀԱՆՐԱՊԵՏՈՒԹՅԱՆ ԿԱՌԱՎԱՐՈՒԹՅԱՆ 2021 ԹՎԱԿԱՆԻ ԴԵԿՏԵՄԲԵՐԻ 23-Ի N 2121-Ն ՈՐՈՇՄԱՆ N 5 ՀԱՎԵԼՎԱԾԻ N 1 ԱՂՅՈՒՍԱԿՈՒՄ ԿԱՏԱՐՎՈՂ ՓՈՓՈԽՈՒԹՅՈՒՆՆԵՐԸ ԵՎ ԼՐԱՑՈՒՄԸ
G6: (հազ. դրամ)
A7: Ծրագրային դասիչը | C7: Բյուջետային գլխավոր կարգադրիչների, ծրագրերի և միջոցառումների անվանումները | D7: Ցուցանիշների փոփոխությունը (ավելացումները նշված են դրական նշանով, իսկ նվազեցումները՝ փակագծերում)
A8: Ծրագիր | B8: Միջոցառում | D8: Առաջին եռամսյակ | E8: Առաջին կիսամյակ | F8: Ինն ամիս | G8: Տարի
C9: ԸՆԴԱՄԵՆԸ | D9: =D10+D30 -> 0 | E9: =E10+E30 -> 0 | F9: =F10+F30 -> 0 | G9: =G10+G30 -> 0
C10: ՀՀ տարածքային կառավարման և ենթակառուցվածքների նախարարություն | D10: =D11 -> 0 | E10: =E11 -> 0 | F10: =F11 -> 0 | G10: =G11 -> 0
A11: 1004 | C11: Ծրագրի անվանումը` | D11: =D18+D24 -> 0 | E11: =E18+E24 -> 0 | F11: =F18+F24 -> 0 | G11: =G18+G24 -> 0
C12: Ոռոգման համակարգի առողջացում
C13: Ծրագրի նպատակը`
C14: Ոռոգման ծառայությունների հասանելիության և մատչելիության ապահովում
C15: Վերջնական արդյունքի նկարագրությունը`
C16: Ոռոգման ջրի մատակարարման արդյունավետության և հասանելիության բարելավում՝ կորուստների կրճատում
A17: Ծրագրի միջոցառումներ
B18: 11013 | C18: Միջոցառման անվանումը` | D18: =-D38 -> 0 | E18: =-E38 -> 20000 | F18: =-F38 -> 40000 | G18: =-G38 -> 55500
C19: Փոքր և միջին ջրամբարների կառուցման խորհրդատվություն և կառավարում
C20: Միջոցառման նկարագրությունը`
C21: Փոքր և միջին ջրամբարների կառուցման համակարգում և ղեկավարում
C22: Միջոցառման տեսակը
C23: Ծառայությունների մատուցում
B24: 31013 | C24: Միջոցառման անվանումը` | D24: 0 | E24: -20000 | F24: -40000 | G24: -55500
C25: Փոքր և միջին ջրամբարների կառուցում
C26: Միջոցառման նկարագրությունը`
C27: Փոքր և միջին ջրամբարների կառուցման աշխատանքներ
C28: Միջոցառման տեսակը
C29: Պետական մարմինների կողմից օգտագործվող ոչ ֆինանսական ակտիվների հետ գործառնություններ
C30: ՀՀ կառավարություն | D30: =D31 -> 0 | E30: =E31 -> 0 | F30: =F31 -> 0 | G30: =G31 -> 0
A31: 1139 | C31: Ծրագրի անվանումը` | D31: =D38+D44 -> 0 | E31: =E38+E44 -> 0 | F31: =F38+F44 -> 0 | G31: =G38+G44 -> 0
C32: ՀՀ կառավարության պահուստային ֆոնդ
C33: Ծրագրի նպատակը`
C34: Պետական բյուջեում չկանխատեսված՝ ինչպես նաեւ բյուջետային երաշխիքների ապահովման ծախսերի ֆինանսավորման ապահովում
C35: Վերջնական արդյունքի նկարագրությունը`
C36: Պահուստային ֆոնդի կառավարման արդյունավետության և թափանցիկության ապահովում
A37: Ծրագրի միջոցառումներ
B38: 11001 | C38: Միջոցառման անվանումը` | D38: =-D44 -> 0 | E38: =-E44 -> -20000 | F38: =-F44 -> -40000 | G38: =-G44 -> -55500
C39: ՀՀ կառավարության պահուստային ֆոնդ
C40: Միջոցառման նկարագրությունը`
C41: ՀՀ պետական բյուջեում նախատեսված ելքերի լրացուցիչ ֆինանսավորման՝ պետական բյուջեում չկանխատեսված ելքերի՝ ինչպես նաև բյուջետային երաշխիքների ապահովման ելքերի ֆինանսավորման ապահովում
C42: Միջոցառման տեսակը
C43: Ծառայությունների մատուցում
B44: 11001 | C44: Միջոցառման անվանումը` | D44: =-D24 -> 0 | E44: =-E24 -> 20000 | F44: =-F24 -> 40000 | G44: =-G24 -> 55500
C45: ՀՀ կառավարության պահուստային ֆոնդ
C46: Միջոցառման նկարագրությունը`
C47: ՀՀ պետական բյուջեում նախատեսված ելքերի լրացուցիչ ֆինանսավորման՝ պետական բյուջեում չկանխատեսված ելքերի՝ ինչպես նաև բյուջետային երաշխիքների ապահովման ելքերի ֆինանսավորման ապահովում
C48: Միջոցառման տեսակը
C49: Ծառայությունների մատուցում

Sheet 2
A1: Հավելված N 2
A2: ՀՀ կառավարության 2022 թվականի
A3: -ի N -Ն որոշման
A4: «ՀԱՅԱՍՏԱՆԻ ՀԱՆՐԱՊԵՏՈՒԹՅԱՆ 2022 ԹՎԱԿԱՆԻ ՊԵՏԱԿԱՆ ԲՅՈՒՋԵԻ ՄԱՍԻՆ» ՀԱՅԱՍՏԱՆԻ ՀԱՆՐԱՊԵՏՈՒԹՅԱՆ ՕՐԵՆՔԻ N 1 ՀԱՎԵԼՎԱԾԻ N 3 ԱՂՅՈՒՍԱԿՈՒՄ ԿԱՏԱՐՎՈՂ ՓՈՓՈԽՈՒԹՅՈՒՆԸ
G5: (հազ. դրամ)
A6: Ծրագրային դասիչ | C6: Բյուջետային գլխավոր կարգադրիչների, ծրագրերի, միջոցառումների և ուղղությունների անվանումները | D6: Ցուցանիշների փոփոխությունը (Նվազեցումները նշված են փակագծերում)
D7: Ընդամենը, | E7: այդ թվում՝
A8: Ծրագիր | B8: Միջոցառում | E8: Կառուցման աշխատանքներ | F8: Վերակառուցման, վերանորոգման և վերականգնման աշխատանքներ | G8: Նախագծահե- տազոտական, գեոդեզիա- քարտեզագրա- կան աշխա- տանքներ | H8: Ոչ ֆինանսական այլ ակտիվների ձեռքբերում
C9: ԸՆԴԱՄԵՆԸ | D9: =SUM(E9:H9) -> -55500 | E9: =E11 -> 0 | F9: =F11 -> 0 | G9: =G11 -> -55500 | H9: =H11 -> 0
C10: այդ թվում՝
C11: ՀՀ ՏԱՐԱԾՔԱՅԻՆ ԿԱՌԱՎԱՐՄԱՆ ԵՎ ԵՆԹԱԿԱՌՈՒՑՎԱԾՔՆԵՐԻ ՆԱԽԱՐԱՐՈՒԹՅՈՒՆ | D11: =SUM(E11:H11) -> -55500 | E11: =E14 -> 0 | F11: =F14 -> 0 | G11: =G14 -> -55500 | H11: =H14 -> 0
C12: այդ թվում`
A14: 1004 | B14: 31013 | C14: Փոքր և միջին ջրամբարների կառուցում | D14: =SUM(E14:H14) -> -55500 | G14: -55500

Sheet 3
J1: Հավելված N3
A2: ՀՀ կառավարության 2022 թվականի
A3: -ի N -Ն որոշման
A4: ՀԱՅԱՍՏԱՆԻ ՀԱՆՐԱՊԵՏՈՒԹՅԱՆ ԿԱՌԱՎԱՐՈՒԹՅԱՆ 2021 ԹՎԱԿԱՆԻ ԴԵԿՏԵՄԲԵՐԻ 23-Ի N 2121-Ն ՈՐՈՇՄԱՆ N 3 ԵՎ N 4 ՀԱՎԵԼՎԱԾՆԵՐՈՒՄ ԿԱՏԱՐՎՈՂ ՓՈՓՈԽՈՒԹՅՈՒՆՆԵՐԸ ԵՎ ԼՐԱՑՈՒՄՆԵՐԸ
J6: (հազ. դրամ)
A7: Գործառական դասիչը | D7: Ծրագրային դասիչը | F7: Բյուջետային ծախսերի գործառական դասակարգման բաժինների, խմբերի և դասերի, բյուջետային ծրագրերի միջոցառումների, բյուջետային հատկացումների գլխավոր կարգադրիչների անվանումները | G7: Ցուցանիշների փոփոխությունը (ավելացումները նշված են դրական նշանով, իսկ նվազեցումները՝ փակագծերում)
G8: Առաջին եռամսյակ | H8: Առաջին կիսամյակ | I8: Ինն ամիս | J8: Տարի
A9: Բաժին | B9: Խումբ | C9: Դաս | D9: Ծրագիր | E9: Միջոցառում
F10: ԸՆԴԱՄԵՆԸ ԾԱԽՍԵՐ | G10: =G12+G40 -> 0 | H10: =H12+H40 -> 0 | I10: =I12+I40 -> 0 | J10: =J12+J40 -> 0
F11: այդ թվում`
A12: 04 | F12: ՏՆՏԵՍԱԿԱՆ ՀԱՐԱԲԵՐՈՒԹՅՈՒՆՆԵՐ | G12: =G14 -> 0 | H12: =H14 -> 0 | I12: =I14 -> 0 | J12: =J14 -> 0
F13: այդ թվում`
B14: 02 | F14: Գյուղատնտեսություն, անտառային տնտեսություն, ձկնորսություն և որսորդություն | G14: =G16 -> 0 | H14: =H16 -> 0 | I14: =I16 -> 0 | J14: =J16 -> 0
F15: այդ թվում`
C16: 04 | F16: Ոռոգում | G16: =G18 -> 0 | H16: =H18 -> 0 | I16: =I18 -> 0 | J16: =J18 -> 0
F17: այդ թվում`
F18: ՀՀ տարածքային կառավարման և ենթակառուցվածքների նախարարություն | G18: =G20 -> 0 | H18: =H20 -> 0 | I18: =I20 -> 0 | J18: =J20 -> 0
F19: այդ թվում`
D20: 1004 | F20: Ոռոգման համակարգի առողջացում | G20: =G22+G31 -> 0 | H20: =H22+H31 -> 0 | I20: =I22+I31 -> 0 | J20: =J22+J31 -> 0
F21: այդ թվում`
E22: 11013 | F22: Փոքր և միջին ջրամբարների կառուցման խորհրդատվություն և կառավարում | G22: =G26 -> 0 | H22: =H26 -> 20000 | I22: =I26 -> 40000 | J22: =J26 -> 55500
F23: այդ թվում` ըստ կատարողների
F24: ՀՀ տարածքային կառավարման և ենթակառուցվածքների նախարարության ջրային կոմիտե | G24: =G26 -> 0 | H24: =H26 -> 20000 | I24: =I26 -> 40000 | J24: =J26 -> 55500
F25: այդ թվում` բյուջետային ծախսերի տնտեսագիտական դասակարգման հոդվածներ
F26: ԸՆԴԱՄԵՆԸ ԾԱԽՍԵՐ | G26: =G27 -> 0 | H26: =H27 -> 20000 | I26: =I27 -> 40000 | J26: =J27 -> 55500
F27: ԸՆԹԱՑԻԿ ԾԱԽՍԵՐ | G27: =G28 -> 0 | H27: =H28 -> 20000 | I27: =I28 -> 40000 | J27: =J28 -> 55500
F28: ԾԱՌԱՅՈՒԹՅՈՒՆՆԵՐԻ ԵՎ ԱՊՐԱՆՔՆԵՐԻ ՁԵՌՔԲԵՐՈՒՄ | G28: =G29 -> 0 | H28: =H29 -> 20000 | I28: =I29 -> 40000 | J28: =J29 -> 55500
F29: Այլ մասնագիտական ծառայությունների ձեռքբերում | G29: =G30 -> 0 | H29: =H30 -> 20000 | I29: =I30 -> 40000 | J29: =J30 -> 55500
F30: - Մասնագիտական ծառայություններ | G30: ='1'!D18 -> 0 | H30: ='1'!E18 -> 20000 | I30: ='1'!F18 -> 40000 | J30: ='1'!G18 -> 55500
E31: 31013 | F31: Փոքր և միջին ջրամբարների կառուցում | G31: =G35 -> 0 | H31: =H35 -> -20000 | I31: =I35 -> -40000 | J31: =J35 -> -55500
F32: այդ թվում` ըստ կատարողների
F33: ՀՀ տարածքային կառավարման և ենթակառուցվածքների նախարարության ջրային կոմիտե | G33: =G35 -> 0 | H33: =H35 -> -20000 | I33: =I35 -> -40000 | J33: =J35 -> -55500
F34: այդ թվում` բյուջետային ծախսերի տնտեսագիտական դասակարգման հոդվածներ
F35: ԸՆԴԱՄԵՆԸ ԾԱԽՍԵՐ | G35: =G36 -> 0 | H35: =H36 -> -20000 | I35: =I36 -> -40000 | J35: =J36 -> -55500
F36: ՈՉ ՖԻՆԱՆՍԱԿԱՆ ԱԿՏԻՎՆԵՐԻ ԳԾՈՎ ԾԱԽՍԵՐ | G36: =G37 -> 0 | H36: =H37 -> -20000 | I36: =I37 -> -40000 | J36: =J37 -> -55500
F37: ՀԻՄՆԱԿԱՆ ՄԻՋՈՑՆԵՐ | G37: =G38 -> 0 | H37: =H38 -> -20000 | I37: =I38 -> -40000 | J37: =J38 -> -55500
F38: ԱՅԼ ՀԻՄՆԱԿԱՆ ՄԻՋՈՑՆԵՐ | G38: =G39 -> 0 | H38: =H39 -> -20000 | I38: =I39 -> -40000 | J38: =J39 -> -55500
F39: - Նախագծահետազոտական ծախսեր | G39: ='1'!D24 -> 0 | H39: ='1'!E24 -> -20000 | I39: ='1'!F24 -> -40000 | J39: ='1'!G24 -> -55500
A40: 11 | F40: ՀԻՄՆԱԿԱՆ ԲԱԺԻՆՆԵՐԻՆ ՉԴԱՍՎՈՂ ՊԱՀՈՒՍՏԱՅԻՆ ՖՈՆԴԵՐ | G40: =G42 -> 0 | H40: =H42 -> 0 | I40: =I42 -> 0 | J40: =J42 -> 0
F41: այդ թվում`
B42: 01 | F42: ՀՀ կառավարության և համայնքների պահուստային ֆոնդ | G42: =G44 -> 0 | H42: =H44 -> 0 | I42: =I44 -> 0 | J42: =J44 -> 0
F43: այդ թվում`
C44: 01 | F44: ՀՀ կառավարության պահուստային ֆոնդ | G44: =G46 -> 0 | H44: =H46 -> 0 | I44: =I46 -> 0 | J44: =J46 -> 0
F45: այդ թվում`
F46: ՀՀ կառավարություն | G46: =G48 -> 0 | H46: =H48 -> 0 | I46: =I48 -> 0 | J46: =J48 -> 0
F47: այդ թվում`
D48: 1139 | F48: ՀՀ կառավարության պահուստային ֆոնդ | G48: =G50+G58 -> 0 | H48: =H50+H58 -> 0 | I48: =I50+I58 -> 0 | J48: =J50+J58 -> 0 | K48: =K50+K58 -> 0
F49: այդ թվում`
E50: 11001 | F50: ՀՀ կառավարության պահուստային ֆոնդ | G50: =G52 -> 0 | H50: =H52 -> -20000 | I50: =I52 -> -40000 | J50: =J52 -> -55500
F51: այդ թվում` ըստ կատարողների
F52: ՀՀ կառավարություն | G52: =G54 -> 0 | H52: =H54 -> -20000 | I52: =I54 -> -40000 | J52: =J54 -> -55500
F53: այդ թվում` բյուջետային ծախսերի տնտեսագիտական դասակարգման հոդվածներ
F54: ԸՆԴԱՄԵՆԸ ԾԱԽՍԵՐ | G54: =G55 -> 0 | H54: =H55 -> -20000 | I54: =I55 -> -40000 | J54: =J55 -> -55500
F55: ԸՆԹԱՑԻԿ ԾԱԽՍԵՐ | G55: =G56 -> 0 | H55: =H56 -> -20000 | I55: =I56 -> -40000 | J55: =J56 -> -55500
F56: ԱՅԼ ԾԱԽՍԵՐ | G56: =G57 -> 0 | H56: =H57 -> -20000 | I56: =I57 -> -40000 | J56: =J57 -> -55500
F57: Պահուստային միջոցներ | G57: ='1'!D38 -> 0 | H57: ='1'!E38 -> -20000 | I57: ='1'!F38 -> -40000 | J57: ='1'!G38 -> -55500
E58: 11001 | F58: ՀՀ կառավարության պահուստային ֆոնդ | G58: =G60 -> 0 | H58: =H60 -> 20000 | I58: =I60 -> 40000 | J58: =J60 -> 55500
F59: այդ թվում` ըստ կատարողների
F60: ՀՀ կառավարություն | G60: =G62 -> 0 | H60: =H62 -> 20000 | I60: =I62 -> 40000 | J60: =J62 -> 55500
F61: այդ թվում` բյուջետային ծախսերի տնտեսագիտական դասակարգման հոդվածներ
F62: ԸՆԴԱՄԵՆԸ ԾԱԽՍԵՐ | G62: =G63 -> 0 | H62: =H63 -> 20000 | I62: =I63 -> 40000 | J62: =J63 -> 55500
F63: ԸՆԹԱՑԻԿ ԾԱԽՍԵՐ | G63: =G64 -> 0 | H63: =H64 -> 20000 | I63: =I64 -> 40000 | J63: =J64 -> 55500
F64: ԱՅԼ ԾԱԽՍԵՐ | G64: =G65 -> 0 | H64: =H65 -> 20000 | I64: =I65 -> 40000 | J64: =J65 -> 55500
F65: Պահուստային միջոցներ | G65: ='1'!D44 -> 0 | H65: ='1'!E44 -> 20000 | I65: ='1'!F44 -> 40000 | J65: ='1'!G44 -> 55500

Sheet 4
A1: Հավելված N 4
A2: ՀՀ կառավարության 2022 թվականի
A3: -ի N -Ն որոշման
A4: ՀԱՅԱՍՏԱՆԻ ՀԱՆՐԱՊԵՏՈՒԹՅԱՆ ԿԱՌԱՎԱՐՈՒԹՅԱՆ 2021 ԹՎԱԿԱՆԻ ԴԵԿՏԵՄԲԵՐԻ 23-Ի N 2121-Ն ՈՐՈՇՄԱՆ N 5 ՀԱՎԵԼՎԱԾԻ N 2 ԱՂՅՈՒՍԱԿՈՒՄ ԿԱՏԱՐՎՈՂ ՓՈՓՈԽՈՒԹՅՈՒՆՆԵՐԸ
G5: (հազ. դրամ)
A6: Ծրագրային դասիչ | C6: Բյուջետային գլխավոր կարգադրիչների, ծրագրերի, միջոցառումների, միջոցառումները կատարող պետական մարմինների և ուղղությունների անվանումները | D6: Ցուցանիշների փոփոխությունը (Նվազեցումները նշված են փակագծերում)
D7: Առաջին եռամսյակ | E7: Առաջին կիսամյակ | F7: Ինն ամիս | G7: Տարի
A8: Ծրագիր | B8: Միջոցառում
C9: ԸՆԴԱՄԵՆԸ | D9: =D11 -> 0 | E9: =E11 -> -20000 | F9: =F11 -> -40000 | G9: =G11 -> -55500
C10: այդ թվում՝
C11: ՀՀ ՏԱՐԱԾՔԱՅԻՆ ԿԱՌԱՎԱՐՄԱՆ ԵՎ ԵՆԹԱԿԱՌՈՒՑՎԱԾՔՆԵՐԻ ՆԱԽԱՐԱՐՈՒԹՅՈՒՆ | D11: =D13 -> 0 | E11: =E13 -> -20000 | F11: =F13 -> -40000 | G11: =G13 -> -55500
C12: այդ թվում`
A13: 1004 | B13: 31013 | C13: Փոքր և միջին ջրամբարների կառուցում | D13: =D15 -> 0 | E13: =E15 -> -20000 | F13: =F15 -> -40000 | G13: =G15 -> -55500
C14: այդ թվում` ըստ կատարողների
C15: ՀՀ տարածքային կառավարման և ենթակառուցվածքների նախարարության ջրային կոմիտե | D15: ='1'!D24 -> 0 | E15: ='1'!E24 -> -20000 | F15: ='1'!F24 -> -40000 | G15: ='1'!G24 -> -55500

Sheet 5-1
F1: Հավելված N 5
F2: ՀՀ կառավարության 2022 թվականի
F3: -ի N -Ն որոշման
F4: Աղյուսակ 1
A5: ՀԱՅԱՍՏԱՆԻ ՀԱՆՐԱՊԵՏՈՒԹՅԱՆ ԿԱՌԱՎԱՐՈՒԹՅԱՆ 2021 ԹՎԱԿԱՆԻ ԴԵԿՏԵՄԲԵՐԻ 23-Ի N 2121-Ն ՈՐՈՇՄԱՆ N 9 ՀԱՎԵԼՎԱԾԻ N 9.7 ԵՎ N 9.47 ԱՂՅՈՒՍԱԿՆԵՐՈՒՄ ԿԱՏԱՐՎՈՂ ՓՈՓՈԽՈՒԹՅՈՒՆՆԵՐԸ ԵՎ ԼՐԱՑՈՒՄՆԵՐԸ
F7: Աղյուսակ 9.7
A8: ՀՀ տարածքային կառավարման և ենթակառուցվածքների նախարարություն
A9: Ծրագրի դասիչը | B9: Ծրագրի անվանումը
A10: 1004 | B10: Ոռոգման համակարգի առողջացում
A11: Ծրագրի միջոցառումները
A13: Ծրագրի դասիչը` | B13: 1004 | C13: Ցուցանիշների փոփոխությունը (ավելացումները նշված են դրական նշանով)
A14: Միջոցառման դասիչը` | B14: 11013 | C14: Առաջին եռամսյակ | D14: Առաջին կիսամյակ | E14: Ինն ամիս | F14: Տարի
A15: Միջոցառման անվանումը` | B15: Փոքր և միջին ջրամբարների կառուցման խորհրդատվություն և կառավարում
A16: Նկարագրությունը` | B16: Փոքր և միջին ջրամբարների կառուցման համակարգում և ղեկավարում
A17: Միջոցառման տեսակը` | B17: Ծառայությունների մատուցում
A18: Միջոցառումն իրականացնողի անվանումը | B18: ՀՀ ՏԿԵՆ ջրային կոմիտե
A19: Արդյունքի չափորոշիչներ
A20: Միջոցառման վրա կատարվող ծախսը (հազար դրամ) | C20: ='1'!D18 -> 0 | D20: ='1'!E18 -> 20000 | E20: ='1'!F18 -> 40000 | F20: ='1'!G18 -> 55500
A22: Ծրագրի դասիչը` | B22: 1004 | C22: Ցուցանիշների փոփոխությունը (նվազեցումները նշված են փակագծերում)
A23: Միջոցառման դասիչը` | B23: 31013 | C23: Առաջին եռամսյակ | D23: Առաջին կիսամյակ | E23: Ինն ամիս | F23: Տարի
A24: Միջոցառման անվանումը` | B24: Փոքր և միջին ջրամբարների կառուցում
A25: Նկարագրությունը` | B25: Փոքր և միջին ջրամբարների կառուցման աշխատանքներ
A26: Միջոցառման տեսակը` | B26: Պետական մարմինների կողմից օգտագործվող ոչ ֆինանսական ակտիվների հետ գործառնություններ
A27: Ակտիվն օգտագործող կազմակերպության(ների) անվանում(ները)՛ | B27: ՀՀ ՏԿԵՆ ջրային կոմիտե
A28: Արդյունքի չափորոշիչներ
A29: Միջոցառման վրա կատարվող ծախսը (հազար դրամ) | C29: ='1'!D24 -> 0 | D29: ='1'!E24 -> -20000 | E29: ='1'!F24 -> -40000 | F29: ='1'!G24 -> -55500
E31: Աղյուսակ 9.47
A32: ՀՀ կառավարություն
A33: ՄԱՍ 2. ՊԵՏԱԿԱՆ ՄԱՐՄՆԻ ԳԾՈՎ ԱՐԴՅՈՒՆՔԱՅԻՆ (ԿԱՏԱՐՈՂԱԿԱՆ) ՑՈՒՑԱՆԻՇՆԵՐԸ
A35: Ծրագրի դասիչը | B35: Ծրագրի անվանումը
A36: 1139 | B36: ՀՀ կառավարության պահուստային ֆոնդ
A38: Ծրագրի միջոցառումները
C39: Ցուցանիշներ
A40: Ծրագրի դասիչը` | B40: 1139 | C40: Ցուցանիշների փոփոխությունը (նվազեցումները նշված են փակագծերում)
A41: Միջոցառման դասիչը` | B41: 11001 | C41: Առաջին եռամսյակ | D41: Առաջին կիսամյակ | E41: Ինն ամիս | F41: Տարի
A42: Միջոցառման անվանումը` | B42: ՀՀ կառավարության պահուստային ֆոնդ
A43: Նկարագրությունը` | B43: ՀՀ պետական բյուջեում նախատեսված ելքերի լրացուցիչ ֆինանսավորման՝ պետական բյուջեում չկանխատեսված ելքերի՝ ինչպես նաև բյուջետային երաշխիքների ապահովման ելքերի ֆինանսավորման ապահովում
A44: Միջոցառման տեսակը` | B44: Ծառայությունների մատուցում
A45: Միջոցառումն իրականացնողի անվանումը | B45: ՀՀ կառավարություն
A46: Արդյունքի չափորոշիչներ
A47: Միջոցառման վրա կատարվող ծախսը (հազար դրամ) | C47: ='1'!D38 -> 0 | D47: ='1'!E38 -> -20000 | E47: ='1'!F38 -> -40000 | F47: ='1'!G38 -> -55500
A50: Ծրագրի դասիչը | B50: Ծրագրի անվանումը
A51: 1139 | B51: ՀՀ կառավարության պահուստային ֆոնդ
A53: Ծրագրի միջոցառումները
C54: Ցուցանիշներ
A55: Ծրագրի դասիչը` | B55: 1139 | C55: Ցուցանիշների փոփոխությունը (ավելացումները նշված են դրական նշանով)
A56: Միջոցառման դասիչը` | B56: 11001 | C56: Առաջին եռամսյակ | D56: Առաջին կիսամյակ | E56: Ինն ամիս | F56: Տարի
A57: Միջոցառման անվանումը` | B57: ՀՀ կառավարության պահուստային ֆոնդ
A58: Նկարագրությունը` | B58: ՀՀ պետական բյուջեում նախատեսված ելքերի լրացուցիչ ֆինանսավորման՝ պետական բյուջեում չկանխատեսված ելքերի՝ ինչպես նաև բյուջետային երաշխիքների ապահովման ելքերի ֆինանսավորման ապահովում
A59: Միջոցառման տեսակը` | B59: Ծառայությունների մատուցում
A60: Միջոցառումն իրականացնողի անվանումը | B60: ՀՀ կառավարություն
A61: Արդյունքի չափորոշիչներ
A62: Միջոցառման վրա կատարվող ծախսը (հազար դրամ) | C62: ='1'!D44 -> 0 | D62: ='1'!E44 -> 20000 | E62: ='1'!F44 -> 40000 | F62: ='1'!G44 -> 55500

Sheet 5-2
E1: Աղյուսակ 2
A2: ՀԱՅԱՍՏԱՆԻ ՀԱՆՐԱՊԵՏՈՒԹՅԱՆ ԿԱՌԱՎԱՐՈՒԹՅԱՆ 2021 ԹՎԱԿԱՆԻ ԴԵԿՏԵՄԲԵՐԻ 23-Ի N 2121-Ն ՈՐՈՇՄԱՆ N 9.1 ՀԱՎԵԼՎԱԾԻ N 9.1.26 ԵՎ N 9.1.59 ԱՂՅՈՒՍԱԿՆԵՐՈՒՄ ԿԱՏԱՐՎՈՂ ՓՈՓՈԽՈՒԹՅՈՒՆՆԵՐԸ ԵՎ ԼՐԱՑՈՒՄՆԵՐԸ
F3: Աղյուսակ 9.1.26
A4: ՀՀ տարածքային կառավարման և ենթակառուցվածքների նախարարության ջրային կոմիտե
A5: Ծրագրի դասիչը | B5: Ծրագրի անվանումը
A6: 1004 | B6: Ոռոգման համակարգի առողջացում
A7: Ծրագրի միջոցառումները
A9: Ծրագրի դասիչը` | B9: 1004 | C9: Ցուցանիշների փոփոխությունը (ավելացումները նշված են դրական նշանով)
A10: Միջոցառման դասիչը` | B10: 11013 | C10: Առաջին եռամսյակ | D10: Առաջին կիսամյակ | E10: Ինն ամիս | F10: Տարի
A11: Միջոցառման անվանումը` | B11: Փոքր և միջին ջրամբարների կառուցման խորհրդատվություն և կառավարում
A12: Նկարագրությունը` | B12: Փոքր և միջին ջրամբարների կառուցման համակարգում և ղեկավարում
A13: Միջոցառման տեսակը` | B13: Ծառայությունների մատուցում
A14: Միջոցառումն իրականացնողի անվանումը | B14: ՀՀ ՏԿԵՆ ջրային կոմիտե
A15: Արդյունքի չափորոշիչներ
A16: Միջոցառման վրա կատարվող ծախսը (հազար դրամ) | C16: ='5-1'!C20 -> 0 | D16: ='5-1'!D20 -> 20000 | E16: ='5-1'!E20 -> 40000 | F16: ='5-1'!F20 -> 55500
A18: Ծրագրի դասիչը` | B18: 1004 | C18: Ցուցանիշների փոփոխությունը (նվազեցումները նշված են փակագծերում)
A19: Միջոցառման դասիչը` | B19: 31013 | C19: Առաջին եռամսյակ | D19: Առաջին կիսամյակ | E19: Ինն ամիս | F19: Տարի
A20: Միջոցառման անվանումը` | B20: Փոքր և միջին ջրամբարների կառուցում
A21: Նկարագրությունը` | B21: Փոքր և միջին ջրամբարների կառուցման աշխատանքներ
A22: Միջոցառման տեսակը` | B22: Պետական մարմինների կողմից օգտագործվող ոչ ֆինանսական ակտիվների հետ գործառնություններ
A23: Ակտիվն օգտագործող կազմակերպության(ների) անվանում(ները)՛ | B23: ՀՀ ՏԿԵՆ ջրային կոմիտե
A24: Արդյունքի չափորոշիչներ
A25: Միջոցառման վրա կատարվող ծախսը (հազար դրամ) | C25: ='5-1'!C29 -> 0 | D25: ='5-1'!D29 -> -20000 | E25: ='5-1'!E29 -> -40000 | F25: ='5-1'!F29 -> -55500
E27: Աղյուսակ 9.1.59
A29: ՀՀ կառավարություն
A30: ՄԱՍ 2. ՊԵՏԱԿԱՆ ՄԱՐՄՆԻ ԳԾՈՎ ԱՐԴՅՈՒՆՔԱՅԻՆ (ԿԱՏԱՐՈՂԱԿԱՆ) ՑՈՒՑԱՆԻՇՆԵՐԸ
A32: Ծրագրի դասիչը | B32: Ծրագրի անվանումը
A33: 1139 | B33: ՀՀ կառավարության պահուստային ֆոնդ
A35: Ծրագրի միջոցառումները
C36: Ցուցանիշներ
A37: Ծրագրի դասիչը` | B37: 1139 | C37: Ցուցանիշների փոփոխությունը (նվազեցումները նշված են փակագծերում)
A38: Միջոցառման դասիչը` | B38: 11001 | C38: Առաջին եռամսյակ | D38: Առաջին կիսամյակ | E38: Ինն ամիս | F38: Տարի
A39: Միջոցառման անվանումը` | B39: ՀՀ կառավարության պահուստային ֆոնդ
A40: Նկարագրությունը` | B40: ՀՀ պետական բյուջեում նախատեսված ելքերի լրացուցիչ ֆինանսավորման՝ պետական բյուջեում չկանխատեսված ելքերի՝ ինչպես նաև բյուջետային երաշխիքների ապահովման ելքերի ֆինանսավորման ապահովում
A41: Միջոցառման տեսակը` | B41: Ծառայությունների մատուցում
A42: Միջոցառումն իրականացնողի անվանումը | B42: ՀՀ կառավարություն
A43: Արդյունքի չափորոշիչներ
A44: Միջոցառման վրա կատարվող ծախսը (հազար դրամ) | C44: ='5-1'!C47 -> 0 | D44: ='5-1'!D47 -> -20000 | E44: ='5-1'!E47 -> -40000 | F44: ='5-1'!F47 -> -55500
A47: Ծրագրի դասիչը | B47: Ծրագրի անվանումը
A48: 1139 | B48: ՀՀ կառավարության պահուստային ֆոնդ
A50: Ծրագրի միջոցառումները
C51: Ցուցանիշներ
A52: Ծրագրի դասիչը` | B52: 1139 | C52: Ցուցանիշների փոփոխությունը (ավելացումները նշված են դրական նշանով)
A53: Միջոցառման դասիչը` | B53: 11001 | C53: Առաջին եռամսյակ | D53: Առաջին կիսամյակ | E53: Ինն ամիս | F53: Տարի
A54: Միջոցառման անվանումը` | B54: ՀՀ կառավարության պահուստային ֆոնդ
A55: Նկարագրությունը` | B55: ՀՀ պետական բյուջեում նախատեսված ելքերի լրացուցիչ ֆինանսավորման՝ պետական բյուջեում չկանխատեսված ելքերի՝ ինչպես նաև բյուջետային երաշխիքների ապահովման ելքերի ֆինանսավորման ապահովում
A56: Միջոցառման տեսակը` | B56: Ծառայությունների մատուցում
A57: Միջոցառումն իրականացնողի անվանումը | B57: ՀՀ կառավարություն
A58: Արդյունքի չափորոշիչներ
A59: Միջոցառման վրա կատարվող ծախսը (հազար դրամ) | C59: ='5-1'!C62 -> 0 | D59: ='5-1'!D62 -> 20000 | E59: ='5-1'!E62 -> 40000 | F59: ='5-1'!F62 -> 55500

Sheet 6
A2: Հավելված N 6
A3: ՀՀ կառավարության 2022 թվականի
A4: -ի N -Ն որոշման
A6: ՀՀ ԿԱՌԱՎԱՐՈՒԹՅԱՆ 2021 ԹՎԱԿԱՆԻ ԴԵԿՏԵՄԲԵՐԻ 23-Ի N 2121-Ն ՈՐՈՇՄԱՆ N 10 ՀԱՎԵԼՎԱԾՈՒՄ ԿԱՏԱՐՎՈՂ ՓՈՓՈԽՈՒԹՅՈՒՆԸ ԵՎ ԼՐԱՑՈՒՄՆԵՐԸ
A8: Կոդը | B8: Անվանումը | C8: Գնման ձևը | D8: Չափի միավորը | E8: Ցուցանիշների փոփոխությունը (ավելացումները նշված են դրական նշանով, իսկ նվազեցումները՝ փակագծերում)
E9: Միավորի գինը | F9: քանակը | G9: գումարը (հազ. դրամ)
A10: ՀՀ տարածքային կառավարման և ենթակառուցվածքների նախարարության ջրային կոմիտե | G10: =G13+G16 -> 0
A11: Բաժին N 04 | B11: Խումբ N 02 | C11: Դաս N 04 | D11: Ոռոգում
A12: 1004 31013 | B12: Փոքր և միջին ջրամբարների կառուցում
B13: ՄԱՍ III ԾԱՌԱՅՈՒԹՅՈՒՆՆԵՐ | G13: =G14 -> -55500
A14: 71241200/1 | B14: նախագծերի պատրաստում, ծախսերի գնահատում | C14: ԲՄ | D14: դրամ | G14: -55500
A15: 1004 11013 | B15: Փոքր և միջին ջրամբարների կառուցման խորհրդատվություն և կառավարում
B16: ՄԱՍ III ԾԱՌԱՅՈՒԹՅՈՒՆՆԵՐ | G16: =G17+G18+G19+G20+G21+G22+G23+G24+G25 -> 55500
A17: 85311210/ | B17: խորհրդատվական ծառայություններ | C17: ԳՀ | D17: դրամ | E17: 7000000 | F17: 1 | G17: =E17*F17/1000 -> 7000
A18: 85311210/ | B18: խորհրդատվական ծառայություններ | C18: ԳՀ | D18: դրամ | E18: 6500000 | F18: 1 | G18: =E18*F18/1000 -> 6500
A19: 85311210/ | B19: խորհրդատվական ծառայություններ | C19: ԳՀ | D19: դրամ | E19: 6000000 | F19: 1 | G19: =E19*F19/1000 -> 6000
A20: 85311210/ | B20: խորհրդատվական ծառայություններ | C20: ԳՀ | D20: դրամ | E20: 6000000 | F20: 1 | G20: =E20*F20/1000 -> 6000
A21: 85311210/ | B21: խորհրդատվական ծառայություններ | C21: ԳՀ | D21: դրամ | E21: 6500000 | F21: 1 | G21: =E21*F21/1000 -> 6500
A22: 85311210/ | B22: խորհրդատվական ծառայություններ | C22: ԳՀ | D22: դրամ | E22: 5500000 | F22: 1 | G22: =E22*F22/1000 -> 5500
A23: 85311210/ | B23: խորհրդատվական ծառայություններ | C23: ԳՀ | D23: դրամ | E23: 6000000 | F23: 1 | G23: =E23*F23/1000 -> 6000
A24: 85311210/ | B24: խորհրդատվական ծառայություններ | C24: ԳՀ | D24: դրամ | E24: 6000000 | F24: 1 | G24: =E24*F24/1000 -> 6000
A25: 85311210/ | B25: խորհրդատվական ծառայություններ | C25: ԳՀ | D25: դրամ | E25: 6000000 | F25: 1 | G25: =E25*F25/1000 -> 6000
