Workbook

Sheet 1
A1: Հավելված 1
A2: ՀՀ կառավարության 2022 թվականի
A3: ------------ N ---------- որոշման
A5: «ՀԱՅԱՍՏԱՆԻ ՀԱՆՐԱՊԵՏՈՒԹՅԱՆ 2022 ԹՎԱԿԱՆԻ ՊԵՏԱԿԱՆ ԲՅՈՒՋԵԻ ՄԱՍԻՆ» ՀԱՅԱՍՏԱՆԻ ՀԱՆՐԱՊԵՏՈՒԹՅԱՆ ՕՐԵՆՔԻ N 1 ՀԱՎԵԼՎԱԾԻ N 2 ԱՂՅՈՒՍԱԿՈՒՄ ԿԱՏԱՐՎՈՂ ԼՐԱՑՈՒՄԸ ՈՒ ՎԵՐԱԲԱՇԽՈՒՄԸ ԵՎ ՀԱՅԱՍՏԱՆԻ ՀԱՆՐԱՊԵՏՈՒԹՅԱՆ ԿԱՌԱՎԱՐՈՒԹՅԱՆ 2021 ԹՎԱԿԱՆԻ ԴԵԿՏԵՄԲԵՐԻ 23-Ի N 2121-Ն ՈՐՈՇՄԱՆN 5 ՀԱՎԵԼՎԱԾԻ N 1 ԱՂՅՈՒՍԱԿՈՒՄ ԿԱՏԱՐՎՈՂ ՓՈՓՈԽՈՒԹՅՈՒՆՆԵՐԸ ԵՎ ԼՐԱՑՈՒՄՆԵՐԸ
F6: հազար դրամներով
A7: Ծրագրային դասիչը | C7: Բյուջետային հատկացումների գլխավոր կարգադրիչների, ծրագրերի և միջոցառումների անվանումները | D7: Ցուցանիշների փոփոխությունները (ավելացումները նշված են դրական նշանով,իսկ նվազեցումները՝ փակագծերում)
A8: Ծրագիր | B8: Միջոցառում | D8: Առաջին եռամսյակ | E8: Առաջին կիսամյակ | F8: Ինն ամիս | G8: Տարի
C9: ԸՆԴԱՄԵՆԸ | D9: =D10+D30 -> 0 | E9: =E10+E30 -> 0 | F9: =F10+F30 -> 0 | G9: =G10+G30 -> 0
C10: ՀՀ վարչապետի աշխատակազմ | D10: =D11 -> 0.025 | E10: =E11 -> -0.04 | F10: =F11 -> -0.04 | G10: =G11 -> -0.04
A11: 1136 | C11: Ծրագրի անվանումը` | D11: =D24+D18 -> 0.025 | E11: =E24+E18 -> -0.04 | F11: =F24+F18 -> -0.04 | G11: =G24+G18 -> -0.04
C12: ՀՀ Վարչապետի լիազորությունների իրականացման ապահովում
C13: Ծրագրի նպատակը`
C14: Աջակցել կառավարության՝ վարչապետի և փոխվարչապետերի գործունեությանը
C15: Վերջնական արդյունքի նկարագրությունը`
C16: ՀՀ կառավարության և վարչապետի որոշումների ու հանձնարարականների կատարման վերահսկողության ապահովում
A17: Ծրագրի միջոցառումներ
B18: 11001 | C18: Միջոցառման անվանումը` | D18: ='2'!G21 -> -57390.9 | E18: ='2'!H21 -> -114781.9 | F18: ='2'!I21 -> -114781.9 | G18: ='2'!J21 -> -114781.9
C19: Ծառայությունների, ծրագրերի համակարգում
C20: Միջոցառման նկարագրությունը`
C21: Աջակցություն ՀՀ կառավարությանը` քաղաքականության և ծրագրերի մշակման և իրականացման գործընթացում, վերահսկողության կատարման գործընթացում
C22: Միջոցառման տեսակը
C23: Ծառայությունների մատուցում
B24: 12006 | C24: Միջոցառման անվանումը` | D24: ='2'!G34 -> 57390.925 | E24: ='2'!H34 -> 114781.86 | F24: ='2'!I34 -> 114781.86 | G24: ='2'!J34 -> 114781.86
C25: Պետական սեփականություն հանդիսացող կառույցների ու տարածքների պայմանների բարելավման ապահովում
C26: Միջոցառման նկարագրությունը`
C27: Պետական սեփականություն հանդիսացող կառույցների ու տարածքների պայմանների բարելավման ապահովում
C28: Միջոցառման տեսակը
C29: Տրանսֆերտների տրամադրում
C30: ՀՀ կառավարություն | D30: =D31 -> -0.025 | E30: =E31 -> 0.04 | F30: =F31 -> 0.04 | G30: =G31 -> 0.04
A31: 1139 | C31: Ծրագրի անվանումը` | D31: =D38+D44 -> -0.025 | E31: =E38+E44 -> 0.04 | F31: =F38+F44 -> 0.04 | G31: =G38+G44 -> 0.04
C32: ՀՀ կառավարության պահուստային ֆոնդ
C33: Ծրագրի նպատակը`
C34: Պետական բյուջեում չկանխատեսված, ինչպես նաև բյուջետային երաշխիքների ապահովման ծախսերի ֆինանսավորման ապահովում
C35: Վերջնական արդյունքի նկարագրությունը`
C36: Պահուստային ֆոնդի կառավարման արդյունավետություն և թափանցիկություն
A37: Ծրագրի միջոցառումներ
B38: 11001 | C38: Միջոցառման անվանումը` | D38: ='2'!G55 -> 57390.9 | E38: ='2'!H55 -> 114781.9 | F38: ='2'!I55 -> 114781.9 | G38: ='2'!J55 -> 114781.9
C39: ՀՀ կառավարության պահուստային ֆոնդ
C40: Միջոցառման նկարագրությունը`
C41: ՀՀ պետական բյուջեում նախատեսված ելքերի լրացուցիչ ֆինանսավորման՝ պետական բյուջեում չկանխատեսված ելքերի, ինչպես նաև բյուջետային երաշխիքների ապահովման ելքերի ֆինանսավորման ապահովում
C42: Միջոցառման տեսակը
C43: Ծառայությունների մատուցում
B44: 11001 | C44: Միջոցառման անվանումը` | D44: ='2'!G63 -> -57390.925 | E44: ='2'!H63 -> -114781.86 | F44: ='2'!I63 -> -114781.86 | G44: ='2'!J63 -> -114781.86
C45: ՀՀ կառավարության պահուստային ֆոնդ
C46: Միջոցառման նկարագրությունը`
C47: ՀՀ պետական բյուջեում նախատեսված ելքերի լրացուցիչ ֆինանսավորման՝ պետական բյուջեում չկանխատեսված ելքերի, ինչպես նաև բյուջետային երաշխիքների ապահովման ելքերի ֆինանսավորման ապահովում
C48: Միջոցառման տեսակը
C49: Ծառայությունների մատուցում

Sheet 2
A1: Հավելված 2
A2: ՀՀ կառավարության 2022 թվականի
A3: ------------ N ---------- որոշման
A5: ՀԱՅԱՍՏԱՆԻ ՀԱՆՐԱՊԵՏՈՒԹՅԱՆ ԿԱՌԱՎԱՐՈՒԹՅԱՆ 2021 ԹՎԱԿԱՆԻ ԴԵԿՏԵՄԲԵՐԻ 23-Ի N 2121-Ն ՈՐՈՇՄԱՆ NN3 ԵՎ 4 ՀԱՎԵԼՎԱԾՆԵՐՈՒՄ ԿԱՏԱՐՎՈՂ ՓՈՓՈԽՈՒԹՅՈՒՆՆԵՐԸ ԵՎ ԼՐԱՑՈՒՄՆԵՐԸ
I6: հազար դրամներով
A7: Գործառական դասիչը | D7: Ծրագրային դասիչը | F7: Բյուջետային հատկացումների գլխավոր կարգադրիչների, ծրագրերի, միջոցառումների և միջոցառումները կատարող պետական մարմինների անվանումները | G7: Ցուցանիշների փոփոխությունները (ավելացումները նշված են դրական նշանով,իսկ նվազեցումները՝ փակագծերում)
A8: Բաժին | B8: Խումբ | C8: Դաս | D8: Ծրագիր | E8: Միջոցառում | G8: Առաջին եռամսյակ | H8: Առաջին կիսամյակ | I8: Ինն ամիս | J8: Տարի
F9: ԸՆԴԱՄԵՆԸ | G9: =G11+G45 -> 0 | H9: =H11+H45 -> 0 | I9: =I11+I45 -> 0 | J9: =J11+J45 -> 0
F10: այդ թվում`
A11: 01 | F11: ԸՆԴՀԱՆՈՒՐ ԲՆՈՒՅԹԻ ՀԱՆՐԱՅԻՆ ԾԱՌԱՅՈՒԹՅՈՒՆՆԵՐ | G11: =G13 -> 0.025 | H11: =H13 -> -0.04 | I11: =I13 -> -0.04 | J11: =J13 -> -0.04
F12: այդ թվում`
B13: 01 | F13: Օրենսդիր և գործադիր մարմիններ, պետական կառավարում, ֆինանսական և հարկաբյուջետային հարաբերություններ, արտաքին հարաբերություններ | G13: =G15 -> 0.025 | H13: =H15 -> -0.04 | I13: =I15 -> -0.04 | J13: =J15 -> -0.04
F14: այդ թվում`
C15: 01 | F15: Օրենսդիր և գործադիր մարմիններ, պետական կառավարում | G15: =G17 -> 0.025 | H15: =H17 -> -0.04 | I15: =I17 -> -0.04 | J15: =J17 -> -0.04
F16: այդ թվում`
F17: ՀՀ վարչապետի աշխատակազմ | G17: =G34+G21 -> 0.025 | H17: =H34+H21 -> -0.04 | I17: =I34+I21 -> -0.04 | J17: =J34+J21 -> -0.04
F18: այդ թվում`
D19: 1136 | F19: ՀՀ Վարչապետի լիազորությունների իրականացման ապահովում | G19: =G34+G21 -> 0.025 | H19: =H34+H21 -> -0.04 | I19: =I34+I21 -> -0.04 | J19: =J34+J21 -> -0.04
F20: այդ թվում`
E21: 11001 | F21: Ծառայությունների, ծրագրերի համակարգում | G21: =G23 -> -57390.9 | H21: =H23 -> -114781.9 | I21: =I23 -> -114781.9 | J21: =J23 -> -114781.9
F22: այդ թվում` ըստ կատարողների
F23: ՀՀ վարչապետի աշխատակազմ | G23: =G25 -> -57390.9 | H23: =H25 -> -114781.9 | I23: =I25 -> -114781.9 | J23: =J25 -> -114781.9
F24: այդ թվում` բյուջետային ծախսերի տնտեսագիտական դասակարգման հոդվածներ
F25: ԸՆԴԱՄԵՆԸ ԾԱԽՍԵՐ | G25: =G26 -> -57390.9 | H25: =H26 -> -114781.9 | I25: =I26 -> -114781.9 | J25: =J26 -> -114781.9
F26: ԸՆԹԱՑԻԿ ԾԱԽՍԵՐ | G26: =G27 -> -57390.9 | H26: =H27 -> -114781.9 | I26: =I27 -> -114781.9 | J26: =J27 -> -114781.9
F27: ԾԱՌԱՅՈՒԹՅՈՒՆՆԵՐԻ ԵՎ ԱՊՐԱՆՔՆԵՐԻ ՁԵՌՔԲԵՐՈՒՄ | G27: =G28+G30+G32 -> -57390.9 | H27: =H28+H30+H32 -> -114781.9 | I27: =I28+I30+I32 -> -114781.9 | J27: =J28+J30+J32 -> -114781.9
F28: Շարունակական ծախսեր | G28: =G29 -> -15000 | H28: =H29 -> -35000 | I28: =I29 -> -35000 | J28: =J29 -> -35000
F29: - Էներգետիկ ծառայություններ | G29: -15000 | H29: -35000 | I29: -35000 | J29: -35000
F30: Ծառայողական գործուղումների գծով ծախսեր | G30: =G31 -> -17390.9 | H30: =H31 -> -44781.9 | I30: =I31 -> -44781.9 | J30: =J31 -> -44781.9
F31: - Արտասահմանյան գործուղումների գծով ծախսեր | G31: -17390.9 | H31: -44781.9 | I31: -44781.9 | J31: -44781.9
F32: Ընթացիկ նորոգում և պահպանում (ծառայություններ և նյութեր) | G32: =G33 -> -25000 | H32: =H33 -> -35000 | I32: =I33 -> -35000 | J32: =J33 -> -35000
F33: - Շենքերի և կառույցների ընթացիկ նորոգում և պահպանում | G33: -25000 | H33: -35000 | I33: -35000 | J33: -35000
E34: 12006 | F34: ='1'!C25 -> Պետական սեփականություն հանդիսացող կառույցների ու տարածքների պայմանների բարելավման ապահովում | G34: =G36 -> 57390.925 | H34: =H36 -> 114781.86 | I34: =I36 -> 114781.86 | J34: =J36 -> 114781.86
F35: այդ թվում` ըստ կատարողների
F36: ՀՀ վարչապետի աշխատակազմ | G36: =G38 -> 57390.925 | H36: =H38 -> 114781.86 | I36: =I38 -> 114781.86 | J36: =J38 -> 114781.86
F37: այդ թվում` բյուջետային ծախսերի տնտեսագիտական դասակարգման հոդվածներ
F38: ԸՆԴԱՄԵՆԸ ԾԱԽՍԵՐ | G38: =G39 -> 57390.925 | H38: =H39 -> 114781.86 | I38: =I39 -> 114781.86 | J38: =J39 -> 114781.86
F39: ԸՆԹԱՑԻԿ ԾԱԽՍԵՐ | G39: =G40 -> 57390.925 | H39: =H40 -> 114781.86 | I39: =I40 -> 114781.86 | J39: =J40 -> 114781.86
F40: ԴՐԱՄԱՇՆՈՐՀՆԵՐ | G40: =G43+G41 -> 57390.925 | H40: =H43+H41 -> 114781.86 | I40: =I43+I41 -> 114781.86 | J40: =J43+J41 -> 114781.86
F41: Ընթացիկ դրամաշնորհներ պետական հատվածի այլ մակարդակներին | G41: =G42 -> 34232.075 | H41: =H42 -> 68464.15 | I41: =I42 -> 68464.15 | J41: =J42 -> 68464.15
F42: - Ընթացիկ դրամաշնորհներ պետական և համայնքային ոչ առևտրային կազմակերպություններին | G42: 34232.075 | H42: 68464.15 | I42: 68464.15 | J42: 68464.15
F43: Կապիտալ դրամաշնորհներ պետական հատվածի այլ մակարդակներին | G43: =G44 -> 23158.85 | H43: =H44 -> 46317.71 | I43: =I44 -> 46317.71 | J43: =J44 -> 46317.71
F44: - Կապիտալ դրամաշնորհներ պետական և համայնքային ոչ առևտրային կազմակերպություններին | G44: 23158.85 | H44: 46317.71 | I44: 46317.71 | J44: 46317.71
A45: 11 | F45: ՀԻՄՆԱԿԱՆ ԲԱԺԻՆՆԵՐԻՆ ՉԴԱՍՎՈՂ ՊԱՀՈՒՍՏԱՅԻՆ ՖՈՆԴԵՐ | G45: =G47+G97 -> -0.025 | H45: =H47+H97 -> 0.04 | I45: =I47+I97 -> 0.04 | J45: =J47+J97 -> 0.04
F46: այդ թվում`
B47: 01 | F47: ՀՀ կառավարության և համայնքների պահուստային ֆոնդ | G47: =G49+G84+G71 -> -0.025 | H47: =H49+H84+H71 -> 0.04 | I47: =I49+I84+I71 -> 0.04 | J47: =J49+J84+J71 -> 0.04
F48: այդ թվում`
C49: 01 | F49: ՀՀ կառավարության պահուստային ֆոնդ | G49: =G53 -> -0.025 | H49: =H53 -> 0.04 | I49: =I53 -> 0.04 | J49: =J53 -> 0.04
F50: այդ թվում`
F51: ՀՀ կառավարություն | G51: =G53 -> -0.025 | H51: =H53 -> 0.04 | I51: =I53 -> 0.04 | J51: =J53 -> 0.04
F52: այդ թվում`
D53: 1139 | F53: ՀՀ կառավարության պահուստային ֆոնդ | G53: =G55+G63 -> -0.025 | H53: =H55+H63 -> 0.04 | I53: =I55+I63 -> 0.04 | J53: =J55+J63 -> 0.04
F54: այդ թվում`
E55: 11001 | F55: ՀՀ կառավարության պահուստային ֆոնդ | G55: =-G21 -> 57390.9 | H55: =H57 -> 114781.9 | I55: =I57 -> 114781.9 | J55: =J57 -> 114781.9
F56: այդ թվում` ըստ կատարողների
F57: ՀՀ կառավարություն | G57: =G59 -> 57390.9 | H57: =H59 -> 114781.9 | I57: =I59 -> 114781.9 | J57: =J59 -> 114781.9
F58: այդ թվում` բյուջետային ծախսերի տնտեսագիտական դասակարգման հոդվածներ
F59: ԸՆԴԱՄԵՆԸ ԾԱԽՍԵՐ | G59: =G60 -> 57390.9 | H59: =H60 -> 114781.9 | I59: =I60 -> 114781.9 | J59: =J60 -> 114781.9
F60: ԸՆԹԱՑԻԿ ԾԱԽՍԵՐ | G60: =G61 -> 57390.9 | H60: =H61 -> 114781.9 | I60: =I61 -> 114781.9 | J60: =J61 -> 114781.9
F61: ԱՅԼ ԾԱԽՍԵՐ | G61: =G62 -> 57390.9 | H61: =H62 -> 114781.9 | I61: =I62 -> 114781.9 | J61: =J62 -> 114781.9
F62: Պահուստային միջոցներ | G62: =-G21 -> 57390.9 | H62: =-H21 -> 114781.9 | I62: =-I21 -> 114781.9 | J62: =-J21 -> 114781.9
E63: 11001 | F63: ՀՀ կառավարության պահուստային ֆոնդ | G63: =G65 -> -57390.925 | H63: =H65 -> -114781.86 | I63: =I65 -> -114781.86 | J63: =J65 -> -114781.86
F64: այդ թվում` ըստ կատարողների
F65: ՀՀ կառավարություն | G65: =G67 -> -57390.925 | H65: =H67 -> -114781.86 | I65: =I67 -> -114781.86 | J65: =J67 -> -114781.86
F66: այդ թվում` բյուջետային ծախսերի տնտեսագիտական դասակարգման հոդվածներ
F67: ԸՆԴԱՄԵՆԸ ԾԱԽՍԵՐ | G67: =G68 -> -57390.925 | H67: =H68 -> -114781.86 | I67: =I68 -> -114781.86 | J67: =J68 -> -114781.86
F68: ԸՆԹԱՑԻԿ ԾԱԽՍԵՐ | G68: =G69 -> -57390.925 | H68: =H69 -> -114781.86 | I68: =I69 -> -114781.86 | J68: =J69 -> -114781.86
F69: ԱՅԼ ԾԱԽՍԵՐ | G69: =G70 -> -57390.925 | H69: =H70 -> -114781.86 | I69: =I70 -> -114781.86 | J69: =J70 -> -114781.86
F70: Պահուստային միջոցներ | G70: =-G34 -> -57390.925 | H70: =-H34 -> -114781.86 | I70: =-I34 -> -114781.86 | J70: =-J34 -> -114781.86

Sheet 3
A1: Հավելված 3
A2: ՀՀ կառավարության 2022 թվականի
A3: ------------ N ---------- որոշման
A5: ՀԱՅԱՍՏԱՆԻ ՀԱՆՐԱՊԵՏՈՒԹՅԱՆ ԿԱՌԱՎԱՐՈՒԹՅԱՆ 2021 ԹՎԱԿԱՆԻ ԴԵԿՏԵՄԲԵՐԻ 23-Ի N 2121-Ն ՈՐՈՇՄԱՆ N 9 ՀԱՎԵԼՎԱԾԻ NN 9.3 ԵՎ 9.47 ԱՂՅՈՒՍԱԿՆԵՐՈՒՄ ԿԱՏԱՐՎՈՂ ՓՈՓՈԽՈՒԹՅՈՒՆՆԵՐԸ ԵՎ ԼՐԱՑՈՒՄՆԵՐԸ
A6: ՀՀ վարչապետի աշխատակազմ
A7: ՄԱՍ 2. ՊԵՏԱԿԱՆ ՄԱՐՄՆԻ ԳԾՈՎ ԱՐԴՅՈՒՆՔԱՅԻՆ (ԿԱՏԱՐՈՂԱԿԱՆ) ՑՈՒՑԱՆԻՇՆԵՐԸ
A9: Ծրագրի դասիչը | B9: Ծրագրի անվանումը
A10: 1136 | B10: ='1'!C12 -> ՀՀ Վարչապետի լիազորությունների իրականացման ապահովում
A12: Ծրագրի միջոցառումները
C13: Ցուցանիշների փոփոխությունները (նվազեցումները նշված են փակագծերում)
A14: Ծրագրի դասիչը` | B14: 1136
A15: Միջոցառման դասիչը` | B15: 11001 | C15: Առաջին եռամսյակ | D15: Առաջին կիսամյակ | E15: Ինն ամիս | F15: Տարի
A16: Միջոցառման անվանումը` | B16: Ծառայությունների՝ ծրագրերի համակարգում
A17: Նկարագրությունը` | B17: Աջակցություն ՀՀ կառավարությանը` քաղաքականության և ծրագրերի մշակման և իրականացման գործընթացում, վերահսկողության կատարման գործընթացում
A18: Միջոցառման տեսակը` | B18: Ծառայությունների մատուցում
A19: Միջոցառումն իրականացնողի անվանումը | B19: ՀՀ վարչապետի աշխատակազմ
A20: Արդյունքի չափորոշիչներ
A21: Միջոցառման վրա կատարվող ծախսը (հազար դրամ) | C21: ='1'!D18 -> -57390.9 | D21: ='1'!E18 -> -114781.9 | E21: ='1'!F18 -> -114781.9 | F21: ='1'!G18 -> -114781.9
A22: Ծրագրի դասիչը` | B22: 1136 | C22: Ցուցանիշների փոփոխությունները (ավելացումները նշված են դրական նշանով)
A23: Միջոցառման դասիչը` | B23: 12006 | C23: Առաջին եռամսյակ | D23: Առաջին կիսամյակ | E23: Ինն ամիս | F23: Տարի
A24: Միջոցառման անվանումը` | B24: ='1'!C25 -> Պետական սեփականություն հանդիսացող կառույցների ու տարածքների պայմանների բարելավման ապահովում
A25: Նկարագրությունը` | B25: ='1'!C27 -> Պետական սեփականություն հանդիսացող կառույցների ու տարածքների պայմանների բարելավման ապահովում
A26: Միջոցառման տեսակը` | B26: Տրանսֆերտների տրամադրում
A27: Միջոցառումն իրականացնողի անվանումը | B27: ՀՀ վարչապետի աշխատակազմ
A28: Արդյունքի չափորոշիչներ
A29: Միջոցառման վրա կատարվող ծախսը (հազար դրամ) | C29: ='1'!D24 -> 57390.925 | D29: ='1'!E24 -> 114781.86 | E29: ='1'!F24 -> 114781.86 | F29: ='1'!G24 -> 114781.86
A31: ՀՀ կառավարություն
A32: ՄԱՍ 2. ՊԵՏԱԿԱՆ ՄԱՐՄՆԻ ԳԾՈՎ ԱՐԴՅՈՒՆՔԱՅԻՆ (ԿԱՏԱՐՈՂԱԿԱՆ) ՑՈՒՑԱՆԻՇՆԵՐԸ
A34: Ծրագրի դասիչը | B34: Ծրագրի անվանումը
A35: ='1'!A31 -> 1139 | B35: ='1'!C32 -> ՀՀ կառավարության պահուստային ֆոնդ
A37: Ծրագրի միջոցառումները
A38: Ծրագրի դասիչը` | B38: ='1'!A31 -> 1139 | C38: Ցուցանիշների փոփոխությունները (ավելացումները նշված են դրական նշանով)
A40: Միջոցառման դասիչը` | B40: ='1'!B38 -> 11001 | C40: Առաջին եռամսյակ | D40: Առաջին կիսամյակ | E40: Ինն ամիս | F40: Տարի
A41: Միջոցառման անվանումը` | B41: ='1'!C39 -> ՀՀ կառավարության պահուստային ֆոնդ
A42: Նկարագրությունը` | B42: ='1'!C41 -> ՀՀ պետական բյուջեում նախատեսված ելքերի լրացուցիչ ֆինանսավորման՝ պետական բյուջեում չկանխատեսված ելքերի, ինչպես նաև բյուջետային երաշխիքների ապահովման ելքերի ֆինանսավորման ապահովում
A43: Միջոցառման տեսակը` | B43: Ծառայությունների մատուցում
A44: Միջոցառումն իրականացնողի անվանումը | B44: ՀՀ կառավարություն
A45: Արդյունքի չափորոշիչներ
A46: Միջոցառման վրա կատարված ծախսը (հազար դրամ) | C46: ='1'!D38 -> 57390.9 | D46: ='1'!E38 -> 114781.9 | E46: ='1'!F38 -> 114781.9 | F46: ='1'!G38 -> 114781.9
A47: Ծրագրի դասիչը` | B47: ='1'!A31 -> 1139 | C47: Ցուցանիշների փոփոխությունները (նվազեցումները նշված են փակագծերում)
A48: Միջոցառման դասիչը` | B48: ='1'!B44 -> 11001 | C48: Առաջին եռամսյակ | D48: Առաջին կիսամյակ | E48: Ինն ամիս | F48: Տարի
A49: Միջոցառման անվանումը` | B49: ='1'!C45 -> ՀՀ կառավարության պահուստային ֆոնդ
A50: Նկարագրությունը` | B50: ='1'!C47 -> ՀՀ պետական բյուջեում նախատեսված ելքերի լրացուցիչ ֆինանսավորման՝ պետական բյուջեում չկանխատեսված ելքերի, ինչպես նաև բյուջետային երաշխիքների ապահովման ելքերի ֆինանսավորման ապահովում
A51: Միջոցառման տեսակը` | B51: Ծառայությունների մատուցում
A52: Միջոցառումն իրականացնողի անվանումը | B52: ՀՀ կառավարություն
A53: Արդյունքի չափորոշիչներ
A54: Միջոցառման վրա կատարված ծախսը (հազար դրամ) | C54: ='1'!D44 -> -57390.925 | D54: ='1'!E44 -> -114781.86 | E54: ='1'!F44 -> -114781.86 | F54: ='1'!G44 -> -114781.86

Sheet 4
A1: Հավելված 4
A2: ՀՀ կառավարության 2022 թվականի
A3: ------------ N ---------- որոշման
A5: ՀԱՅԱՍՏԱՆԻ ՀԱՆՐԱՊԵՏՈՒԹՅԱՆ ԿԱՌԱՎԱՐՈՒԹՅԱՆ 2021 ԹՎԱԿԱՆԻ ԴԵԿՏԵՄԲԵՐԻ 23-Ի N 2121-Ն ՈՐՈՇՄԱՆ N 9.1 ՀԱՎԵԼՎԱԾԻ NN 9.1.3 ԵՎ 9.1.59 ԱՂՅՈՒՍԱԿՆԵՐՈՒՄ ԿԱՏԱՐՎՈՂ ՓՈՓՈԽՈՒԹՅՈՒՆՆԵՐԸ ԵՎ ԼՐԱՑՈՒՄՆԵՐԸ
A6: ՀՀ վարչապետի աշխատակազմ
A7: ՄԱՍ 1. ՊԵՏԱԿԱՆ ՄԱՐՄՆԻ ԳԾՈՎ ԱՐԴՅՈՒՆՔԱՅԻՆ (ԿԱՏԱՐՈՂԱԿԱՆ) ՑՈՒՑԱՆԻՇՆԵՐԸ
A9: Ծրագրի դասիչը | B9: Ծրագրի անվանումը
A10: 1136 | B10: ='3'!B10:F10 -> ՀՀ Վարչապետի լիազորությունների իրականացման ապահովում
A12: Ծրագրի միջոցառումները
C13: Ցուցանիշների փոփոխությունները (նվազեցումները նշված են փակագծերում)
A14: Ծրագրի դասիչը` | B14: 1136
A15: Միջոցառման դասիչը` | B15: 11001 | C15: Առաջին եռամսյակ | D15: Առաջին կիսամյակ | E15: Ինն ամիս | F15: Տարի
A16: Միջոցառման անվանումը` | B16: Ծառայությունների՝ ծրագրերի համակարգում
A17: Նկարագրությունը` | B17: Աջակցություն ՀՀ կառավարությանը` քաղաքականության և ծրագրերի մշակման և իրականացման գործընթացում, վերահսկողության կատարման գործընթացում
A18: Միջոցառման տեսակը` | B18: Ծառայությունների մատուցում
A19: Միջոցառումն իրականացնողի անվանումը | B19: ՀՀ վարչապետի աշխատակազմ
A20: Արդյունքի չափորոշիչներ
A21: Միջոցառման վրա կատարվող ծախսը (հազար դրամ) | C21: ='1'!D18 -> -57390.9 | D21: ='1'!E18 -> -114781.9 | E21: ='1'!F18 -> -114781.9 | F21: ='1'!G18 -> -114781.9
A22: Ծրագրի դասիչը` | B22: 1136 | C22: Ցուցանիշների փոփոխությունները (ավելացումները նշված են դրական նշանով)
A23: Միջոցառման դասիչը` | B23: 12006 | C23: Առաջին եռամսյակ | D23: Առաջին կիսամյակ | E23: Ինն ամիս | F23: Տարի
A24: Միջոցառման անվանումը` | B24: ='3'!B24 -> Պետական սեփականություն հանդիսացող կառույցների ու տարածքների պայմանների բարելավման ապահովում
A25: Նկարագրությունը` | B25: ='3'!B25 -> Պետական սեփականություն հանդիսացող կառույցների ու տարածքների պայմանների բարելավման ապահովում
A26: Միջոցառման տեսակը` | B26: Տրանսֆերտների տրամադրում
A27: Միջոցառումն իրականացնողի անվանումը | B27: ՀՀ վարչապետի աշխատակազմ
A28: Արդյունքի չափորոշիչներ
A29: Միջոցառման վրա կատարվող ծախսը (հազար դրամ) | C29: ='1'!D24 -> 57390.925 | D29: ='1'!E24 -> 114781.86 | E29: ='1'!F24 -> 114781.86 | F29: ='1'!G24 -> 114781.86
A31: ՀՀ կառավարություն
A32: ՄԱՍ 1. ՊԵՏԱԿԱՆ ՄԱՐՄՆԻ ԳԾՈՎ ԱՐԴՅՈՒՆՔԱՅԻՆ (ԿԱՏԱՐՈՂԱԿԱՆ) ՑՈՒՑԱՆԻՇՆԵՐԸ
A34: Ծրագրի դասիչը | B34: Ծրագրի անվանումը
A35: ='1'!A31 -> 1139 | B35: ='1'!C32 -> ՀՀ կառավարության պահուստային ֆոնդ
A37: Ծրագրի միջոցառումները
A38: Ծրագրի դասիչը` | B38: ='1'!A31 -> 1139 | C38: Ցուցանիշների փոփոխությունները (ավելացումները նշված են դրական նշանով)
A40: Միջոցառման դասիչը` | B40: ='1'!B38 -> 11001 | C40: Առաջին եռամսյակ | D40: Առաջին կիսամյակ | E40: Ինն ամիս | F40: Տարի
A41: Միջոցառման անվանումը` | B41: ='1'!C39 -> ՀՀ կառավարության պահուստային ֆոնդ
A42: Նկարագրությունը` | B42: ='1'!C41 -> ՀՀ պետական բյուջեում նախատեսված ելքերի լրացուցիչ ֆինանսավորման՝ պետական բյուջեում չկանխատեսված ելքերի, ինչպես նաև բյուջետային երաշխիքների ապահովման ելքերի ֆինանսավորման ապահովում
A43: Միջոցառման տեսակը` | B43: Ծառայությունների մատուցում
A44: Միջոցառումն իրականացնողի անվանումը | B44: ՀՀ կառավարություն
A45: Արդյունքի չափորոշիչներ
A46: Միջոցառման վրա կատարված ծախսը (հազար դրամ) | C46: ='1'!D38 -> 57390.9 | D46: ='1'!E38 -> 114781.9 | E46: ='1'!F38 -> 114781.9 | F46: ='1'!G38 -> 114781.9
A47: Ծրագրի դասիչը` | B47: ='1'!A31 -> 1139 | C47: Ցուցանիշների փոփոխությունները (նվազեցումները նշված են փակագծերում)
A48: Միջոցառման դասիչը` | B48: ='1'!B44 -> 11001 | C48: Առաջին եռամսյակ | D48: Առաջին կիսամյակ | E48: Ինն ամիս | F48: Տարի
A49: Միջոցառման անվանումը` | B49: ='1'!C45 -> ՀՀ կառավարության պահուստային ֆոնդ
A50: Նկարագրությունը` | B50: ='1'!C47 -> ՀՀ պետական բյուջեում նախատեսված ելքերի լրացուցիչ ֆինանսավորման՝ պետական բյուջեում չկանխատեսված ելքերի, ինչպես նաև բյուջետային երաշխիքների ապահովման ելքերի ֆինանսավորման ապահովում
A51: Միջոցառման տեսակը` | B51: Ծառայությունների մատուցում
A52: Միջոցառումն իրականացնողի անվանումը | B52: ՀՀ կառավարություն
A53: Արդյունքի չափորոշիչներ
A54: Միջոցառման վրա կատարված ծախսը (հազար դրամ) | C54: ='1'!D44 -> -57390.925 | D54: ='1'!E44 -> -114781.86 | E54: ='1'!F44 -> -114781.86 | F54: ='1'!G44 -> -114781.86

Sheet 5
D1: Հավելված 5
D2: ՀՀ կառավարության 2022 թվականի
D3: ------------ N ---------- որոշման
A4: ՀԱՅԱՍՏԱՆԻ ՀԱՆՐԱՊԵՏՈՒԹՅԱՆ ԿԱՌԱՎԱՐՈՒԹՅԱՆ 2021 ԹՎԱԿԱՆԻ ԴԵԿՏԵՄԲԵՐԻ 23-Ի N 2121-Ն ՈՐՈՇՄԱՆ N 10 ՀԱՎԵԼՎԱԾՈՒՄ ԿԱՏԱՐՎՈՂ ՓՈՓՈԽՈՒԹՅՈՒՆՆԵՐԸ
A5: Գնման առարկայի | G5: Ցուցանիշների փոփոխությունը (նվազեցումները նշված են փակագծերում)
A6: Կոդը | B6: Անվանումը | C6: Գնման ձևը | D6: Չափման միավորը | F6: Միավորի գինը | G6: Քանակը | H6: Գումարը (հազար դրամով)
A8: ՀՀ վարչապետի աշխատակազմ | H8: =H10 -> -70000
A9: Բաժին N 01 | B9: Խումբ N 01 | C9: Դաս N 01 | D9: Օրենսդիր և գործադիր մարմիններ, պետական կառավարում | H9: =H10 -> -70000
A10: 1136 11001 | B10: Ծառայությունների, ծրագրերի համակարգում | H10: =H11+H13 -> -70000
B11: ՄԱՍ II. ԱՇԽԱՏԱՆՔՆԵՐ | H11: =SUM(H12:I12) -> -35000
A12: 45461100-1 | B12: շենքերի, շինությունների ընթացիկ նորոգման աշխատանքներ | C12: ԲՄ | D12: դրամ | H12: -35000
B13: ՄԱՍ III. ԾԱՌԱՅՈՒԹՅՈՒՆՆԵՐ | H13: =SUM(H14:I14) -> -35000
A14: 65211100-1 | B14: գազի բաշխում | C14: ՄԱ | D14: դրամ | H14: -35000
