Workbook

Sheet HAVEL. 1
G1: Հավելված N 1
G2: ՀՀ կառավարության 2022 թվականի
G3: ի Ն որոշման
A6: «ՀԱՅԱՍՏԱՆԻ ՀԱՆՐԱՊԵՏՈՒԹՅԱՆ 2022 ԹՎԱԿԱՆԻ ՊԵՏԱԿԱՆ ԲՅՈՒՋԵԻ ՄԱՍԻՆ» ՀԱՅԱՍՏԱՆԻ ՀԱՆՐԱՊԵՏՈՒԹՅԱՆ ՕՐԵՆՔԻ N 1 ՀԱՎԵԼՎԱԾԻ N 2 ԱՂՅՈՒՍԱԿՈՒՄ ԿԱՏԱՐՎՈՂ ՎԵՐԱԲԱՇԽՈՒՄԸ ԵՎ ՀԱՅԱՍՏԱՆԻ ՀԱՆՐԱՊԵՏՈՒԹՅԱՆ ԿԱՌԱՎԱՐՈՒԹՅԱՆ 2021 ԹՎԱԿԱՆԻ ԴԵԿՏԵՄԲԵՐԻ 23-ի N 2121-Ն ՈՐՈՇՄԱՆ N 5 ՀԱՎԵԼՎԱԾԻ N 1 ԱՂՅՈՒՍԱԿՈՒՄ ԿԱՏԱՐՎՈՂ ՓՈՓՈԽՈՒԹՅՈՒՆՆԵՐԸ ԵՎ ԼՐԱՑՈՒՄՆԵՐԸ
G7: հազ. դրամ
A8: Ծրագրային դասիչը | C8: Բյուջետային հատկացումների գլխավոր կարգադրիչների, ծրագրերի և միջոցառումների անվանումները | D8: Ցուցանիշների փոփոխությունը (ավելացումները նշված են դրական նշանով, իսկ նվազեցումները՝ փակագծերում)
A9: ծրագիր | B9: միջոցառում | D9: Առաջին եռամսյակ | E9: Առաջին կիսամյակ | F9: Ինն ամիս | G9: Տարի
C10: ԸՆԴԱՄԵՆԸ՝ | D10: =D11 -> 0 | E10: =E11 -> 0 | F10: =F11 -> 0 | G10: =G11 -> 0
C11: ՀՀ ազգային անվտանգության ծառայություն | D11: =D12 -> 0 | E11: =E12 -> 0 | F11: =F12 -> 0 | G11: =G12 -> 0
A12: 1036 | C12: Ծրագրի անվանումը` | D12: =D19+D25 -> 0 | E12: =E19+E25 -> 0 | F12: =F19+F25 -> 0 | G12: =G19+G25 -> 0
C13: Պետական պահպանության ապահովում
C14: Ծրագրի նպատակը`
C15: Հատուկ պետական պաշտպանության ենթակա օբյեկտների անվտանգության ապահովում
C16: Վերջնական արդյունքի նկարագրությունը`
C17: Պետական պահպանության ենթակա օբեկտների անվտանգության խախտման դեպքերի կրճատում
A18: Ծրագրի միջոցառումներ
B19: 11001 | C19: Միջոցառման անվանումը` | D19: -29500 | E19: -29500 | F19: -29500 | G19: -29500
C20: Պետական պահպանության ծառայություններ
C21: Միջոցառման նկարագրությունը`
C22: Բարձրաստիճան պաշտոնատար անձանց, նրանց բարձրաստիճան հյուրերի անվտանգության ապահովում
C23: Միջոցառման տեսակը՝
C24: Ծառայությունների մատուցում
B25: 31001 | C25: Միջոցառման անվանումը` | D25: 29500 | E25: 29500 | F25: 29500 | G25: 29500
C26: ՊՊԾ տրանսպորտային միջոցներով ապահովվածության բարելավում
C27: Միջոցառման նկարագրությունը`
C28: Պահպանության ծառայության կարիքների համար ավտոմեքենաների ձեռքբերում
C29: Միջոցառման տեսակը՝
C30: Պետական մարմինների կողմից օգտագործվող ոչ ֆինանսական ակտիվների հետ գործառնություններ

Sheet HAVEL. 2
I1: Հավելված 2
G2: ՀՀ կառավարության 2022 թվականի
G3: ___________ ___-ի N _______ -Ն որոշման
B5: «ՀԱՅԱՍՏԱՆԻ ՀԱՆՐԱՊԵՏՈՒԹՅԱՆ 2022 ԹՎԱԿԱՆԻ ՊԵՏԱԿԱՆ ԲՅՈՒՋԵԻ ՄԱՍԻՆ» ՀԱՅԱՍՏԱՆԻ ՀԱՆՐԱՊԵՏՈՒԹՅԱՆ ՕՐԵՆՔԻ N 1 ՀԱՎԵԼՎԱԾԻ N 3 ԱՂՅՈՒՍԱԿՈՒՄ ԿԱՏԱՐՎՈՂ ՓՈՓՈԽՈՒԹՅՈՒՆՆԵՐԸ ԵՎ ԼՐԱՑՈՒՄՆԵՐԸ
H6: հազ. դրամ.
B7: Ծրագրային դասիչը | D7: Բյուջետային գլխավոր կարգադրիչների, ծրագրերի, միջոցառումների և ուղղությունների անվանումները | E7: Ընդամենը | F7: Ցուցանիշների փոփոխությունը (ավելացումները նշված են դրական նշանով)
F8: այդ թվում՝
B9: Ծրագիր | C9: Միջոցառում | F9: Կառուցման աշխատանքներ | G9: Վերակառուցման, վերանորոգման և վերականգնման աշխատանքներ | H9: Նախագծահե- տազոտական, գեոդեզիա- քարտեզագրա- կան աշխա- տանքներ | I9: Ոչ ֆինանսական այլ ակտիվների ձեռքբերում
D10: ԸՆԴԱՄԵՆԸ | E10: =E12 -> 29500 | F10: =F12 -> 0 | G10: =G12 -> 0 | H10: =H12 -> 0 | I10: =I12 -> 29500
D11: այդ թվում՝
D12: ՀՀ ԱԶԳԱՅԻՆ ԱՆՎՏԱՆԳՈՒԹՅԱՆ ԾԱՌԱՅՈՒԹՅՈՒՆ | E12: =SUM(E14:E14) -> 29500 | F12: =SUM(F14:F14) -> 0 | G12: =SUM(G14:G14) -> 0 | H12: =SUM(H14:H14) -> 0 | I12: =SUM(I14:I14) -> 29500
D13: այդ թվում`
B14: 1036 | C14: 31001 | D14: ՊՊԾ տրանսպորտային միջոցներով ապահովվածության բարելավում | E14: =F14+G14+H14+I14 -> 29500 | F14: =F1 -> 0 | G14: 0 | H14: 0 | I14: =+'HAVEL. 1'!G25 -> 29500

Sheet HAVEL. 3
J1: Հավելված N 3
J2: ՀՀ կառավարության 2022 թվականի
J3: ի Ն որոշման
A7: ՀԱՅԱՍՏԱՆԻ ՀԱՆՐԱՊԵՏՈՒԹՅԱՆ ԿԱՌԱՎԱՐՈՒԹՅԱՆ 2021 ԹՎԱԿԱՆԻ ԴԵԿՏԵՄԲԵՐԻ 23-ի N 2121-Ն ՈՐՈՇՄԱՆ N 3 ԵՎ N 4 ՀԱՎԵԼՎԱԾՆԵՐՈՒՄ ԿԱՏԱՐՎՈՂ ՓՈՓՈԽՈՒԹՅՈՒՆՆԵՐԸ ԵՎ ԼՐԱՑՈՒՄՆԵՐԸ
J8: հազ. դրամ.
A9: Գործառական դասիչը | D9: Ծրագրային դասիչը | F9: Բյուջետային ծախսերի գործառական դասակարգման բաժինների, խմբերի և դասերի, բյուջետային ծրագրերի միջոցառումների, բյուջետային հատկացումների գլխավոր կարգադրիչների անվանումները | G9: Ցուցանիշների փոփոխությունը (ավելացումները նշված են դրական նշանով, իսկ նվազեցումները՝ փակագծերում)
A10: բաժին | B10: խումբ | C10: դաս | D10: ծրագիր | E10: միջոցառում | G10: Առաջին եռամսյակ | H10: Առաջին կիսամյակ | I10: Ինն ամիս | J10: Տարի
F11: ԸՆԴԱՄԵՆԸ՝ | G11: =G12 -> 0 | H11: =H12 -> 0 | I11: =I12 -> 0 | J11: =J12 -> 0
A12: 03 | F12: ՀԱՍԱՐԱԿԱԿԱՆ ԿԱՐԳ, ԱՆՎՏԱՆԳՈՒԹՅՈՒՆ ԵՎ ԴԱՏԱԿԱՆ ԳՈՐԾՈՒՆԵՈՒԹՅՈՒՆ | G12: =SUM(G14) -> 0 | H12: =SUM(H14) -> 0 | I12: =SUM(I14) -> 0 | J12: =SUM(J14) -> 0
F13: այդ թվում`
B14: 01 | F14: Հասարակական կարգ և անվտանգություն | G14: =SUM(G16) -> 0 | H14: =SUM(H16) -> 0 | I14: =SUM(I16) -> 0 | J14: =SUM(J16) -> 0
F15: այդ թվում`
C16: 03 | F16: Պետական պահպանություն | G16: =G18 -> 0 | H16: =H18 -> 0 | I16: =I18 -> 0 | J16: =J18 -> 0
F17: այդ թվում`
F18: ՀՀ ազգային անվտանգության ծառայություն | G18: =G20 -> 0 | H18: =H20 -> 0 | I18: =I20 -> 0 | J18: =J20 -> 0
F19: այդ թվում`
D20: 1036 | F20: Պետական պահպանության ապահովում | G20: =+G22+G30 -> 0 | H20: =+H22+H30 -> 0 | I20: =+I22+I30 -> 0 | J20: =+J22+J30 -> 0
F21: այդ թվում`
E22: 11001 | F22: Պետական պահպանության ծառայություններ | G22: =G24 -> -29500 | H22: =H24 -> -29500 | I22: =I24 -> -29500 | J22: =J24 -> -29500
F23: այդ թվում` ըստ կատարողների
F24: ՀՀ պետական պահպանության ծառայություն | G24: =G26 -> -29500 | H24: =H26 -> -29500 | I24: =I26 -> -29500 | J24: =J26 -> -29500
F25: այդ թվում` բյուջետային ծախսերի տնտեսագիտական դասակարգման հոդվածներ
F26: ԸՆԴԱՄԵՆԸ՝ ԾԱԽՍԵՐ | G26: =G27 -> -29500 | H26: =H27 -> -29500 | I26: =I27 -> -29500 | J26: =J27 -> -29500
F27: ԸՆԹԱՑԻԿ ԾԱԽՍԵՐ | G27: =G28 -> -29500 | H27: =H28 -> -29500 | I27: =I28 -> -29500 | J27: =J28 -> -29500
F28: ԱՅԼ ԾԱԽՍԵՐ | G28: =G29 -> -29500 | H28: =H29 -> -29500 | I28: =I29 -> -29500 | J28: =J29 -> -29500
F29: - Այլ ծախսեր | G29: -29500 | H29: -29500 | I29: -29500 | J29: -29500
E30: 31001 | F30: ՊՊԾ տրանսպորտային միջոցներով ապահովվածության բարելավում | G30: =G32 -> 29500 | H30: =H32 -> 29500 | I30: =I32 -> 29500 | J30: =J32 -> 29500
F31: այդ թվում` ըստ կատարողների
F32: ՀՀ պետական պահպանության ծառայություն | G32: =G34 -> 29500 | H32: =H34 -> 29500 | I32: =I34 -> 29500 | J32: =J34 -> 29500
F33: այդ թվում` բյուջետային ծախսերի տնտեսագիտական դասակարգման հոդվածներ
F34: ԸՆԴԱՄԵՆԸ՝ ԾԱԽՍԵՐ | G34: =G35 -> 29500 | H34: =H35 -> 29500 | I34: =I35 -> 29500 | J34: =J35 -> 29500
F35: ՈՉ ՖԻՆԱՆՍԱԿԱՆ ԱԿՏԻՎՆԵՐԻ ԳԾՈՎ ԾԱԽՍԵՐ | G35: =G36 -> 29500 | H35: =H36 -> 29500 | I35: =I36 -> 29500 | J35: =J36 -> 29500
F36: ՀԻՄՆԱԿԱՆ ՄԻՋՈՑՆԵՐ | G36: =G37 -> 29500 | H36: =H37 -> 29500 | I36: =I37 -> 29500 | J36: =J37 -> 29500
F37: ՄԵՔԵՆԱՆԵՐ ԵՎ ՍԱՐՔԱՎՈՐՈՒՄՆԵՐ | G37: =G38 -> 29500 | H37: =H38 -> 29500 | I37: =I38 -> 29500 | J37: =J38 -> 29500
F38: - Տրանսպորտային սարքավորումներ | G38: 29500 | H38: 29500 | I38: 29500 | J38: 29500

Sheet HAVEL. 4
G1: Հավելված 4
G2: ՀՀ կառավարության 2022 թվականի
G3: ի Ն որոշման
A5: ՀԱՅԱՍՏԱՆԻ ՀԱՆՐԱՊԵՏՈՒԹՅԱՆ ԿԱՌԱՎԱՐՈՒԹՅԱՆ 2021 ԹՎԱԿԱՆԻ ԴԵԿՏԵՄԲԵՐԻ 23-ի N 2121-Ն ՈՐՈՇՄԱՆ N 5 ՀԱՎԵԼՎԱԾԻ N 2 ԱՂՅՈՒՍԱԿՈՒՄ ԿԱՏԱՐՎՈՂ ՓՈՓՈԽՈՒԹՅՈՒՆՆԵՐԸ ԵՎ ԼՐԱՑՈՒՄՆԵՐԸ
G6: հազ. դրամ.
A7: Ծրագրային դասիչը | C7: Բյուջետային գլխավոր կարգադրիչների, ծրագրերի, միջոցառումների, միջոցառումները կատարող պետական մարմինների և ուղղությունների անվանումները | D7: Ցուցանիշների փոփոխությունը (ավելացումները նշված են դրական նշանով)
A8: Ծրագիր | B8: Միջոցառում | D8: Առաջին եռամսյակ | E8: Առաջին կիսամյակ | F8: Ինն ամիս | G8: Տարի
C9: ԸՆԴԱՄԵՆԸ | D9: =D10 -> 29500 | E9: =E10 -> 29500 | F9: =F10 -> 29500 | G9: =G10 -> 29500
C10: ՀՀ ԱԶԳԱՅԻՆ ԱՆՎՏԱՆԳՈՒԹՅԱՆ ԾԱՌԱՅՈՒԹՅՈՒՆ | D10: =D12 -> 29500 | E10: =E12 -> 29500 | F10: =F12 -> 29500 | G10: =G12 -> 29500
C11: այդ թվում`
A12: 1036 | B12: 31001 | C12: ՊՊԾ տրանսպորտային միջոցներով ապահովվածության բարելավում | D12: =D14 -> 29500 | E12: =E14 -> 29500 | F12: =F14 -> 29500 | G12: =G14 -> 29500
C13: այդ թվում` ըստ կատարողների
C14: ՀՀ պետական պահպանության ծառայություն | D14: 29500 | E14: 29500 | F14: 29500 | G14: 29500

Sheet HAVEL. 5
F1: Հավելված N 5
F2: ՀՀ կառավարության 2022 թվականի
F3: ի Ն որոշման
A5: ՀԱՅԱՍՏԱՆԻ ՀԱՆՐԱՊԵՏՈՒԹՅԱՆ ԿԱՌԱՎԱՐՈՒԹՅԱՆ 2021 ԹՎԱԿԱՆԻ ԴԵԿՏԵՄԲԵՐԻ 23-ի N 2121-Ն ՈՐՈՇՄԱՆ N 9 ՀԱՎԵԼՎԱԾԻ N 9.26 ԱՂՅՈՒՍԱԿՈՒՄ ԿԱՏԱՐՎՈՂ ՓՈՓՈԽՈՒԹՅՈՒՆՆԵՐԸ ԵՎ ԼՐԱՑՈՒՄՆԵՐԸ
A7: ՀՀ ազգային անվտանգության ծառայություն
A9: ՄԱՍ 2. ՊԵՏԱԿԱՆ ՄԱՐՄՆԻ ԳԾՈՎ ԱՐԴՅՈՒՆՔԱՅԻՆ (ԿԱՏԱՐՈՂԱԿԱՆ) ՑՈՒՑԱՆԻՇՆԵՐԸ
A11: Ծրագրի դասիչը | B11: Ծրագրի անվանումը
A12: 1036 | B12: Պետական պահպանության ապահովում
A14: Ծրագրի միջոցառումները
A16: Ծրագրի դասիչը` | B16: 1036 | C16: Ցուցանիշների փոփոխությունը (նվազեցումները նշված են փակագծերում)
A17: Միջոցառման դասիչը` | B17: 11001 | C17: Առաջին եռամսյակ | D17: Առաջին կիսամյակ | E17: Ինն ամիս | F17: Տարի
A18: Միջոցառման անվանումը` | B18: Պետական պահպանության ծառայություններ
A19: Նկարագրությունը` | B19: Բարձրաստիճան պաշտոնատար անձանց, նրանց բարձրաստիճան հյուրերի անվտանգության ապահովում
A20: Միջոցառման տեսակը` | B20: Ծառայությունների մատուցում
A21: Ծառայությունը մատուցող կազմակերպության(ների) անվանում(ներ)ը | B21: ՀՀ պետական պահպանության ծառայություն
A22: Արդյունքի չափորոշիչներ
A23: Միջոցառման վրա կատարվող ծախսը (հազ. դրամ) | C23: =+'HAVEL. 1'!D19 -> -29500 | D23: =+'HAVEL. 1'!E19 -> -29500 | E23: =+'HAVEL. 1'!F19 -> -29500 | F23: =+'HAVEL. 1'!G19 -> -29500
A25: Ծրագրի դասիչը` | B25: 1036 | C25: Ցուցանիշների փոփոխությունը (ավելացումները նշված են դրական նշանով)
A26: Միջոցառման դասիչը` | B26: 31001 | C26: Առաջին եռամսյակ | D26: Առաջին կիսամյակ | E26: Ինն ամիս | F26: Տարի
A27: Միջոցառման անվանումը` | B27: ՊՊԾ տրանսպորտային միջոցներով ապահովվածության բարելավում
A28: Նկարագրությունը` | B28: Պահպանության ծառայության կարիքների համար ավտոմեքենաների ձեռքբերում
A29: Միջոցառման տեսակը` | B29: Պետական մարմինների կողմից օգտագործվող ոչ ֆինանսական ակտիվների հետ գործառնություններ
A30: Ակտիվն օգտագործող կազմակերպության(ների) անվանում(ներ)ը | B30: ՀՀ պետական պահպանության ծառայություն
A31: Արդյունքի չափորոշիչներ
A32: Միջոցառման վրա կատարվող ծախսը (հազ. դրամ) | C32: =+'HAVEL. 1'!D25 -> 29500 | D32: =+'HAVEL. 1'!E25 -> 29500 | E32: =+'HAVEL. 1'!F25 -> 29500 | F32: =+'HAVEL. 1'!G25 -> 29500

Sheet HAVEL.  6
F1: Հավելված N 6
F2: ՀՀ կառավարության 2022 թվականի
F3: ի Ն որոշման
A5: ՀԱՅԱՍՏԱՆԻ ՀԱՆՐԱՊԵՏՈՒԹՅԱՆ ԿԱՌԱՎԱՐՈՒԹՅԱՆ 2021 ԹՎԱԿԱՆԻ ԴԵԿՏԵՄԲԵՐԻ 23-ի N 2121-Ն ՈՐՈՇՄԱՆ N 9.1 ՀԱՎԵԼՎԱԾԻ N 9.1.40 ԱՂՅՈՒՍԱԿՈՒՄ ԿԱՏԱՐՎՈՂ ՓՈՓՈԽՈՒԹՅՈՒՆՆԵՐԸ ԵՎ ԼՐԱՑՈՒՄՆԵՐԸ
A8: ՀՀ պետական պահպանության ծառայություն
A10: ՄԱՍ 1. ՊԵՏԱԿԱՆ ՄԱՐՄՆԻ ԳԾՈՎ ԱՐԴՅՈՒՆՔԱՅԻՆ (ԿԱՏԱՐՈՂԱԿԱՆ) ՑՈՒՑԱՆԻՇՆԵՐԸ
A12: Ծրագրի դասիչը | B12: Ծրագրի անվանումը
A13: 1036 | B13: Պետական պահպանության ապահովում
A15: Ծրագրի միջոցառումները
A17: Ծրագրի դասիչը` | B17: 1036 | C17: Ցուցանիշների փոփոխությունը (նվազեցումները նշված են փակագծերում)
A18: Միջոցառման դասիչը` | B18: 11001 | C18: Առաջին եռամսյակ | D18: Առաջին կիսամյակ | E18: Ինն ամիս | F18: Տարի
A19: Միջոցառման անվանումը` | B19: Պետական պահպանության ծառայություններ
A20: Նկարագրությունը` | B20: Բարձրաստիճան պաշտոնատար անձանց, նրանց բարձրաստիճան հյուրերի անվտանգության ապահովում
A21: Միջոցառման տեսակը` | B21: Ծառայությունների մատուցում
A22: Ծառայությունը մատուցող կազմակերպության(ների) անվանում(ներ)ը | B22: ՀՀ պետական պահպանության ծառայություն
A23: Արդյունքի չափորոշիչներ
A24: Միջոցառման վրա կատարվող ծախսը (հազ. դրամ) | C24: ='HAVEL. 5'!C23 -> -29500 | D24: ='HAVEL. 5'!D23 -> -29500 | E24: ='HAVEL. 5'!E23 -> -29500 | F24: ='HAVEL. 5'!F23 -> -29500
A26: Ծրագրի դասիչը` | B26: 1036 | C26: Ցուցանիշների փոփոխությունը (ավելացումները նշված են դրական նշանով)
A27: Միջոցառման դասիչը` | B27: 31001 | C27: Առաջին եռամսյակ | D27: Առաջին կիսամյակ | E27: Ինն ամիս | F27: Տարի
A28: Միջոցառման անվանումը` | B28: ՊՊԾ տրանսպորտային միջոցներով ապահովվածության բարելավում
A29: Նկարագրությունը` | B29: Պահպանության ծառայության կարիքների համար ավտոմեքենաների ձեռքբերում
A30: Միջոցառման տեսակը` | B30: Պետական մարմինների կողմից օգտագործվող ոչ ֆինանսական ակտիվների հետ գործառնություններ
A31: Ակտիվն օգտագործող կազմակերպության(ների) անվանում(ներ)ը | B31: ՀՀ պետական պահպանության ծառայություն
A32: Արդյունքի չափորոշիչներ
A33: Միջոցառման վրա կատարվող ծախսը (հազ. դրամ) | C33: =+'HAVEL. 5'!C32 -> 29500 | D33: =+'HAVEL. 5'!D32 -> 29500 | E33: =+'HAVEL. 5'!E32 -> 29500 | F33: =+'HAVEL. 5'!F32 -> 29500
