Workbook

Sheet Հավելված 1
G1: Հավելված N 1
A2: «ՀԱՅԱՍՏԱՆԻ ՀԱՆՐԱՊԵՏՈՒԹՅԱՆ 2022 ԹՎԱԿԱՆԻ ՊԵՏԱԿԱՆ ԲՅՈՒՋԵԻ ՄԱՍԻՆ» ՀԱՅԱՍՏԱՆԻ ՀԱՆՐԱՊԵՏՈՒԹՅԱՆ ՕՐԵՆՔԻ N 1 ՀԱՎԵԼՎԱԾԻ N 2 ԱՂՅՈՒՍԱԿՈՒՄ ԿԱՏԱՐՎՈՂ ՎԵՐԱԲԱՇԽՈՒՄԸ ԵՎ ՀԱՅԱՍՏԱՆԻ ՀԱՆՐԱՊԵՏՈՒԹՅԱՆ ԿԱՌԱՎԱՐՈՒԹՅԱՆ 2021 ԹՎԱԿԱՆԻ ԴԵԿՏԵՄԲԵՐԻ 23-Ի N 2121-Ն ՈՐՈՇՄԱՆ N 5 ՀԱՎԵԼՎԱԾԻ N 1 ԱՂՅՈՒՍԱԿՈՒՄ ԿԱՏԱՐՎՈՂ ՓՈՓՈԽՈՒԹՅՈՒՆՆԵՐԸ
G3: հազար դրամներով
A4: Ծրագրային դասիչը | C4: Բյուջետային հատկացումների գլխավոր կարգադրիչների, ծրագրերի և միջոցառումների անվանումները | D4: Ցուցանիշների փոփոխությունը (ավելացումները նշված են դրական նշանով, իսկ նվազեցումները՝ փակագծերում)
A5: Ծրագիր | B5: Միջոցառում | D5: Առաջին եռամսյակ | E5: Առաջին կիսամյակ | F5: Ինն ամիս | G5: Տարի
C6: ԸՆԴԱՄԵՆԸ | D6: =D7 -> 0 | E6: =E7 -> 0 | F6: =F7 -> 0 | G6: =G7 -> 0
C7: ՀՀ պետական եկամուտների կոմիտե | D7: =D8 -> 0 | E7: =E8 -> 0 | F7: =F8 -> 0 | G7: =G8 -> 0
A8: 1023 | C8: Ծրագրի անվանումը՝ | D8: =D15+D21 -> 0 | E8: =E15+E21 -> 0 | F8: =F15+F21 -> 0 | G8: =G15+G21 -> 0
C9: Հարկային և մաքսային ծառայություններ
C10: Ծրագրի նպատակը՝
C11: Հարկային և մաքսային միասնական պետական քաղաքականության իրականացում, հարկային և մաքսային օրենսդրության ամբողջական և համահավասար կիրառում
C12: Վերջնական արդյունքի նկարագրությունը՝
C13: Արդյունավետ հարկային և մաքսային հսկողության իրականացում, պետական բյուջեի եկամուտների ապահովում
A14: Ծրագրի միջոցառումներ
B15: 31001 | C15: Միջոցառման անվանումը՝ | D15: ='Հավելված 3'!G20 -> 0 | E15: ='Հավելված 3'!H20 -> 17332 | F15: ='Հավելված 3'!I20 -> 17332 | G15: ='Հավելված 3'!J20 -> 17332
C16: ՀՀ պետական եկամուտների կոմիտեի տեխնիկական հագեցվածության բարելավում
C17: Միջոցառման նկարագրությունը`
C18: ՀՀ պետական եկամուտների կոմիտեի տեխնիկական հագեցվածության բարելավում
C19: Միջոցառման տեսակը
C20: Պետական մարմինների կողմից օգտագործվող ոչ ֆինանսական ակտիվների հետ գործառնություններ
B21: 31003 | C21: Միջոցառման անվանումը` | D21: ='Հավելված 3'!G27 -> 0 | E21: ='Հավելված 3'!H27 -> -17332 | F21: ='Հավելված 3'!I27 -> -17332 | G21: ='Հավելված 3'!J27 -> -17332
C22: ՀՀ պետական եկամուտների կոմիտեի շենքային ապահովվածության բարելավում_x000D_
C23: Միջոցառման նկարագրությունը`
C24: ՀՀ պետական եկամուտների կոմիտեի նոր շենքերի և շինությունների շինարարություն, նախագծային աշխատանքների ձեռքբերում
C25: Միջոցառման տեսակը
C26: Պետական մարմինների կողմից օգտագործվող ոչ ֆինանսական ակտիվների հետ գործառնություններ

Sheet Հավելված 2
H1: Հավելված N 2
A2: «ՀԱՅԱՍՏԱՆԻ ՀԱՆՐԱՊԵՏՈՒԹՅԱՆ 2022 ԹՎԱԿԱՆԻ ՊԵՏԱԿԱՆ ԲՅՈՒՋԵԻ ՄԱՍԻՆ» ՀԱՅԱՍՏԱՆԻ ՀԱՆՐԱՊԵՏՈՒԹՅԱՆ ՕՐԵՆՔԻ N 1 ՀԱՎԵԼՎԱԾԻ N 3 ԱՂՅՈՒՍԱԿՈՒՄ ԿԱՏԱՐՎՈՂ ՓՈՓՈԽՈՒԹՅՈՒՆՆԵՐԸ
H3: հազար դրամներով
A4: Ծրագրային դասիչ | C4: Բյուջետային գլխավոր կարգադրիչների, ծրագրերի, միջոցառումների և ուղղությունների անվանումները | D4: Ցուցանիշների փոփոխությունը (ավելացումները նշված են դրական նշանով, իսկ նվազեցումները՝ փակագծերում)
D5: Ընդամենը | E5: այդ թվում՝
E6: Կառուցման աշխատանքներ | F6: Վերակառուցման, վերանորոգման և վերականգնման աշխատանքներ | G6: Նախագծահետազոտական, գեոդեզա-քարտեզագրական աշխատանքներ | H6: Ոչ ֆինանսական այլ ակտիվների ձեռքբերում
A7: Ծրագիր | B7: Միջոցառում
C8: ԸՆԴԱՄԵՆԸ | D8: =E8+F8+G8+H8 -> 0 | E8: =+E10 -> -17332 | F8: =+F10 -> 0 | G8: =+G10 -> 0 | H8: =+H10 -> 17332
C9: այդ թվում՝
C10: ՀՀ ՊԵՏԱԿԱՆ ԵԿԱՄՈՒՏՆԵՐԻ ԿՈՄԻՏԵ | D10: =D12+D13 -> 0 | E10: =E12+E13 -> -17332 | F10: =F12+F13 -> 0 | G10: =G12+G13 -> 0 | H10: =H12+H13 -> 17332
C11: այդ թվում`
A12: 1023 | B12: 31001 | C12: ՀՀ պետական եկամուտների կոմիտեի տեխնիկական հագեցվածության բարելավում | D12: =E12+F12+G12+H12 -> 17332 | H12: ='Հավելված 3'!J26 -> 17332
A13: 1023 | B13: 31003 | C13: ՀՀ պետական եկամուտների կոմիտեի շենքային ապահովվածության բարելավում | D13: =D14 -> -17332 | E13: =E14 -> -17332 | F13: =F14 -> 0 | G13: =G14 -> 0 | H13: =H14 -> 0
C14: ՀՀ պետական եկամուտների կոմիտեի Գյումրի քաղաքի Թբիլիսյան խճուղի թիվ 2/14 հասցեում գտնվող արտաքին տնտեսական գործունեության կենտրոնի կառուցման աշխատանքներ | D14: =E14+F14+G14+H14 -> -17332 | E14: ='Հավելված 4'!G17 -> -17332

Sheet Հավելված 3
J1: Հավելված N 3
A2: ՀԱՅԱՍՏԱՆԻ ՀԱՆՐԱՊԵՏՈՒԹՅԱՆ ԿԱՌԱՎԱՐՈՒԹՅԱՆ 2021 ԹՎԱԿԱՆԻ ԴԵԿՏԵՄԲԵՐԻ 23-Ի N 2121-Ն ՈՐՈՇՄԱՆ NN 3 ԵՎ 4 ՀԱՎԵԼՎԱԾՆԵՐԻ ԱՂՅՈՒՍԱԿՆԵՐՈՒՄ ԿԱՏԱՐՎՈՂ ՓՈՓՈԽՈՒԹՅՈՒՆՆԵՐԸ ԵՎ ԼՐԱՑՈՒՄՆԵՐԸ
J4: հազար դրամներով
A5: Գործառնական դասիչը | D5: Ծրագրային դասիչը | F5: Բյուջետային ծախսերի գործառնական դասակարգման բաժինների, խմբերի և դասերի, բյուջետային ծրագրերի միջոցառումների, բյուջետային հատկացումների գլխավոր կարգադրիչների անվանումները | G5: Ցուցանիշների փոփոխությունը (ավելացումները նշված են դրական նշանով, իսկ նվազեցումները՝ փակագծերում)
A6: բաժին | B6: խումբ | C6: դաս | D6: ծրագիր | E6: միջոցառում | G6: Առաջին եռամսյակ | H6: Առաջին կիսամյակ | I6: Ինն ամիս | J6: Տարի
F7: ԸՆԴԱՄԵՆԸ ԾԱԽՍԵՐ | G7: =G9 -> 0 | H7: =H9 -> 0 | I7: =I9 -> 0 | J7: =J9 -> 0
F8: այդ թվում՝
A9: 01 | F9: ԸՆԴՀԱՆՈՒՐ ԲՆՈՒՅԹԻ ՀԱՆՐԱՅԻՆ ԾԱՌԱՅՈՒԹՅՈՒՆՆԵՐ | G9: =G11 -> 0 | H9: =H11 -> 0 | I9: =I11 -> 0 | J9: =J11 -> 0
F10: այդ թվում՝
B11: 01 | F11: Օրենսդիր և գործադիր մարմիններ, պետական կառավարում, ֆինանսական և հարկաբյուջետային հարաբերություններ, արտաքին հարաբերություններ | G11: =G13 -> 0 | H11: =H13 -> 0 | I11: =I13 -> 0 | J11: =J13 -> 0
F12: այդ թվում՝
C13: 02 | F13: Ֆինանսական և հարկաբյուջետային հարաբերություններ | G13: =G15 -> 0 | H13: =H15 -> 0 | I13: =I15 -> 0 | J13: =J15 -> 0
F14: այդ թվում՝
F15: ՀՀ պետական եկամուտների կոմիտե | G15: =G16 -> 0 | H15: =H16 -> 0 | I15: =I16 -> 0 | J15: =J16 -> 0
D16: 1023 | F16: Հարկային և մաքսային ծառայություններ | G16: =G18+G27 -> 0 | H16: =H18+H27 -> 0 | I16: =I18+I27 -> 0 | J16: =J18+J27 -> 0
F17: այդ թվում՝
E18: 31001 | F18: ՀՀ պետական եկամուտների կոմիտեի տեխնիկական հագեցվածության բարելավում | G18: =G20 -> 0 | H18: =H20 -> 17332 | I18: =I20 -> 17332 | J18: =J20 -> 17332
F19: այդ թվում` ըստ կատարողների
F20: ՀՀ պետական եկամուտների կոմիտե | G20: =G22 -> 0 | H20: =H22 -> 17332 | I20: =I22 -> 17332 | J20: =J22 -> 17332
F21: այդ թվում` բյուջետային ծախսերի տնտեսագիտական դասակարգման հոդվածներ
F22: ԸՆԴԱՄԵՆԸ ԾԱԽՍԵՐ | G22: =G23 -> 0 | H22: =H23 -> 17332 | I22: =I23 -> 17332 | J22: =J23 -> 17332
F23: ՈՉ ՖԻՆԱՆՍԱԿԱՆ ԱԿՏԻՎՆԵՐԻ ԳԾՈՎ ԾԱԽՍԵՐ | G23: =G24 -> 0 | H23: =H24 -> 17332 | I23: =I24 -> 17332 | J23: =J24 -> 17332
F24: ՀԻՄՆԱԿԱՆ ՄԻՋՈՑՆԵՐ | G24: =G25 -> 0 | H24: =H25 -> 17332 | I24: =I25 -> 17332 | J24: =J25 -> 17332
F25: ԱՅԼ ՀԻՄՆԱԿԱՆ ՄԻՋՈՑՆԵՐ | G25: =G26 -> 0 | H25: =H26 -> 17332 | I25: =I26 -> 17332 | J25: =J26 -> 17332
F26: - Ոչ նյութական հիմնական միջոցներ | G26: 0 | H26: 17332 | I26: 17332 | J26: 17332
E27: 31003 | F27: ՀՀ պետական եկամուտների կոմիտեի շենքային ապահովվածության բարելավում | G27: =G29 -> 0 | H27: =H29 -> -17332 | I27: =I29 -> -17332 | J27: =J29 -> -17332
F28: այդ թվում` ըստ կատարողների
F29: ՀՀ պետական եկամուտների կոմիտե | G29: =G31 -> 0 | H29: =H31 -> -17332 | I29: =I31 -> -17332 | J29: =J31 -> -17332
F30: այդ թվում` բյուջետային ծախսերի տնտեսագիտական դասակարգման հոդվածներ
F31: ԸՆԴԱՄԵՆԸ ԾԱԽՍԵՐ | G31: =G32 -> 0 | H31: =H32 -> -17332 | I31: =I32 -> -17332 | J31: =J32 -> -17332
F32: ՈՉ ՖԻՆԱՆՍԱԿԱՆ ԱԿՏԻՎՆԵՐԻ ԳԾՈՎ ԾԱԽՍԵՐ | G32: =G33 -> 0 | H32: =H33 -> -17332 | I32: =I33 -> -17332 | J32: =J33 -> -17332
F33: ՀԻՄՆԱԿԱՆ ՄԻՋՈՑՆԵՐ | G33: =G34 -> 0 | H33: =H34 -> -17332 | I33: =I34 -> -17332 | J33: =J34 -> -17332
F34: ՇԵՆՔԵՐ ԵՎ ՇԻՆՈՒԹՅՈՒՆՆԵՐ | G34: =G35 -> 0 | H34: =H35 -> -17332 | I34: =I35 -> -17332 | J34: =J35 -> -17332
F35: - Շենքերի և շինությունների շինարարություն | G35: ='Հավելված 4'!D17 -> 0 | H35: ='Հավելված 4'!E17 -> -17332 | I35: ='Հավելված 4'!F17 -> -17332 | J35: ='Հավելված 4'!G17 -> -17332

Sheet Հավելված 4
G1: Հավելված N 4
A2: ՀԱՅԱՍՏԱՆԻ ՀԱՆՐԱՊԵՏՈՒԹՅԱՆ ԿԱՌԱՎԱՐՈՒԹՅԱՆ 2021 ԹՎԱԿԱՆԻ ԴԵԿՏԵՄԲԵՐԻ 23-Ի N 2121-Ն ՈՐՈՇՄԱՆ N 5 ՀԱՎԵԼՎԱԾԻ N 2 ԱՂՅՈՒՍԱԿՈՒՄ ԿԱՏԱՐՎՈՂ ՓՈՓՈԽՈՒԹՅՈՒՆՆԵՐԸ
G3: հազար դրամներով
A4: Ծրագրային դասիչը | C4: Բյուջետային գլխավոր կարգադրիչների, ծրագրերի, միջոցառումների, միջոցառումները կատարող պետական մարմինների և ուղղությունների անվանումները | D4: Ցուցանիշների փոփոխությունը (ավելացումները նշված են դրական նշանով, իսկ նվազեցումները՝ փակագծերում)
A5: Ծրագիրը | B5: Միջոցառումը | D5: Առաջին եռամսյակ | E5: Առաջին կիսամյակ | F5: Ինն ամիս | G5: Տարի
C6: ԸՆԴԱՄԵՆԸ | D6: =D8 -> 0 | E6: =E8 -> 0 | F6: =F8 -> 0 | G6: =G8 -> 0
C7: այդ թվում՝
C8: ՀՀ ՊԵՏԱԿԱՆ ԵԿԱՄՈՒՏՆԵՐԻ ԿՈՄԻՏԵ | D8: =D10+D13 -> 0 | E8: =E10+E13 -> 0 | F8: =F10+F13 -> 0 | G8: =G10+G13 -> 0
C9: այդ թվում`
A10: 1023 | B10: 31001 | C10: ՀՀ պետական եկամուտների կոմիտեի տեխնիկական հագեցվածության բարելավում | D10: =D12 -> 0 | E10: =E12 -> 17332 | F10: =F12 -> 17332 | G10: =G12 -> 17332
C11: այդ թվում` ըստ կատարողների
C12: ՀՀ պետական եկամուտների կոմիտե | D12: ='Հավելված 3'!G26 -> 0 | E12: ='Հավելված 3'!H26 -> 17332 | F12: ='Հավելված 3'!I26 -> 17332 | G12: ='Հավելված 3'!J26 -> 17332
A13: 1023 | B13: 31003 | C13: ՀՀ պետական եկամուտների կոմիտեի շենքային ապահովվածության բարելավում | D13: =D15 -> 0 | E13: =E15 -> -17332 | F13: =F15 -> -17332 | G13: =G15 -> -17332
C14: այդ թվում` ըստ կատարողների
C15: ՀՀ պետական եկամուտների կոմիտե | D15: =D17 -> 0 | E15: =E17 -> -17332 | F15: =F17 -> -17332 | G15: =G17 -> -17332
C16: այդ թվում` ըստ ուղղությունների
C17: ՀՀ պետական եկամուտների կոմիտեի Գյումրի քաղաքի Թբիլիսյան խճուղի թիվ 2/14 հասցեում գտնվող արտաքին տնտեսական գործունեության կենտրոնի կառուցման աշխատանքներ | D17: =-D12 -> 0 | E17: =-E12 -> -17332 | F17: =-F12 -> -17332 | G17: =-G12 -> -17332

Sheet Հավելված 5 աղյուսակներ 1,2
F1: Հավելված N 5
F2: Աղյուսակ N 1
A3: ՀԱՅԱՍՏԱՆԻ ՀԱՆՐԱՊԵՏՈՒԹՅԱՆ ԿԱՌԱՎԱՐՈՒԹՅԱՆ 2021 ԹՎԱԿԱՆԻ ԴԵԿՏԵՄԲԵՐԻ 23-Ի N 2121-Ն ՈՐՈՇՄԱՆ N 9 ՀԱՎԵԼՎԱԾԻ N 9.25 ԱՂՅՈՒՍԱԿՈՒՄ ԿԱՏԱՐՎՈՂ ՓՈՓՈԽՈՒԹՅՈՒՆՆԵՐԸ
A5: ՀՀ պետական եկամուտների կոմիտե
A7: ՄԱՍ 2. ՊԵՏԱԿԱՆ ՄԱՐՄՆԻ ԳԾՈՎ ԱՐԴՅՈՒՆՔԱՅԻՆ (ԿԱՏԱՐՈՂԱԿԱՆ) ՑՈՒՑԱՆԻՇՆԵՐԸ
A9: Ծրագրի դասիչը | B9: Ծրագրի անվանումը
A10: 1023 | B10: Հարկային և մաքսային ծառայություններ
A12: Ծրագրի միջոցառումները
A14: Ծրագրի դասիչը` | B14: 1023 | C14: Ցուցանիշների փոփոխությունը (ավելացումները նշված են դրական նշանով)
A15: Միջոցառման դասիչը` | B15: 31001 | C15: Առաջին եռամսյակ | D15: Առաջին կիսամյակ | E15: Ինն ամիս | F15: Տարի
A16: Միջոցառման անվանումը` | B16: ՀՀ պետական եկամուտների կոմիտեի տեխնիկական հագեցվածության բարելավում
A17: Նկարագրությունը` | B17: ՀՀ պետական եկամուտների կոմիտեի տեխնիկական հագեցվածության բարելավում_x000D_
A18: Միջոցառման տեսակը` | B18: Պետական մարմինների կողմից օգտագործվող ոչ ֆինանսական ակտիվների հետ գործառնություններ
A19: Ակտիվն օգտագործող կազմակերպության անվանումը | B19: ՀՀ պետական եկամուտների կոմիտե
A20: Արդյունքի չափորոշիչներ
A21: Միջոցառման վրա կատարվող ծախսը (հազար դրամ) | C21: ='Հավելված 3'!G26 -> 0 | D21: ='Հավելված 3'!H26 -> 17332 | E21: ='Հավելված 3'!I26 -> 17332 | F21: ='Հավելված 3'!J26 -> 17332
A23: Ծրագրի դասիչը` | B23: 1023 | C23: Ցուցանիշների փոփոխությունը (նվազեցումները նշված են փակագծերում)
A24: Միջոցառման դասիչը` | B24: 31003 | C24: Առաջին եռամսյակ | D24: Առաջին կիսամյակ | E24: Ինն ամիս | F24: Տարի
A25: Միջոցառման անվանումը` | B25: ՀՀ պետական եկամուտների կոմիտեի շենքային ապահովվածության բարելավում
A26: Նկարագրությունը` | B26: ՀՀ պետական եկամուտների կոմիտեի նոր շենքերի և շինությունների շինարարություն, նախագծային աշխատանքների ձեռքբերում
A27: Միջոցառման տեսակը` | B27: Պետական մարմինների կողմից օգտագործվող ոչ ֆինանսական ակտիվների հետ գործառնություններ
A28: Միջոցառումն իրականացնողի անվանումը | B28: ՀՀ պետական եկամուտների կոմիտե
A29: Արդյունքի չափորոշիչներ
A30: Բյուջետային տարում կառուցապատման մակերես, ք.մ. | D30: -33.02904 | E30: -35.45395 | F30: -35.010777
A31: Միջոցառման վրա կատարվող ծախսը (հազար դրամ) | C31: ='Հավելված 3'!G27 -> 0 | D31: ='Հավելված 3'!H27 -> -17332 | E31: ='Հավելված 3'!I27 -> -17332 | F31: ='Հավելված 3'!J27 -> -17332
F33: Աղյուսակ N 2
A34: ՀԱՅԱՍՏԱՆԻ ՀԱՆՐԱՊԵՏՈՒԹՅԱՆ ԿԱՌԱՎԱՐՈՒԹՅԱՆ 2021 ԹՎԱԿԱՆԻ ԴԵԿՏԵՄԲԵՐԻ 23-Ի N 2121-Ն ՈՐՈՇՄԱՆ N 9.1 ՀԱՎԵԼՎԱԾԻ N 9.1.28 ԱՂՅՈՒՍԱԿՈՒՄ ԿԱՏԱՐՎՈՂ ՓՈՓՈԽՈՒԹՅՈՒՆՆԵՐԸ ԵՎ ԼՐԱՑՈՒՄՆԵՐԸ
A36: ՀՀ պետական եկամուտների կոմիտե
A38: ՄԱՍ 1. ՊԵՏԱԿԱՆ ՄԱՐՄՆԻ ԳԾՈՎ ԱՐԴՅՈՒՆՔԱՅԻՆ (ԿԱՏԱՐՈՂԱԿԱՆ) ՑՈՒՑԱՆԻՇՆԵՐԸ
A40: Ծրագրի դասիչը | B40: Ծրագրի անվանումը
A41: 1023 | B41: Հարկային և մաքսային ծառայություններ
A43: Ծրագրի միջոցառումները
A45: Ծրագրի դասիչը` | B45: 1023 | C45: Ցուցանիշների փոփոխությունը (ավելացումները նշված են դրական նշանով)
A46: Միջոցառման դասիչը` | B46: 31001 | C46: Առաջին եռամսյակ | D46: Առաջին կիսամյակ | E46: Ինն ամիս | F46: Տարի
A47: Միջոցառման անվանումը` | B47: ՀՀ պետական եկամուտների կոմիտեի տեխնիկական հագեցվածության բարելավում
A48: Նկարագրությունը` | B48: ՀՀ պետական եկամուտների կոմիտեի տեխնիկական հագեցվածության բարելավում_x000D_
A49: Միջոցառման տեսակը` | B49: Պետական մարմինների կողմից օգտագործվող ոչ ֆինանսական ակտիվների հետ գործառնություններ
A50: Ակտիվն օգտագործող կազմակերպության անվանումը | B50: ՀՀ պետական եկամուտների կոմիտե
B51: Արդյունքի չափորոշիչներ
A52: Միջոցառման վրա կատարվող ծախսը (հազար դրամ) | C52: ='Հավելված 3'!G26 -> 0 | D52: ='Հավելված 3'!H26 -> 17332 | E52: ='Հավելված 3'!I26 -> 17332 | F52: ='Հավելված 3'!J26 -> 17332
...

Sheet Հավելված 6
G1: Հավելված N 6
A2: ՀԱՅԱՍՏԱՆԻ ՀԱՆՐԱՊԵՏՈՒԹՅԱՆ ԿԱՌԱՎԱՐՈՒԹՅԱՆ 2021 ԹՎԱԿԱՆԻ ԴԵԿՏԵՄԲԵՐԻ 23-Ի N 2121-Ն ՈՐՈՇՄԱՆ N 10 ՀԱՎԵԼՎԱԾՈՒՄ ԿԱՏԱՐՎՈՂ ՓՈՓՈԽՈՒԹՅՈՒՆՆԵՐԸ ԵՎ ԼՐԱՑՈՒՄԸ
A4: Գնման առարկայի | E4: Ցուցանիշների փոփոխությունը (ավելացումները նշված են դրական նշանով, իսկ նվազեցումները՝ փակագծերում)
A5: կոդը | B5: անվանումը | C5: գնման ձևը | D5: չափի միավորը | E5: միավորի գինը | F5: քանակը | G5: Գումարը (հազար դրամ)
A7: ՀՀ պետական եկամուտների կոմիտե | G7: =G8+G12 -> 0
A8: Բաժին N 01 | B8: Խումբ N 01 | C8: Դաս N 02 | D8: Ֆինանսական և հարկաբյուջետային հարաբերություններ | G8: =G9 -> 17332
A9: 1023 31001 | B9: ՀՀ պետական եկամուտների կոմիտեի տեխնիկական հագեցվածության բարելավում | G9: =G10 -> 17332
B10: ՄԱՍ III. ԾԱՌԱՅՈՒԹՅՈՒՆՆԵՐ | G10: =G11 -> 17332
A11: 72261110 | B11: ծրագրային ապահովման մշակման ծառայություններ | C11: ԲՄ | D11: դրամ | E11: 17332000 | F11: 1 | G11: =E11*F11/1000 -> 17332
A12: 1023 31003 | B12: ՀՀ պետական եկամուտների կոմիտեի շենքային ապահովվածության բարելավում | G12: =G13+G18 -> -17332
B13: ՄԱՍ II. ԱՇԽԱՏԱՆՔՆԵՐ | G13: =G14+G15+G16+G17 -> -17332
A14: 45451700-1 | B14: վերակառուցման աշխատանքներ | C14: ԲՄ | D14: դրամ | G14: =-G11 -> -17332
