Workbook
Name _GoBack: '4'!#REF!
Name _tab10: #REF!
Name _tab10: #REF!
Name _tab10: #REF!
Name _tab11: #REF!
Name _tab11: #REF!
Name _tab11: #REF!
Name _tab12: #REF!
Name _tab12: #REF!
Name _tab12: #REF!
Name _tab13: #REF!
Name _tab13: #REF!
Name _tab13: #REF!
Name _tab14: #REF!
Name _tab14: #REF!
Name _tab14: #REF!
Name _tab15: #REF!
Name _tab15: #REF!
Name _tab15: #REF!
Name _tab16: #REF!
Name _tab16: #REF!
Name _tab16: #REF!
Name _tab17: #REF!
Name _tab17: #REF!
Name _tab17: #REF!
Name _tab18: #REF!
Name _tab18: #REF!
Name _tab18: #REF!
Name _tab19: #REF!
Name _tab19: #REF!
Name _tab19: #REF!
Name _tab20: #REF!
Name _tab20: #REF!
Name _tab20: #REF!
Name _tab21: #REF!
Name _tab21: #REF!
Name _tab21: #REF!
Name _tab22: #REF!
Name _tab22: #REF!
Name _tab22: #REF!
Name _tab23: #REF!
Name _tab23: #REF!
Name _tab23: #REF!
Name _tab24: #REF!
Name _tab24: #REF!
Name _tab24: #REF!
Name _tab5: #REF!
Name _tab5: #REF!
Name _tab5: #REF!
Name _tab6: #REF!
Name _tab6: #REF!
Name _tab6: #REF!
Name _tab7: #REF!
Name _tab7: #REF!
Name _tab7: #REF!
Name _tab8: #REF!
Name _tab8: #REF!
Name _tab8: #REF!
Name _tab9: #REF!
Name _tab9: #REF!

Sheet 1
G2: Հավելված № 1
C3: ՀՀ կառավարության 2022 թվականի
G4: № ------------ -Ն որոշման
A5: ՀԱՅԱՍՏԱՆԻ ՀԱՆՐԱՊԵՏՈՒԹՅԱՆ 2022 ԹՎԱԿԱՆԻ ՊԵՏԱԿԱՆ ԲՅՈՒՋԵԻ ՄԱՍԻՆ» ՀԱՅԱՍՏԱՆԻ ՀԱՆՐԱՊԵՏՈՒԹՅԱՆ ՕՐԵՆՔԻ N 1 ՀԱՎԵԼՎԱԾԻ N 2 ԱՂՅՈՒՍԱԿՈՒՄ ԿԱՏԱՐՎՈՂ ՎԵՐԱԲԱՇԽՈՒՄԸ ԵՎ ՀԱՅԱՍՏԱՆԻ ՀԱՆՐԱՊԵՏՈՒԹՅԱՆ ԿԱՌԱՎԱՐՈՒԹՅԱՆ 2021 ԹՎԱԿԱՆԻ ԴԵԿՏԵՄԲԵՐԻ 23-Ի № 2121-Ն ՈՐՈՇՄԱՆ № 5 ՀԱՎԵԼՎԱԾԻ № 1 ԱՂՅՈՒՍԱԿՈՒՄ ԿԱՏԱՐՎՈՂ ՓՈՓՈԽՈՒԹՅՈՒՆՆԵՐԸ ԵՎ ԼՐԱՑՈՒՄԸ
F6: (հազ. դրամ)
A7: Ծրագրային դասիչը | C7: Բյուջետային հատկացումների գլխավոր կարգադրիչների, ծրագրերի և միջոցառումների անվանումները | D7: Ցուցանիշների փոփոխությունները (ավելացումները նշված են դրական նշանով, իսկ նվազեցումները` փակագծերում)
A8: Ծրագիր | B8: Միջոցառում | D8: Առաջին եռամսյակ | E8: Առաջին կիսամյակ | F8: Ինը ամիս | G8: Տարի
C9: ԸՆԴԱՄԵՆԸ | D9: =+D10 -> 0 | E9: =+E10 -> 0 | F9: =+F10 -> 0 | G9: =+G10 -> 0
C10: Հայաստանի Հանրապետության քաղաքաշինության կոմիտե | D10: =+D12 -> 0 | E10: =+E12 -> 0 | F10: =+F12 -> 0 | G10: =+G12 -> 0
A11: 1103 | C11: Ծրագրի անվանումը`
C12: Քաղաքաշինության և ճարտարապետության բնագավառում պետական քաղաքականության իրականացում և կանոնակարգում | D12: =+D19+D25+D31 -> 0 | E12: =+E19+E25+E31 -> 0 | F12: =+F19+F25+F31 -> 0 | G12: =+G19+G25+G31 -> 0
C13: Ծրագրի նպատակը`
C14: Քաղաքաշինության և ճարտարապետության բնագավառում պետական քաղաքականության մշակմանն աջակցություն և իրականացման ապահովում
C15: Վերջնական արդյունքի նկարագրությունը`
C16: Քաղաքաշինության գործունեության կանոնակարգում, քաղաքաշինական տեղեկատվական համակարգի ձևավորում և քաղաքաշինության բնագավառում պետական ծրագրերի իրականացման ապահովում
A17: Ծրագրի միջոցառումներ
B18: 11002 | C18: Միջոցառման անվանումը`
C19: Նորմատիվատեխնիկական փաստաթղթերի մշակում և տեղայնացում | D19: -630 | E19: -630 | F19: -630 | G19: =+'7'!I14 -> 8300
C20: Միջոցառման նկարագրությունը`
C21: Միջպետական (տարածաշրջանային), միջազգային և եվրոպական նորմերին ու ստանդարտներին համահունչ ազգային քաղաքաշինական նորմատիվ փաստաթղթերի մշակում, տեղայնացում, արդիականացում և բազայի համալրում
C22: Միջոցառման տեսակը
C23: Ծառայությունների մատուցում
B24: 11003 | C24: Միջոցառման անվանումը`
C25: Միկրոռեգիոնալ մակարդակի համակցված տարածական պլանավորման փաստաթղթերի մշակում | G25: =+'7'!I20 -> -10088
C26: Միջոցառման նկարագրությունը`
C27: Միկրոռեգիոնների տարածքային հատակագծման նախագծերի և բնակավայրերի գոտևորման նախագծերի մշակում: Նշված փաստաթղթերը համարժեք են համայնքի գլխավոր հատակագծին և հիմք են հողօգտագործման գործառույթներն իրականացնելու համար
C28: Միջոցառման տեսակը
C29: Ծառայությունների մատուցում
B30: 31001 | C30: Միջոցառման անվանումը`
C31: Քաղաքաշինության կոմիտեի կարողությունների զարգացում և տեխնիկական հագեցվածության ապահովում | D31: 630 | E31: 630 | F31: 630 | G31: =+'7'!I24 -> 1788
C32: Միջոցառման նկարագրությունը`
C33: Քաղաքաշինության կոմիտեի աշխատանքային պայմանների բարելավման համար վարչական սարքավորումների ձեռք բերում
C34: Միջոցառման տեսակը
C35: Պետական մարմինների կողմից օգտագործվող ոչ ֆինանսական ակտիվների հետ գործառնություններ

Sheet 2
E1: Հավելված № 2
C2: ՀՀ կառավարության 2022 թվականի
D3: № ------------ -Ն որոշման
A4: ՀԱՅԱՍՏԱՆԻ ՀԱՆՐԱՊԵՏՈՒԹՅԱՆ ԿԱՌԱՎԱՐՈՒԹՅԱՆ 2021 ԹՎԱԿԱՆԻ ԴԵԿՏԵՄԲԵՐԻ 23-Ի № 2121-Ն ՈՐՈՇՄԱՆ N 5 ՀԱՎԵԼՎԱԾԻ N 2 ԱՂՅՈՒՍԱԿՈՒՄ ԿԱՏԱՐՎՈՂ ՓՈՓՈԽՈՒԹՅՈՒՆՆԵՐԸ ԵՎ ԼՐԱՑՈՒՄՆԵՐԸ
G5: (հազ. դրամ)
A7: Ծրագրային դասիչը | C7: Բյուջետային գլխավոր կարգադրիչների, ծրագրերի, միջոցառումների, միջոցառումները կատարող պետական մարմինների և ուղղությունների անվանումները | D7: Ցուցանիշների փոփոխությունները (ավելացումները նշված են դրական նշանով, իսկ նվազեցումները` փակագծերում)
A9: ծրագիրը | B9: միջոցառումը | D9: Առաջին եռամսյակ | E9: առաջին կիսամյակ | F9: ինն ամիս | G9: տարի
C10: ԸՆԴԱՄԵՆԸ | D10: =+D12+D15+D20 -> 0 | E10: =+E12+E15+E20 -> 0 | F10: =+F12+F15+F20 -> 0 | G10: =+G12+G15+G20 -> 0
C11: այդ թվում`
A12: 1103 | B12: 11002 | C12: Նորմատիվատեխնիկական փաստաթղթերի մշակում և տեղայնացում | D12: =D14 -> -630 | E12: =E14 -> -630 | F12: =F14 -> -630 | G12: =G14 -> 8300
C13: այդ թվում` ըստ կատարողների
C14: ՀՀ քաղաքաշինության կոմիտե | D14: =+'3'!G28 -> -630 | E14: =+'3'!H28 -> -630 | F14: =+'3'!I28 -> -630 | G14: =+'3'!J28 -> 8300
A15: 1103 | B15: 11003 | C15: Միկրոռեգիոնալ մակարդակի համակցված տարածական պլանավորման փաստաթղթերի մշակում | D15: =+D17 -> 0 | E15: =+E17 -> 0 | F15: =+F17 -> 0 | G15: =+G17 -> -10088
C16: այդ թվում` ըստ կատարողների
C17: ՀՀ քաղաքաշինության կոմիտե | D17: =+D19 -> 0 | E17: =+E19 -> 0 | F17: =+F19 -> 0 | G17: =+G19 -> -10088
C18: այդ թվում` ըստ ուղղությունների
C19: ՀՀ Գեղարքունի մարզի համայնքների (մասնակի) համակցված տարածական պլանավորման թվով 8 փաստաթղթերի նախագծերի մշակում (տարածքային հատակագծման նախագծի և փորձաքննությունների մասով) | D19: =+'3'!G47 -> 0 | E19: =+'3'!H47 -> 0 | F19: =+'3'!I47 -> 0 | G19: =+'3'!J47 -> -10088
A20: 1103 | B20: 31001 | C20: Քաղաքաշինության կոմիտեի կարողությունների զարգացում և տեխնիկական հագեցվածության ապահովում | D20: =+D22 -> 630 | E20: =+E22 -> 630 | F20: =+F22 -> 630 | G20: =+G22 -> 1788
C21: այդ թվում` ըստ կատարողների
C22: ՀՀ քաղաքաշինության կոմիտե | D22: =+'3'!G64 -> 630 | E22: =+'3'!H64 -> 630 | F22: =+'3'!I64 -> 630 | G22: =+'3'!J64 -> 1788

Sheet 3
H1: Հավելված № 3
F2: ՀՀ կառավարության 2022 թվականի
G3: № ------------ -Ն որոշման
A5: ՀԱՅԱՍՏԱՆԻ ՀԱՆՐԱՊԵՏՈՒԹՅԱՆ ԿԱՌԱՎԱՐՈՒԹՅԱՆ 2021 ԹՎԱԿԱՆԻ ԴԵԿՏԵՄԲԵՐԻ 23-Ի № 2121-Ն ՈՐՈՇՄԱՆ NN 3 և 4 ՀԱՎԵԼՎԱԾՆԵՐՈՒՄ ԿԱՏԱՐՎՈՂ ՓՈՓՈԽՈՒԹՅՈՒՆՆԵՐԸ ԵՎ ԼՐԱՑՈՒՄՆԵՐԸ
I6: (հազ. դրամ)
A7: Գործառական դասիչը | D7: Ծրագրային դասիչը | F7: Բյուջետային հատկացումների գլխավոր կարգադրիչների, ծրագրերի, միջոցառումների և միջոցառումները կատարող պետական մարմինների անվանումները | G7: Ցուցանիշների փոփոխությունները (ավելացումները նշված են դրական նշանով, իսկ նվազեցումները` փակագծերում)
A8: բաժին | B8: խումբ | C8: դաս | D8: Ծրագիր | E8: Միջոցառում | G8: Առաջին եռամսյակ | H8: Առաջին կիսամյակ | I8: Ինը ամիս | J8: Տարի
A9: ԸՆԴԱՄԵՆԸ | G9: =+G10+G29 -> 0 | H9: =+H10+H29 -> 0 | I9: =+I10+I29 -> 0 | J9: =+J10+J29 -> 0
A10: 04 | F10: ՏՆՏԵՍԱԿԱՆ ՀԱՐԱԲԵՐՈՒԹՅՈՒՆՆԵՐ | G10: =+G12 -> -630 | H10: =+H12 -> -630 | I10: =+I12 -> -630 | J10: =+J12 -> 8300
F11: այդ թվում`
B12: 04 | F12: Լեռնաարդյունահանում, արդյունաբերություն և շինարարություն | G12: =+G14 -> -630 | H12: =+H14 -> -630 | I12: =+I14 -> -630 | J12: =+J14 -> 8300
F13: այդ թվում`
C14: 03 | F14: Շինարարություն | G14: =+G18 -> -630 | H14: =+H18 -> -630 | I14: =+I18 -> -630 | J14: =+J18 -> 8300
F15: այդ թվում`
F16: ՀՀ քաղաքաշինության կոմիտե | G16: =+G18 -> -630 | H16: =+H18 -> -630 | I16: =+I18 -> -630 | J16: =+J18 -> 8300
F17: այդ թվում՝
D18: 1103 | F18: Քաղաքաշինության և ճարտարապետության բնագավառում պետական քաղաքականության իրականացում և կանոնակարգում | G18: =+G20 -> -630 | H18: =+H20 -> -630 | I18: =+I20 -> -630 | J18: =+J20 -> 8300
F19: այդ թվում`
E20: 11002 | F20: Նորմատիվատեխնիկական փաստաթղթերի մշակում և տեղայնացում | G20: =+G22 -> -630 | H20: =+H22 -> -630 | I20: =+I22 -> -630 | J20: =+J22 -> 8300
F21: այդ թվում` ըստ կատարողների
F22: Հայաստանի Հանրապետության քաղաքաշինության կոմիտե | G22: =+G24 -> -630 | H22: =+H24 -> -630 | I22: =+I24 -> -630 | J22: =+J24 -> 8300
F23: այդ թվում` բյուջետային ծախսերի տնտեսագիտական դասակարգման հոդվածներ
F24: ԸՆԴԱՄԵՆԸ ԾԱԽՍԵՐ | G24: =+G25 -> -630 | H24: =+H25 -> -630 | I24: =+I25 -> -630 | J24: =+J25 -> 8300
F25: ՈՉ ՖԻՆԱՆՍԱԿԱՆ ԱԿՏԻՎՆԵՐԻ ԳԾՈՎ ԾԱԽՍԵՐ | G25: =+G26 -> -630 | H25: =+H26 -> -630 | I25: =+I26 -> -630 | J25: =+J26 -> 8300
F26: ՀԻՄՆԱԿԱՆ ՄԻՋՈՑՆԵՐ | G26: =+G27 -> -630 | H26: =+H27 -> -630 | I26: =+I27 -> -630 | J26: =+J27 -> 8300
F27: ԱՅԼ ՀԻՄՆԱԿԱՆ ՄԻՋՈՑՆԵՐ | G27: =+G28 -> -630 | H27: =+H28 -> -630 | I27: =+I28 -> -630 | J27: =+J28 -> 8300
F28: - Նախագծահետազոտական ծախսեր | G28: -630 | H28: -630 | I28: -630 | J28: =+'7'!I14 -> 8300
A29: 06 | F29: ԲՆԱԿԱՐԱՆԱՅԻՆ ՇԻՆԱՐԱՐՈՒԹՅՈՒՆ ԵՎ ԿՈՄՈՒՆԱԼ ԾԱՌԱՅՈՒԹՅՈՒՆՆԵՐ | G29: =+G31+G48 -> 630 | H29: =+H31+H48 -> 630 | I29: =+I31+I48 -> 630 | J29: =+J31+J48 -> -8300
F30: այդ թվում՝
B31: 02 | F31: Համայնքային զարգացում | G31: =G33 -> 0 | H31: =H33 -> 0 | I31: =I33 -> 0 | J31: =J33 -> -10088
F32: այդ թվում՝
C33: 01 | F33: Համայնքային զարգացում | G33: =G37 -> 0 | H33: =H37 -> 0 | I33: =I37 -> 0 | J33: =J37 -> -10088
F34: այդ թվում՝
F35: ՀՀ քաղաքաշինության կոմիտե | G35: =G37 -> 0 | H35: =H37 -> 0 | I35: =I37 -> 0 | J35: =J37 -> -10088
F36: այդ թվում՝
D37: 1103 | F37: Քաղաքաշինության և ճարտարապետության բնագավառում պետական քաղաքականության իրականացում և կանոնակարգում | G37: =G39 -> 0 | H37: =H39 -> 0 | I37: =I39 -> 0 | J37: =J39 -> -10088
F38: այդ թվում`
E39: 11003 | F39: Միկրոռեգիոնալ մակարդակի համակցված տարածական պլանավորման փաստաթղթերի մշակում | G39: =G41 -> 0 | H39: =H41 -> 0 | I39: =I41 -> 0 | J39: =J41 -> -10088
F40: այդ թվում ըստ կատարողների
F41: Հայաստանի Հանրապետության քաղաքաշինության կոմիտե | G41: =G43 -> 0 | H41: =H43 -> 0 | I41: =I43 -> 0 | J41: =J43 -> -10088
F42: այդ թվում` բյուջետային ծախսերի տնտեսագիտական դասակարգման հոդվածներ
F43: ԸՆԴԱՄԵՆԸ ԾԱԽՍԵՐ | G43: =G46 -> 0 | H43: =H46 -> 0 | I43: =I46 -> 0 | J43: =J46 -> -10088
F44: ՈՉ ՖԻՆԱՆՍԱԿԱՆ ԱԿՏԻՎՆԵՐԻ ԳԾՈՎ ԾԱԽՍԵՐ | G44: =G46 -> 0 | H44: =H46 -> 0 | I44: =I46 -> 0 | J44: =J46 -> -10088
F45: ՀԻՄՆԱԿԱՆ ՄԻՋՈՑՆԵՐ | G45: =+G46 -> 0 | H45: =+H46 -> 0 | I45: =+I46 -> 0 | J45: =+J46 -> -10088
F46: ԱՅԼ ՀԻՄՆԱԿԱՆ ՄԻՋՈՑՆԵՐ | G46: =G47 -> 0 | H46: =H47 -> 0 | I46: =I47 -> 0 | J46: =J47 -> -10088
F47: -Նախագծահետազոտական ծախսեր | G47: =+'[1]3'!D19 -> 0 | H47: 0 | I47: 0 | J47: =+'7'!I20 -> -10088
B48: 06 | F48: Բնակարանային շինարարության և կոմունալ ծառայություններ (այլ դասերին չպատկանող) | G48: =G50 -> 630 | H48: =H50 -> 630 | I48: =I50 -> 630 | J48: =J50 -> 1788
F49: այդ թվում՝
C50: 01 | F50: Բնակարանային շինարարության և կոմունալ ծառայություններ (այլ դասերին չպատկանող) | G50: =+G52 -> 630 | H50: =+H52 -> 630 | I50: =+I52 -> 630 | J50: =+J52 -> 1788
F51: այդ թվում՝
F52: ՀՀ քաղաքաշինության կոմիտե | G52: =G54 -> 630 | H52: =H54 -> 630 | I52: =+I54 -> 630 | J52: =+J54 -> 1788
F53: այդ թվում՝
D54: 1103 | F54: Քաղաքաշինության և ճարտարապետության բնագավառում պետական քաղաքականության իրականացում և կանոնակարգում | G54: =+G56 -> 630 | H54: =+H56 -> 630 | I54: =+I56 -> 630 | J54: =+J56 -> 1788
F55: այդ թվում`
E56: 31001 | F56: Քաղաքաշինության կոմիտեի կարողությունների զարգացում և տեխնիկական հագեցվածության ապահովում | G56: =+G58 -> 630 | H56: =+H58 -> 630 | I56: =+I58 -> 630 | J56: =+J58 -> 1788
F57: այդ թվում` ըստ կատարողների
F58: ՀՀ քաղաքաշինության կոմիտե | G58: =+G60 -> 630 | H58: =+H60 -> 630 | I58: =+I60 -> 630 | J58: =+J60 -> 1788
F59: այդ թվում` բյուջետային ծախսերի տնտեսագիտական դասակարգման հոդվածներ
F60: ԸՆԴԱՄԵՆԸ ԾԱԽՍԵՐ | G60: =+G61 -> 630 | H60: =+H61 -> 630 | I60: =+I61 -> 630 | J60: =+J61 -> 1788
F61: ՈՉ ՖԻՆԱՆՍԱԿԱՆ ԱԿՏԻՎՆԵՐԻ ԳԾՈՎ ԾԱԽՍԵՐ | G61: =+G62 -> 630 | H61: =+H62 -> 630 | I61: =+I62 -> 630 | J61: =+J62 -> 1788
F62: ՀԻՄՆԱԿԱՆ ՄԻՋՈՑՆԵՐ | G62: =G63 -> 630 | H62: =H63 -> 630 | I62: =I63 -> 630 | J62: =J63 -> 1788
F63: ՄԵՔԵՆԱՆԵՐ ԵՎ ՍԱՐՔԱՎՈՐՈՒՄՆԵՐ | G63: =+G64 -> 630 | H63: =+H64 -> 630 | I63: =+I64 -> 630 | J63: =+J64 -> 1788
F64: - Վարչական սարքավորումներ | G64: 630 | H64: 630 | I64: 630 | J64: =+'7'!I26+'7'!I27+'7'!I28 -> 1788

Sheet 4
F1: Հավելված № 4
D2: ՀՀ կառավարության 2022 թվականի
E3: № ------------ -Ն որոշման
A5: «ՀԱՅԱՍՏԱՆԻ ՀԱՆՐԱՊԵՏՈՒԹՅԱՆ 2022 ԹՎԱԿԱՆԻ ՊԵՏԱԿԱՆ ԲՅՈՒՋԵԻ ՄԱՍԻՆ» ՀԱՅԱՍՏԱՆԻ ՀԱՆՐԱՊԵՏՈՒԹՅԱՆ ՕՐԵՆՔԻ ՀԱՎԵԼՎԱԾ 1-Ի N 3 ԱՂՅՈՒՍԱԿՈՒՄ ԿԱՏԱՐՎՈՂ ՓՈՓՈԽՈՒԹՅՈՒՆՆԵՐԸ ԵՎ ԼՐԱՑՈՒՄՆԵՐԸ
H6: (հազ. դրամ)
A7: Ծրագրային դասիչը | C7: Բյուջետային գլխավոր կարգադրիչների, ծրագրերի, միջոցառումների, միջոցառումները կատարող պետական մարմինների և ուղղությունների անվանումները | D7: Ընդամենը | E7: Կառուցման աշխատանքներ | F7: Վերակառուցմա,Վերակառուցմա, վերանորոգման և վերականգնման աշխատանքներ | G7: Նախագծահետազոտական, գեոդեզիա-քարտեզագրական աշխատանքներ | H7: Ոչ ֆինանսական այլ ակտիվերի ձեռքբերում
A8: ծրագիրը | B8: միջոցառումը | C8: ԸՆԴԱՄԵՆԸ | D8: =+D10 -> 0 | E8: =+E10 -> 0 | F8: =+F10 -> 0 | G8: =+G10 -> -1788 | H8: =+H10 -> 1788
C9: այդ թվում`
C10: ՀՀ քաղաքաշինության կոմիտե | D10: =+E10+F10+G10+H10 -> 0 | E10: =+E12+E13+E15 -> 0 | F10: =+F12+F13+F15 -> 0 | G10: =+G12+G13+G15 -> -1788 | H10: =+H12+H13+H15 -> 1788
C11: այդ թվում`
A12: 1103 | B12: 11002 | C12: Նորմատիվատեխնիկական փաստաթղթերի մշակում և տեղայնացում | D12: =+E12+F12+G12+H12 -> 8300 | E12: =SUM(E13:E13) -> 0 | F12: =SUM(F13:F13) -> 0 | G12: =+'7'!I14 -> 8300 | H12: =SUM(H13:H13) -> 0
A13: 1103 | B13: 11003 | C13: Միկրոռեգիոնալ մակարդակի համակցված տարածական պլանավորման փաստաթղթերի մշակում | D13: =+E13+F13+G13+H13 -> -10088 | E13: =+E14 -> 0 | F13: =+F14 -> 0 | G13: =+G14 -> -10088 | H13: =+H14 -> 0
C14: ՀՀ Գեղարքունի մարզի համայնքների (մասնակի) համակցված տարածական պլանավորման թվով 8 փաստաթղթերի նախագծերի մշակում (տարածքային հատակագծման նախագծի և փորձաքննությունների մասով) | D14: =+E14+F14+G14+H14 -> -10088 | G14: =+'7'!I20 -> -10088
A15: 1103 | B15: 31001 | C15: Քաղաքաշինության կոմիտեի կարողությունների զարգացում և տեխնիկական հագեցվածության ապահովում | D15: =+E15+F15+G15+H15 -> 1788 | H15: =+'7'!I24 -> 1788

Sheet 5
E1: Հավելված № 5
D2: ՀՀ կառավարության 2022 թվականի
E3: № ------------ -Ն որոշման
A4: ՀԱՅԱՍՏԱՆԻ ՀԱՆՐԱՊԵՏՈՒԹՅԱՆ ԿԱՌԱՎԱՐՈՒԹՅԱՆ 2021 ԹՎԱԿԱՆԻ ԴԵԿՏԵՄԲԵՐԻ 23-Ի N 2121-Ն ՈՐՈՇՄԱՆ N 9 ՀԱՎԵԼՎԱԾԻ 9.33 ԱՂՅՈՒՍԱԿՈՒՄ ԿԱՏԱՐՎՈՂ ՓՈՓՈԽՈՒԹՅՈՒՆՆԵՐԸ ԵՎ ԼՐԱՑՈՒՄՆԵՐԸ
A5: ՀՀ Քաղաքաշինության կոմիտե
A6: ՄԱՍ 2. ՊԵՏԱԿԱՆ ՄԱՐՄՆԻ ԳԾՈՎ ԱՐԴՅՈՒՆՔԱՅԻՆ (ԿԱՏԱՐՈՂԱԿԱՆ) ՑՈՒՑԱՆԻՇՆԵՐԸ
A7: Ծրագրի դասիչը | B7: Ծրագրի անվանումը
A8: 1103 | B8: Քաղաքաշինության և ճարտարապետության բնագավառում պետական քաղաքականության իրականացում և կանոնակարգում
A10: Ծրագրի միջոցառումները
A13: Ծրագրի դասիչը` | B13: 1103 | C13: Ցուցանիշների փոփոխությունը (ավելացումները նշված են դրական նշանով, իսկ նվազեցումները՝ փակագծերում)
A14: Միջոցառման դասիչը` | B14: 11002 | C14: Առաջին եռամսյակ | D14: Առաջին կիսամյակ | E14: Ինն ամիս | F14: Տարի
A15: Միջոցառման անվանումը` | B15: Նորմատիվատեխնիկական փաստաթղթերի մշակում և տեղայնացում
A16: Նկարագրությունը` | B16: Միջպետական (տարածաշրջանային), միջազգային և եվրոպական նորմերին ու ստանդարտներին համահունչ ազգային քաղաքաշինական նորմատիվ փաստաթղթերի մշակում, տեղայնացում, արդիականացում և բազայի համալրում
A17: Միջոցառման տեսակը` | B17: Ծառայությունների մատուցում
A18: Միջոցառումն իրականացնողի անվանումը՛ | B18: Մասնագիտացված կազմակերպություն
A19: Արդյունքի չափորոշիչներ
A20: Միջոցառման վրա կատարվող ծախսը (հազար դրամ) | C20: =+'3'!G20 -> -630 | D20: =+'3'!H20 -> -630 | E20: =+'3'!I20 -> -630 | F20: =+'3'!J20 -> 8300
A22: Ծրագրի դասիչը` | B22: 1103 | C22: Ցուցանիշների փոփոխությունը (նվազեցումը նշված է փակագծերում)
A23: Միջոցառման դասիչը` | B23: 11003 | C23: Առաջին եռամսյակ | D23: Առաջին կիսամյակ | E23: Ինն ամիս | F23: Տարի
A24: Միջոցառման անվանումը` | B24: Միկրոռեգիոնալ մակարդակի համակցված տարածական պլանավորման փաստաթղթերի մշակում
A25: Նկարագրությունը` | B25: Միկրոռեգիոնների տարածքային հատակագծման նախագծերի և բնակավայրերի գոտևորման նախագծերի մշակում: Նշված փաստաթղթերը համարժեք են համայնքի գլխավոր հատակագծին և հիմք են հողօգտագործման գործառույթներն իրականացնելու համար
A26: Միջոցառման տեսակը` | B26: Ծառայությունների մատուցում
A27: Միջոցառումն իրականացնողի անվանումը՛ | B27: Մասնագիտացված կազմակերպություն
A28: Արդյունքի չափորոշիչներ
A29: Միջոցառման վրա կատարվող ծախսը (հազար դրամ) | C29: =+'3'!G39 -> 0 | D29: =+'3'!H39 -> 0 | E29: =+'3'!I39 -> 0 | F29: =+'3'!J39 -> -10088
A32: Ծրագրի դասիչը` | B32: 1103 | C32: Ցուցանիշների փոփոխությունը (ավելացումները նշված են դրական նշանով)
A33: Միջոցառման դասիչը` | B33: 31001 | C33: Առաջին եռամսյակ | D33: Առաջին կիսամյակ | E33: Ինն ամիս | F33: Տարի
A34: Միջոցառման անվանումը` | B34: Քաղաքաշինության կոմիտեի կարողությունների զարգացում և տեխնիկական հագեցվածության ապահովում
A35: Նկարագրությունը` | B35: Քաղաքաշինության կոմիտեի աշխատանքային պայմանների բարելավման համար վարչական սարքավորումների ձեռք բերում
A36: Միջոցառման տեսակը` | B36: Պետական մարմինների կողմից օգտագործվող ոչ ֆինանսական ակտիվների հետ գործառնություններ
A37: Ակտիվն օգտագործող կազմակերպության անվանումը | B37: ՀՀ քաղաքաշինության կոմիտե
A38: Արդյունքի չափորոշիչներ
A39: Միջոցառման վրա կատարվող ծախսը (հազար դրամ) | C39: =+'3'!G56 -> 630 | D39: =+'3'!H56 -> 630 | E39: =+'3'!I56 -> 630 | F39: =+'3'!J56 -> 1788

Sheet 6
D1: Հավելված № 6
B2: ՀՀ կառավարության 2022 թվականի
C3: № ------------ -Ն որոշման
A6: ՀԱՅԱՍՏԱՆԻ ՀԱՆՐԱՊԵՏՈՒԹՅԱՆ ԿԱՌԱՎԱՐՈՒԹՅԱՆ 2021 ԹՎԱԿԱՆԻ ԴԵԿՏԵՄԲԵՐԻ 23-Ի N 2121-Ն ՈՐՈՇՄԱՆ N 9.1 ՀԱՎԵԼՎԱԾԻ 9.1.42 ԱՂՅՈՒՍԱԿՈՒՄ ԿԱՏԱՐՎՈՂ ՓՈՓՈԽՈՒԹՅՈՒՆՆԵՐԸ ԵՎ ԼՐԱՑՈՒՄՆԵՐԸ
A7: ՀՀ Քաղաքաշինության կոմիտե
A8: ՄԱՍ 1. ՊԵՏԱԿԱՆ ՄԱՐՄՆԻ ԳԾՈՎ ԱՐԴՅՈՒՆՔԱՅԻՆ (ԿԱՏԱՐՈՂԱԿԱՆ) ՑՈՒՑԱՆԻՇՆԵՐԸ
A10: Ծրագրի դասիչը | B10: Ծրագրի անվանումը
A11: 1103 | B11: Քաղաքաշինության և ճարտարապետության բնագավառում պետական քաղաքականության իրականացում և կանոնակարգում
A13: Ծրագրի միջոցառումները
A16: Ծրագրի դասիչը` | B16: 1103 | C16: Ցուցանիշների փոփոխությունը (ավելացումները նշված են դրական նշանով, իսկ նվազեցումները՝ փակագծերում)
A17: Միջոցառման դասիչը` | B17: 11002 | C17: Առաջին եռամսյակ | D17: Առաջին կիսամյակ | E17: Ինն ամիս | F17: Տարի
A18: Միջոցառման անվանումը` | B18: Նորմատիվատեխնիկական փաստաթղթերի մշակում և տեղայնացում
A19: Նկարագրությունը` | B19: Միջպետական (տարածաշրջանային), միջազգային և եվրոպական նորմերին ու ստանդարտներին համահունչ ազգային քաղաքաշինական նորմատիվ փաստաթղթերի մշակում, տեղայնացում, արդիականացում և բազայի համալրում
A20: Միջոցառման տեսակը` | B20: Ծառայությունների մատուցում
A21: Միջոցառումն իրականացնողի անվանումը՛ | B21: Մասնագիտացված կազմակերպություն
A22: Արդյունքի չափորոշիչներ
A23: Միջոցառման վրա կատարվող ծախսը (հազար դրամ) | C23: =+'5'!C20 -> -630 | D23: =+'5'!D20 -> -630 | E23: =+'5'!E20 -> -630 | F23: =+'5'!F20 -> 8300
A25: Ծրագրի դասիչը` | B25: 1103 | C25: Ցուցանիշների փոփոխությունը (նվազեցումը նշված է փակագծերում)
A26: Միջոցառման դասիչը` | B26: 11003 | C26: Առաջին եռամսյակ | D26: Առաջին կիսամյակ | E26: Ինն ամիս | F26: Տարի
A27: Միջոցառման անվանումը` | B27: Միկրոռեգիոնալ մակարդակի համակցված տարածական պլանավորման փաստաթղթերի մշակում
A28: Նկարագրությունը` | B28: Միկրոռեգիոնների տարածքային հատակագծման նախագծերի և բնակավայրերի գոտևորման նախագծերի մշակում: Նշված փաստաթղթերը համարժեք են համայնքի գլխավոր հատակագծին և հիմք են հողօգտագործման գործառույթներն իրականացնելու համար
A29: Միջոցառման տեսակը` | B29: Ծառայությունների մատուցում
A30: Միջոցառումն իրականացնողի անվանումը՛ | B30: Մասնագիտացված կազմակերպություն
A31: Արդյունքի չափորոշիչներ
A32: Միջոցառման վրա կատարվող ծախսը (հազար դրամ) | C32: =+'5'!C29 -> 0 | D32: =+'5'!D29 -> 0 | E32: =+'5'!E29 -> 0 | F32: =+'5'!F29 -> -10088
A35: Ծրագրի դասիչը` | B35: 1103 | C35: Ցուցանիշների փոփոխությունը (ավելացումները նշված են դրական նշանով)
A36: Միջոցառման դասիչը` | B36: 31001 | C36: Առաջին եռամսյակ | D36: Առաջին կիսամյակ | E36: Ինն ամիս | F36: Տարի
A37: Միջոցառման անվանումը` | B37: Քաղաքաշինության կոմիտեի կարողությունների զարգացում և տեխնիկական հագեցվածության ապահովում
A38: Նկարագրությունը` | B38: Քաղաքաշինության կոմիտեի աշխատանքային պայմանների բարելավման համար վարչական սարքավորումների ձեռք բերում
A39: Միջոցառման տեսակը` | B39: Պետական մարմինների կողմից օգտագործվող ոչ ֆինանսական ակտիվների հետ գործառնություններ
A40: Ակտիվն օգտագործող կազմակերպության անվանումը | B40: ՀՀ քաղաքաշինության կոմիտե
A41: Արդյունքի չափորոշիչներ
A42: Միջոցառման վրա կատարվող ծախսը (հազար դրամ) | C42: =+'3'!G64 -> 630 | D42: =+'3'!H64 -> 630 | E42: =+'3'!I64 -> 630 | F42: =+'3'!J64 -> 1788

Sheet 7
G1: Հավելված № 7
E2: ՀՀ կառավարության 2022 թվականի
F3: № ------------ -Ն որոշման
A6: ՀԱՅԱՍՏԱՆԻ ՀԱՆՐԱՊԵՏՈՒԹՅԱՆ ԿԱՌԱՎԱՐՈՒԹՅԱՆ 2021 ԹՎԱԿԱՆԻ ԴԵԿՏԵՄԲԵՐԻ 21-Ի № 2121-Ն ՈՐՈՇՄԱՆ N 10 ՀԱՎԵԼՎԱԾՈՒՄ ԿԱՏԱՐՎՈՂ ՓՈՓՈԽՈՒԹՅՈՒՆՆԵՐԸ ԵՎ ԼՐԱՑՈՒՄՆԵՐԸ
I7: (հազ. դրամ)
A8: կոդը | B8: անվանումը | E8: Գնման ձևը | F8: Չափի միավորը | G8: Միավորի գինը | H8: Ցուցանիշների փոփոխությունը (ավելացումները նշված են դրական նշանով, իսկ նվազեցումները՝ փակագծերում)
H9: Քանակը | I9: Գումարը (հազար դրամով)
A10: 1 | B10: 2 | C10: 3 | E10: 4 | G10: 5 | H10: 6 | I10: 7
A11: ՀՀ Քաղաքաշինության կոմիտե | I11: =+I13+I19+I23 -> 0
A13: Բաժին N 04 | B13: Խումբ N 04 | C13: Դաս N 03 | D13: Շինարարություն | I13: =+I14 -> 8300
A14: 1103 11002 | B14: Նորմատիվատեխնիկական փաստաթղթերի մշակում և տեղայնացում | I14: =+I15 -> 8300
B15: ՄԱՍ III. ԾԱՌԱՅՈՒԹՅՈՒՆՆԵՐ | I15: =SUM(I16:I18) -> 8300
A16: 71241200-14 | B16: նախագծերի պատրաստում, ծախսերի գնահատում | E16: գհ | F16: դրամ | I16: -1447.5
A17: 71241200-18 | B17: նախագծերի պատրաստում, ծախսերի գնահատում | E17: գհ | F17: դրամ | I17: 5000
A18: 71241200-19 | B18: նախագծերի պատրաստում, ծախսերի գնահատում | E18: գհ | F18: դրամ | I18: 4747.5
A19: Բաժին N 06 | B19: Խումբ N 02 | C19: Դաս N 01 | D19: Համայնքային զարգացում | I19: =+I20 -> -10088
A20: 1103 11003 | B20: Միկրոռեգիոնալ մակարդակի համակցված տարածական պլանավորման փաստաթղթերի մշակում | I20: =+I21 -> -10088
B21: ՄԱՍ III. ԾԱՌԱՅՈՒԹՅՈՒՆՆԵՐ | I21: =+I22 -> -10088
A22: 71241200-591 | B22: նախագծերի պատրաստում, ծախսերի գնահատում | E22: ԲՄ | F22: դրամ | H22: 1 | I22: =-11600+1512 -> -10088
A23: Բաժին N 06 | B23: Խումբ N 06 | C23: Դաս N 01 | D23: Բնակարանային շինարարության և կոմունալ ծառայություններ (այլ դասերին չպատկանող) | I23: =+I24 -> 1788
A24: 1103 31001 | B24: Քաղաքաշինության կոմիտեի կարողությունների զարգացում և տեխնիկական հագեցվածության ապահովում | I24: =+I25 -> 1788
B25: ՄԱՍ I. Ա Պ Ր Ա Ն Ք Ն Ե Ր | I25: =+I26+I27+I28 -> 1788
A26: 30211280-2 | B26: համակարգիչ ամբողջը մեկում | E26: ԷԱՃ | F26: հատ | G26: 386000 | H26: 3 | I26: =+G26*H26/1000 -> 1158
A27: 32551160-1 | B27: հեռախոսային սարքեր | E27: ՄԱ | F27: հատ | G27: 600000 | H27: 1 | I27: =+G27*H27/1000 -> 600
A28: 30232400-1 | B28: սմարթ քարտեր կարդացող սարքեր | E28: ԷԱՃ | F28: հատ | G28: 6000 | H28: 5 | I28: =+G28*H28/1000 -> 30
