Workbook
Name _tab10: #REF!
Name _tab10: #REF!
Name _tab11: #REF!
Name _tab11: #REF!
Name _tab12: #REF!
Name _tab12: #REF!
Name _tab13: #REF!
Name _tab13: #REF!
Name _tab14: #REF!
Name _tab14: #REF!
Name _tab15: #REF!
Name _tab15: #REF!
Name _tab16: #REF!
Name _tab16: #REF!
Name _tab17: #REF!
Name _tab17: #REF!
Name _tab18: #REF!
Name _tab18: #REF!
Name _tab19: #REF!
Name _tab19: #REF!
Name _tab20: #REF!
Name _tab20: #REF!
Name _tab21: #REF!
Name _tab21: #REF!
Name _tab22: #REF!
Name _tab22: #REF!
Name _tab23: #REF!
Name _tab23: #REF!
Name _tab24: #REF!
Name _tab24: #REF!
Name _tab5: #REF!
Name _tab5: #REF!
Name _tab6: #REF!
Name _tab6: #REF!
Name _tab7: #REF!
Name _tab7: #REF!
Name _tab8: #REF!
Name _tab8: #REF!
Name _tab9: #REF!
Name _tab9: #REF!
Name par_count: #REF!,#REF!,#REF!,#REF!,#REF!,#REF!,#REF!,#REF!,#REF!,#REF!,#REF!,#REF!,#REF!,#REF!,#REF!
Name par_count: #REF!,#REF!,#REF!,#REF!,#REF!,#REF!,#REF!,#REF!,#REF!,#REF!,#REF!,#REF!,#REF!,#REF!,#REF!
Name par_qual: #REF!,#REF!,#REF!,#REF!,#REF!
Name par_qual: #REF!,#REF!,#REF!,#REF!,#REF!
Name par_time: #REF!,#REF!,#REF!,#REF!
Name par_time: #REF!,#REF!,#REF!,#REF!
Name par2.12s: #REF!
Name par2.12s: #REF!
Name par2.4s: #REF!,#REF!,#REF!,#REF!,#REF!,#REF!,#REF!,#REF!,#REF!,#REF!,#REF!,#REF!,#REF!,#REF!,#REF!,#REF!
Name par2.4s: #REF!,#REF!,#REF!,#REF!,#REF!,#REF!,#REF!,#REF!,#REF!,#REF!,#REF!,#REF!,#REF!,#REF!,#REF!,#REF!
Name par2.5s: #REF!,#REF!
Name par2.5s: #REF!,#REF!
Name par2.6s: #REF!,#REF!,#REF!,#REF!
Name par2.6s: #REF!,#REF!,#REF!,#REF!
Name par2.7s: #REF!,#REF!
Name par2.7s: #REF!,#REF!
Name par2.9s: #REF!,#REF!,#REF!,#REF!,#REF!,#REF!,#REF!,#REF!,#REF!,#REF!,#REF!,#REF!,#REF!,#REF!,#REF!,#REF!
Name par2.9s: #REF!,#REF!,#REF!,#REF!,#REF!,#REF!,#REF!,#REF!,#REF!,#REF!,#REF!,#REF!,#REF!,#REF!,#REF!,#REF!
Name par4.10s: #REF!,#REF!
Name par4.10s: #REF!,#REF!

Sheet 1
G1: Հավելված № 1
G2: ՀՀ կառավարության 2022 թվականի
G3: -------------- ի № ---- -Ն որոշման
A5: «ՀԱՅԱՍՏԱՆԻ ՀԱՆՐԱՊԵՏՈՒԹՅԱՆ 2022 ԹՎԱԿԱՆԻ ՊԵՏԱԿԱՆ ԲՅՈՒՋԵԻ ՄԱՍԻՆ» ՕՐԵՆՔԻ N 1 ՀԱՎԵԼՎԱԾԻ N 7 ԱՂՅՈՒՍԱԿՈՒՄ ԵՎ ՀԱՅԱՍՏԱՆԻ ՀԱՆՐԱՊԵՏՈՒԹՅԱՆ ԿԱՌԱՎԱՐՈՒԹՅԱՆ 2021 ԹՎԱԿԱՆԻ ԴԵԿՏԵՄԲԵՐԻ 23-Ի N 2121-Ն ՈՐՈՇՄԱՆ N 5 ՀԱՎԵԼՎԱԾԻ N 6 ԱՂՅՈՒՍԱԿՈՒՄ ԿԱՏԱՐՎՈՂ ՓՈՓՈԽՈՒԹՅՈՒՆԸ ԵՎ ԼՐԱՑՈՒՄՆԵՐԸ
G6: հազար դրամ
A7: Ծրագրային դասիչը | C7: Բյուջետային հատկացումների գլխավոր կարգադրիչների, ծրագրերի, միջոցառումների և միջոցառումները կատարող պետական մարմինների անվանումները | D7: Ցուցանիշների փոփոխությունը (ավելացումները նշված են դրական նշանով, իսկ նվազեցումները` փակագծերում)
A8: Ծրագիր | B8: Միջոցառում | D8: Առաջին եռամսյակ | E8: Առաջին կիսամյակ | F8: Ինն ամիս | G8: Տարի
C9: ԸՆԴԱՄԵՆԸ | D9: =+D11 -> 0 | E9: =+E11 -> 0 | F9: =+F11 -> 0 | G9: =+G11 -> 0
C10: այդ թվում
C11: Կապիտալ սուբվենցիաներ համայնքներին | D11: =+D13 -> 0 | E11: =+E13 -> 0 | F11: =+F13 -> 0 | G11: =+G13 -> 0
C12: այդ թվում`
C13: ՀՀ տարածքային կառավարման և ենթակառուցվածքների նախարարություն | D13: =+D15 -> 0 | E13: =+E15 -> 0 | F13: =+F15 -> 0 | G13: =+G15 -> 0
C14: այդ թվում`
A15: 1212 | C15: Տարածքային զարգացում | D15: =+D17 -> 0 | E15: =+E17 -> 0 | F15: =+F17 -> 0 | G15: =+G17 -> 0
C16: այդ թվում`
B17: 12007 | C17: ՀՀ մարզերին սուբվենցիաների տրամադրում՝ ենթակառուցվածքների զարգացման նպատակով | D17: 0 | E17: 0 | F17: 0 | G17: 0
C18: այդ թվում` ըստ կատարողների
C19: ՀՀ կառավարություն | D19: =-(D20+D23+D28+D34+D40+D44) -> -1435428.6 | E19: =-(E20+E23+E28+E34+E40+E44) -> -1435428.6 | F19: =-(F20+F23+F28+F34+F40+F44) -> -1435428.6 | G19: =-(G20+G23+G28+G34+G40+G44) -> -1435428.6
C20: ՀՀ Արագածոտնի մարզպետարան | D20: =SUM(D22:D22) -> 4311.3 | E20: =SUM(E22:E22) -> 4311.3 | F20: =SUM(F22:F22) -> 4311.3 | G20: =SUM(G22:G22) -> 4311.3
C21: այդ թվում` ըստ ուղղությունների
C22: Բյուրական համայնքի փողոցների արտաքին լուսավորության աշխատանքներ | D22: 4311.3 | E22: 4311.3 | F22: 4311.3 | G22: 4311.3
C23: ՀՀ Արարատի մարզպետարան | D23: =SUM(D25:D27) -> 42527.7 | E23: =SUM(E25:E27) -> 42527.7 | F23: =SUM(F25:F27) -> 42527.7 | G23: =SUM(G25:G27) -> 42527.7
C24: այդ թվում` ըստ ուղղությունների
C25: Վարդաշեն համայնքի ոռոգման ներտնտեսային ցանցի բարելավման աշխատանքներ | D25: 9689.8 | E25: 9689.8 | F25: 9689.8 | G25: 9689.8
C26: Արտաշատ համայնքի Օգոստոսի 23 փողոցի, թիվ 23, Արազի փողոցի թիվ 39, Շահումյան փողոցի թիվ 30 բազմաբնակարան բնակելի շենքերի տանիքների հիմնանորոգում | D26: 20027.2 | E26: 20027.2 | F26: 20027.2 | G26: 20027.2
C27: Մասիս քաղաքի 38 շենք ոստիկանություն տանող ճանապարհի և մայթի կառուցում | D27: 12810.7 | E27: 12810.7 | F27: 12810.7 | G27: 12810.7
C28: ՀՀ Գեղարքունիքի մարզպետարան | D28: =SUM(D30:D33) -> 145877.5 | E28: =SUM(E30:E33) -> 145877.5 | F28: =SUM(F30:F33) -> 145877.5 | G28: =SUM(G30:G33) -> 145877.5
C29: այդ թվում` ըստ ուղղությունների
C30: Ծովինար համայնքի խմելու ջրագծի կառուցում | D30: 104324.5 | E30: 104324.5 | F30: 104324.5 | G30: 104324.5
C31: Գեղարքունիք համայնքի խմելու ջրի ջրագծի հիմնանորոգում | D31: 11004.1 | E31: 11004.1 | F31: 11004.1 | G31: 11004.1
C32: Ճամբարակ համայնքի Իսահակյան, Վերին Ճամբարակ թաղամասերի, ինչպես նաև Այգուտ բնակավայրի ջրագծերի ներքին և/կամ արտաքին ցանցերի կառուցման աշխատանքներ | D32: 14885.7 | E32: 14885.7 | F32: 14885.7 | G32: 14885.7
C33: Ճամբարակ քաղաքի Գ․ Նժդեհի 103 և Տ․ Մեծի 107 բազմաբնակարան շենքերի տանիքների վերանորոգման աշխատանքներ | D33: 15663.2 | E33: 15663.2 | F33: 15663.2 | G33: 15663.2
C34: ՀՀ Լոռու մարզպետարան | D34: =SUM(D36:D39) -> 38189.5 | E34: =SUM(E36:E39) -> 38189.5 | F34: =SUM(F36:F39) -> 38189.5 | G34: =SUM(G36:G39) -> 38189.5
C35: այդ թվում` ըստ ուղղությունների
C36: Ախթալա համայնքի Շամլուղ բնակավայրի զբոսայգու վերանորոգում | D36: 7660.4 | E36: 7660.4 | F36: 7660.4 | G36: 7660.4
C37: Ջրաշեն համայնքում 20 կվտ պիկ հզորության եռաֆազ, ֆոտոլարային արևային կայանի կառուցում | D37: 3133.2 | E37: 3133.2 | F37: 3133.2 | G37: 3133.2
C38: Ջրաշեն համայնքի ճանապարհային էներգաարդյունավետ լուսավորության համակարգի կառուցում | D38: 15543.4 | E38: 15543.4 | F38: 15543.4 | G38: 15543.4
C39: Սարամեջ համայնքի գազիֆիկացում | D39: 11852.5 | E39: 11852.5 | F39: 11852.5 | G39: 11852.5
C40: ՀՀ Շիրակի մարզպետարան | D40: =SUM(D42:D43) -> 23631.6 | E40: =SUM(E42:E43) -> 23631.6 | F40: =SUM(F42:F43) -> 23631.6 | G40: =SUM(G42:G43) -> 23631.6
C41: այդ թվում` ըստ ուղղությունների
...

Sheet 2
J1: Հավելված № 2
J2: ՀՀ կառավարության 2022 թվականի
J3: -------------- ի № ---- -Ն որոշման
A5: ՀԱՅԱՍՏԱՆԻ ՀԱՆՐԱՊԵՏՈՒԹՅԱՆ ԿԱՌԱՎԱՐՈՒԹՅԱՆ 2021 ԹՎԱԿԱՆԻ ԴԵԿՏԵՄԲԵՐԻ 23-Ի № 2121-Ն ՈՐՈՇՄԱՆ №№ 3 և 4 ՀԱՎԵԼՎԱԾՆԵՐՈՒՄ ԿԱՏԱՐՎՈՂ ՓՈՓՈԽՈՒԹՅՈՒՆՆԵՐԸ ԵՎ ԼՐԱՑՈՒՄՆԵՐԸ
J6: հազար դրամ
A7: Գործառական դասիչը | D7: Ծրագրային դասիչը | F7: Բյուջետային հատկացումների գլխավոր կարգադրիչների, ծրագրերի, միջոցառումների և միջոցառումները կատարող պետական մարմինների անվանումները | G7: Ցուցանիշների փոփոխությունները (ավելացումները նշված են դրական նշանով իսկ նվազեցումները` փակագծերում)
A8: բաժին | B8: խումբ | C8: դաս | D8: Ծրագիր | E8: Միջոցառում | G8: Առաջին եռամսյակ | H8: Առաջին կիսամյակ | I8: Ինն ամիս | J8: Տարի
A9: ԸՆԴԱՄԵՆԸ ԾԱԽՍԵՐ | G9: =+G10 -> 0 | H9: =+H10 -> 0 | I9: =+I10 -> 0 | J9: =+J10 -> 0
A10: 01 | F10: ԸՆԴՀԱՆՈՒՐ ԲՆՈՒՅԹԻ ՀԱՆՐԱՅԻՆ ԾԱՌԱՅՈՒԹՅՈՒՆՆԵՐ | G10: =+G12 -> 0 | H10: =+H12 -> 0 | I10: =+I12 -> 0 | J10: =+J12 -> 0
F11: այդ թվում՝
B12: 08 | F12: Կառավարության տարբեր մակարդակների միջև իրականացվող ընդհանուր բնույթի տրանսֆերտներ | G12: =+G14 -> 0 | H12: =+H14 -> 0 | I12: =+I14 -> 0 | J12: =+J14 -> 0
F13: այդ թվում՝
C14: 01 | F14: Կառավարության տարբեր մակարդակների միջև իրականացվող ընդհանուր բնույթի տրանսֆերտներ | G14: =+G16 -> 0 | H14: =+H16 -> 0 | I14: =+I16 -> 0 | J14: =+J16 -> 0
F15: այդ թվում՝
F16: ՀՀ տարածքային կառավարման և ենթակառուցվածքների նախարարություն | G16: =+G18 -> 0 | H16: =+H18 -> 0 | I16: =+I18 -> 0 | J16: =+J18 -> 0
F17: այդ թվում՝
D18: 1212 | F18: Տարածքային զարգացում | G18: =+G20 -> 0 | H18: =+H20 -> 0 | I18: =+I20 -> 0 | J18: =+J20 -> 0
F19: այդ թվում`
E20: 12007 | F20: ՀՀ մարզերին սուբվենցիաների տրամադրում՛ ենթակառուցվածքների զարգացման նպատակով_x000D_ | G20: 0 | H20: 0 | I20: 0 | J20: 0
F21: այդ թվում` ըստ կատարողների
F22: ՀՀ կառավարություն | G22: ='1'!D19 -> -1435428.6 | H22: =G22 -> -1435428.6 | I22: ='1'!F19 -> -1435428.6 | J22: ='1'!G19 -> -1435428.6
F23: այդ թվում` բյուջետային ծախսերի տնտեսագիտական դասակարգման հոդվածներ
F24: ԸՆԴԱՄԵՆԸ ԾԱԽՍԵՐ | G24: =G25 -> -1435428.6 | H24: ='1'!D19 -> -1435428.6 | I24: ='1'!E19 -> -1435428.6 | J24: ='1'!F19 -> -1435428.6
F25: ԸՆԹԱՑԻԿ ԾԱԽՍԵՐ | G25: =G26 -> -1435428.6 | H25: =H24 -> -1435428.6 | I25: =I24 -> -1435428.6 | J25: =J24 -> -1435428.6
F26: ԴՐԱՄԱՇՆՈՐՀՆԵՐ | G26: =G28 -> -1435428.6 | H26: =H25 -> -1435428.6 | I26: =I25 -> -1435428.6 | J26: =J25 -> -1435428.6
F27: Կապիտալ դրամաշնորհներ պետական հատվածի այլ մակարդակներին
F28: - Կապիտալ սուբվենցիաներ համայնքներին | G28: ='1'!D19 -> -1435428.6 | H28: ='1'!E19 -> -1435428.6 | I28: ='1'!F19 -> -1435428.6 | J28: ='1'!G19 -> -1435428.6
F29: ՀՀ Արագածոտնի մարզպետարան | G29: =G35 -> 4311.3 | H29: =H35 -> 4311.3 | I29: =I35 -> 4311.3 | J29: =J35 -> 4311.3
F30: այդ թվում` բյուջետային ծախսերի տնտեսագիտական դասակարգման հոդվածներ
F31: ԸՆԴԱՄԵՆԸ ԾԱԽՍԵՐ | G31: =G35 -> 4311.3 | H31: =H35 -> 4311.3 | I31: =I33 -> 4311.3 | J31: =J33 -> 4311.3
F32: ԸՆԹԱՑԻԿ ԾԱԽՍԵՐ | G32: =G35 -> 4311.3 | H32: =H35 -> 4311.3 | I32: =I33 -> 4311.3 | J32: =J33 -> 4311.3
F33: ԴՐԱՄԱՇՆՈՐՀՆԵՐ | G33: =G35 -> 4311.3 | H33: =H35 -> 4311.3 | I33: =I34 -> 4311.3 | J33: =J34 -> 4311.3
F34: Կապիտալ դրամաշնորհներ պետական հատվածի այլ մակարդակներին | G34: =G35 -> 4311.3 | H34: =H35 -> 4311.3 | I34: =+I35 -> 4311.3 | J34: =+J35 -> 4311.3
F35: - Կապիտալ սուբվենցիաներ համայնքներին | G35: ='1'!D20 -> 4311.3 | H35: ='1'!E20 -> 4311.3 | I35: ='1'!F20 -> 4311.3 | J35: ='1'!G20 -> 4311.3
F36: ՀՀ Արարատի մարզպետարան | G36: ='1'!D23 -> 42527.7 | H36: ='1'!E23 -> 42527.7 | I36: ='1'!F23 -> 42527.7 | J36: ='1'!G23 -> 42527.7
F37: այդ թվում` բյուջետային ծախսերի տնտեսագիտական դասակարգման հոդվածներ
F38: ԸՆԴԱՄԵՆԸ ԾԱԽՍԵՐ | G38: =G42 -> 42527.7 | H38: =H42 -> 42527.7 | I38: =I40 -> 42527.7 | J38: =J40 -> 42527.7
F39: ԸՆԹԱՑԻԿ ԾԱԽՍԵՐ | G39: =G42 -> 42527.7 | H39: =H42 -> 42527.7 | I39: =I40 -> 42527.7 | J39: =J40 -> 42527.7
F40: ԴՐԱՄԱՇՆՈՐՀՆԵՐ | G40: =G42 -> 42527.7 | H40: =H42 -> 42527.7 | I40: =I41 -> 42527.7 | J40: =J41 -> 42527.7
F41: Կապիտալ դրամաշնորհներ պետական հատվածի այլ մակարդակներին | G41: =G42 -> 42527.7 | H41: =H42 -> 42527.7 | I41: =+I42 -> 42527.7 | J41: =+J42 -> 42527.7
...

Sheet 3
F1: Հավելված № 3
F2: ՀՀ կառավարության 2022 թվականի
F3: -------------- ի № ---- -Ն որոշման
A5: ՀԱՅԱՍՏԱՆԻ ՀԱՆՐԱՊԵՏՈՒԹՅԱՆ ԿԱՌԱՎԱՐՈՒԹՅԱՆ 2021 ԹՎԱԿԱՆԻ ԴԵԿՏԵՄԲԵՐԻ 23-Ի № 2121-Ն ՈՐՈՇՄԱՆ № 9 ՀԱՎԵԼՎԱԾԻ № 9.7 ԱՂՅՈՒՍԱԿՈՒՄ ԿԱՏԱՐՎՈՂ ԼՐԱՑՈՒՄԸ
A6: ՀՀ տարածքային կառավարման և ենթակառուցվածքների նախարարություն
A9: Ծրագրի դասիչը | B9: Ծրագրի անվանումը
A10: 1212 | B10: Տարածքային զարգացում
A12: Ծրագրի միջոցառումները
A14: Ծրագրի դասիչը` | B14: 1212 | C14: Ցուցանիշների փոփոխությունները (ավելացումները նշված են դրական նշանով)
A15: Միջոցառման դասիչը` | B15: 12007 | C15: Առաջին եռամսյակ | D15: Առաջին կիսամյակ | E15: Ինն ամիս | F15: Տարի
A16: Միջոցառման անվանումը` | B16: ՀՀ մարզերին սուբվենցիաների տրամադրում` ենթակառուցվածքների զարգացման նպատակով_x000D_
A17: Նկարագրությունը` | B17: ՀՀ մարզերին սուբվենցիաների տրամադրում` ենթակառուցվածքների զարգացման նպատակով
A18: Միջոցառման տեսակը` | B18: Տրանսֆերտների տրամադրում
A19: Միջոցառումն իրականացնողի անվանումը | B19: ՀՀ համայնքներ
A20: Արդյունքի չափորոշիչներ
A21: ՀՀ համայնքների թիվ, հատ | C21: ='4'!C24+'4'!C45+'4'!C65+'4'!C86+'4'!C107+'4'!C128 -> 13 | D21: ='4'!D24+'4'!D45+'4'!D65+'4'!D86+'4'!D107+'4'!D128 -> 13 | E21: ='4'!E24+'4'!E45+'4'!E65+'4'!E86+'4'!E107+'4'!E128 -> 13 | F21: ='4'!F24+'4'!F45+'4'!F65+'4'!F86+'4'!F107+'4'!F128 -> 13
A22: Միջոցառման վրա կատարվող ծախսը (հազար դրամ) | C22: ='[1]2'!G20 -> 0 | D22: ='[1]2'!H20 -> 0 | E22: 0 | F22: 0

Sheet 4
F1: Հավելված № 4
F2: ՀՀ կառավարության 2022 թվականի
F3: -------------- ի № ---- -Ն որոշման
A6: ՀԱՅԱՍՏԱՆԻ ՀԱՆՐԱՊԵՏՈՒԹՅԱՆ ԿԱՌԱՎԱՐՈՒԹՅԱՆ 2021 ԹՎԱԿԱՆԻ ԴԵԿՏԵՄԲԵՐԻ 23-Ի № 2121-Ն ՈՐՈՇՄԱՆ № 9.1 ՀԱՎԵԼՎԱԾԻ № 9.1.49, 9.1.50, 9.1.52, 9.1.53, 9.1.55, 9.1.56 ԵՎ 9.1.59 ԱՂՅՈՒՍԱԿՆԵՐՈՒՄ ԿԱՏԱՐՎՈՂ ՓՈՓՈԽՈՒԹՅՈՒՆԸ ԵՎ ԼՐԱՑՈՒՄՆԵՐԸ
E7: Աղյուսակ 9.1.49
A8: ՀՀ Արագածոտնի մարզպետարան
A10: ՄԱՍ 1. ՊԵՏԱԿԱՆ ՄԱՐՄՆԻ ԳԾՈՎ ԱՐԴՅՈՒՆՔԱՅԻՆ (ԿԱՏԱՐՈՂԱԿԱՆ) ՑՈՒՑԱՆԻՇՆԵՐԸ
A12: Ծրագրի դասիչը | B12: Ծրագրի անվանումը
A13: 1212 | B13: Տարածքային զարգացում
A15: Ծրագրի միջոցառումները
A17: Ծրագրի դասիչը` | B17: 1212 | C17: Ցուցանիշների փոփոխությունները (ավելացումները նշված են դրական նշանով)
A18: Միջոցառման դասիչը` | B18: 12007 | C18: Առաջին եռամսյակ | D18: Առաջին կիսամյակ | E18: Ինն ամիս | F18: Տարի
A19: Միջոցառման անվանումը` | B19: ՀՀ մարզերին սուբվենցիաների տրամադրում` ենթակառուցվածքների զարգացման նպատակով_x000D_
A20: Նկարագրությունը` | B20: ՀՀ մարզերին սուբվենցիաների տրամադրում` ենթակառուցվածքների զարգացման նպատակով
A21: Միջոցառման տեսակը` | B21: Տրանսֆերտների տրամադրում
A22: Միջոցառումն իրականացնողի անվանումը | B22: ՀՀ համայնքներ
A23: Արդյունքի չափորոշիչներ
A24: ՀՀ համայնքների թիվ, հատ | C24: 1 | D24: 1 | E24: 1 | F24: 1
A25: Միջոցառման վրա կատարվող ծախսը (հազար դրամ) | C25: ='1'!D20 -> 4311.3 | D25: =C25 -> 4311.3 | E25: =D25 -> 4311.3 | F25: =E25 -> 4311.3
E28: Աղյուսակ 9.1.50
A29: ՀՀ Արարատի մարզպետարան
A31: ՄԱՍ 1. ՊԵՏԱԿԱՆ ՄԱՐՄՆԻ ԳԾՈՎ ԱՐԴՅՈՒՆՔԱՅԻՆ (ԿԱՏԱՐՈՂԱԿԱՆ) ՑՈՒՑԱՆԻՇՆԵՐԸ
A33: Ծրագրի դասիչը | B33: Ծրագրի անվանումը
A34: 1212 | B34: Տարածքային զարգացում
A36: Ծրագրի միջոցառումները
A38: Ծրագրի դասիչը` | B38: 1212 | C38: Ցուցանիշների փոփոխությունները (ավելացումները նշված են դրական նշանով)
A39: Միջոցառման դասիչը` | B39: 12007 | C39: Առաջին եռամսյակ | D39: Առաջին կիսամյակ | E39: Ինն ամիս | F39: Տարի
A40: Միջոցառման անվանումը` | B40: ՀՀ մարզերին սուբվենցիաների տրամադրում` ենթակառուցվածքների զարգացման նպատակով_x000D_
A41: Նկարագրությունը` | B41: ՀՀ մարզերին սուբվենցիաների տրամադրում` ենթակառուցվածքների զարգացման նպատակով
A42: Միջոցառման տեսակը` | B42: Տրանսֆերտների տրամադրում
A43: Միջոցառումն իրականացնողի անվանումը | B43: ՀՀ համայնքներ
A44: Արդյունքի չափորոշիչներ
A45: ՀՀ համայնքների թիվ, հատ | C45: 3 | D45: 3 | E45: 3 | F45: 3
A46: Միջոցառման վրա կատարվող ծախսը (հազար դրամ) | C46: ='1'!D23 -> 42527.7 | D46: =C46 -> 42527.7 | E46: =D46 -> 42527.7 | F46: =E46 -> 42527.7
E48: Աղյուսակ 9.1.52
A49: ՀՀ Գեղարքունիքի մարզպետարան
A51: ՄԱՍ 1. ՊԵՏԱԿԱՆ ՄԱՐՄՆԻ ԳԾՈՎ ԱՐԴՅՈՒՆՔԱՅԻՆ (ԿԱՏԱՐՈՂԱԿԱՆ) ՑՈՒՑԱՆԻՇՆԵՐԸ
A53: Ծրագրի դասիչը | B53: Ծրագրի անվանումը
A54: 1212 | B54: Տարածքային զարգացում
A56: Ծրագրի միջոցառումները
...
