Workbook
Name _tab10: #REF!
Name _tab10: #REF!
Name _tab11: #REF!
Name _tab11: #REF!
Name _tab12: #REF!
Name _tab12: #REF!
Name _tab13: #REF!
Name _tab13: #REF!
Name _tab14: #REF!
Name _tab14: #REF!
Name _tab15: #REF!
Name _tab15: #REF!
Name _tab16: #REF!
Name _tab16: #REF!
Name _tab17: #REF!
Name _tab17: #REF!
Name _tab18: #REF!
Name _tab18: #REF!
Name _tab19: #REF!
Name _tab19: #REF!
Name _tab20: #REF!
Name _tab20: #REF!
Name _tab21: #REF!
Name _tab21: #REF!
Name _tab22: #REF!
Name _tab22: #REF!
Name _tab23: #REF!
Name _tab23: #REF!
Name _tab24: #REF!
Name _tab24: #REF!
Name _tab5: #REF!
Name _tab5: #REF!
Name _tab6: #REF!
Name _tab6: #REF!
Name _tab7: #REF!
Name _tab7: #REF!
Name _tab8: #REF!
Name _tab8: #REF!
Name _tab9: #REF!
Name _tab9: #REF!
Name par_count: #REF!,#REF!,#REF!,#REF!,#REF!,#REF!,#REF!,#REF!,#REF!,#REF!,#REF!,#REF!,#REF!,#REF!,#REF!
Name par_count: #REF!,#REF!,#REF!,#REF!,#REF!,#REF!,#REF!,#REF!,#REF!,#REF!,#REF!,#REF!,#REF!,#REF!,#REF!
Name par_qual: #REF!,#REF!,#REF!,#REF!,#REF!
Name par_qual: #REF!,#REF!,#REF!,#REF!,#REF!
Name par_time: #REF!,#REF!,#REF!,#REF!
Name par_time: #REF!,#REF!,#REF!,#REF!
Name par2.12s: #REF!
Name par2.12s: #REF!
Name par2.4s: #REF!,#REF!,#REF!,#REF!,#REF!,#REF!,#REF!,#REF!,#REF!,#REF!,#REF!,#REF!,#REF!,#REF!,#REF!,#REF!
Name par2.4s: #REF!,#REF!,#REF!,#REF!,#REF!,#REF!,#REF!,#REF!,#REF!,#REF!,#REF!,#REF!,#REF!,#REF!,#REF!,#REF!
Name par2.5s: #REF!,#REF!
Name par2.5s: #REF!,#REF!
Name par2.6s: #REF!,#REF!,#REF!,#REF!
Name par2.6s: #REF!,#REF!,#REF!,#REF!
Name par2.7s: #REF!,#REF!
Name par2.7s: #REF!,#REF!
Name par2.9s: #REF!,#REF!,#REF!,#REF!,#REF!,#REF!,#REF!,#REF!,#REF!,#REF!,#REF!,#REF!,#REF!,#REF!,#REF!,#REF!
Name par2.9s: #REF!,#REF!,#REF!,#REF!,#REF!,#REF!,#REF!,#REF!,#REF!,#REF!,#REF!,#REF!,#REF!,#REF!,#REF!,#REF!
Name par4.10s: #REF!,#REF!
Name par4.10s: #REF!,#REF!

Sheet 1
G1: Հավելված № 1
G2: ՀՀ կառավարության 2022 թվականի
G3: -------------- ի № ---- -Ն որոշման
A5: «ՀԱՅԱՍՏԱՆԻ ՀԱՆՐԱՊԵՏՈՒԹՅԱՆ 2022 ԹՎԱԿԱՆԻ ՊԵՏԱԿԱՆ ԲՅՈՒՋԵԻ ՄԱՍԻՆ» ՕՐԵՆՔԻ N 1 ՀԱՎԵԼՎԱԾԻ N 7 ԱՂՅՈՒՍԱԿՈՒՄ ԵՎ ՀԱՅԱՍՏԱՆԻ ՀԱՆՐԱՊԵՏՈՒԹՅԱՆ ԿԱՌԱՎԱՐՈՒԹՅԱՆ 2021 ԹՎԱԿԱՆԻ ԴԵԿՏԵՄԲԵՐԻ 23-Ի N 2121-Ն ՈՐՈՇՄԱՆ N 5 ՀԱՎԵԼՎԱԾԻ N 6 ԱՂՅՈՒՍԱԿՈՒՄ ԿԱՏԱՐՎՈՂ ՓՈՓՈԽՈՒԹՅՈՒՆԸ ԵՎ ԼՐԱՑՈՒՄՆԵՐԸ
G6: հազար դրամ
A7: Ծրագրային դասիչը | C7: Բյուջետային հատկացումների գլխավոր կարգադրիչների, ծրագրերի, միջոցառումների և միջոցառումները կատարող պետական մարմինների անվանումները | D7: Ցուցանիշների փոփոխությունը (ավելացումները նշված են դրական նշանով, իսկ նվազեցումները` փակագծերում)
A8: Ծրագիր | B8: Միջոցառում | D8: Առաջին եռամսյակ | E8: Առաջին կիսամյակ | F8: Ինն ամիս | G8: Տարի
C9: ԸՆԴԱՄԵՆԸ | D9: =+D11 -> -9.4587449e-11 | E9: =+E11 -> -9.4587449e-11 | F9: =+F11 -> -9.4587449e-11 | G9: =+G11 -> -9.4587449e-11
C10: այդ թվում
A11: Կապիտալ սուբվենցիաներ համայնքներին | D11: =+D13 -> -9.4587449e-11 | E11: =+E13 -> -9.4587449e-11 | F11: =+F13 -> -9.4587449e-11 | G11: =+G13 -> -9.4587449e-11
A12: այդ թվում`
A13: ՀՀ տարածքային կառավարման և ենթակառուցվածքների նախարարություն | D13: =+D15 -> -9.4587449e-11 | E13: =+E15 -> -9.4587449e-11 | F13: =+F15 -> -9.4587449e-11 | G13: =+G15 -> -9.4587449e-11
A14: այդ թվում`
A15: 1212 | B15: Տարածքային զարգացում | D15: =+D17 -> -9.4587449e-11 | E15: =+E17 -> -9.4587449e-11 | F15: =+F17 -> -9.4587449e-11 | G15: =+G17 -> -9.4587449e-11
C16: այդ թվում`
B17: 12007 | C17: ՀՀ մարզերին սուբվենցիաների տրամադրում՝ ենթակառուցվածքների զարգացման նպատակով | D17: =+D21+D22+D38+D45+D48+D64+D77+D88+D92+D99 -> -9.4587449e-11 | E17: =+E21+E22+E38+E45+E48+E64+E77+E88+E92+E99 -> -9.4587449e-11 | F17: =+F21+F22+F38+F45+F48+F64+F77+F88+F92+F99 -> -9.4587449e-11 | G17: =+G21+G22+G38+G45+G48+G64+G77+G88+G92+G99 -> -9.4587449e-11
C18: այդ թվում` ըստ կատարողների
C19: ՀՀ տարածքային կառավարման և ենթակառուցվածքների նախարարություն | D19: -4000000 | E19: -8000000 | F19: -12000000 | G19: -18000000
C20: ՀՀ կառավարություն | D20: 4000000 | E20: 8000000 | F20: 12000000 | G20: 18000000
C21: ՀՀ կառավարություն | D21: =-(D22+D38+D45+D48+D64+D77+D88+D92+D99) -> -1608376.4 | E21: =-(E22+E38+E45+E48+E64+E77+E88+E92+E99) -> -1608376.4 | F21: =-(F22+F38+F45+F48+F64+F77+F88+F92+F99) -> -1608376.4 | G21: =-(G22+G38+G45+G48+G64+G77+G88+G92+G99) -> -1608376.4
C22: ՀՀ Արագածոտնի մարզպետարան | D22: =SUM(D24:D37) -> 194441.8 | E22: =SUM(E24:E37) -> 194441.8 | F22: =SUM(F24:F37) -> 194441.8 | G22: =SUM(G24:G37) -> 194441.8
C23: այդ թվում` ըստ ուղղությունների
C24: Ապարան համայնքի Ապարան քաղաքի, գյուղական բնակավայրերի ներհամայնքային ճանապարհների ասֆալտապատում | D24: 133524.1 | E24: 133524.1 | F24: 133524.1 | G24: 133524.1
C25: Արագածավան համայնքի Արագածավան բնակավայրի «Մանկական երաժշտական դպրոց» ՀՈԱԿ-ի շենքի գազիֆիկացման և ջեռուցման աշխատանքներ և «Արագածավան համայնքի երաժշտական դպրոցի» մասնակի վերանորոգման աշխատանքներ | D25: 5484.8 | E25: 5484.8 | F25: 5484.8 | G25: 5484.8
C26: Արագածավան համայնքի Արագածավան բնակավայրի գիշերային լուսավորության համակարգի կառուցում | D26: 8439.2 | E26: 8439.2 | F26: 8439.2 | G26: 8439.2
C27: Արագածոտն համայնքի մանկապարտեզի համապատասխան սարքավորումների և գույքի ձեռքբերում | D27: 2470 | E27: 2470 | F27: 2470 | G27: 2470
C28: Կարբի համայնքի փողոցների արտաքին լուսավորության աշխատանքների իրականացում | D28: 1364.1 | E28: 1364.1 | F28: 1364.1 | G28: 1364.1
C29: Ագարակ համայնքի խմելու ջրագծի ցանցի հիմնանորոգում և քայքայված հատվածների փոխարինում | D29: 3775.8 | E29: 3775.8 | F29: 3775.8 | G29: 3775.8
C30: Արտաշավան համայնքի ոռոգման համակարգի վերանորոգման աշխատանքներ | D30: 6387.2 | E30: 6387.2 | F30: 6387.2 | G30: 6387.2
C31: Ոսկեվազ համայնքի 14-րդ փողոց, 3-րդ փող․ 1-ին և 2-րդ նրբ, 1-ին փող․ 3-րդ նրբ․, 7-րդ փող․ 1-ին նրբ․, 6-րդ փող․ 1-ին փակուղի, Արագածի փող․ 11-րդ նրբ․, Շիրազ և Արարատյան փողոցների, Մաշտոցի փող․ 3-րդ փակուղու, 4-րդ փողոցի գազիֆիկացում | D31: 6130 | E31: 6130 | F31: 6130 | G31: 6130
C32: Ոսկեվազ համայնքի գլխավոր ճանապարհների և մայթերի վերանորոգում և երկրորդական ճանապարհի հիմնանորոգում | D32: 6659.3 | E32: 6659.3 | F32: 6659.3 | G32: 6659.3
C33: Վերին Սասունիկ համայնքի ներհամայնքային փողոցների ասֆալտապատման աշխատանքներ | D33: 1432.5 | E33: 1432.5 | F33: 1432.5 | G33: 1432.5
C34: Նոր Արթիկ համայնքի մշակույթի տան տանիքի և հատակի մասնակի վերանորոգման շինարարական աշխատանքներ | D34: 2452 | E34: 2452 | F34: 2452 | G34: 2452
C35: Բյուրական համայնքի ներհամայնքային փողոցների ասֆալտբետոնե ծածկույթի իրականացում և ասֆալտբետոնե ծածկույթի կապիտալ նորոգում | D35: 9001.5 | E35: 9001.5 | F35: 9001.5 | G35: 9001.5
... C37: Լեռնարոտ համայնքի արտաքին լուսավորության ցանցի կառուցում | D37: 3878.3 | E37: 3878.3 | F37: 3878.3 | G37: 3878.3
C38: ՀՀ Արարատի մարզպետարան | D38: =SUM(D40:D44) -> 94003.7 | E38: =SUM(E40:E44) -> 94003.7 | F38: =SUM(F40:F44) -> 94003.7 | G38: =SUM(G40:G44) -> 94003.7
C39: այդ թվում` ըստ ուղղությունների
C40: Քաղցրաշեն համայնքի մանկապարտեզի տարածքի բարեկարգման, ապաստարանի հիմնանորոգման աշխատանքներ | D40: 11104.8 | E40: 11104.8 | F40: 11104.8 | G40: 11104.8
C41: Մարմարաշեն համայնքի 45,2,3,4,5,6,7,8,19,,21,16-րդ փողոցը մասնակի և Երևան-Արտաշատ խճուղուց մինչև 20,21,22 և 24 փողոցների գլխամասում միացնող ճանապարհի կոպճապատման աշխատանքներ | D41: 10562.8 | E41: 10562.8 | F41: 10562.8 | G41: 10562.8
C42: Մասիս համայնքի Արտաշատյան խճուղու, Պ. Սևակ, 2-րդ և Պ. Պետրոսյան փողոցների գազաֆիկացման աշխատանքներ | D42: 6764.5 | E42: 6764.5 | F42: 6764.5 | G42: 6764.5
...

Sheet 2
J1: Հավելված № 2
J2: ՀՀ կառավարության 2022 թվականի
J3: -------------- ի № ---- -Ն որոշման
A5: ՀԱՅԱՍՏԱՆԻ ՀԱՆՐԱՊԵՏՈՒԹՅԱՆ ԿԱՌԱՎԱՐՈՒԹՅԱՆ 2021 ԹՎԱԿԱՆԻ ԴԵԿՏԵՄԲԵՐԻ 23-Ի № 2121-Ն ՈՐՈՇՄԱՆ №№ 3 և 4 ՀԱՎԵԼՎԱԾՆԵՐՈՒՄ ԿԱՏԱՐՎՈՂ ՓՈՓՈԽՈՒԹՅՈՒՆՆԵՐԸ ԵՎ ԼՐԱՑՈՒՄՆԵՐԸ
J6: հազար դրամ
A7: Գործառական դասիչը | D7: Ծրագրային դասիչը | F7: Բյուջետային հատկացումների գլխավոր կարգադրիչների, ծրագրերի, միջոցառումների և միջոցառումները կատարող պետական մարմինների անվանումները | G7: Ցուցանիշների փոփոխությունները (ավելացումները նշված են դրական նշանով իսկ նվազեցումները` փակագծերում)
A8: բաժին | B8: խումբ | C8: դաս | D8: Ծրագիր | E8: Միջոցառում | G8: Առաջին եռամսյակ | H8: Առաջին կիսամյակ | I8: Ինն ամիս | J8: Տարի
A9: ԸՆԴԱՄԵՆԸ ԾԱԽՍԵՐ | G9: =+G10 -> -9.4587449e-11 | H9: =+H10 -> -9.4587449e-11 | I9: =+I10 -> -9.4587449e-11 | J9: =+J10 -> -9.4587449e-11
A10: 01 | F10: ԸՆԴՀԱՆՈՒՐ ԲՆՈՒՅԹԻ ՀԱՆՐԱՅԻՆ ԾԱՌԱՅՈՒԹՅՈՒՆՆԵՐ | G10: =+G12 -> -9.4587449e-11 | H10: =+H12 -> -9.4587449e-11 | I10: =+I12 -> -9.4587449e-11 | J10: =+J12 -> -9.4587449e-11
F11: այդ թվում՝
B12: 08 | F12: Կառավարության տարբեր մակարդակների միջև իրականացվող ընդհանուր բնույթի տրանսֆերտներ | G12: =+G14 -> -9.4587449e-11 | H12: =+H14 -> -9.4587449e-11 | I12: =+I14 -> -9.4587449e-11 | J12: =+J14 -> -9.4587449e-11
F13: այդ թվում՝
C14: 01 | F14: Կառավարության տարբեր մակարդակների միջև իրականացվող ընդհանուր բնույթի տրանսֆերտներ | G14: =+G16 -> -9.4587449e-11 | H14: =+H16 -> -9.4587449e-11 | I14: =+I16 -> -9.4587449e-11 | J14: =+J16 -> -9.4587449e-11
F15: այդ թվում՝
F16: ՀՀ տարածքային կառավարման և ենթակառուցվածքների նախարարություն | G16: =+G18 -> -9.4587449e-11 | H16: =+H18 -> -9.4587449e-11 | I16: =+I18 -> -9.4587449e-11 | J16: =+J18 -> -9.4587449e-11
F17: այդ թվում՝
D18: 1212 | F18: Տարածքային զարգացում | G18: =+G20 -> -9.4587449e-11 | H18: =+H20 -> -9.4587449e-11 | I18: =+I20 -> -9.4587449e-11 | J18: =+J20 -> -9.4587449e-11
F19: այդ թվում`
E20: 12007 | F20: ՀՀ մարզերին սուբվենցիաների տրամադրում՛ ենթակառուցվածքների զարգացման նպատակով_x000D_ | G20: =+G22+G29+G36+G43+G50+G57+G64+G71+G78+G85 -> -9.4587449e-11 | H20: =+H22+H29+H36+H43+H50+H57+H64+H71+H78+H85 -> -9.4587449e-11 | I20: =+I22+I29+I36+I43+I50+I57+I64+I71+I78+I85 -> -9.4587449e-11 | J20: =+J22+J29+J36+J43+J50+J57+J64+J71+J78+J85 -> -9.4587449e-11
F21: այդ թվում` ըստ կատարողների
F22: ՀՀ կառավարություն | G22: ='1'!D21 -> -1608376.4 | H22: =G22 -> -1608376.4 | I22: ='1'!F21 -> -1608376.4 | J22: ='1'!G21 -> -1608376.4
F23: այդ թվում` բյուջետային ծախսերի տնտեսագիտական դասակարգման հոդվածներ
F24: ԸՆԴԱՄԵՆԸ ԾԱԽՍԵՐ | G24: =G25 -> -1608376.4 | H24: ='1'!D21 -> -1608376.4 | I24: ='1'!E21 -> -1608376.4 | J24: ='1'!F21 -> -1608376.4
F25: ԸՆԹԱՑԻԿ ԾԱԽՍԵՐ | G25: =G26 -> -1608376.4 | H25: =H24 -> -1608376.4 | I25: =I24 -> -1608376.4 | J25: =J24 -> -1608376.4
F26: ԴՐԱՄԱՇՆՈՐՀՆԵՐ | G26: =G28 -> -1608376.4 | H26: =H25 -> -1608376.4 | I26: =I25 -> -1608376.4 | J26: =J25 -> -1608376.4
F27: Կապիտալ դրամաշնորհներ պետական հատվածի այլ մակարդակներին
F28: - Կապիտալ սուբվենցիաներ համայնքներին | G28: ='1'!D21 -> -1608376.4 | H28: ='1'!E21 -> -1608376.4 | I28: ='1'!F21 -> -1608376.4 | J28: ='1'!G21 -> -1608376.4
F29: ՀՀ Արագածոտնի մարզպետարան | G29: ='1'!D22 -> 194441.8 | H29: ='1'!E22 -> 194441.8 | I29: ='1'!F22 -> 194441.8 | J29: ='1'!G22 -> 194441.8
F30: այդ թվում` բյուջետային ծախսերի տնտեսագիտական դասակարգման հոդվածներ
F31: ԸՆԴԱՄԵՆԸ ԾԱԽՍԵՐ | G31: =G29 -> 194441.8 | H31: =H29 -> 194441.8 | I31: =I29 -> 194441.8 | J31: =J29 -> 194441.8
F32: ԸՆԹԱՑԻԿ ԾԱԽՍԵՐ | G32: =G33 -> 194441.8 | H32: =H33 -> 194441.8 | I32: =I31 -> 194441.8 | J32: =J31 -> 194441.8
F33: ԴՐԱՄԱՇՆՈՐՀՆԵՐ | G33: =G31 -> 194441.8 | H33: =H31 -> 194441.8 | I33: =I32 -> 194441.8 | J33: =J32 -> 194441.8
F34: Կապիտալ դրամաշնորհներ պետական հատվածի այլ մակարդակներին | G34: =G32 -> 194441.8 | H34: =H32 -> 194441.8 | I34: =I33 -> 194441.8 | J34: =J33 -> 194441.8
F35: - Կապիտալ սուբվենցիաներ համայնքներին | G35: =G33 -> 194441.8 | H35: =H33 -> 194441.8 | I35: =I34 -> 194441.8 | J35: =J34 -> 194441.8
F36: ՀՀ Արարատի մարզպետարան | G36: ='1'!D38 -> 94003.7 | H36: ='1'!E38 -> 94003.7 | I36: ='1'!F38 -> 94003.7 | J36: ='1'!G38 -> 94003.7
F37: այդ թվում` բյուջետային ծախսերի տնտեսագիտական դասակարգման հոդվածներ
F38: ԸՆԴԱՄԵՆԸ ԾԱԽՍԵՐ | G38: =G42 -> 94003.7 | H38: =H42 -> 94003.7 | I38: =I40 -> 94003.7 | J38: =J40 -> 94003.7
F39: ԸՆԹԱՑԻԿ ԾԱԽՍԵՐ | G39: =G42 -> 94003.7 | H39: =H42 -> 94003.7 | I39: =I40 -> 94003.7 | J39: =J40 -> 94003.7
F40: ԴՐԱՄԱՇՆՈՐՀՆԵՐ | G40: =G42 -> 94003.7 | H40: =H42 -> 94003.7 | I40: =I41 -> 94003.7 | J40: =J41 -> 94003.7
F41: Կապիտալ դրամաշնորհներ պետական հատվածի այլ մակարդակներին | G41: =G42 -> 94003.7 | H41: =H42 -> 94003.7 | I41: =+I42 -> 94003.7 | J41: =+J42 -> 94003.7
...

Sheet 3
D1: Հավելված № 3
D2: ՀՀ կառավարության 2022 թվականի
D3: -------------- ի № ---- -Ն որոշման
A5: ՀԱՅԱՍՏԱՆԻ ՀԱՆՐԱՊԵՏՈՒԹՅԱՆ ԿԱՌԱՎԱՐՈՒԹՅԱՆ 2021 ԹՎԱԿԱՆԻ ԴԵԿՏԵՄԲԵՐԻ 23-Ի № 2121-Ն ՈՐՈՇՄԱՆ № 9 ՀԱՎԵԼՎԱԾԻ № 9.7 ԱՂՅՈՒՍԱԿՈՒՄ ԿԱՏԱՐՎՈՂ ԼՐԱՑՈՒՄԸ
A6: ՀՀ տարածքային կառավարման և ենթակառուցվածքների նախարարություն
A9: Ծրագրի դասիչը | B9: Ծրագրի անվանումը
A10: 1212 | B10: Տարածքային զարգացում
A12: Ծրագրի միջոցառումները
A14: Ծրագրի դասիչը` | B14: 1212 | C14: Ցուցանիշների փոփոխությունները (ավելացումները նշված են դրական նշանով)
A15: Միջոցառման դասիչը` | B15: 12007 | C15: Առաջին եռամսյակ | D15: Առաջին կիսամյակ | E15: Ինն ամիս | F15: Տարի
A16: Միջոցառման անվանումը` | B16: ՀՀ մարզերին սուբվենցիաների տրամադրում` ենթակառուցվածքների զարգացման նպատակով_x000D_
A17: Նկարագրությունը` | B17: ՀՀ մարզերին սուբվենցիաների տրամադրում` ենթակառուցվածքների զարգացման նպատակով
A18: Միջոցառման տեսակը` | B18: Տրանսֆերտների տրամադրում
A19: Միջոցառումն իրականացնողի անվանումը | B19: ՀՀ համայնքներ
A20: Արդյունքի չափորոշիչներ
A21: ՀՀ համայնքների թիվ, հատ | C21: ='4'!C170+'4'!C149+'4'!C128+'4'!C107+'4'!C86+'4'!C65+'4'!C44+'4'!C23+'4'!C191 -> 46 | D21: ='4'!D170+'4'!D149+'4'!D128+'4'!D107+'4'!D86+'4'!D65+'4'!D44+'4'!D23+'4'!D191 -> 46 | E21: ='4'!E170+'4'!E149+'4'!E128+'4'!E107+'4'!E86+'4'!E65+'4'!E44+'4'!E23+'4'!E191 -> 46 | F21: ='4'!F170+'4'!F149+'4'!F128+'4'!F107+'4'!F86+'4'!F65+'4'!F44+'4'!F23+'4'!F191 -> 46
A22: Միջոցառման վրա կատարվող ծախսը (հազար դրամ) | C22: ='[1]2'!G20 -> 0 | D22: ='[1]2'!H20 -> 0 | E22: 0 | F22: 0

Sheet 4
D1: Հավելված № 4
D2: ՀՀ կառավարության 2022 թվականի
D3: -------------- ի № ---- -Ն որոշման
A5: ՀԱՅԱՍՏԱՆԻ ՀԱՆՐԱՊԵՏՈՒԹՅԱՆ ԿԱՌԱՎԱՐՈՒԹՅԱՆ 2021 ԹՎԱԿԱՆԻ ԴԵԿՏԵՄԲԵՐԻ 23-Ի № 2121-Ն ՈՐՈՇՄԱՆ № 9.1 ՀԱՎԵԼՎԱԾԻ № 9.1.49 ԱՂՅՈՒՍԱԿՈՒՄ ԿԱՏԱՐՎՈՂ ԼՐԱՑՈՒՄԸ
E6: Աղյուսակ 9.1.49
A7: ՀՀ Արագածոտնի մարզպետարան
A9: ՄԱՍ 1. ՊԵՏԱԿԱՆ ՄԱՐՄՆԻ ԳԾՈՎ ԱՐԴՅՈՒՆՔԱՅԻՆ (ԿԱՏԱՐՈՂԱԿԱՆ) ՑՈՒՑԱՆԻՇՆԵՐԸ
A11: Ծրագրի դասիչը | B11: Ծրագրի անվանումը
A12: 1212 | B12: Տարածքային զարգացում
A14: Ծրագրի միջոցառումները
A16: Ծրագրի դասիչը` | B16: 1212 | C16: Ցուցանիշների փոփոխությունները (ավելացումները նշված են դրական նշանով)
A17: Միջոցառման դասիչը` | B17: 12007 | C17: Առաջին եռամսյակ | D17: Առաջին կիսամյակ | E17: Ինն ամիս | F17: Տարի
A18: Միջոցառման անվանումը` | B18: ՀՀ մարզերին սուբվենցիաների տրամադրում` ենթակառուցվածքների զարգացման նպատակով_x000D_
A19: Նկարագրությունը` | B19: ՀՀ մարզերին սուբվենցիաների տրամադրում` ենթակառուցվածքների զարգացման նպատակով
A20: Միջոցառման տեսակը` | B20: Տրանսֆերտների տրամադրում
A21: Միջոցառումն իրականացնողի անվանումը | B21: ՀՀ համայնքներ
A22: Արդյունքի չափորոշիչներ
A23: ՀՀ համայնքների թիվ, հատ | C23: 11 | D23: 11 | E23: 11 | F23: 11
A24: Միջոցառման վրա կատարվող ծախսը (հազար դրամ) | C24: ='1'!D22 -> 194441.8 | D24: ='1'!E22 -> 194441.8 | E24: ='1'!F22 -> 194441.8 | F24: ='1'!G22 -> 194441.8
A26: ՀԱՅԱՍՏԱՆԻ ՀԱՆՐԱՊԵՏՈՒԹՅԱՆ ԿԱՌԱՎԱՐՈՒԹՅԱՆ 2021 ԹՎԱԿԱՆԻ ԴԵԿՏԵՄԲԵՐԻ 23-Ի № 2121-Ն ՈՐՈՇՄԱՆ № 9.1 ՀԱՎԵԼՎԱԾԻ № 9.1.50 ԱՂՅՈՒՍԱԿՈՒՄ ԿԱՏԱՐՎՈՂ ԼՐԱՑՈՒՄԸ
E27: Աղյուսակ 9.1.50
A28: ՀՀ Արարատի մարզպետարան
A30: ՄԱՍ 1. ՊԵՏԱԿԱՆ ՄԱՐՄՆԻ ԳԾՈՎ ԱՐԴՅՈՒՆՔԱՅԻՆ (ԿԱՏԱՐՈՂԱԿԱՆ) ՑՈՒՑԱՆԻՇՆԵՐԸ
A32: Ծրագրի դասիչը | B32: Ծրագրի անվանումը
A33: 1212 | B33: Տարածքային զարգացում
A35: Ծրագրի միջոցառումները
A37: Ծրագրի դասիչը` | B37: 1212 | C37: Ցուցանիշների փոփոխությունները (ավելացումները նշված են դրական նշանով)
A38: Միջոցառման դասիչը` | B38: 12007 | C38: Առաջին եռամսյակ | D38: Առաջին կիսամյակ | E38: Ինն ամիս | F38: Տարի
A39: Միջոցառման անվանումը` | B39: ՀՀ մարզերին սուբվենցիաների տրամադրում` ենթակառուցվածքների զարգացման նպատակով_x000D_
A40: Նկարագրությունը` | B40: ՀՀ մարզերին սուբվենցիաների տրամադրում` ենթակառուցվածքների զարգացման նպատակով
A41: Միջոցառման տեսակը` | B41: Տրանսֆերտների տրամադրում
A42: Միջոցառումն իրականացնողի անվանումը | B42: ՀՀ համայնքներ
A43: Արդյունքի չափորոշիչներ
A44: ՀՀ համայնքների թիվ, հատ | C44: 5 | D44: 5 | E44: 5 | F44: 5
A45: Միջոցառման վրա կատարվող ծախսը (հազար դրամ) | C45: ='2'!G36 -> 94003.7 | D45: =C45 -> 94003.7 | E45: =D45 -> 94003.7 | F45: =E45 -> 94003.7
A47: ՀԱՅԱՍՏԱՆԻ ՀԱՆՐԱՊԵՏՈՒԹՅԱՆ ԿԱՌԱՎԱՐՈՒԹՅԱՆ 2021 ԹՎԱԿԱՆԻ ԴԵԿՏԵՄԲԵՐԻ 23-Ի № 2121-Ն ՈՐՈՇՄԱՆ № 9.1 ՀԱՎԵԼՎԱԾԻ № 9.1.51 ԱՂՅՈՒՍԱԿՈՒՄ ԿԱՏԱՐՎՈՂ ԼՐԱՑՈՒՄԸ
E48: Աղյուսակ 9.1.51
A49: ՀՀ Արմավիրի մարզպետարան
A51: ՄԱՍ 1. ՊԵՏԱԿԱՆ ՄԱՐՄՆԻ ԳԾՈՎ ԱՐԴՅՈՒՆՔԱՅԻՆ (ԿԱՏԱՐՈՂԱԿԱՆ) ՑՈՒՑԱՆԻՇՆԵՐԸ
A53: Ծրագրի դասիչը | B53: Ծրագրի անվանումը
...
