Workbook
Name _tab10: #REF!
Name _tab10: #REF!
Name _tab11: #REF!
Name _tab11: #REF!
Name _tab12: #REF!
Name _tab12: #REF!
Name _tab13: #REF!
Name _tab13: #REF!
Name _tab14: #REF!
Name _tab14: #REF!
Name _tab15: #REF!
Name _tab15: #REF!
Name _tab16: #REF!
Name _tab16: #REF!
Name _tab17: #REF!
Name _tab17: #REF!
Name _tab18: #REF!
Name _tab18: #REF!
Name _tab19: #REF!
Name _tab19: #REF!
Name _tab20: #REF!
Name _tab20: #REF!
Name _tab21: #REF!
Name _tab21: #REF!
Name _tab22: #REF!
Name _tab22: #REF!
Name _tab23: #REF!
Name _tab23: #REF!
Name _tab24: #REF!
Name _tab24: #REF!
Name _tab5: #REF!
Name _tab5: #REF!
Name _tab6: #REF!
Name _tab6: #REF!
Name _tab7: #REF!
Name _tab7: #REF!
Name _tab8: #REF!
Name _tab8: #REF!
Name _tab9: #REF!
Name _tab9: #REF!
Name par_count: #REF!,#REF!,#REF!,#REF!,#REF!,#REF!,#REF!,#REF!,#REF!,#REF!,#REF!,#REF!,#REF!,#REF!,#REF!
Name par_count: #REF!,#REF!,#REF!,#REF!,#REF!,#REF!,#REF!,#REF!,#REF!,#REF!,#REF!,#REF!,#REF!,#REF!,#REF!
Name par_qual: #REF!,#REF!,#REF!,#REF!,#REF!
Name par_qual: #REF!,#REF!,#REF!,#REF!,#REF!
Name par_time: #REF!,#REF!,#REF!,#REF!
Name par_time: #REF!,#REF!,#REF!,#REF!
Name par2.12s: #REF!
Name par2.12s: #REF!
Name par2.4s: #REF!,#REF!,#REF!,#REF!,#REF!,#REF!,#REF!,#REF!,#REF!,#REF!,#REF!,#REF!,#REF!,#REF!,#REF!,#REF!
Name par2.4s: #REF!,#REF!,#REF!,#REF!,#REF!,#REF!,#REF!,#REF!,#REF!,#REF!,#REF!,#REF!,#REF!,#REF!,#REF!,#REF!
Name par2.5s: #REF!,#REF!
Name par2.5s: #REF!,#REF!
Name par2.6s: #REF!,#REF!,#REF!,#REF!
Name par2.6s: #REF!,#REF!,#REF!,#REF!
Name par2.7s: #REF!,#REF!
Name par2.7s: #REF!,#REF!
Name par2.9s: #REF!,#REF!,#REF!,#REF!,#REF!,#REF!,#REF!,#REF!,#REF!,#REF!,#REF!,#REF!,#REF!,#REF!,#REF!,#REF!
Name par2.9s: #REF!,#REF!,#REF!,#REF!,#REF!,#REF!,#REF!,#REF!,#REF!,#REF!,#REF!,#REF!,#REF!,#REF!,#REF!,#REF!
Name par4.10s: #REF!,#REF!
Name par4.10s: #REF!,#REF!

Sheet 1
G1: Հավելված № 1
G2: ՀՀ կառավարության 2022 թվականի
G3: -------------- ի № ---- -Ն որոշման
A5: «ՀԱՅԱՍՏԱՆԻ ՀԱՆՐԱՊԵՏՈՒԹՅԱՆ 2022 ԹՎԱԿԱՆԻ ՊԵՏԱԿԱՆ ԲՅՈՒՋԵԻ ՄԱՍԻՆ» ՕՐԵՆՔԻ N 1 ՀԱՎԵԼՎԱԾԻ N 7 ԱՂՅՈՒՍԱԿՈՒՄ ԵՎ ՀԱՅԱՍՏԱՆԻ ՀԱՆՐԱՊԵՏՈՒԹՅԱՆ ԿԱՌԱՎԱՐՈՒԹՅԱՆ 2021 ԹՎԱԿԱՆԻ ԴԵԿՏԵՄԲԵՐԻ 23-Ի N 2121-Ն ՈՐՈՇՄԱՆ N 5 ՀԱՎԵԼՎԱԾԻ N 6 ԱՂՅՈՒՍԱԿՈՒՄ ԿԱՏԱՐՎՈՂ ՓՈՓՈԽՈՒԹՅՈՒՆԸ ԵՎ ԼՐԱՑՈՒՄՆԵՐԸ
G6: հազար դրամ
A7: Ծրագրային դասիչը | C7: Բյուջետային հատկացումների գլխավոր կարգադրիչների, ծրագրերի, միջոցառումների և միջոցառումները կատարող պետական մարմինների անվանումները | D7: Ցուցանիշների փոփոխությունը (ավելացումները նշված են դրական նշանով, իսկ նվազեցումները` փակագծերում)
A8: Ծրագիր | B8: Միջոցառում | D8: Առաջին եռամսյակ | E8: Առաջին կիսամյակ | F8: Ինն ամիս | G8: Տարի
C9: ԸՆԴԱՄԵՆԸ | D9: =+D11 -> -9.4587449e-11 | E9: =+E11 -> -9.4587449e-11 | F9: =+F11 -> -9.4587449e-11 | G9: =+G11 -> -9.4587449e-11
C10: այդ թվում
A11: Կապիտալ սուբվենցիաներ համայնքներին | D11: =+D13 -> -9.4587449e-11 | E11: =+E13 -> -9.4587449e-11 | F11: =+F13 -> -9.4587449e-11 | G11: =+G13 -> -9.4587449e-11
A12: այդ թվում`
A13: ՀՀ տարածքային կառավարման և ենթակառուցվածքների նախարարություն | D13: =+D15 -> -9.4587449e-11 | E13: =+E15 -> -9.4587449e-11 | F13: =+F15 -> -9.4587449e-11 | G13: =+G15 -> -9.4587449e-11
A14: այդ թվում`
A15: 1212 | B15: Տարածքային զարգացում | D15: =+D17 -> -9.4587449e-11 | E15: =+E17 -> -9.4587449e-11 | F15: =+F17 -> -9.4587449e-11 | G15: =+G17 -> -9.4587449e-11
C16: այդ թվում`
B17: 12007 | C17: ՀՀ մարզերին սուբվենցիաների տրամադրում՝ ենթակառուցվածքների զարգացման նպատակով | D17: =+D21+D22+D38+D45+D48+D64+D77+D88+D92+D99 -> -9.4587449e-11 | E17: =+E21+E22+E38+E45+E48+E64+E77+E88+E92+E99 -> -9.4587449e-11 | F17: =+F21+F22+F38+F45+F48+F64+F77+F88+F92+F99 -> -9.4587449e-11 | G17: =+G21+G22+G38+G45+G48+G64+G77+G88+G92+G99 -> -9.4587449e-11
C18: այդ թվում` ըստ կատարողների
C19: ՀՀ տարածքային կառավարման և ենթակառուցվածքների նախարարություն | D19: -4000000 | E19: -8000000 | F19: -12000000 | G19: -18000000
C20: ՀՀ կառավարություն | D20: 4000000 | E20: 8000000 | F20: 12000000 | G20: 18000000
C21: ՀՀ կառավարություն | D21: =-(D22+D38+D45+D48+D64+D77+D88+D92+D99) -> -1608376.4 | E21: =-(E22+E38+E45+E48+E64+E77+E88+E92+E99) -> -1608376.4 | F21: =-(F22+F38+F45+F48+F64+F77+F88+F92+F99) -> -1608376.4 | G21: =-(G22+G38+G45+G48+G64+G77+G88+G92+G99) -> -1608376.4
C22: ՀՀ Արագածոտնի մարզպետարան | D22: =SUM(D24:D37) -> 194441.8 | E22: =SUM(E24:E37) -> 194441.8 | F22: =SUM(F24:F37) -> 194441.8 | G22: =SUM(G24:G37) -> 194441.8
C23: այդ թվում` ըստ ուղղությունների
C24: Ապարան համայնքի Ապարան քաղաքի, գյուղական բնակավայրերի ներհամայնքային ճանապարհների ասֆալտապատում | D24: 133524.1 | E24: 133524.1 | F24: 133524.1 | G24: 133524.1
C25: Արագածավան համայնքի Արագածավան բնակավայրի «Մանկական երաժշտական դպրոց» ՀՈԱԿ-ի շենքի գազիֆիկացման և ջեռուցման աշխատանքներ և «Արագածավան համայնքի երաժշտական դպրոցի» մասնակի վերանորոգման աշխատանքներ | D25: 5484.8 | E25: 5484.8 | F25: 5484.8 | G25: 5484.8
C26: Արագածավան համայնքի Արագածավան բնակավայրի գիշերային լուսավորության համակարգի կառուցում | D26: 8439.2 | E26: 8439.2 | F26: 8439.2 | G26: 8439.2
C27: Արագածոտն համայնքի մանկապարտեզի համապատասխան սարքավորումների և գույքի ձեռքբերում | D27: 2470 | E27: 2470 | F27: 2470 | G27: 2470
C28: Կարբի համայնքի փողոցների արտաքին լուսավորության աշխատանքների իրականացում | D28: 1364.1 | E28: 1364.1 | F28: 1364.1 | G28: 1364.1
C29: Ագարակ համայնքի խմելու ջրագծի ցանցի հիմնանորոգում և քայքայված հատվածների փոխարինում | D29: 3775.8 | E29: 3775.8 | F29: 3775.8 | G29: 3775.8
C30: Արտաշավան համայնքի ոռոգման համակարգի վերանորոգման աշխատանքներ | D30: 6387.2 | E30: 6387.2 | F30: 6387.2 | G30: 6387.2
C31: Ոսկեվազ համայնքի 14-րդ փողոց, 3-րդ փող․ 1-ին և 2-րդ նրբ, 1-ին փող․ 3-րդ նրբ․, 7-րդ փող․ 1-ին նրբ․, 6-րդ փող․ 1-ին փակուղի, Արագածի փող․ 11-րդ նրբ․, Շիրազ և Արարատյան փողոցների, Մաշտոցի փող․ 3-րդ փակուղու, 4-րդ փողոցի գազիֆիկացում | D31: 6130 | E31: 6130 | F31: 6130 | G31: 6130
C32: Ոսկեվազ համայնքի գլխավոր ճանապարհների և մայթերի վերանորոգում և երկրորդական ճանապարհի հիմնանորոգում | D32: 6659.3 | E32: 6659.3 | F32: 6659.3 | G32: 6659.3
C33: Վերին Սասունիկ համայնքի ներհամայնքային փողոցների ասֆալտապատման աշխատանքներ | D33: 1432.5 | E33: 1432.5 | F33: 1432.5 | G33: 1432.5
C34: Նոր Արթիկ համայնքի մշակույթի տան տանիքի և հատակի մասնակի վերանորոգման շինարարական աշխատանքներ | D34: 2452 | E34: 2452 | F34: 2452 | G34: 2452
C35: Բյուրական համայնքի ներհամայնքային փողոցների ասֆալտբետոնե ծածկույթի իրականացում և ասֆալտբետոնե ծածկույթի կապիտալ նորոգում | D35: 9001.5 | E35: 9001.5 | F35: 9001.5 | G35: 9001.5
... C37: Լեռնարոտ համայնքի արտաքին լուսավորության ցանցի կառուցում | D37: 3878.3 | E37: 3878.3 | F37: 3878.3 | G37: 3878.3
C38: ՀՀ Արարատի մարզպետարան | D38: =SUM(D40:D44) -> 94003.7 | E38: =SUM(E40:E44) -> 94003.7 | F38: =SUM(F40:F44) -> 94003.7 | G38: =SUM(G40:G44) -> 94003.7
C39: այդ թվում` ըստ ուղղությունների
C40: Քաղցրաշեն համայնքի մանկապարտեզի տարածքի բարեկարգման, ապաստարանի հիմնանորոգման աշխատանքներ | D40: 11104.8 | E40: 11104.8 | F40: 11104.8 | G40: 11104.8
C41: Մարմարաշեն համայնքի 45,2,3,4,5,6,7,8,19,,21,16-րդ փողոցը մասնակի և Երևան-Արտաշատ խճուղուց մինչև 20,21,22 և 24 փողոցների գլխամասում միացնող ճանապարհի կոպճապատման աշխատանքներ | D41: 10562.8 | E41: 10562.8 | F41: 10562.8 | G41: 10562.8
C42: Մասիս համայնքի Արտաշատյան խճուղու, Պ. Սևակ, 2-րդ և Պ. Պետրոսյան փողոցների գազաֆիկացման աշխատանքներ | D42: 6764.5 | E42: 6764.5 | F42: 6764.5 | G42: 6764.5
C43: Նոր Խարբերդ համայնքի ներհամայնքային փողոցների 3-րդ, 4-րդ, 5-րդ, 6-րդ, 7-րդ փողոցների շուրջ 4350 գծամետր հատվածի և 9-րդ փողոցի շուրջ 600 գծամետր հատվածի ասֆալտապատում կառուցում | D43: 59283.5 | E43: 59283.5 | F43: 59283.5 | G43: 59283.5
C44: Արևաբույր համայնքի Ջ․ Աղայի, Իսակովի, Հերացու, Մասիսի, Պ․ Սևակի, Մաշտոցի փողոցների գազիֆիկացման աշխատանքներ | D44: 6288.1 | E44: 6288.1 | F44: 6288.1 | G44: 6288.1
C45: ՀՀ Արմավիրի մարզպետարան | D45: =SUM(D47:D47) -> 28503.547 | E45: =SUM(E47:E47) -> 28503.547 | F45: =SUM(F47:F47) -> 28503.547 | G45: =SUM(G47:G47) -> 28503.547
C46: այդ թվում` ըստ ուղղությունների
C47: Գեղակերտ համայնքի վերականգնվող խորքային հորերեր և ոռոգման ցանց | D47: 28503.547 | E47: 28503.547 | F47: 28503.547 | G47: 28503.547
C48: ՀՀ Գեղարքունիքի մարզպետարան | D48: =SUM(D50:D63) -> 254315.9 | E48: =SUM(E50:E63) -> 254315.9 | F48: =SUM(F50:F63) -> 254315.9 | G48: =SUM(G50:G63) -> 254315.9
C49: այդ թվում` ըստ ուղղությունների
C50: Աստղաձոր համայնքի 2-րդ,3-րդ, 4-րդ, 5-րդ, 7-րդ և 8-րդ փողոցների ոռոգման համակարգի կառուցում | D50: 26404.3 | E50: 26404.3 | F50: 26404.3 | G50: 26404.3
C51: Ներքին Գետաշեն համայնքի ոռոգման ցանցի կառուցում | D51: 14959.7 | E51: 14959.7 | F51: 14959.7 | G51: 14959.7
C52: Գեղամասար համայնքի Սոթք գյուղի գազաֆիկացման ընդլայնում | D52: 55783.8 | E52: 55783.8 | F52: 55783.8 | G52: 55783.8
C53: Նորատուս համայնքի Վ. Տերյան փողոցի 900 գմ հատվածի և Հ. Թումանյան փողոցի 471 գմ հատվածի և Հ Թումանյան փողոցից մինչև դպրոց տանող ճանապարհի ասֆալտապատում | D53: 21420.9 | E53: 21420.9 | F53: 21420.9 | G53: 21420.9
C54: Նորատուս համայնքի ներհամայնքային փողոցների լուսավորության ցանցի կառուցում | D54: 11315.2 | E54: 11315.2 | F54: 11315.2 | G54: 11315.2
C55: Նորատուս համայնքի համայնքապետարանի վարչական շենքի կառուցում | D55: 5122 | E55: 5122 | F55: 5122 | G55: 5122
C56: Սարուխան համայնքի փողոցային լուսավորության ցանցի կառուցում (Գուսան Աշոտ, Մ. Խոստեղյան, Վ. Կարեյան, Թումանյան, Բաղրամյան, Գործարանային, Դավիթ Բեկի, Մոնթե Մելքոնյան փողոցներ/ | D56: 10729.6 | E56: 10729.6 | F56: 10729.6 | G56: 10729.6
C57: Սարուխան համայնքի ոռոգման ցանցի կապիտալ նորոգում և ջրահեռացման համակարգի կառուցում՝ 2-րդ փուլ (Գուսան Հավանի և Գր,Նարեկացի փողոցների ջրահեռացման համակարգի կառուցման և ճանապարհի հարթեցում) | D57: 32702.8 | E57: 32702.8 | F57: 32702.8 | G57: 32702.8
C58: Վարդենիս համայնքի 4 բազմաբնակարան բնակելի շենքերի տանիքների հիմնանորոգում /Երիտասարդության 2/ | D58: 6192.2 | E58: 6192.2 | F58: 6192.2 | G58: 6192.2
C59: Լճաշեն համայնքի ներհամայնքային փողոցների ասֆալտապատում | D59: 26025.3 | E59: 26025.3 | F59: 26025.3 | G59: 26025.3
C60: Ակունք համայնքի 16/1, 16/2, 16/3, 16/4 փողոցների, 9-րդ փողոցի 2-րդ, 3-րդ նրբանցքների գազիֆիկացում | D60: 9691.7 | E60: 9691.7 | F60: 9691.7 | G60: 9691.7
C61: Ակունք համայնքի 2020 թվականի պատերազնի ժամանակ զոհված զինվորների հուշահամալիրի կառուցում | D61: 9886.9 | E61: 9886.9 | F61: 9886.9 | G61: 9886.9
... C63: Ակունք համայնքի Բարեկամության փողոցի ոռոգման և գոյություն ունեցող կոյուղու ցանցի վերակառուցում | D63: 12787.1 | E63: 12787.1 | F63: 12787.1 | G63: 12787.1
C64: ՀՀ Լոռու մարզպետարան | D64: =SUM(D66:D76) -> 184484.5 | E64: =SUM(E66:E76) -> 184484.5 | F64: =SUM(F66:F76) -> 184484.5 | G64: =SUM(G66:G76) -> 184484.5
C65: այդ թվում` ըստ ուղղությունների
C66: Ախթալա համայնքի Մեծ Այրում բնակավայրի մանկապարտեզի վերանորոգում | D66: 23223.2 | E66: 23223.2 | F66: 23223.2 | G66: 23223.2
C67: Գյուլագարակ համայնքի Գարգառ, Հոբարձի,Վարդաբլուր, Կուրթան բնակավայրերի լուսավորություն և Գյուլագարակի համայնքապետարանի տանիքին 10կվտ ԱՖՎ կայանի տեղադրման աշխատանքներ | D67: 7139.6 | E67: 7139.6 | F67: 7139.6 | G67: 7139.6
C68: Գյուլագարակ համայնքի Գյուլագարակ բնակավայրի գերմանական թաղամասի, Ամրակից բնակավայրի 2-րդ փողոցի մասնակի, Պուշկինո բնակավայրի 1-ին և 2-րդ փողոցների մասնակի գազիֆիկացում | D68: 31176.6 | E68: 31176.6 | F68: 31176.6 | G68: 31176.6
C69: Տաշիր համայնքում աղբավայրի կոնսերվացման/փակման/ ծրագիր | D69: 13239.2 | E69: 13239.2 | F69: 13239.2 | G69: 13239.2
C70: Տաշիր համայնքի Սարատովա և Կաթնառատ բնակավայրերի փողոցների նորոգում՝ սալարկմամբ | D70: 30386.4 | E70: 30386.4 | F70: 30386.4 | G70: 30386.4
C71: Լեռնավան համայնքի 1-ին փողոցի ասֆալտապատում | D71: 7207.6 | E71: 7207.6 | F71: 7207.6 | G71: 7207.6
C72: Լեռնավան համայնքի 13-րդ փողոցում գաբիոնե շարվածքով հենապատի կառուցում | D72: 2086.6 | E72: 2086.6 | F72: 2086.6 | G72: 2086.6
C73: Լոռի Բերդ համայնքի բնակավայրերի կենտրոնների բարեկարգում | D73: 3626.8 | E73: 3626.8 | F73: 3626.8 | G73: 3626.8
C74: Լոռի Բերդ համայնքի բնակավայրերում գիշերային լուսավորության ցանցի ընդլայնում | D74: 5738.9 | E74: 5738.9 | F74: 5738.9 | G74: 5738.9
C75: Գուգարք համայնքի թիվ 10 և 14 շենքերի տանիքների վերանորոգում | D75: 4187.7 | E75: 4187.7 | F75: 4187.7 | G75: 4187.7
C76: Ստեփանավան քաղաքի Երիտասարդական փողոցի հիմնանորոգում | D76: 56471.9 | E76: 56471.9 | F76: 56471.9 | G76: 56471.9
C77: ՀՀ Կոտայքի մարզպետարան | D77: =SUM(D79:D87) -> 374051.3 | E77: =SUM(E79:E87) -> 374051.3 | F77: =SUM(F79:F87) -> 374051.3 | G77: =SUM(G79:G87) -> 374051.3
C78: այդ թվում` ըստ ուղղությունների
C79: Աբովյան քաղաքի մայթերի հիմնանորոգում | D79: 38029.1 | E79: 38029.1 | F79: 38029.1 | G79: 38029.1
C80: Արզնի համայնքային կենտրոնի(վարչական շենք) վերանորոգում | D80: 3876.4 | E80: 3876.4 | F80: 3876.4 | G80: 3876.4
C81: Գետամեջ համայնի 6-րդ փողոցի լուսավորության ցանցի կառուցում | D81: 3872.5 | E81: 3872.5 | F81: 3872.5 | G81: 3872.5
C82: Մեղրաձոր գյուղի 7-րդ և 11-րդ փողոցների հեղեղատարների կառուցում | D82: 1846.2 | E82: 1846.2 | F82: 1846.2 | G82: 1846.2
C83: Հրազդան համայնքի բակային տարածքների և թաղամասերն իրար միացնող հատվածի աստիճանավանդակի հիմնանորոգման աշխատանքների իրականացում, ասֆալտապատում | D83: 127281.8 | E83: 127281.8 | F83: 127281.8 | G83: 127281.8
C84: Հրազդան համայնքի Միկրոշրջան,Մ Բաղրամյան,Կենտրոն,Հարավային,Ջրառատ և Վանատուր թաղամասերի միջթաղամասային ճանապարհների հիմնանորոգման աշխատանքների իրականացում | D84: 134913.3 | E84: 134913.3 | F84: 134913.3 | G84: 134913.3
C85: Քանաքեռավան համայնքի մանկապարտեզի կապիտալ վերանորոգում | D85: 25358.2 | E85: 25358.2 | F85: 25358.2 | G85: 25358.2
C86: Ծաղկաձոր համայնքի գերեզմանների տարածքի ճանապարհների ասֆալտապատում, ավտոկայանատեղիի կառուցում | D86: 24833.1 | E86: 24833.1 | F86: 24833.1 | G86: 24833.1
C87: Ծաղկաձոր համայնքի <<Ծաղկաձորի նախադպրոցական ուսումնական հաստատություն>> ՀՈԱԿ-ի բակային տարածքի մանկական խաղահրապարակի համար կարուսելների ձեռքբերում | D87: 14040.7 | E87: 14040.7 | F87: 14040.7 | G87: 14040.7
C88: ՀՀ Շիրակի մարզպետարան | D88: =SUM(D90:D91) -> 348310.1 | E88: =SUM(E90:E91) -> 348310.1 | F88: =SUM(F90:F91) -> 348310.1 | G88: =SUM(G90:G91) -> 348310.1
C89: այդ թվում` ըստ ուղղությունների
C90: Գյումրի քաղաքի երկրորդային 8 փողոցների և 1 հրապարակի հիմնանորոգում | D90: 296130.2 | E90: 296130.2 | F90: 296130.2 | G90: 296130.2
C91: Արթիկ համայնքի Պռոշյան փողոցի, Տուֆագործների 1-ին նրբանցքի և Գարեգին Նժդեհ 1-ին նրբանցքի հիմնանորոգման՝ ասֆալտապատման աշխատանքներ | D91: 52179.9 | E91: 52179.9 | F91: 52179.9 | G91: 52179.9
C92: ՀՀ Վայոց ձորի մարզպետարան | D92: =SUM(D94:D98) -> 77835.2 | E92: =SUM(E94:E98) -> 77835.2 | F92: =SUM(F94:F98) -> 77835.2 | G92: =SUM(G94:G98) -> 77835.2
C93: այդ թվում` ըստ ուղղությունների
C94: Արենի համայնքի Աղավնաձոր բնակավայրի գազատարերի ներքին ցանցի կառուցում | D94: 13700.8 | E94: 13700.8 | F94: 13700.8 | G94: 13700.8
C95: Եղեգիս համայնքի արտաքին էլեկտրալուսավորության իրականացում (Թառաթումբ, Արտաբույնք, Շատին ) | D95: 21037.2 | E95: 21037.2 | F95: 21037.2 | G95: 21037.2
C96: Գլաձոր համայնքի Գետափ բնակավայրի ներհամայնքային ճանապարհի ասֆալտապատում/մինչև հին գերեզմաններ/ | D96: 18391.2 | E96: 18391.2 | F96: 18391.2 | G96: 18391.2
C97: Գլաձոր համայնքի Վերնաշեն բնակավայրի գազիֆիկացում | D97: 9610.2 | E97: 9610.2 | F97: 9610.2 | G97: 9610.2
C98: Ջերմուկ քաղաքում ճոպանուղու շինությունների հիմնանորոգում և նորերի կառուցում | D98: 15095.8 | E98: 15095.8 | F98: 15095.8 | G98: 15095.8
C99: ՀՀ Տավուշի մարզպետարան | D99: =SUM(D101:D101) -> 52430.4 | E99: =SUM(E101:E101) -> 52430.4 | F99: =SUM(F101:F101) -> 52430.4 | G99: =SUM(G101:G101) -> 52430.4
C100: այդ թվում` ըստ ուղղությունների
C101: Սևքար համայնքի գյուղամիջյան ճանապարհի և մայթերի սալարկում | D101: 52430.4 | E101: 52430.4 | F101: 52430.4 | G101: 52430.4

Sheet 2
J1: Հավելված № 2
J2: ՀՀ կառավարության 2022 թվականի
J3: -------------- ի № ---- -Ն որոշման
A5: ՀԱՅԱՍՏԱՆԻ ՀԱՆՐԱՊԵՏՈՒԹՅԱՆ ԿԱՌԱՎԱՐՈՒԹՅԱՆ 2021 ԹՎԱԿԱՆԻ ԴԵԿՏԵՄԲԵՐԻ 23-Ի № 2121-Ն ՈՐՈՇՄԱՆ №№ 3 և 4 ՀԱՎԵԼՎԱԾՆԵՐՈՒՄ ԿԱՏԱՐՎՈՂ ՓՈՓՈԽՈՒԹՅՈՒՆՆԵՐԸ ԵՎ ԼՐԱՑՈՒՄՆԵՐԸ
J6: հազար դրամ
A7: Գործառական դասիչը | D7: Ծրագրային դասիչը | F7: Բյուջետային հատկացումների գլխավոր կարգադրիչների, ծրագրերի, միջոցառումների և միջոցառումները կատարող պետական մարմինների անվանումները | G7: Ցուցանիշների փոփոխությունները (ավելացումները նշված են դրական նշանով իսկ նվազեցումները` փակագծերում)
A8: բաժին | B8: խումբ | C8: դաս | D8: Ծրագիր | E8: Միջոցառում | G8: Առաջին եռամսյակ | H8: Առաջին կիսամյակ | I8: Ինն ամիս | J8: Տարի
A9: ԸՆԴԱՄԵՆԸ ԾԱԽՍԵՐ | G9: =+G10 -> -9.4587449e-11 | H9: =+H10 -> -9.4587449e-11 | I9: =+I10 -> -9.4587449e-11 | J9: =+J10 -> -9.4587449e-11
A10: 01 | F10: ԸՆԴՀԱՆՈՒՐ ԲՆՈՒՅԹԻ ՀԱՆՐԱՅԻՆ ԾԱՌԱՅՈՒԹՅՈՒՆՆԵՐ | G10: =+G12 -> -9.4587449e-11 | H10: =+H12 -> -9.4587449e-11 | I10: =+I12 -> -9.4587449e-11 | J10: =+J12 -> -9.4587449e-11
F11: այդ թվում՝
B12: 08 | F12: Կառավարության տարբեր մակարդակների միջև իրականացվող ընդհանուր բնույթի տրանսֆերտներ | G12: =+G14 -> -9.4587449e-11 | H12: =+H14 -> -9.4587449e-11 | I12: =+I14 -> -9.4587449e-11 | J12: =+J14 -> -9.4587449e-11
F13: այդ թվում՝
C14: 01 | F14: Կառավարության տարբեր մակարդակների միջև իրականացվող ընդհանուր բնույթի տրանսֆերտներ | G14: =+G16 -> -9.4587449e-11 | H14: =+H16 -> -9.4587449e-11 | I14: =+I16 -> -9.4587449e-11 | J14: =+J16 -> -9.4587449e-11
F15: այդ թվում՝
F16: ՀՀ տարածքային կառավարման և ենթակառուցվածքների նախարարություն | G16: =+G18 -> -9.4587449e-11 | H16: =+H18 -> -9.4587449e-11 | I16: =+I18 -> -9.4587449e-11 | J16: =+J18 -> -9.4587449e-11
F17: այդ թվում՝
D18: 1212 | F18: Տարածքային զարգացում | G18: =+G20 -> -9.4587449e-11 | H18: =+H20 -> -9.4587449e-11 | I18: =+I20 -> -9.4587449e-11 | J18: =+J20 -> -9.4587449e-11
F19: այդ թվում`
E20: 12007 | F20: ՀՀ մարզերին սուբվենցիաների տրամադրում՛ ենթակառուցվածքների զարգացման նպատակով_x000D_ | G20: =+G22+G29+G36+G43+G50+G57+G64+G71+G78+G85 -> -9.4587449e-11 | H20: =+H22+H29+H36+H43+H50+H57+H64+H71+H78+H85 -> -9.4587449e-11 | I20: =+I22+I29+I36+I43+I50+I57+I64+I71+I78+I85 -> -9.4587449e-11 | J20: =+J22+J29+J36+J43+J50+J57+J64+J71+J78+J85 -> -9.4587449e-11
F21: այդ թվում` ըստ կատարողների
F22: ՀՀ կառավարություն | G22: ='1'!D21 -> -1608376.4 | H22: =G22 -> -1608376.4 | I22: ='1'!F21 -> -1608376.4 | J22: ='1'!G21 -> -1608376.4
F23: այդ թվում` բյուջետային ծախսերի տնտեսագիտական դասակարգման հոդվածներ
F24: ԸՆԴԱՄԵՆԸ ԾԱԽՍԵՐ | G24: =G25 -> -1608376.4 | H24: ='1'!D21 -> -1608376.4 | I24: ='1'!E21 -> -1608376.4 | J24: ='1'!F21 -> -1608376.4
F25: ԸՆԹԱՑԻԿ ԾԱԽՍԵՐ | G25: =G26 -> -1608376.4 | H25: =H24 -> -1608376.4 | I25: =I24 -> -1608376.4 | J25: =J24 -> -1608376.4
F26: ԴՐԱՄԱՇՆՈՐՀՆԵՐ | G26: =G28 -> -1608376.4 | H26: =H25 -> -1608376.4 | I26: =I25 -> -1608376.4 | J26: =J25 -> -1608376.4
F27: Կապիտալ դրամաշնորհներ պետական հատվածի այլ մակարդակներին
F28: - Կապիտալ սուբվենցիաներ համայնքներին | G28: ='1'!D21 -> -1608376.4 | H28: ='1'!E21 -> -1608376.4 | I28: ='1'!F21 -> -1608376.4 | J28: ='1'!G21 -> -1608376.4
F29: ՀՀ Արագածոտնի մարզպետարան | G29: ='1'!D22 -> 194441.8 | H29: ='1'!E22 -> 194441.8 | I29: ='1'!F22 -> 194441.8 | J29: ='1'!G22 -> 194441.8
F30: այդ թվում` բյուջետային ծախսերի տնտեսագիտական դասակարգման հոդվածներ
F31: ԸՆԴԱՄԵՆԸ ԾԱԽՍԵՐ | G31: =G29 -> 194441.8 | H31: =H29 -> 194441.8 | I31: =I29 -> 194441.8 | J31: =J29 -> 194441.8
F32: ԸՆԹԱՑԻԿ ԾԱԽՍԵՐ | G32: =G33 -> 194441.8 | H32: =H33 -> 194441.8 | I32: =I31 -> 194441.8 | J32: =J31 -> 194441.8
F33: ԴՐԱՄԱՇՆՈՐՀՆԵՐ | G33: =G31 -> 194441.8 | H33: =H31 -> 194441.8 | I33: =I32 -> 194441.8 | J33: =J32 -> 194441.8
F34: Կապիտալ դրամաշնորհներ պետական հատվածի այլ մակարդակներին | G34: =G32 -> 194441.8 | H34: =H32 -> 194441.8 | I34: =I33 -> 194441.8 | J34: =J33 -> 194441.8
F35: - Կապիտալ սուբվենցիաներ համայնքներին | G35: =G33 -> 194441.8 | H35: =H33 -> 194441.8 | I35: =I34 -> 194441.8 | J35: =J34 -> 194441.8
F36: ՀՀ Արարատի մարզպետարան | G36: ='1'!D38 -> 94003.7 | H36: ='1'!E38 -> 94003.7 | I36: ='1'!F38 -> 94003.7 | J36: ='1'!G38 -> 94003.7
F37: այդ թվում` բյուջետային ծախսերի տնտեսագիտական դասակարգման հոդվածներ
F38: ԸՆԴԱՄԵՆԸ ԾԱԽՍԵՐ | G38: =G42 -> 94003.7 | H38: =H42 -> 94003.7 | I38: =I40 -> 94003.7 | J38: =J40 -> 94003.7
F39: ԸՆԹԱՑԻԿ ԾԱԽՍԵՐ | G39: =G42 -> 94003.7 | H39: =H42 -> 94003.7 | I39: =I40 -> 94003.7 | J39: =J40 -> 94003.7
F40: ԴՐԱՄԱՇՆՈՐՀՆԵՐ | G40: =G42 -> 94003.7 | H40: =H42 -> 94003.7 | I40: =I41 -> 94003.7 | J40: =J41 -> 94003.7
F41: Կապիտալ դրամաշնորհներ պետական հատվածի այլ մակարդակներին | G41: =G42 -> 94003.7 | H41: =H42 -> 94003.7 | I41: =+I42 -> 94003.7 | J41: =+J42 -> 94003.7
F42: - Կապիտալ սուբվենցիաներ համայնքներին | G42: ='1'!D38 -> 94003.7 | H42: ='1'!D38 -> 94003.7 | I42: ='1'!D38 -> 94003.7 | J42: ='1'!D38 -> 94003.7
F43: ՀՀ Արմավիրի մարզպետարան | G43: ='1'!D45 -> 28503.547 | H43: ='1'!E45 -> 28503.547 | I43: ='1'!F45 -> 28503.547 | J43: ='1'!G45 -> 28503.547
F44: այդ թվում` բյուջետային ծախսերի տնտեսագիտական դասակարգման հոդվածներ
F45: ԸՆԴԱՄԵՆԸ ԾԱԽՍԵՐ | G45: =G43 -> 28503.547 | H45: =H43 -> 28503.547 | I45: =I47 -> 28503.547 | J45: =J47 -> 28503.547
F46: ԸՆԹԱՑԻԿ ԾԱԽՍԵՐ | G46: =+G47 -> 28503.547 | H46: =+H47 -> 28503.547 | I46: =I47 -> 28503.547 | J46: =J47 -> 28503.547
F47: ԴՐԱՄԱՇՆՈՐՀՆԵՐ | G47: =G45 -> 28503.547 | H47: =H45 -> 28503.547 | I47: =I48 -> 28503.547 | J47: =J48 -> 28503.547
F48: Կապիտալ դրամաշնորհներ պետական հատվածի այլ մակարդակներին | G48: =+G49 -> 28503.547 | H48: =+H49 -> 28503.547 | I48: =+I49 -> 28503.547 | J48: =+J49 -> 28503.547
F49: - Կապիտալ սուբվենցիաներ համայնքներին | G49: =+'1'!D45 -> 28503.547 | H49: =+'1'!E45 -> 28503.547 | I49: =+'1'!F45 -> 28503.547 | J49: =+'1'!G45 -> 28503.547
F50: ՀՀ Գեղարքունիքի մարզպետարան | G50: ='1'!D48 -> 254315.9 | H50: ='1'!E48 -> 254315.9 | I50: ='1'!F48 -> 254315.9 | J50: ='1'!G48 -> 254315.9
F51: այդ թվում` բյուջետային ծախսերի տնտեսագիտական դասակարգման հոդվածներ
F52: ԸՆԴԱՄԵՆԸ ԾԱԽՍԵՐ | G52: =G50 -> 254315.9 | H52: =H56 -> 254315.9 | I52: =I54 -> 254315.9 | J52: =J54 -> 254315.9
F53: ԸՆԹԱՑԻԿ ԾԱԽՍԵՐ | G53: =G52 -> 254315.9 | H53: =H56 -> 254315.9 | I53: =I54 -> 254315.9 | J53: =J54 -> 254315.9
F54: ԴՐԱՄԱՇՆՈՐՀՆԵՐ | G54: =G52 -> 254315.9 | H54: =H56 -> 254315.9 | I54: =I55 -> 254315.9 | J54: =J55 -> 254315.9
F55: Կապիտալ դրամաշնորհներ պետական հատվածի այլ մակարդակներին | G55: =G53 -> 254315.9 | H55: =H56 -> 254315.9 | I55: =+I56 -> 254315.9 | J55: =+J56 -> 254315.9
F56: - Կապիտալ սուբվենցիաներ համայնքներին | G56: ='1'!D48 -> 254315.9 | H56: ='1'!E48 -> 254315.9 | I56: ='1'!F48 -> 254315.9 | J56: ='1'!G48 -> 254315.9
F57: ՀՀ Լոռու մարզպետարան | G57: ='1'!D64 -> 184484.5 | H57: ='1'!E64 -> 184484.5 | I57: ='1'!F64 -> 184484.5 | J57: ='1'!G64 -> 184484.5
F58: այդ թվում` բյուջետային ծախսերի տնտեսագիտական դասակարգման հոդվածներ
F59: ԸՆԴԱՄԵՆԸ ԾԱԽՍԵՐ | G59: =G60 -> 184484.5 | H59: =H60 -> 184484.5 | I59: =I57 -> 184484.5 | J59: =J57 -> 184484.5
F60: ԸՆԹԱՑԻԿ ԾԱԽՍԵՐ | G60: =G61 -> 184484.5 | H60: =H61 -> 184484.5 | I60: =I59 -> 184484.5 | J60: =J57 -> 184484.5
F61: ԴՐԱՄԱՇՆՈՐՀՆԵՐ | G61: =G62 -> 184484.5 | H61: =H62 -> 184484.5 | I61: =I59 -> 184484.5 | J61: =J59 -> 184484.5
F62: Կապիտալ դրամաշնորհներ պետական հատվածի այլ մակարդակներին | G62: =G63 -> 184484.5 | H62: =H63 -> 184484.5 | I62: =I61 -> 184484.5 | J62: =J61 -> 184484.5
F63: - Կապիտալ սուբվենցիաներ համայնքներին | G63: ='1'!D64 -> 184484.5 | H63: =G63 -> 184484.5 | I63: =I62 -> 184484.5 | J63: =J62 -> 184484.5
F64: ՀՀ Կոտայքի մարզպետարան | G64: ='1'!D77 -> 374051.3 | H64: ='1'!E77 -> 374051.3 | I64: ='1'!F77 -> 374051.3 | J64: ='1'!G77 -> 374051.3
F65: այդ թվում` բյուջետային ծախսերի տնտեսագիտական դասակարգման հոդվածներ
F66: ԸՆԴԱՄԵՆԸ ԾԱԽՍԵՐ | G66: =G67 -> 374051.3 | H66: =H67 -> 374051.3 | I66: =I68 -> 374051.3 | J66: =J68 -> 374051.3
F67: ԸՆԹԱՑԻԿ ԾԱԽՍԵՐ | G67: =G68 -> 374051.3 | H67: =H68 -> 374051.3 | I67: =I68 -> 374051.3 | J67: =J68 -> 374051.3
F68: ԴՐԱՄԱՇՆՈՐՀՆԵՐ | G68: =G69 -> 374051.3 | H68: =H69 -> 374051.3 | I68: =I69 -> 374051.3 | J68: =J69 -> 374051.3
F69: Կապիտալ դրամաշնորհներ պետական հատվածի այլ մակարդակներին | G69: =G70 -> 374051.3 | H69: =H70 -> 374051.3 | I69: =+I70 -> 374051.3 | J69: =+J70 -> 374051.3
F70: - Կապիտալ սուբվենցիաներ համայնքներին | G70: ='1'!D77 -> 374051.3 | H70: ='1'!E77 -> 374051.3 | I70: =+'1'!F77 -> 374051.3 | J70: =+'1'!G77 -> 374051.3
F71: ՀՀ Շիրակի մարզպետարան | G71: ='1'!D88 -> 348310.1 | H71: ='1'!E88 -> 348310.1 | I71: =+I73 -> 348310.1 | J71: =+J73 -> 348310.1
F72: այդ թվում` բյուջետային ծախսերի տնտեսագիտական դասակարգման հոդվածներ
F73: ԸՆԴԱՄԵՆԸ ԾԱԽՍԵՐ | G73: =G74 -> 348310.1 | H73: =H74 -> 348310.1 | I73: =I75 -> 348310.1 | J73: =J75 -> 348310.1
F74: ԸՆԹԱՑԻԿ ԾԱԽՍԵՐ | G74: =G75 -> 348310.1 | H74: =H75 -> 348310.1 | I74: =I75 -> 348310.1 | J74: =J75 -> 348310.1
F75: ԴՐԱՄԱՇՆՈՐՀՆԵՐ | G75: =G76 -> 348310.1 | H75: =H76 -> 348310.1 | I75: =I76 -> 348310.1 | J75: =J76 -> 348310.1
F76: Կապիտալ դրամաշնորհներ պետական հատվածի այլ մակարդակներին | G76: =G77 -> 348310.1 | H76: =H77 -> 348310.1 | I76: =+I77 -> 348310.1 | J76: =+J77 -> 348310.1
F77: - Կապիտալ սուբվենցիաներ համայնքներին | G77: ='1'!D88 -> 348310.1 | H77: ='1'!E88 -> 348310.1 | I77: =+'1'!F88 -> 348310.1 | J77: =+'1'!G88 -> 348310.1
F78: ՀՀ Վայոց ձորի մարզպետարան | G78: ='1'!D92 -> 77835.2 | H78: ='1'!E92 -> 77835.2 | I78: ='1'!F92 -> 77835.2 | J78: ='1'!G92 -> 77835.2
F79: այդ թվում` բյուջետային ծախսերի տնտեսագիտական դասակարգման հոդվածներ
F80: ԸՆԴԱՄԵՆԸ ԾԱԽՍԵՐ | G80: =G81 -> 77835.2 | H80: =H81 -> 77835.2 | I80: =I81 -> 77835.2 | J80: =J81 -> 77835.2
F81: ԸՆԹԱՑԻԿ ԾԱԽՍԵՐ | G81: =G82 -> 77835.2 | H81: =H82 -> 77835.2 | I81: =I82 -> 77835.2 | J81: =J82 -> 77835.2
F82: ԴՐԱՄԱՇՆՈՐՀՆԵՐ | G82: =G83 -> 77835.2 | H82: =H83 -> 77835.2 | I82: =I83 -> 77835.2 | J82: =J83 -> 77835.2
F83: Կապիտալ դրամաշնորհներ պետական հատվածի այլ մակարդակներին | G83: =G84 -> 77835.2 | H83: =H84 -> 77835.2 | I83: =I84 -> 77835.2 | J83: =J84 -> 77835.2
F84: - Կապիտալ սուբվենցիաներ համայնքներին | G84: ='1'!D92 -> 77835.2 | H84: ='1'!E92 -> 77835.2 | I84: ='1'!F92 -> 77835.2 | J84: ='1'!G92 -> 77835.2
F85: ՀՀ Տավուշի մարզպետարան | G85: ='1'!D99 -> 52430.4 | H85: ='1'!E99 -> 52430.4 | I85: ='1'!F99 -> 52430.4 | J85: ='1'!G99 -> 52430.4
F86: այդ թվում` բյուջետային ծախսերի տնտեսագիտական դասակարգման հոդվածներ
F87: ԸՆԴԱՄԵՆԸ ԾԱԽՍԵՐ | G87: =G88 -> 52430.4 | H87: =H88 -> 52430.4 | I87: =I88 -> 52430.4 | J87: =J88 -> 52430.4
F88: ԸՆԹԱՑԻԿ ԾԱԽՍԵՐ | G88: =G89 -> 52430.4 | H88: =H89 -> 52430.4 | I88: =I89 -> 52430.4 | J88: =J89 -> 52430.4
F89: ԴՐԱՄԱՇՆՈՐՀՆԵՐ | G89: =G90 -> 52430.4 | H89: =H90 -> 52430.4 | I89: =I90 -> 52430.4 | J89: =J90 -> 52430.4
F90: Կապիտալ դրամաշնորհներ պետական հատվածի այլ մակարդակներին | G90: =G91 -> 52430.4 | H90: =H91 -> 52430.4 | I90: =I91 -> 52430.4 | J90: =J91 -> 52430.4
F91: - Կապիտալ սուբվենցիաներ համայնքներին | G91: ='1'!D99 -> 52430.4 | H91: ='1'!E99 -> 52430.4 | I91: ='1'!F99 -> 52430.4 | J91: ='1'!G99 -> 52430.4

Sheet 3
D1: Հավելված № 3
D2: ՀՀ կառավարության 2022 թվականի
D3: -------------- ի № ---- -Ն որոշման
A5: ՀԱՅԱՍՏԱՆԻ ՀԱՆՐԱՊԵՏՈՒԹՅԱՆ ԿԱՌԱՎԱՐՈՒԹՅԱՆ 2021 ԹՎԱԿԱՆԻ ԴԵԿՏԵՄԲԵՐԻ 23-Ի № 2121-Ն ՈՐՈՇՄԱՆ № 9 ՀԱՎԵԼՎԱԾԻ № 9.7 ԱՂՅՈՒՍԱԿՈՒՄ ԿԱՏԱՐՎՈՂ ԼՐԱՑՈՒՄԸ
A6: ՀՀ տարածքային կառավարման և ենթակառուցվածքների նախարարություն
A9: Ծրագրի դասիչը | B9: Ծրագրի անվանումը
A10: 1212 | B10: Տարածքային զարգացում
A12: Ծրագրի միջոցառումները
A14: Ծրագրի դասիչը` | B14: 1212 | C14: Ցուցանիշների փոփոխությունները (ավելացումները նշված են դրական նշանով)
A15: Միջոցառման դասիչը` | B15: 12007 | C15: Առաջին եռամսյակ | D15: Առաջին կիսամյակ | E15: Ինն ամիս | F15: Տարի
A16: Միջոցառման անվանումը` | B16: ՀՀ մարզերին սուբվենցիաների տրամադրում` ենթակառուցվածքների զարգացման նպատակով_x000D_
A17: Նկարագրությունը` | B17: ՀՀ մարզերին սուբվենցիաների տրամադրում` ենթակառուցվածքների զարգացման նպատակով
A18: Միջոցառման տեսակը` | B18: Տրանսֆերտների տրամադրում
A19: Միջոցառումն իրականացնողի անվանումը | B19: ՀՀ համայնքներ
A20: Արդյունքի չափորոշիչներ
A21: ՀՀ համայնքների թիվ, հատ | C21: ='4'!C170+'4'!C149+'4'!C128+'4'!C107+'4'!C86+'4'!C65+'4'!C44+'4'!C23+'4'!C191 -> 46 | D21: ='4'!D170+'4'!D149+'4'!D128+'4'!D107+'4'!D86+'4'!D65+'4'!D44+'4'!D23+'4'!D191 -> 46 | E21: ='4'!E170+'4'!E149+'4'!E128+'4'!E107+'4'!E86+'4'!E65+'4'!E44+'4'!E23+'4'!E191 -> 46 | F21: ='4'!F170+'4'!F149+'4'!F128+'4'!F107+'4'!F86+'4'!F65+'4'!F44+'4'!F23+'4'!F191 -> 46
A22: Միջոցառման վրա կատարվող ծախսը (հազար դրամ) | C22: ='[1]2'!G20 -> 0 | D22: ='[1]2'!H20 -> 0 | E22: 0 | F22: 0

Sheet 4
D1: Հավելված № 4
D2: ՀՀ կառավարության 2022 թվականի
D3: -------------- ի № ---- -Ն որոշման
A5: ՀԱՅԱՍՏԱՆԻ ՀԱՆՐԱՊԵՏՈՒԹՅԱՆ ԿԱՌԱՎԱՐՈՒԹՅԱՆ 2021 ԹՎԱԿԱՆԻ ԴԵԿՏԵՄԲԵՐԻ 23-Ի № 2121-Ն ՈՐՈՇՄԱՆ № 9.1 ՀԱՎԵԼՎԱԾԻ № 9.1.49 ԱՂՅՈՒՍԱԿՈՒՄ ԿԱՏԱՐՎՈՂ ԼՐԱՑՈՒՄԸ
E6: Աղյուսակ 9.1.49
A7: ՀՀ Արագածոտնի մարզպետարան
A9: ՄԱՍ 1. ՊԵՏԱԿԱՆ ՄԱՐՄՆԻ ԳԾՈՎ ԱՐԴՅՈՒՆՔԱՅԻՆ (ԿԱՏԱՐՈՂԱԿԱՆ) ՑՈՒՑԱՆԻՇՆԵՐԸ
A11: Ծրագրի դասիչը | B11: Ծրագրի անվանումը
A12: 1212 | B12: Տարածքային զարգացում
A14: Ծրագրի միջոցառումները
A16: Ծրագրի դասիչը` | B16: 1212 | C16: Ցուցանիշների փոփոխությունները (ավելացումները նշված են դրական նշանով)
A17: Միջոցառման դասիչը` | B17: 12007 | C17: Առաջին եռամսյակ | D17: Առաջին կիսամյակ | E17: Ինն ամիս | F17: Տարի
A18: Միջոցառման անվանումը` | B18: ՀՀ մարզերին սուբվենցիաների տրամադրում` ենթակառուցվածքների զարգացման նպատակով_x000D_
A19: Նկարագրությունը` | B19: ՀՀ մարզերին սուբվենցիաների տրամադրում` ենթակառուցվածքների զարգացման նպատակով
A20: Միջոցառման տեսակը` | B20: Տրանսֆերտների տրամադրում
A21: Միջոցառումն իրականացնողի անվանումը | B21: ՀՀ համայնքներ
A22: Արդյունքի չափորոշիչներ
A23: ՀՀ համայնքների թիվ, հատ | C23: 11 | D23: 11 | E23: 11 | F23: 11
A24: Միջոցառման վրա կատարվող ծախսը (հազար դրամ) | C24: ='1'!D22 -> 194441.8 | D24: ='1'!E22 -> 194441.8 | E24: ='1'!F22 -> 194441.8 | F24: ='1'!G22 -> 194441.8
A26: ՀԱՅԱՍՏԱՆԻ ՀԱՆՐԱՊԵՏՈՒԹՅԱՆ ԿԱՌԱՎԱՐՈՒԹՅԱՆ 2021 ԹՎԱԿԱՆԻ ԴԵԿՏԵՄԲԵՐԻ 23-Ի № 2121-Ն ՈՐՈՇՄԱՆ № 9.1 ՀԱՎԵԼՎԱԾԻ № 9.1.50 ԱՂՅՈՒՍԱԿՈՒՄ ԿԱՏԱՐՎՈՂ ԼՐԱՑՈՒՄԸ
E27: Աղյուսակ 9.1.50
A28: ՀՀ Արարատի մարզպետարան
A30: ՄԱՍ 1. ՊԵՏԱԿԱՆ ՄԱՐՄՆԻ ԳԾՈՎ ԱՐԴՅՈՒՆՔԱՅԻՆ (ԿԱՏԱՐՈՂԱԿԱՆ) ՑՈՒՑԱՆԻՇՆԵՐԸ
A32: Ծրագրի դասիչը | B32: Ծրագրի անվանումը
A33: 1212 | B33: Տարածքային զարգացում
A35: Ծրագրի միջոցառումները
A37: Ծրագրի դասիչը` | B37: 1212 | C37: Ցուցանիշների փոփոխությունները (ավելացումները նշված են դրական նշանով)
A38: Միջոցառման դասիչը` | B38: 12007 | C38: Առաջին եռամսյակ | D38: Առաջին կիսամյակ | E38: Ինն ամիս | F38: Տարի
A39: Միջոցառման անվանումը` | B39: ՀՀ մարզերին սուբվենցիաների տրամադրում` ենթակառուցվածքների զարգացման նպատակով_x000D_
A40: Նկարագրությունը` | B40: ՀՀ մարզերին սուբվենցիաների տրամադրում` ենթակառուցվածքների զարգացման նպատակով
A41: Միջոցառման տեսակը` | B41: Տրանսֆերտների տրամադրում
A42: Միջոցառումն իրականացնողի անվանումը | B42: ՀՀ համայնքներ
A43: Արդյունքի չափորոշիչներ
A44: ՀՀ համայնքների թիվ, հատ | C44: 5 | D44: 5 | E44: 5 | F44: 5
A45: Միջոցառման վրա կատարվող ծախսը (հազար դրամ) | C45: ='2'!G36 -> 94003.7 | D45: =C45 -> 94003.7 | E45: =D45 -> 94003.7 | F45: =E45 -> 94003.7
A47: ՀԱՅԱՍՏԱՆԻ ՀԱՆՐԱՊԵՏՈՒԹՅԱՆ ԿԱՌԱՎԱՐՈՒԹՅԱՆ 2021 ԹՎԱԿԱՆԻ ԴԵԿՏԵՄԲԵՐԻ 23-Ի № 2121-Ն ՈՐՈՇՄԱՆ № 9.1 ՀԱՎԵԼՎԱԾԻ № 9.1.51 ԱՂՅՈՒՍԱԿՈՒՄ ԿԱՏԱՐՎՈՂ ԼՐԱՑՈՒՄԸ
E48: Աղյուսակ 9.1.51
A49: ՀՀ Արմավիրի մարզպետարան
A51: ՄԱՍ 1. ՊԵՏԱԿԱՆ ՄԱՐՄՆԻ ԳԾՈՎ ԱՐԴՅՈՒՆՔԱՅԻՆ (ԿԱՏԱՐՈՂԱԿԱՆ) ՑՈՒՑԱՆԻՇՆԵՐԸ
A53: Ծրագրի դասիչը | B53: Ծրագրի անվանումը
A54: 1212 | B54: Տարածքային զարգացում
A56: Ծրագրի միջոցառումները
A58: Ծրագրի դասիչը` | B58: 1212 | C58: Ցուցանիշների փոփոխությունները (ավելացումները նշված են դրական նշանով)
A59: Միջոցառման դասիչը` | B59: 12007 | C59: Առաջին եռամսյակ | D59: Առաջին կիսամյակ | E59: Ինն ամիս | F59: Տարի
A60: Միջոցառման անվանումը` | B60: ՀՀ մարզերին սուբվենցիաների տրամադրում` ենթակառուցվածքների զարգացման նպատակով_x000D_
A61: Նկարագրությունը` | B61: ՀՀ մարզերին սուբվենցիաների տրամադրում` ենթակառուցվածքների զարգացման նպատակով
A62: Միջոցառման տեսակը` | B62: Տրանսֆերտների տրամադրում
A63: Միջոցառումն իրականացնողի անվանումը | B63: ՀՀ համայնքներ
A64: Արդյունքի չափորոշիչներ
A65: ՀՀ համայնքների թիվ, հատ | C65: 1 | D65: 1 | E65: 1 | F65: 1
A66: Միջոցառման վրա կատարվող ծախսը (հազար դրամ) | C66: ='1'!D45 -> 28503.547 | D66: ='1'!E45 -> 28503.547 | E66: ='1'!F45 -> 28503.547 | F66: ='1'!G45 -> 28503.547
A68: ՀԱՅԱՍՏԱՆԻ ՀԱՆՐԱՊԵՏՈՒԹՅԱՆ ԿԱՌԱՎԱՐՈՒԹՅԱՆ 2021 ԹՎԱԿԱՆԻ ԴԵԿՏԵՄԲԵՐԻ 23-Ի № 2121-Ն ՈՐՈՇՄԱՆ № 9.1 ՀԱՎԵԼՎԱԾԻ № 9.1.52 ԱՂՅՈՒՍԱԿՈՒՄ ԿԱՏԱՐՎՈՂ ԼՐԱՑՈՒՄԸ
E69: Աղյուսակ 9.1.52
A70: ՀՀ Գեղարքունիքի մարզպետարան
A72: ՄԱՍ 1. ՊԵՏԱԿԱՆ ՄԱՐՄՆԻ ԳԾՈՎ ԱՐԴՅՈՒՆՔԱՅԻՆ (ԿԱՏԱՐՈՂԱԿԱՆ) ՑՈՒՑԱՆԻՇՆԵՐԸ
A74: Ծրագրի դասիչը | B74: Ծրագրի անվանումը
A75: 1212 | B75: Տարածքային զարգացում
A77: Ծրագրի միջոցառումները
A79: Ծրագրի դասիչը` | B79: 1212 | C79: Ցուցանիշների փոփոխությունները (ավելացումները նշված են դրական նշանով)
A80: Միջոցառման դասիչը` | B80: 12007 | C80: Առաջին եռամսյակ | D80: Առաջին կիսամյակ | E80: Ինն ամիս | F80: Տարի
A81: Միջոցառման անվանումը` | B81: ՀՀ մարզերին սուբվենցիաների տրամադրում` ենթակառուցվածքների զարգացման նպատակով_x000D_
A82: Նկարագրությունը` | B82: ՀՀ մարզերին սուբվենցիաների տրամադրում` ենթակառուցվածքների զարգացման նպատակով
A83: Միջոցառման տեսակը` | B83: Տրանսֆերտների տրամադրում
A84: Միջոցառումն իրականացնողի անվանումը | B84: ՀՀ համայնքներ
A85: Արդյունքի չափորոշիչներ
A86: ՀՀ համայնքների թիվ, հատ | C86: 8 | D86: 8 | E86: 8 | F86: 8
A87: Միջոցառման վրա կատարվող ծախսը (հազար դրամ) | C87: ='2'!G50 -> 254315.9 | D87: =C87 -> 254315.9 | E87: =D87 -> 254315.9 | F87: =E87 -> 254315.9
A89: ՀԱՅԱՍՏԱՆԻ ՀԱՆՐԱՊԵՏՈՒԹՅԱՆ ԿԱՌԱՎԱՐՈՒԹՅԱՆ 2021 ԹՎԱԿԱՆԻ ԴԵԿՏԵՄԲԵՐԻ 23-Ի № 2121-Ն ՈՐՈՇՄԱՆ № 9.1 ՀԱՎԵԼՎԱԾԻ № 9.1.53 ԱՂՅՈՒՍԱԿՈՒՄ ԿԱՏԱՐՎՈՂ ԼՐԱՑՈՒՄԸ
E90: Աղյուսակ 9.1.53
A91: ՀՀ Լոռու մարզպետարան
A93: ՄԱՍ 1. ՊԵՏԱԿԱՆ ՄԱՐՄՆԻ ԳԾՈՎ ԱՐԴՅՈՒՆՔԱՅԻՆ (ԿԱՏԱՐՈՂԱԿԱՆ) ՑՈՒՑԱՆԻՇՆԵՐԸ
A95: Ծրագրի դասիչը | B95: Ծրագրի անվանումը
A96: 1212 | B96: Տարածքային զարգացում
A98: Ծրագրի միջոցառումները
A100: Ծրագրի դասիչը` | B100: 1212 | C100: Ցուցանիշների փոփոխությունները (ավելացումները նշված են դրական նշանով)
A101: Միջոցառման դասիչը` | B101: 12007 | C101: Առաջին եռամսյակ | D101: Առաջին կիսամյակ | E101: Ինն ամիս | F101: Տարի
A102: Միջոցառման անվանումը` | B102: ՀՀ մարզերին սուբվենցիաների տրամադրում` ենթակառուցվածքների զարգացման նպատակով_x000D_
A103: Նկարագրությունը` | B103: ՀՀ մարզերին սուբվենցիաների տրամադրում` ենթակառուցվածքների զարգացման նպատակով
A104: Միջոցառման տեսակը` | B104: Տրանսֆերտների տրամադրում
A105: Միջոցառումն իրականացնողի անվանումը | B105: ՀՀ համայնքներ
A106: Արդյունքի չափորոշիչներ
A107: ՀՀ համայնքների թիվ, հատ | C107: 7 | D107: 7 | E107: 7 | F107: 7
A108: Միջոցառման վրա կատարվող ծախսը (հազար դրամ) | C108: ='1'!D64 -> 184484.5 | D108: ='1'!E64 -> 184484.5 | E108: ='1'!F64 -> 184484.5 | F108: ='1'!G64 -> 184484.5
A110: ՀԱՅԱՍՏԱՆԻ ՀԱՆՐԱՊԵՏՈՒԹՅԱՆ ԿԱՌԱՎԱՐՈՒԹՅԱՆ 2021 ԹՎԱԿԱՆԻ ԴԵԿՏԵՄԲԵՐԻ 23-Ի № 2121-Ն ՈՐՈՇՄԱՆ № 9.1 ՀԱՎԵԼՎԱԾԻ № 9.1.54 ԱՂՅՈՒՍԱԿՈՒՄ ԿԱՏԱՐՎՈՂ ԼՐԱՑՈՒՄԸ
E111: Աղյուսակ 9.1.54
A112: ՀՀ Կոտայքի մարզպետարան
A114: ՄԱՍ 1. ՊԵՏԱԿԱՆ ՄԱՐՄՆԻ ԳԾՈՎ ԱՐԴՅՈՒՆՔԱՅԻՆ (ԿԱՏԱՐՈՂԱԿԱՆ) ՑՈՒՑԱՆԻՇՆԵՐԸ
A116: Ծրագրի դասիչը | B116: Ծրագրի անվանումը
A117: 1212 | B117: Տարածքային զարգացում
A119: Ծրագրի միջոցառումները
A121: Ծրագրի դասիչը` | B121: 1212 | C121: Ցուցանիշների փոփոխությունները (ավելացումները նշված են դրական նշանով)
A122: Միջոցառման դասիչը` | B122: 12007 | C122: Առաջին եռամսյակ | D122: Առաջին կիսամյակ | E122: Ինն ամիս | F122: Տարի
A123: Միջոցառման անվանումը` | B123: ՀՀ մարզերին սուբվենցիաների տրամադրում` ենթակառուցվածքների զարգացման նպատակով_x000D_
A124: Նկարագրությունը` | B124: ՀՀ մարզերին սուբվենցիաների տրամադրում` ենթակառուցվածքների զարգացման նպատակով
A125: Միջոցառման տեսակը` | B125: Տրանսֆերտների տրամադրում
A126: Միջոցառումն իրականացնողի անվանումը | B126: ՀՀ համայնքներ
A127: Արդյունքի չափորոշիչներ
A128: ՀՀ համայնքների թիվ, հատ | C128: 7 | D128: 7 | E128: 7 | F128: 7
A129: Միջոցառման վրա կատարվող ծախսը (հազար դրամ) | C129: ='1'!D77 -> 374051.3 | D129: ='1'!E77 -> 374051.3 | E129: ='1'!F77 -> 374051.3 | F129: ='1'!G77 -> 374051.3
A131: ՀԱՅԱՍՏԱՆԻ ՀԱՆՐԱՊԵՏՈՒԹՅԱՆ ԿԱՌԱՎԱՐՈՒԹՅԱՆ 2021 ԹՎԱԿԱՆԻ ԴԵԿՏԵՄԲԵՐԻ 23-Ի № 2121-Ն ՈՐՈՇՄԱՆ № 9.1 ՀԱՎԵԼՎԱԾԻ № 9.1.55 ԱՂՅՈՒՍԱԿՈՒՄ ԿԱՏԱՐՎՈՂ ԼՐԱՑՈՒՄԸ
...
