Workbook
Name _tab10: #REF!
Name _tab11: #REF!
Name _tab12: #REF!
Name _tab13: #REF!
Name _tab14: #REF!
Name _tab15: #REF!
Name _tab16: #REF!
Name _tab17: #REF!
Name _tab18: #REF!
Name _tab19: #REF!
Name _tab20: #REF!
Name _tab21: #REF!
Name _tab22: #REF!
Name _tab23: #REF!
Name _tab24: #REF!
Name _tab5: #REF!
Name _tab6: #REF!
Name _tab7: #REF!
Name _tab8: #REF!
Name _tab9: #REF!
Name AgencyCode: #REF!
Name AgencyCode: #REF!
Name AgencyCode: #REF!
Name AgencyName: #REF!
Name AgencyName: #REF!
Name AgencyName: #REF!
Name åû: #REF!
Name åû: #REF!
Name åû: #REF!
Name BOP: #REF!
Name BOPfoot: #REF!
Name davit: #REF!
Name davit: #REF!
Name davit: #REF!
Name DebtCG: #REF!
Name DebtGG: #REF!
Name Functional1: #REF!
Name Functional1: #REF!
Name Functional1: #REF!
Name ggg: #REF!
Name ggg: #REF!
Name ggg: #REF!
Name hav: #REF!
Name hav: #REF!
Name havelvac: #REF!
Name havelvac: #REF!
Name mas: #REF!
Name mas: #REF!
Name mas: #REF!
Name mass: #REF!
Name mass: #REF!
Name mass: #REF!
Name MonExo: #REF!
Name MonGrow: #REF!
Name PANature: #REF!
Name PANature: #REF!
Name PANature: #REF!
Name par_count: #REF!,#REF!,#REF!,#REF!,#REF!,#REF!,#REF!,#REF!,#REF!,#REF!,#REF!,#REF!,#REF!,#REF!,#REF!
Name par_qual: #REF!,#REF!,#REF!,#REF!,#REF!
Name par_time: #REF!,#REF!,#REF!,#REF!

Sheet 1
F1: Հավելված N 1
D2: ՀՀ կառավարության 2022 թվականի
F3: -----------------ի N -----------Ն որոշման
A6: «ՀԱՅԱUՏԱՆԻ ՀԱՆՐԱՊԵՏՈՒԹՅԱՆ 2022 ԹՎԱԿԱՆԻ ՊԵՏԱԿԱՆ ԲՅՈՒՋԵԻ ՄԱUԻՆ» ՀԱՅԱUՏԱՆԻ ՀԱՆՐԱՊԵՏՈՒԹՅԱՆ OՐԵՆՔԻ N 1 ՀԱՎԵԼՎԱԾԻ N 2 ԱՂՅՈՒՍԱԿՈՒՄ ՎԵՐԱԲԱՇԽՈՒՄ ԵՎ ՀԱՅԱՍՏԱՆԻ ՀԱՆՐԱՊԵՏՈՒԹՅԱՆ ԿԱՌԱՎԱՐՈՒԹՅԱՆ 2021 ԹՎԱԿԱՆԻ ԴԵԿՏԵՄԲԵՐԻ23-Ի N 2121-Ն ՈՐՈՇՄԱՆ N 5 ՀԱՎԵԼՎԱԾԻ N 1 ԱՂՅՈՒՍԱԿՈՒՄ ԿԱՏԱՐՎՈՂ ՓՈՓՈԽՈՒԹՅՈՒՆԸ
F8: հազար դրամ
A9: Ծրագրային դասիչը | C9: Բյուջետային հատկացումների գլխավոր կարգադրիչների, ծրագրերի և միջոցառումների անվանումները | D9: Ցուցանիշների փոփոխությունները ավելացումները նշված են դրական նշանով, իսկ նվազեցումները՝ փակագծերում
A10: Ծրագիր | B10: Միջոցառում | D10: Առաջին եռամսյակ | E10: Առաջին կիսամյակ | F10: Ինն ամիս | G10: Տարի
C11: ԸՆԴԱՄԵՆԸ | D11: =D12+D44 -> 0 | E11: =E12+E44 -> 0 | F11: =F12+F44 -> 0 | G11: =G12+G44 -> 0
C12: ՀՀ աշխատանքի և սոցիալական հարցերի նախարարություն | D12: =D13 -> -3614.7 | E12: =E13 -> -65297.2 | F12: =F13 -> -95200 | G12: =G13 -> -124323.5
A13: 1088 | C13: Ծրագրի անվանումը` | D13: =D20+D26+D32+D38 -> -3614.7 | E13: =E20+E26+E32+E38 -> -65297.2 | F13: =F20+F26+F32+F38 -> -95200 | G13: =G20+G26+G32+G38 -> -124323.5
C14: Զբաղվածության ծրագիր
C15: Ծրագրի նպատակը`
C16: Բնակչության կայուն և ժամանակավոր զբաղվածության ապահովմանը միտված պայմանների ստեղծում
C17: Վերջնական արդյունքի նկարագրությունը`
C18: Կայուն և ժամանակավոր զբաղվածների թվաքանակի աճ
A19: Ծրագրի միջոցառումներ
B20: 11001 | C20: Միջոցառման անվանումը` | D20: 0 | E20: -21344.6 | F20: -30996 | G20: -40276.3
C21: Գործազուրկների, աշխատանաքից ազատման ռիսկ ունեցող, ինչպես նաև ազատազրկման ձևով պատիժը կրելու ավարտին վեց ամիս մնացած աշխատանք փնտրող անձանց մասնագիտական ուսուցման կազմակերպում
C22: Միջոցառման նկարագրությունը`
C23: Գործազուրկների և աշխատանքից ազատման ռիսկ ունեցող, ինչպես նաև ազատազրկման ձևով պատիժը կրելու ավարտին մինչև վեց ամիս մնացած աշխատանք փնտրող անձանց մասնագիտական ուսուցման կազմակերպում
C24: Միջոցառման տեսակը
C25: Ծառայությունների մատուցում
B26: 11004 | C26: Միջոցառման անվանումը` | D26: -539.8 | E26: -3059.1 | F26: -4498.7 | G26: -5938.3
C27: Աշխատաշուկայում անմրցունակ անձանց փոքր ձեռնարկատիրական գործունեության աջակցության տրամադրում ծրագրի ուսուցման կազմակերպման և խորհրդատվական ծառայություններ
C28: Միջոցառման նկարագրությունը`
C29: Անմրցունակ անձանց ձեռնարկատիրական գործունեության մեկնարկի և իրականացման համար աջակցության տրամադրում և տնտեսական գործունեությունն սկսելուց հետո մեկ տարվա ընթացքում ուղեկցման աշխատանքների իրականացում:
C30: Միջոցառման տեսակը
C31: Ծառայությունների մատուցում
B32: 12001 | C32: Միջոցառման անվանումը` | D32: -3074.9 | E32: -17424.4 | F32: -25624.1 | G32: -33823.8
C33: Աշխատաշուկայում անմրցունակ անձանց փոքր ձեռնարկատիրական գործունեության աջակցության տրամադրում
C34: Միջոցառման նկարագրությունը`
C35: Փոքր ձեռնարկատիրական գործունեությամբ զբաղվելու և լրացուցիչ աշխատատեղեր ստեղծելու նպատակով աշխատաշուկայում անմրցունակ անձանց ֆինանսական աջակցության տրամադրում՛ ապահովելով հավասար հնարավորություններ կանանց և տղամարդկանց համար
C36: Միջոցառման տեսակը
C37: Տրանսֆերտների տրամադրում
B38: 12008 | C38: Միջոցառման անվանումը` | D38: 0 | E38: -23469.1 | F38: -34081.2 | G38: -44285.1
C39: Գործազուրկների, աշխատանաքից ազատման ռիսկ ունեցող, ինչպես նաև ազատազրկման ձևով պատիժը կրելու ավարտին վեց ամիս մնացած աշխատանք փնտրող անձանց կրթաթոշակի տրամադրում
C40: Միջոցառման նկարագրությունը`
C41: Մասնագիտական ուսուցման դասընթացներին մասնակցող գործազուրկների, աշխատանքից ազատման ռիսկ ունեցող, ինչպես նաև ազատազրկման ձևով պատիժը կրելու ավարտին վեց ամիս մնացած աշխատանք փնտրող անձանց կրթաթոշակի տրամադրում ուսուցման ամբողջ ընթացքում
C42: Միջոցառման տեսակը
C43: Տրանսֆերտների տրամադրում
C44: ՀՀ կառավարություն | D44: =D45 -> 3614.7 | E44: =E45 -> 65297.2 | F44: =F45 -> 95200 | G44: =G45 -> 124323.5
A45: 1139 | C45: Ծրագրի անվանումը` | D45: =D52 -> 3614.7 | E45: =E52 -> 65297.2 | F45: =F52 -> 95200 | G45: =G52 -> 124323.5
C46: ՀՀ կառավարության պահուստային ֆոնդ
C47: Ծրագրի նպատակը`
C48: Պետական բյուջեում չկանխատեսված, ինչպես նաեւ բյուջետային երաշխիքների ապահովման ծախսերի ֆինանսավորման ապահովում
C49: Վերջնական արդյունքի նկարագրությունը`
C50: Պահուստային ֆոնդի կառավարման արդյունավետության և թափանցիկության ապահովում
A51: Ծրագրի միջոցառումներ
B52: 11001 | C52: Միջոցառման անվանումը` | D52: =(D20+D26+D32+D38)*-1 -> 3614.7 | E52: =(E20+E26+E32+E38)*-1 -> 65297.2 | F52: =(F20+F26+F32+F38)*-1 -> 95200 | G52: =(G20+G26+G32+G38)*-1 -> 124323.5
C53: ՀՀ կառավարության պահուստային ֆոնդ
C54: Միջոցառման նկարագրությունը`
C55: ՀՀ պետական բյուջեում նախատեսված ելքերի լրացուցիչ ֆինանսավորման, պետական բյուջեում չկանխատեսված ելքերի, ինչպես նաև բյուջետային երաշխիքների ապահովման ելքերի ֆինանսավորման ապահովում
C56: Միջոցառման տեսակը
C57: Ծառայությունների մատուցում

Sheet 2
I1: Հավելված N 2
I2: ՀՀ կառավարության 2022 թվականի
I3: -----------------ի N -----------Ն որոշման
A5: ՀԱՅԱՍՏԱՆԻ ՀԱՆՐԱՊԵՏՈՒԹՅԱՆ ԿԱՌԱՎԱՐՈՒԹՅԱՆ 2021 ԹՎԱԿԱՆԻ ԴԵԿՏԵՄԲԵՐԻ 23-Ի N 2121-Ն ՈՐՈՇՄԱՆ N 3 և N 4 ՀԱՎԵԼՎԱԾՆԵՐՈՒՄ ԿԱՏԱՐՎՈՂ ՓՈՓՈԽՈՒԹՅՈՒՆՆԵՐԸ
J7: հազար դրամ
A8: Գործառական դասիչը | D8: Ծրագրային դասիչը | F8: Բյուջետային ծախսերի գործառական դասակարգման բաժինների, խմբերի և դասերի, բյուջետային ծրագրերի միջոցառումների, բյուջետային հատկացումների գլխավոր կարգադրիչների անվանումները | G8: Ցուցանիշների փոփոխությունները (ավելացումները նշված են դրական, իսկ նվազեցումները՝ փակագծերում)
A9: Բաժինը | B9: Խումբը | C9: Դասը | D9: Ծրագիր | E9: Միջոցառում | G9: Առաջին եռամսյակ | H9: Առաջին կիսամյակ | I9: Ինն ամիս | J9: Տարի
F10: ԸՆԴԱՄԵՆԸ ԾԱԽՍԵՐ | G10: =G12+G57 -> 0 | H10: =H12+H57 -> 0 | I10: =I12+I57 -> 0 | J10: =J12+J57 -> 0
F11: այդ թվում`
A12: 10 | F12: ՍՈՑԻԱԼԱԿԱՆ ՊԱՇՏՊԱՆՈՒԹՅՈՒՆ | G12: =G14 -> -3614.7 | H12: =H14 -> -65297.2 | I12: =I14 -> -95200 | J12: =J14 -> -124323.5
F13: այդ թվում`
B14: ՛05 | F14: Գործազրկություն | G14: =G16 -> -3614.7 | H14: =H16 -> -65297.2 | I14: =I16 -> -95200 | J14: =J16 -> -124323.5
F15: այդ թվում`
C16: ՛01 | F16: Գործազրկություն | G16: =G18 -> -3614.7 | H16: =H18 -> -65297.2 | I16: =I18 -> -95200 | J16: =J18 -> -124323.5
F17: այդ թվում`
D18: 1088 | F18: Զբաղվածության ծրագիր | G18: =G21+G30+G39+G48 -> -3614.7 | H18: =H21+H30+H39+H48 -> -65297.2 | I18: =I21+I30+I39+I48 -> -95200 | J18: =J21+J30+J39+J48 -> -124323.5
F19: այդ թվում`
F20: Ծրագրի միջոցառումներ
E21: 11001 | F21: Գործազուրկների, աշխատանաքից ազատման ռիսկ ունեցող, ինչպես նաև ազատազրկման ձևով պատիժը կրելու ավարտին վեց ամիս մնացած աշխատանք փնտրող անձանց մասնագիտական ուսուցման կազմակերպում | G21: =G23 -> 0 | H21: =H23 -> -21344.6 | I21: =I23 -> -30996 | J21: =J23 -> -40276.3
F22: այդ թվում` ըստ կատարողների
F23: ՀՀ աշխատանքի և սոցիալական հարցերի նախարարության միասնական սոցիալական ծառայություն | G23: =G25 -> 0 | H23: =H25 -> -21344.6 | I23: =I25 -> -30996 | J23: =J25 -> -40276.3
F24: այդ թվում` բյուջետային ծախսերի տնտեսագիտական դասակարգման հոդվածներ
F25: ԸՆԴԱՄԵՆԸ ԾԱԽՍԵՐ | G25: =G26 -> 0 | H25: =H26 -> -21344.6 | I25: =I26 -> -30996 | J25: =J26 -> -40276.3
F26: ԸՆԹԱՑԻԿ ԾԱԽՍԵՐ | G26: =G27 -> 0 | H26: =H27 -> -21344.6 | I26: =I27 -> -30996 | J26: =J27 -> -40276.3
F27: ԾԱՌԱՅՈՒԹՅՈՒՆՆԵՐԻ ԵՎ ԱՊՐԱՆՔՆԵՐԻ ՁԵՌՔԲԵՐՈՒՄ | G27: =G28 -> 0 | H27: =H28 -> -21344.6 | I27: =I28 -> -30996 | J27: =J28 -> -40276.3
F28: Այլ մասնագիտական ծառայությունների ձեռքբերում | G28: =G29 -> 0 | H28: =H29 -> -21344.6 | I28: =I29 -> -30996 | J28: =J29 -> -40276.3
F29: - Մասնագիտական ծառայություններ | G29: ='1'!D20 -> 0 | H29: ='1'!E20 -> -21344.6 | I29: ='1'!F20 -> -30996 | J29: ='1'!G20 -> -40276.3
E30: 11004 | F30: Աշխատաշուկայում անմրցունակ անձանց փոքր ձեռնարկատիրական գործունեության աջակցության տրամադրում ծրագրի ուսուցման կազմակերպման և խորհրդատվական ծառայություններ | G30: =G32 -> -539.8 | H30: =H32 -> -3059.1 | I30: =I32 -> -4498.7 | J30: =J32 -> -5938.3
F31: այդ թվում` ըստ կատարողների
F32: ՀՀ աշխատանքի և սոցիալական հարցերի նախարարության միասնական սոցիալական ծառայություն | G32: =G34 -> -539.8 | H32: =H34 -> -3059.1 | I32: =I34 -> -4498.7 | J32: =J34 -> -5938.3
F33: այդ թվում` բյուջետային ծախսերի տնտեսագիտական դասակարգման հոդվածներ
F34: ԸՆԴԱՄԵՆԸ ԾԱԽՍԵՐ | G34: =G35 -> -539.8 | H34: =H35 -> -3059.1 | I34: =I35 -> -4498.7 | J34: =J35 -> -5938.3
F35: ԸՆԹԱՑԻԿ ԾԱԽՍԵՐ | G35: =G36 -> -539.8 | H35: =H36 -> -3059.1 | I35: =I36 -> -4498.7 | J35: =J36 -> -5938.3
F36: ԾԱՌԱՅՈՒԹՅՈՒՆՆԵՐԻ ԵՎ ԱՊՐԱՆՔՆԵՐԻ ՁԵՌՔԲԵՐՈՒՄ | G36: =G37 -> -539.8 | H36: =H37 -> -3059.1 | I36: =I37 -> -4498.7 | J36: =J37 -> -5938.3
F37: Այլ մասնագիտական ծառայությունների ձեռքբերում | G37: =G38 -> -539.8 | H37: =H38 -> -3059.1 | I37: =I38 -> -4498.7 | J37: =J38 -> -5938.3
F38: - Մասնագիտական ծառայություններ | G38: ='1'!D26 -> -539.8 | H38: ='1'!E26 -> -3059.1 | I38: ='1'!F26 -> -4498.7 | J38: ='1'!G26 -> -5938.3
E39: 12001 | F39: Աշխատաշուկայում անմրցունակ անձանց փոքր ձեռնարկատիրական գործունեության աջակցության տրամադրում | G39: =G41 -> -3074.9 | H39: =H41 -> -17424.4 | I39: =I41 -> -25624.1 | J39: =J41 -> -33823.8
F40: այդ թվում` ըստ կատարողների
F41: ՀՀ աշխատանքի և սոցիալական հարցերի նախարարության միասնական սոցիալական ծառայություն | G41: =G43 -> -3074.9 | H41: =H43 -> -17424.4 | I41: =I43 -> -25624.1 | J41: =J43 -> -33823.8
F42: այդ թվում` բյուջետային ծախսերի տնտեսագիտական դասակարգման հոդվածներ
F43: ԸՆԴԱՄԵՆԸ ԾԱԽՍԵՐ | G43: =G44 -> -3074.9 | H43: =H44 -> -17424.4 | I43: =I44 -> -25624.1 | J43: =J44 -> -33823.8
F44: ԸՆԹԱՑԻԿ ԾԱԽՍԵՐ | G44: =G45 -> -3074.9 | H44: =H45 -> -17424.4 | I44: =I45 -> -25624.1 | J44: =J45 -> -33823.8
F45: ՍՈՑԻԱԼԱԿԱՆ ՆՊԱՍՏՆԵՐ ԵՎ ԿԵՆՍԱԹՈՇԱԿՆԵՐ | G45: =G46 -> -3074.9 | H45: =H46 -> -17424.4 | I45: =I46 -> -25624.1 | J45: =J46 -> -33823.8
F46: Սոցիալական օգնության դրամական արտահայտությամբ նպաստներ (բյուջեից) | G46: =G47 -> -3074.9 | H46: =H47 -> -17424.4 | I46: =I47 -> -25624.1 | J46: =J47 -> -33823.8
F47: - Այլ նպաստներ բյուջեից | G47: ='1'!D32 -> -3074.9 | H47: ='1'!E32 -> -17424.4 | I47: ='1'!F32 -> -25624.1 | J47: ='1'!G32 -> -33823.8
E48: 12008 | F48: Գործազուրկների, աշխատանաքից ազատման ռիսկ ունեցող, ինչպես նաև ազատազրկման ձևով պատիժը կրելու ավարտին վեց ամիս մնացած աշխատանք փնտրող անձանց կրթաթոշակի տրամադրում | G48: =G50 -> 0 | H48: =H50 -> -23469.1 | I48: =I50 -> -34081.2 | J48: =J50 -> -44285.1
F49: այդ թվում` ըստ կատարողների
F50: ՀՀ աշխատանքի և սոցիալական հարցերի նախարարության միասնական սոցիալական ծառայություն | G50: =G52 -> 0 | H50: =H52 -> -23469.1 | I50: =I52 -> -34081.2 | J50: =J52 -> -44285.1
F51: այդ թվում` բյուջետային ծախսերի տնտեսագիտական դասակարգման հոդվածներ
F52: ԸՆԴԱՄԵՆԸ ԾԱԽՍԵՐ | G52: =G53 -> 0 | H52: =H53 -> -23469.1 | I52: =I53 -> -34081.2 | J52: =J53 -> -44285.1
F53: ԸՆԹԱՑԻԿ ԾԱԽՍԵՐ | G53: =G54 -> 0 | H53: =H54 -> -23469.1 | I53: =I54 -> -34081.2 | J53: =J54 -> -44285.1
F54: ՍՈՑԻԱԼԱԿԱՆ ՆՊԱՍՏՆԵՐ ԵՎ ԿԵՆՍԱԹՈՇԱԿՆԵՐ | G54: =G55 -> 0 | H54: =H55 -> -23469.1 | I54: =I55 -> -34081.2 | J54: =J55 -> -44285.1
F55: Սոցիալական օգնության դրամական արտահայտությամբ նպաստներ (բյուջեից) | G55: =G56 -> 0 | H55: =H56 -> -23469.1 | I55: =I56 -> -34081.2 | J55: =J56 -> -44285.1
F56: - Կրթական, մշակութային և սպորտային նպաստներ բյուջեից | G56: ='1'!D38 -> 0 | H56: ='1'!E38 -> -23469.1 | I56: ='1'!F38 -> -34081.2 | J56: ='1'!G38 -> -44285.1
A57: 11 | F57: ՀԻՄՆԱԿԱՆ ԲԱԺԻՆՆԵՐԻՆ ՉԴԱՍՎՈՂ ՊԱՀՈՒՍՏԱՅԻՆ ՖՈՆԴԵՐ | G57: =G59 -> 3614.7 | H57: =H59 -> 65297.2 | I57: =I59 -> 95200 | J57: =J59 -> 124323.5
F58: այդ թվում`
B59: 01 | F59: ՀՀ կառավարության և համայնքների պահուստային ֆոնդ | G59: =G61 -> 3614.7 | H59: =H61 -> 65297.2 | I59: =I61 -> 95200 | J59: =J61 -> 124323.5
F60: այդ թվում`
C61: 01 | F61: ՀՀ կառավարության պահուստային ֆոնդ | G61: =G63 -> 3614.7 | H61: =H63 -> 65297.2 | I61: =I63 -> 95200 | J61: =J63 -> 124323.5
F62: այդ թվում`
D63: 1139 | F63: ՀՀ կառավարության պահուստային ֆոնդ | G63: =G65 -> 3614.7 | H63: =H65 -> 65297.2 | I63: =I65 -> 95200 | J63: =J65 -> 124323.5
F64: այդ թվում` ըստ կատարողների
E65: 11001 | F65: ՀՀ կառավարության պահուստային ֆոնդ | G65: =G67 -> 3614.7 | H65: =H67 -> 65297.2 | I65: =I67 -> 95200 | J65: =J67 -> 124323.5
F66: այդ թվում` ըստ կատարողների
F67: ՀՀ կառավարություն | G67: =G69 -> 3614.7 | H67: =H69 -> 65297.2 | I67: =I69 -> 95200 | J67: =J69 -> 124323.5
F68: այդ թվում` բյուջետային ծախսերի տնտեսագիտական դասակարգման հոդվածներ
F69: ԸՆԴԱՄԵՆԸ ԾԱԽՍԵՐ | G69: =G70 -> 3614.7 | H69: =H70 -> 65297.2 | I69: =I70 -> 95200 | J69: =J70 -> 124323.5
F70: ԸՆԹԱՑԻԿ ԾԱԽՍԵՐ | G70: =G71 -> 3614.7 | H70: =H71 -> 65297.2 | I70: =I71 -> 95200 | J70: =J71 -> 124323.5
F71: ԱՅԼ ԾԱԽՍԵՐ | G71: =G72 -> 3614.7 | H71: =H72 -> 65297.2 | I71: =I72 -> 95200 | J71: =J72 -> 124323.5
F72: Պահուստային միջոցներ | G72: ='1'!D52 -> 3614.7 | H72: ='1'!E52 -> 65297.2 | I72: ='1'!F52 -> 95200 | J72: ='1'!G52 -> 124323.5

Sheet 3
F2: Հավելված N 3
F3: ՀՀ կառավարության 2022 թվականի
F4: -----------------ի N -----------Ն որոշման
A6: ՀԱՅԱՍՏԱՆԻ ՀԱՆՐԱՊԵՏՈՒԹՅԱՆ ԿԱՌԱՎԱՐՈՒԹՅԱՆ 2021 ԹՎԱԿԱՆԻ ԴԵԿՏԵՄԲԵՐԻ 23-Ի N 2121-Ն ՈՐՈՇՄԱՆ N 9 ՀԱՎԵԼՎԱԾԻ 9․15 ԵՎ N 9.47 ԱՂՅՈՒՍԱԿՆԵՐՈՒՄ ԿԱՏԱՐՎՈՂ ՓՈՓՈԽՈՒԹՅՈՒՆՆԵՐԸ
A7: Հայաստանի Հանրապետության աշխատանքի և սոցիալական հարցերի նախարարություն
A8: ՄԱՍ 2. ՊԵՏԱԿԱՆ ՄԱՐՄՆԻ ԳԾՈՎ ԱՐԴՅՈՒՆՔԱՅԻՆ (ԿԱՏԱՐՈՂԱԿԱՆ) ՑՈՒՑԱՆԻՇՆԵՐԸ
A10: Ծրագրի դասիչը | B10: Ծրագրի անվանումը
A11: 1088 | B11: Զբաղվածության ծրագիր
A13: Ծրագրի միջոցառումները
A15: Ծրագրի դասիչը` | B15: 1088 | C15: Ցուցանիշների փոփոխությունը (նվազեցումները նշված են փակագծերում)
A16: Միջոցառման դասիչը` | B16: 11001 | C16: Առաջին եռամսյակ | D16: Առաջին կիսամյակ | E16: Ինն ամիս | F16: Տարի
A17: Միջոցառման անվանումը` | B17: Գործազուրկների, աշխատանաքից ազատման ռիսկ ունեցող, ինչպես նաև ազատազրկման ձևով պատիժը կրելու ավարտին վեց ամիս մնացած աշխատանք փնտրող անձանց մասնագիտական ուսուցման կազմակերպում
A18: Նկարագրությունը` | B18: Գործազուրկների և աշխատանքից ազատման ռիսկ ունեցող, ինչպես նաև ազատազրկման ձևով պատիժը կրելու ավարտին մինչև վեց ամիս մնացած աշխատանք փնտրող անձանց մասնագիտական ուսուցման կազմակերպում
A19: Միջոցառման տեսակը` | B19: Ծառայությունների մատուցում
A20: Միջոցառումն իրականացնողի անվանումը | B20: «Գնումների մասին» ՀՀ օրենքի համաձայն ընտրված կազմակերպություն
A21: Արդյունքի չափորոշիչներ
A22: Ծրագրերում ընդգրկվածների թիվ, մարդ, այդ թվում՛ | C22: 0 | D22: =SUM(D23:D24) -> -230 | E22: =SUM(E23:E24) -> -334 | F22: =SUM(F23:F24) -> -434
A23: կին | C23: 0 | D23: -211 | E23: -307 | F23: -399
A24: տղամարդ | C24: 0 | D24: -19 | E24: -27 | F24: -35
A25: հաշմանդամություն ունեցող անձանց թիվ, մարդ | C25: 0 | D25: -25 | E25: -37 | F25: -43
A26: Միջոցառման վրա կատարվող ծախսը (հազար դրամ) | C26: ='1'!D20 -> 0 | D26: ='1'!E20 -> -21344.6 | E26: ='1'!F20 -> -30996 | F26: ='1'!G20 -> -40276.3
A28: Ծրագրի դասիչը` | B28: 1088 | C28: Ցուցանիշների փոփոխությունը (նվազեցումները նշված են փակագծերում)
A29: Միջոցառման դասիչը` | B29: 11004 | C29: Առաջին եռամսյակ | D29: Առաջին կիսամյակ | E29: Ինն ամիս | F29: Տարի
A30: Միջոցառման անվանումը` | B30: Աշխատաշուկայում անմրցունակ անձանց փոքր ձեռնարկատիրական գործունեության աջակցության տրամադրում ծրագրի ուսուցման կազմակերպման և խորհրդատվական ծառայություններ
A31: Նկարագրությունը` | B31: Անմրցունակ անձանց ձեռնարկատիրական գործունեության մեկնարկի և իրականացման համար աջակցության տրամադրում և տնտեսական գործունեությունն սկսելուց հետո մեկ տարվա ընթացքում ուղեկցման աշխատանքների իրականացում:
A32: Միջոցառման տեսակը` | B32: Ծառայությունների մատուցում
A33: Միջոցառումն իրականացնողի անվանումը | B33: «Գնումների մասին» ՀՀ օրենքի համաձայն ընտրված կազմակերպություն
A34: Արդյունքի չափորոշիչներ
A35: Ծրագրի շահառուների թիվ, մարդ, այդ թվում | C35: =SUM(C36:C37) -> -3 | D35: =SUM(D36:D37) -> -17 | E35: =SUM(E36:E37) -> -25 | F35: =SUM(F36:F37) -> -33
A36: կին | C36: -1 | D36: -4 | E36: -7 | F36: -13
A37: տղամարդ | C37: -2 | D37: -13 | E37: -18 | F37: -20
A38: ուսուցում անցած հաշմանդամություն ունեցող անձանց թիվը | C38: 0 | D38: -3 | E38: -5 | F38: -7
A39: Միջոցառման վրա կատարվող ծախսը (հազար դրամ) | C39: ='1'!D26 -> -539.8 | D39: ='1'!E26 -> -3059.1 | E39: ='1'!F26 -> -4498.7 | F39: ='1'!G26 -> -5938.3
A41: Ծրագրի դասիչը` | B41: 1088 | C41: Ցուցանիշների փոփոխությունը (նվազեցումները նշված են փակագծերում)
A42: Միջոցառման դասիչը` | B42: 12001 | C42: Առաջին եռամսյակ | D42: Առաջին կիսամյակ | E42: Ինն ամիս | F42: Տարի
A43: Միջոցառման անվանումը` | B43: Աշխատաշուկայում անմրցունակ անձանց փոքր ձեռնարկատիրական գործունեության աջակցության տրամադրում
A44: Նկարագրությունը` | B44: Փոքր ձեռնարկատիրական գործունեությամբ զբաղվելու և լրացուցիչ աշխատատեղեր ստեղծելու նպատակով աշխատաշուկայում անմրցունակ անձանց ֆինանսական աջակցության տրամադրում՛ ապահովելով հավասար հնարավորություններ կանանց և տղամարդկանց համար
A45: Միջոցառման տեսակը` | B45: Տրանսֆերտների տրամադրում
A46: Շահառուների ընտրության չափանիշները | B46: Զբաղվածության տարածքային կենտրոններում հաշվառված աշխատաշուկայում անմրցունակ և առնվազն երեք ամիս գործազուրկի կարգավիճակում գտնվող անձինք:
A47: Արդյունքի չափորոշիչներ
A48: Ինքնազբաղվածությամբ ապահովված անձանց թիվ, այդ թվում | C48: =SUM(C49:C50) -> -3 | D48: =SUM(D49:D50) -> -17 | E48: =SUM(E49:E50) -> -25 | F48: =SUM(F49:F50) -> -33
A49: կին | C49: -1 | D49: -4 | E49: -7 | F49: -13
A50: տղամարդ | C50: -2 | D50: -13 | E50: -18 | F50: -20
A51: հաշմանդամություն ունեցող անձանց թիվ, մարդ | C51: 0 | D51: -3 | E51: -5 | F51: -7
A52: Միջոցառման վրա կատարվող ծախսը (հազար դրամ) | C52: ='1'!D32 -> -3074.9 | D52: ='1'!E32 -> -17424.4 | E52: ='1'!F32 -> -25624.1 | F52: ='1'!G32 -> -33823.8
A54: Ծրագրի դասիչը` | B54: 1088 | C54: Ցուցանիշների փոփոխությունը (նվազեցումները նշված են փակագծերում)
A55: Միջոցառման դասիչը` | B55: 12008 | C55: Առաջին եռամսյակ | D55: Առաջին կիսամյակ | E55: Ինն ամիս | F55: Տարի
A56: Միջոցառման անվանումը` | B56: Գործազուրկների, աշխատանաքից ազատման ռիսկ ունեցող, ինչպես նաև ազատազրկման ձևով պատիժը կրելու ավարտին վեց ամիս մնացած աշխատանք փնտրող անձանց կրթաթոշակի տրամադրում
A57: Նկարագրությունը` | B57: Մասնագիտական ուսուցման դասընթացներին մասնակցող գործազուրկների, աշխատանքից ազատման ռիսկ ունեցող, ինչպես նաև ազատազրկման ձևով պատիժը կրելու ավարտին վեց ամիս մնացած աշխատանք փնտրող անձանց կրթաթոշակի տրամադրում ուսուցման ամբողջ ընթացքում
A58: Միջոցառման տեսակը` | B58: Տրանսֆերտների տրամադրում
A59: Շահառուների ընտրության չափանիշները | B59: Զբաղվածության տարածքային կենտրոններում հաշվառված գործազուրկի կարգավիճակ ստացած անձինք
A60: Արդյունքի չափորոշիչներ
A61: Ծրագրում ընդգրկվածների թիվ, այդ թվում | C61: 0 | D61: =SUM(D62:D63) -> -230 | E61: =SUM(E62:E63) -> -334 | F61: =SUM(F62:F63) -> -434
A62: կին | C62: 0 | D62: -211 | E62: -307 | F62: -399
A63: տղամարդ | C63: 0 | D63: -19 | E63: -27 | F63: -35
A64: հաշմանդամություն ունեցող անձանց թիվ, մարդ | C64: 0 | D64: -25 | E64: -37 | F64: -43
A65: Միջոցառման վրա կատարվող ծախսը (հազար դրամ) | C65: ='1'!D38 -> 0 | D65: ='1'!E38 -> -23469.1 | E65: ='1'!F38 -> -34081.2 | F65: ='1'!G38 -> -44285.1
B67: ՀՀ կառավարություն
A69: Ծրագրի դասիչը | B69: Ծրագրի անվանումը
A70: 1139 | B70: ՀՀ կառավարության պահուստային ֆոնդ
A72: Ծրագրի միջոցառումները
A74: Ծրագրի դասիչը՝ | B74: 1139 | C74: Ցուցանիշների փոփոխությունը (ավելացումները նշված են դրական նշանով)
A75: Միջոցառման դասիչը՝ | B75: 11001 | C75: Առաջին եռամսյակ | D75: Առաջին կիսամյակ | E75: Ինն ամիս | F75: Տարի
A76: Միջոցառման անվանումը՝ | B76: ՀՀ կառավարության պահուստային ֆոնդ
A77: Նկարագրությունը՝ | B77: ՀՀ պետական բյուջեում նախատեսված ելքերի լրացուցիչ ֆինանսավորման,պետական բյուջեում չկանխատեսված ելքերի, ինչպես նաև բյուջետային երաշխիքների ապահովման ելքերի ֆինանսավորման ապահովում
A78: Միջոցառման տեսակը՝ | B78: Ծառայությունների մատուցում
A79: Միջոցառումն իրականացնողի անվանումը | B79: ՀՀ կառավարություն
B80: Արդյունքի չափորոշիչներ
A81: Միջոցառման վրա կատարվող ծախսը (հազար դրամ) | C81: ='1'!D52 -> 3614.7 | D81: ='1'!E52 -> 65297.2 | E81: ='1'!F52 -> 95200 | F81: ='1'!G52 -> 124323.5

Sheet 4
F2: Հավելված N 4
F3: ՀՀ կառավարության 2022 թվականի
F4: -----------------ի N -----------Ն որոշման
A6: ՀԱՅԱՍՏԱՆԻ ՀԱՆՐԱՊԵՏՈՒԹՅԱՆ ԿԱՌԱՎԱՐՈՒԹՅԱՆ 2021 ԹՎԱԿԱՆԻ ԴԵԿՏԵՄԲԵՐԻ 23-Ի N 2121-Ն ՈՐՈՇՄԱՆ N 9.1 ՀԱՎԵԼՎԱԾԻ 9․1.20 ԵՎ 9.1.59 ԱՂՅՈՒՍԱԿՆԵՐՈՒՄ ԿԱՏԱՐՎՈՂ ՓՈՓՈԽՈՒԹՅՈՒՆՆԵՐԸ
A7: Հայաստանի Հանրապետության աշխատանքի և սոցիալական հարցերի նախարարության միասնական սոցիալական ծառայություն
A8: ՄԱՍ 2. ՊԵՏԱԿԱՆ ՄԱՐՄՆԻ ԳԾՈՎ ԱՐԴՅՈՒՆՔԱՅԻՆ (ԿԱՏԱՐՈՂԱԿԱՆ) ՑՈՒՑԱՆԻՇՆԵՐԸ
A10: Ծրագրի դասիչը | B10: Ծրագրի անվանումը
A11: 1088 | B11: Զբաղվածության ծրագիր
A13: Ծրագրի միջոցառումները
A15: Ծրագրի դասիչը` | B15: 1088 | C15: Ցուցանիշների փոփոխությունը (նվազեցումները նշված են փակագծերում)
A16: Միջոցառման դասիչը` | B16: 11001 | C16: Առաջին եռամսյակ | D16: Առաջին կիսամյակ | E16: Ինն ամիս | F16: Տարի
A17: Միջոցառման անվանումը` | B17: Գործազուրկների, աշխատանաքից ազատման ռիսկ ունեցող, ինչպես նաև ազատազրկման ձևով պատիժը կրելու ավարտին վեց ամիս մնացած աշխատանք փնտրող անձանց մասնագիտական ուսուցման կազմակերպում
A18: Նկարագրությունը` | B18: Գործազուրկների և աշխատանքից ազատման ռիսկ ունեցող, ինչպես նաև ազատազրկման ձևով պատիժը կրելու ավարտին մինչև վեց ամիս մնացած աշխատանք փնտրող անձանց մասնագիտական ուսուցման կազմակերպում
A19: Միջոցառման տեսակը` | B19: Ծառայությունների մատուցում
A20: Միջոցառումն իրականացնողի անվանումը | B20: «Գնումների մասին» ՀՀ օրենքի համաձայն ընտրված կազմակերպություն
A21: Արդյունքի չափորոշիչներ
A22: Ծրագրերում ընդգրկվածների թիվ, մարդ, այդ թվում՛ | C22: 0 | D22: =SUM(D23:D24) -> -230 | E22: =SUM(E23:E24) -> -334 | F22: =SUM(F23:F24) -> -434
A23: կին | C23: 0 | D23: -211 | E23: -307 | F23: -399
A24: տղամարդ | C24: 0 | D24: -19 | E24: -27 | F24: -35
A25: հաշմանդամություն ունեցող անձանց թիվ, մարդ | C25: 0 | D25: -25 | E25: -37 | F25: -43
A26: Միջոցառման վրա կատարվող ծախսը (հազար դրամ) | C26: ='1'!D20 -> 0 | D26: ='1'!E20 -> -21344.6 | E26: ='1'!F20 -> -30996 | F26: ='1'!G20 -> -40276.3
A28: Ծրագրի դասիչը` | B28: 1088 | C28: Ցուցանիշների փոփոխությունը (նվազեցումները նշված են փակագծերում)
A29: Միջոցառման դասիչը` | B29: 11004 | C29: Առաջին եռամսյակ | D29: Առաջին կիսամյակ | E29: Ինն ամիս | F29: Տարի
A30: Միջոցառման անվանումը` | B30: Աշխատաշուկայում անմրցունակ անձանց փոքր ձեռնարկատիրական գործունեության աջակցության տրամադրում ծրագրի ուսուցման կազմակերպման և խորհրդատվական ծառայություններ
A31: Նկարագրությունը` | B31: Անմրցունակ անձանց ձեռնարկատիրական գործունեության մեկնարկի և իրականացման համար աջակցության տրամադրում և տնտեսական գործունեությունն սկսելուց հետո մեկ տարվա ընթացքում ուղեկցման աշխատանքների իրականացում:
A32: Միջոցառման տեսակը` | B32: Ծառայությունների մատուցում
A33: Միջոցառումն իրականացնողի անվանումը | B33: «Գնումների մասին» ՀՀ օրենքի համաձայն ընտրված կազմակերպություն
A34: Արդյունքի չափորոշիչներ
A35: Ծրագրի շահառուների թիվ, մարդ, այդ թվում | C35: =SUM(C36:C37) -> -3 | D35: =SUM(D36:D37) -> -17 | E35: =SUM(E36:E37) -> -25 | F35: =SUM(F36:F37) -> -33
A36: կին | C36: -1 | D36: -4 | E36: -7 | F36: -13
A37: տղամարդ | C37: -2 | D37: -13 | E37: -18 | F37: -20
A38: ուսուցում անցած հաշմանդամություն ունեցող անձանց թիվը | C38: 0 | D38: -3 | E38: -5 | F38: -7
A39: Միջոցառման վրա կատարվող ծախսը (հազար դրամ) | C39: ='1'!D26 -> -539.8 | D39: ='1'!E26 -> -3059.1 | E39: ='1'!F26 -> -4498.7 | F39: ='1'!G26 -> -5938.3
A41: Ծրագրի դասիչը` | B41: 1088 | C41: Ցուցանիշների փոփոխությունը (նվազեցումները նշված են փակագծերում)
A42: Միջոցառման դասիչը` | B42: 12001 | C42: Առաջին եռամսյակ | D42: Առաջին կիսամյակ | E42: Ինն ամիս | F42: Տարի
A43: Միջոցառման անվանումը` | B43: Աշխատաշուկայում անմրցունակ անձանց փոքր ձեռնարկատիրական գործունեության աջակցության տրամադրում
A44: Նկարագրությունը` | B44: Փոքր ձեռնարկատիրական գործունեությամբ զբաղվելու և լրացուցիչ աշխատատեղեր ստեղծելու նպատակով աշխատաշուկայում անմրցունակ անձանց ֆինանսական աջակցության տրամադրում՛ ապահովելով հավասար հնարավորություններ կանանց և տղամարդկանց համար
A45: Միջոցառման տեսակը` | B45: Տրանսֆերտների տրամադրում
A46: Շահառուների ընտրության չափանիշները | B46: Զբաղվածության տարածքային կենտրոններում հաշվառված աշխատաշուկայում անմրցունակ և առնվազն երեք ամիս գործազուրկի կարգավիճակում գտնվող անձինք:
A47: Արդյունքի չափորոշիչներ
A48: Ինքնազբաղվածությամբ ապահովված անձանց թիվ, այդ թվում | C48: =SUM(C49:C50) -> -3 | D48: =SUM(D49:D50) -> -17 | E48: =SUM(E49:E50) -> -25 | F48: =SUM(F49:F50) -> -33
A49: կին | C49: -1 | D49: -4 | E49: -7 | F49: -13
A50: տղամարդ | C50: -2 | D50: -13 | E50: -18 | F50: -20
A51: հաշմանդամություն ունեցող անձանց թիվ, մարդ | C51: 0 | D51: -3 | E51: -5 | F51: -7
A52: Միջոցառման վրա կատարվող ծախսը (հազար դրամ) | C52: ='1'!D32 -> -3074.9 | D52: ='1'!E32 -> -17424.4 | E52: ='1'!F32 -> -25624.1 | F52: ='1'!G32 -> -33823.8
A54: Ծրագրի դասիչը` | B54: 1088 | C54: Ցուցանիշների փոփոխությունը (նվազեցումները նշված են փակագծերում)
A55: Միջոցառման դասիչը` | B55: 12008 | C55: Առաջին եռամսյակ | D55: Առաջին կիսամյակ | E55: Ինն ամիս | F55: Տարի
A56: Միջոցառման անվանումը` | B56: Գործազուրկների, աշխատանաքից ազատման ռիսկ ունեցող, ինչպես նաև ազատազրկման ձևով պատիժը կրելու ավարտին վեց ամիս մնացած աշխատանք փնտրող անձանց կրթաթոշակի տրամադրում
A57: Նկարագրությունը` | B57: Մասնագիտական ուսուցման դասընթացներին մասնակցող գործազուրկների, աշխատանքից ազատման ռիսկ ունեցող, ինչպես նաև ազատազրկման ձևով պատիժը կրելու ավարտին վեց ամիս մնացած աշխատանք փնտրող անձանց կրթաթոշակի տրամադրում ուսուցման ամբողջ ընթացքում
A58: Միջոցառման տեսակը` | B58: Տրանսֆերտների տրամադրում
A59: Շահառուների ընտրության չափանիշները | B59: Զբաղվածության տարածքային կենտրոններում հաշվառված գործազուրկի կարգավիճակ ստացած անձինք
A60: Արդյունքի չափորոշիչներ
A61: Ծրագրում ընդգրկվածների թիվ, այդ թվում | C61: 0 | D61: =SUM(D62:D63) -> -230 | E61: =SUM(E62:E63) -> -334 | F61: =SUM(F62:F63) -> -434
A62: կին | C62: 0 | D62: -211 | E62: -307 | F62: -399
A63: տղամարդ | C63: 0 | D63: -19 | E63: -27 | F63: -35
A64: հաշմանդամություն ունեցող անձանց թիվ, մարդ | C64: 0 | D64: -25 | E64: -37 | F64: -43
A65: Միջոցառման վրա կատարվող ծախսը (հազար դրամ) | C65: ='1'!D38 -> 0 | D65: ='1'!E38 -> -23469.1 | E65: ='1'!F38 -> -34081.2 | F65: ='1'!G38 -> -44285.1
B67: ՀՀ կառավարություն
A69: Ծրագրի դասիչը | B69: Ծրագրի անվանումը
A70: 1139 | B70: ՀՀ կառավարության պահուստային ֆոնդ
A72: Ծրագրի միջոցառումները
A74: Ծրագրի դասիչը՝ | B74: 1139 | C74: Ցուցանիշների փոփոխությունը (ավելացումները նշված են դրական նշանով)
A75: Միջոցառման դասիչը՝ | B75: 11001 | C75: Առաջին եռամսյակ | D75: Առաջին կիսամյակ | E75: Ինն ամիս | F75: Տարի
A76: Միջոցառման անվանումը՝ | B76: ՀՀ կառավարության պահուստային ֆոնդ
A77: Նկարագրությունը՝ | B77: ՀՀ պետական բյուջեում նախատեսված ելքերի լրացուցիչ ֆինանսավորման,պետական բյուջեում չկանխատեսված ելքերի, ինչպես նաև բյուջետային երաշխիքների ապահովման ելքերի ֆինանսավորման ապահովում
A78: Միջոցառման տեսակը՝ | B78: Ծառայությունների մատուցում
A79: Միջոցառումն իրականացնողի անվանումը | B79: ՀՀ կառավարություն
B80: Արդյունքի չափորոշիչներ
A81: Միջոցառման վրա կատարվող ծախսը (հազար դրամ) | C81: ='2'!G72 -> 3614.7 | D81: ='2'!H72 -> 65297.2 | E81: ='2'!I72 -> 95200 | F81: ='2'!J72 -> 124323.5

Sheet 5
I2: Հավելված N 5
I3: ՀՀ կառավարության 2022 թվականի
I4: -----------------ի N -----------Ն որոշման
A6: ՀԱՅԱՍՏԱՆԻ ՀԱՆՐԱՊԵՏՈՒԹՅԱՆ ԿԱՌԱՎԱՐՈՒԹՅԱՆ 2021 ԹՎԱԿԱՆԻ ԴԵԿՏԵՄԲԵՐԻ 23-Ի N 2121-Ն ՈՐՈՇՄԱՆ N 10 ՀԱՎԵԼՎԱԾՈՒՄ ԿԱՏԱՐՎՈՂ ՓՈՓՈԽՈՒԹՅՈՒՆՆԵՐԸ
A8: Գնման առարկայի | G8: Միավորի գինը ( դրամ) | H8: Ցուցանիշների փոփոխությունը (նվազեցումները նշված են փակագծերում)
A9: Կոդը | D9: Անվանումը | E9: Գնման ձևը | F9: Չափման միավորը | H9: Քանակը | I9: Գումարը (հազար դրամ)
A10: ՀՀ աշխատանքի և սոցիալական հարցերի նախարարության միասնական սոցիալական ծառայություն | I10: =I11 -> -46214.6
A11: Բաժին N 10 | B11: Խումբ N 05 | C11: Դաս N 01 | D11: Գործազրկություն | I11: =I12+I15 -> -46214.6
A12: 1088 11001 | B12: ='[1]2'!F22 -> Գործազուրկների, աշխատանաքից ազատման ռիսկ ունեցող, ինչպես նաև ազատազրկման ձևով պատիժը կրելու ավարտին վեց ամիս մնացած աշխատանք փնտրող անձանց մասնագիտական ուսուցման կազմակերպում | I12: =I14 -> -40276.3
B13: ՄԱՍ III. ԾԱՌԱՅՈՒԹՅՈՒՆՆԵՐ
A14: 80531100-1 | B14: արդյունաբերական ուսուցման ծառայություններ | E14: ԷԱՃ | F14: դրամ | I14: -40276.3
A15: 1088 11004 | B15: ='[1]2'!F31 -> Աշխատաշուկայում անմրցունակ անձանց փոքր ձեռնարկատիրական գործունեության աջակցության տրամադրում ծրագրի ուսուցման կազմակերպման և խորհրդատվական ծառայություններ | I15: =I17 -> -5938.3
B16: ՄԱՍ III. ԾԱՌԱՅՈՒԹՅՈՒՆՆԵՐ
A17: 80531100-1 | B17: արդյունաբերական ուսուցման ծառայություններ | E17: ԷԱՃ | F17: դրամ | I17: -5938.3

Sheet 6
J1: Հավելված N 6
H2: ՀՀ կառավարության 2022 թվականի
I3: -----------------ի N -----------Ն որոշման
B5: ՀԱՅԱՍՏԱՆԻ ՀԱՆՐԱՊԵՏՈՒԹՅԱՆ 2022 ԹՎԱԿԱՆԻ ՊԵՏԱԿԱՆ ԲՅՈՒՋԵՈՎ ՆԱԽԱՏԵՍՎԱԾ՝ ՀԱՅԱՍՏԱՆԻ ՀԱՆՐԱՊԵՏՈՒԹՅԱՆ ԿԱՌԱՎԱՐՈՒԹՅԱՆ ՊԱՀՈՒՍՏԱՅԻՆ ՖՈՆԴԻՑ ՀԱՏԿԱՑՈՒՄՆԵՐ ԿԱՏԱՐԵԼՈՒ ՎԵՐԱԲԵՐՅԱԼ
I6: հազար դրամ
A7: Գործառական դասիչը | D7: Ծրագրային դասիչը | F7: Բյուջետային ծախսերի գործառական դասակարգման բաժինների, խմբերի և դասերի, բյուջետային ծրագրերի միջոցառումների, բյուջետային հատկացումների գլխավոր կարգադրիչների անվանումները | G7: Ցուցանիշների փոփոխությունը (ավելացումները նշված են դրական նշանով, իսկ նվազեցումները` փակագծերում)
A8: Բաժին | B8: Խումբ | C8: Դաս | D8: Ծրագիր | E8: Միջոցառում | G8: Առաջին եռամսյակ | H8: Առաջին կիսամյակ | I8: Ինն ամիս | J8: Տարի
F9: ԸՆԴԱՄԵՆԸ ԾԱԽՍԵՐ | G9: =G11+G28 -> 0 | H9: =H11+H28 -> 0 | I9: =I11+I28 -> 0 | J9: =J11+J28 -> 0
F10: այդ թվում`
A11: 11 | F11: ՀԻՄՆԱԿԱՆ ԲԱԺԻՆՆԵՐԻՆ ՉԴԱՍՎՈՂ ՊԱՀՈՒՍՏԱՅԻՆ ՖՈՆԴԵՐ | G11: =G13 -> 3614.7 | H11: =H13 -> 65297.2 | I11: =I13 -> 95200 | J11: =J13 -> 124323.5
F12: այդ թվում`
B13: 01 | F13: ՀՀ կառավարության և համայնքների պահուստային ֆոնդ | G13: =G15 -> 3614.7 | H13: =H15 -> 65297.2 | I13: =I15 -> 95200 | J13: =J15 -> 124323.5
F14: այդ թվում`
C15: 01 | F15: ՀՀ կառավարության պահուստային ֆոնդ | G15: =G17 -> 3614.7 | H15: =H17 -> 65297.2 | I15: =I17 -> 95200 | J15: =J17 -> 124323.5
F16: այդ թվում`
D17: 1139 | F17: ՀՀ կառավարության պահուստային ֆոնդ | G17: =+G19 -> 3614.7 | H17: =+H19 -> 65297.2 | I17: =+I19 -> 95200 | J17: =+J19 -> 124323.5
F18: այդ թվում`
E19: 11001 | F19: ՀՀ կառավարության պահուստային ֆոնդ | G19: =G21 -> 3614.7 | H19: =H21 -> 65297.2 | I19: =I21 -> 95200 | J19: =J21 -> 124323.5
F20: այդ թվում` ըստ կատարողների
F21: ՀՀ կառավարություն | G21: =G23 -> 3614.7 | H21: =H23 -> 65297.2 | I21: =I23 -> 95200 | J21: =J23 -> 124323.5
F22: այդ թվում` բյուջետային ծախսերի տնտեսագիտական դասակարգման հոդվածներ
F23: ԸՆԴԱՄԵՆԸ ԾԱԽՍԵՐ | G23: =G24 -> 3614.7 | H23: =H24 -> 65297.2 | I23: =I24 -> 95200 | J23: =J24 -> 124323.5
F24: ԸՆԹԱՑԻԿ ԾԱԽՍԵՐ | G24: =G25 -> 3614.7 | H24: =H25 -> 65297.2 | I24: =I25 -> 95200 | J24: =J25 -> 124323.5
F25: Այլ ծախսեր | G25: =G26 -> 3614.7 | H25: =H26 -> 65297.2 | I25: =I26 -> 95200 | J25: =J26 -> 124323.5
F26: - Պահուստային միջոցներ | G26: ='2'!G72 -> 3614.7 | H26: ='2'!H72 -> 65297.2 | I26: ='2'!I72 -> 95200 | J26: ='2'!J72 -> 124323.5
F27: ՀՀ աշխատանքի և սոցիալական հարցերի նախարարություն | G27: =G28 -> -3614.7 | H27: =H28 -> -65297.2 | I27: =I28 -> -95200 | J27: =J28 -> -124323.5
A28: ='2'!A12 -> 10 | F28: ='2'!F12 -> ՍՈՑԻԱԼԱԿԱՆ ՊԱՇՏՊԱՆՈՒԹՅՈՒՆ | G28: ='2'!G12 -> -3614.7 | H28: ='2'!H12 -> -65297.2 | I28: ='2'!I12 -> -95200 | J28: ='2'!J12 -> -124323.5
F29: ='2'!F13 -> այդ թվում` | G29: ='2'!G13 -> 0 | H29: ='2'!H13 -> 0 | I29: ='2'!I13 -> 0 | J29: ='2'!J13 -> 0
B30: ='2'!B14 -> ՛05 | F30: ='2'!F14 -> Գործազրկություն | G30: ='2'!G14 -> -3614.7 | H30: ='2'!H14 -> -65297.2 | I30: ='2'!I14 -> -95200 | J30: ='2'!J14 -> -124323.5
F31: ='2'!F15 -> այդ թվում` | G31: ='2'!G15 -> 0 | H31: ='2'!H15 -> 0 | I31: ='2'!I15 -> 0 | J31: ='2'!J15 -> 0
C32: ='2'!C16 -> ՛01 | F32: ='2'!F16 -> Գործազրկություն | G32: ='2'!G16 -> -3614.7 | H32: ='2'!H16 -> -65297.2 | I32: ='2'!I16 -> -95200 | J32: ='2'!J16 -> -124323.5
F33: ='2'!F17 -> այդ թվում` | G33: ='2'!G17 -> 0 | H33: ='2'!H17 -> 0 | I33: ='2'!I17 -> 0 | J33: ='2'!J17 -> 0
D34: ='2'!D18 -> 1088 | F34: ='2'!F18 -> Զբաղվածության ծրագիր | G34: ='2'!G18 -> -3614.7 | H34: ='2'!H18 -> -65297.2 | I34: ='2'!I18 -> -95200 | J34: ='2'!J18 -> -124323.5
F35: ='2'!F19 -> այդ թվում` | G35: ='2'!G19 -> 0 | H35: ='2'!H19 -> 0 | I35: ='2'!I19 -> 0 | J35: ='2'!J19 -> 0
F36: ='2'!F20 -> Ծրագրի միջոցառումներ | G36: ='2'!G20 -> 0 | H36: ='2'!H20 -> 0 | I36: ='2'!I20 -> 0 | J36: ='2'!J20 -> 0
E37: ='2'!E21 -> 11001 | F37: ='2'!F21 -> Գործազուրկների, աշխատանաքից ազատման ռիսկ ունեցող, ինչպես նաև ազատազրկման ձևով պատիժը կրելու ավարտին վեց ամիս մնացած աշխատանք փնտրող անձանց մասնագիտական ուսուցման կազմակերպում | G37: ='2'!G21 -> 0 | H37: ='2'!H21 -> -21344.6 | I37: ='2'!I21 -> -30996 | J37: ='2'!J21 -> -40276.3
F38: ='2'!F22 -> այդ թվում` ըստ կատարողների | G38: ='2'!G22 -> 0 | H38: ='2'!H22 -> 0 | I38: ='2'!I22 -> 0 | J38: ='2'!J22 -> 0
F39: ='2'!F23 -> ՀՀ աշխատանքի և սոցիալական հարցերի նախարարության միասնական սոցիալական ծառայություն | G39: ='2'!G23 -> 0 | H39: ='2'!H23 -> -21344.6 | I39: ='2'!I23 -> -30996 | J39: ='2'!J23 -> -40276.3
F40: ='2'!F24 -> այդ թվում` բյուջետային ծախսերի տնտեսագիտական դասակարգման հոդվածներ | G40: ='2'!G24 -> 0 | H40: ='2'!H24 -> 0 | I40: ='2'!I24 -> 0 | J40: ='2'!J24 -> 0
F41: ='2'!F25 -> ԸՆԴԱՄԵՆԸ ԾԱԽՍԵՐ | G41: ='2'!G25 -> 0 | H41: ='2'!H25 -> -21344.6 | I41: ='2'!I25 -> -30996 | J41: ='2'!J25 -> -40276.3
F42: ='2'!F26 -> ԸՆԹԱՑԻԿ ԾԱԽՍԵՐ | G42: ='2'!G26 -> 0 | H42: ='2'!H26 -> -21344.6 | I42: ='2'!I26 -> -30996 | J42: ='2'!J26 -> -40276.3
F43: ='2'!F27 -> ԾԱՌԱՅՈՒԹՅՈՒՆՆԵՐԻ ԵՎ ԱՊՐԱՆՔՆԵՐԻ ՁԵՌՔԲԵՐՈՒՄ | G43: ='2'!G27 -> 0 | H43: ='2'!H27 -> -21344.6 | I43: ='2'!I27 -> -30996 | J43: ='2'!J27 -> -40276.3
F44: ='2'!F28 -> Այլ մասնագիտական ծառայությունների ձեռքբերում | G44: ='2'!G28 -> 0 | H44: ='2'!H28 -> -21344.6 | I44: ='2'!I28 -> -30996 | J44: ='2'!J28 -> -40276.3
F45: ='2'!F29 -> - Մասնագիտական ծառայություններ | G45: ='2'!G29 -> 0 | H45: ='2'!H29 -> -21344.6 | I45: ='2'!I29 -> -30996 | J45: ='2'!J29 -> -40276.3
E46: ='2'!E30 -> 11004 | F46: ='2'!F30 -> Աշխատաշուկայում անմրցունակ անձանց փոքր ձեռնարկատիրական գործունեության աջակցության տրամադրում ծրագրի ուսուցման կազմակերպման և խորհրդատվական ծառայություններ | G46: ='2'!G30 -> -539.8 | H46: ='2'!H30 -> -3059.1 | I46: ='2'!I30 -> -4498.7 | J46: ='2'!J30 -> -5938.3
F47: ='2'!F31 -> այդ թվում` ըստ կատարողների | G47: ='2'!G31 -> 0 | H47: ='2'!H31 -> 0 | I47: ='2'!I31 -> 0 | J47: ='2'!J31 -> 0
F48: ='2'!F32 -> ՀՀ աշխատանքի և սոցիալական հարցերի նախարարության միասնական սոցիալական ծառայություն | G48: ='2'!G32 -> -539.8 | H48: ='2'!H32 -> -3059.1 | I48: ='2'!I32 -> -4498.7 | J48: ='2'!J32 -> -5938.3
F49: ='2'!F33 -> այդ թվում` բյուջետային ծախսերի տնտեսագիտական դասակարգման հոդվածներ | G49: ='2'!G33 -> 0 | H49: ='2'!H33 -> 0 | I49: ='2'!I33 -> 0 | J49: ='2'!J33 -> 0
F50: ='2'!F34 -> ԸՆԴԱՄԵՆԸ ԾԱԽՍԵՐ | G50: ='2'!G34 -> -539.8 | H50: ='2'!H34 -> -3059.1 | I50: ='2'!I34 -> -4498.7 | J50: ='2'!J34 -> -5938.3
F51: ='2'!F35 -> ԸՆԹԱՑԻԿ ԾԱԽՍԵՐ | G51: ='2'!G35 -> -539.8 | H51: ='2'!H35 -> -3059.1 | I51: ='2'!I35 -> -4498.7 | J51: ='2'!J35 -> -5938.3
F52: ='2'!F36 -> ԾԱՌԱՅՈՒԹՅՈՒՆՆԵՐԻ ԵՎ ԱՊՐԱՆՔՆԵՐԻ ՁԵՌՔԲԵՐՈՒՄ | G52: ='2'!G36 -> -539.8 | H52: ='2'!H36 -> -3059.1 | I52: ='2'!I36 -> -4498.7 | J52: ='2'!J36 -> -5938.3
F53: ='2'!F37 -> Այլ մասնագիտական ծառայությունների ձեռքբերում | G53: ='2'!G37 -> -539.8 | H53: ='2'!H37 -> -3059.1 | I53: ='2'!I37 -> -4498.7 | J53: ='2'!J37 -> -5938.3
F54: ='2'!F38 -> - Մասնագիտական ծառայություններ | G54: ='2'!G38 -> -539.8 | H54: ='2'!H38 -> -3059.1 | I54: ='2'!I38 -> -4498.7 | J54: ='2'!J38 -> -5938.3
E55: ='2'!E39 -> 12001 | F55: ='2'!F39 -> Աշխատաշուկայում անմրցունակ անձանց փոքր ձեռնարկատիրական գործունեության աջակցության տրամադրում | G55: ='2'!G39 -> -3074.9 | H55: ='2'!H39 -> -17424.4 | I55: ='2'!I39 -> -25624.1 | J55: ='2'!J39 -> -33823.8
F56: ='2'!F40 -> այդ թվում` ըստ կատարողների | G56: ='2'!G40 -> 0 | H56: ='2'!H40 -> 0 | I56: ='2'!I40 -> 0 | J56: ='2'!J40 -> 0
F57: ='2'!F41 -> ՀՀ աշխատանքի և սոցիալական հարցերի նախարարության միասնական սոցիալական ծառայություն | G57: ='2'!G41 -> -3074.9 | H57: ='2'!H41 -> -17424.4 | I57: ='2'!I41 -> -25624.1 | J57: ='2'!J41 -> -33823.8
F58: ='2'!F42 -> այդ թվում` բյուջետային ծախսերի տնտեսագիտական դասակարգման հոդվածներ | G58: ='2'!G42 -> 0 | H58: ='2'!H42 -> 0 | I58: ='2'!I42 -> 0 | J58: ='2'!J42 -> 0
F59: ='2'!F43 -> ԸՆԴԱՄԵՆԸ ԾԱԽՍԵՐ | G59: ='2'!G43 -> -3074.9 | H59: ='2'!H43 -> -17424.4 | I59: ='2'!I43 -> -25624.1 | J59: ='2'!J43 -> -33823.8
F60: ='2'!F44 -> ԸՆԹԱՑԻԿ ԾԱԽՍԵՐ | G60: ='2'!G44 -> -3074.9 | H60: ='2'!H44 -> -17424.4 | I60: ='2'!I44 -> -25624.1 | J60: ='2'!J44 -> -33823.8
F61: ='2'!F45 -> ՍՈՑԻԱԼԱԿԱՆ ՆՊԱՍՏՆԵՐ ԵՎ ԿԵՆՍԱԹՈՇԱԿՆԵՐ | G61: ='2'!G45 -> -3074.9 | H61: ='2'!H45 -> -17424.4 | I61: ='2'!I45 -> -25624.1 | J61: ='2'!J45 -> -33823.8
F62: ='2'!F46 -> Սոցիալական օգնության դրամական արտահայտությամբ նպաստներ (բյուջեից) | G62: ='2'!G46 -> -3074.9 | H62: ='2'!H46 -> -17424.4 | I62: ='2'!I46 -> -25624.1 | J62: ='2'!J46 -> -33823.8
F63: ='2'!F47 -> - Այլ նպաստներ բյուջեից | G63: ='2'!G47 -> -3074.9 | H63: ='2'!H47 -> -17424.4 | I63: ='2'!I47 -> -25624.1 | J63: ='2'!J47 -> -33823.8
E64: ='2'!E48 -> 12008 | F64: ='2'!F48 -> Գործազուրկների, աշխատանաքից ազատման ռիսկ ունեցող, ինչպես նաև ազատազրկման ձևով պատիժը կրելու ավարտին վեց ամիս մնացած աշխատանք փնտրող անձանց կրթաթոշակի տրամադրում | G64: ='2'!G48 -> 0 | H64: ='2'!H48 -> -23469.1 | I64: ='2'!I48 -> -34081.2 | J64: ='2'!J48 -> -44285.1
F65: ='2'!F49 -> այդ թվում` ըստ կատարողների | G65: ='2'!G49 -> 0 | H65: ='2'!H49 -> 0 | I65: ='2'!I49 -> 0 | J65: ='2'!J49 -> 0
F66: ='2'!F50 -> ՀՀ աշխատանքի և սոցիալական հարցերի նախարարության միասնական սոցիալական ծառայություն | G66: ='2'!G50 -> 0 | H66: ='2'!H50 -> -23469.1 | I66: ='2'!I50 -> -34081.2 | J66: ='2'!J50 -> -44285.1
F67: ='2'!F51 -> այդ թվում` բյուջետային ծախսերի տնտեսագիտական դասակարգման հոդվածներ | G67: ='2'!G51 -> 0 | H67: ='2'!H51 -> 0 | I67: ='2'!I51 -> 0 | J67: ='2'!J51 -> 0
F68: ='2'!F52 -> ԸՆԴԱՄԵՆԸ ԾԱԽՍԵՐ | G68: ='2'!G52 -> 0 | H68: ='2'!H52 -> -23469.1 | I68: ='2'!I52 -> -34081.2 | J68: ='2'!J52 -> -44285.1
F69: ='2'!F53 -> ԸՆԹԱՑԻԿ ԾԱԽՍԵՐ | G69: ='2'!G53 -> 0 | H69: ='2'!H53 -> -23469.1 | I69: ='2'!I53 -> -34081.2 | J69: ='2'!J53 -> -44285.1
F70: ='2'!F54 -> ՍՈՑԻԱԼԱԿԱՆ ՆՊԱՍՏՆԵՐ ԵՎ ԿԵՆՍԱԹՈՇԱԿՆԵՐ | G70: ='2'!G54 -> 0 | H70: ='2'!H54 -> -23469.1 | I70: ='2'!I54 -> -34081.2 | J70: ='2'!J54 -> -44285.1
F71: ='2'!F55 -> Սոցիալական օգնության դրամական արտահայտությամբ նպաստներ (բյուջեից) | G71: ='2'!G55 -> 0 | H71: ='2'!H55 -> -23469.1 | I71: ='2'!I55 -> -34081.2 | J71: ='2'!J55 -> -44285.1
F72: ='2'!F56 -> - Կրթական, մշակութային և սպորտային նպաստներ բյուջեից | G72: ='2'!G56 -> 0 | H72: ='2'!H56 -> -23469.1 | I72: ='2'!I56 -> -34081.2 | J72: ='2'!J56 -> -44285.1
