Workbook
Name _tab10: #REF!
Name _tab11: #REF!
Name _tab12: #REF!
Name _tab13: #REF!
Name _tab14: #REF!
Name _tab15: #REF!
Name _tab16: #REF!
Name _tab17: #REF!
Name _tab18: #REF!
Name _tab19: #REF!
Name _tab20: #REF!
Name _tab21: #REF!
Name _tab22: #REF!
Name _tab23: #REF!
Name _tab24: #REF!
Name _tab5: #REF!
Name _tab6: #REF!
Name _tab7: #REF!
Name _tab8: #REF!
Name _tab9: #REF!
Name AgencyCode: #REF!
Name AgencyCode: #REF!
Name AgencyCode: #REF!
Name AgencyName: #REF!
Name AgencyName: #REF!
Name AgencyName: #REF!
Name åû: #REF!
Name åû: #REF!
Name åû: #REF!
Name BOP: #REF!
Name BOPfoot: #REF!
Name davit: #REF!
Name davit: #REF!
Name davit: #REF!
Name DebtCG: #REF!
Name DebtGG: #REF!
Name Functional1: #REF!
Name Functional1: #REF!
Name Functional1: #REF!
Name ggg: #REF!
Name ggg: #REF!
Name ggg: #REF!
Name hav: #REF!
Name hav: #REF!
Name havelvac: #REF!
Name havelvac: #REF!
Name mas: #REF!
Name mas: #REF!
Name mas: #REF!
Name mass: #REF!
Name mass: #REF!
Name mass: #REF!
Name MonExo: #REF!
Name MonGrow: #REF!
Name PANature: #REF!
Name PANature: #REF!
Name PANature: #REF!
Name par_count: #REF!,#REF!,#REF!,#REF!,#REF!,#REF!,#REF!,#REF!,#REF!,#REF!,#REF!,#REF!,#REF!,#REF!,#REF!
Name par_qual: #REF!,#REF!,#REF!,#REF!,#REF!
Name par_time: #REF!,#REF!,#REF!,#REF!

Sheet 1
F1: Հավելված N 1
D2: ՀՀ կառավարության 2022 թվականի
F3: -----------------ի N -----------Ն որոշման
A6: «ՀԱՅԱUՏԱՆԻ ՀԱՆՐԱՊԵՏՈՒԹՅԱՆ 2022 ԹՎԱԿԱՆԻ ՊԵՏԱԿԱՆ ԲՅՈՒՋԵԻ ՄԱUԻՆ» ՀԱՅԱUՏԱՆԻ ՀԱՆՐԱՊԵՏՈՒԹՅԱՆ OՐԵՆՔԻ N 1 ՀԱՎԵԼՎԱԾԻ N 2 ԱՂՅՈՒՍԱԿՈՒՄ ՎԵՐԱԲԱՇԽՈՒՄ ԵՎ ՀԱՅԱՍՏԱՆԻ ՀԱՆՐԱՊԵՏՈՒԹՅԱՆ ԿԱՌԱՎԱՐՈՒԹՅԱՆ 2021 ԹՎԱԿԱՆԻ ԴԵԿՏԵՄԲԵՐԻ23-Ի N 2121-Ն ՈՐՈՇՄԱՆ N 5 ՀԱՎԵԼՎԱԾԻ N 1 ԱՂՅՈՒՍԱԿՈՒՄ ԿԱՏԱՐՎՈՂ ՓՈՓՈԽՈՒԹՅՈՒՆԸ
F8: հազար դրամ
A9: Ծրագրային դասիչը | C9: Բյուջետային հատկացումների գլխավոր կարգադրիչների, ծրագրերի և միջոցառումների անվանումները | D9: Ցուցանիշների փոփոխությունները ավելացումները նշված են դրական նշանով, իսկ նվազեցումները՝ փակագծերում
A10: Ծրագիր | B10: Միջոցառում | D10: Առաջին եռամսյակ | E10: Առաջին կիսամյակ | F10: Ինն ամիս | G10: Տարի
C11: ԸՆԴԱՄԵՆԸ | D11: =D12+D44 -> 0 | E11: =E12+E44 -> 0 | F11: =F12+F44 -> 0 | G11: =G12+G44 -> 0
C12: ՀՀ աշխատանքի և սոցիալական հարցերի նախարարություն | D12: =D13 -> -3614.7 | E12: =E13 -> -65297.2 | F12: =F13 -> -95200 | G12: =G13 -> -124323.5
A13: 1088 | C13: Ծրագրի անվանումը` | D13: =D20+D26+D32+D38 -> -3614.7 | E13: =E20+E26+E32+E38 -> -65297.2 | F13: =F20+F26+F32+F38 -> -95200 | G13: =G20+G26+G32+G38 -> -124323.5
C14: Զբաղվածության ծրագիր
C15: Ծրագրի նպատակը`
C16: Բնակչության կայուն և ժամանակավոր զբաղվածության ապահովմանը միտված պայմանների ստեղծում
C17: Վերջնական արդյունքի նկարագրությունը`
C18: Կայուն և ժամանակավոր զբաղվածների թվաքանակի աճ
A19: Ծրագրի միջոցառումներ
B20: 11001 | C20: Միջոցառման անվանումը` | D20: 0 | E20: -21344.6 | F20: -30996 | G20: -40276.3
C21: Գործազուրկների, աշխատանաքից ազատման ռիսկ ունեցող, ինչպես նաև ազատազրկման ձևով պատիժը կրելու ավարտին վեց ամիս մնացած աշխատանք փնտրող անձանց մասնագիտական ուսուցման կազմակերպում
C22: Միջոցառման նկարագրությունը`
C23: Գործազուրկների և աշխատանքից ազատման ռիսկ ունեցող, ինչպես նաև ազատազրկման ձևով պատիժը կրելու ավարտին մինչև վեց ամիս մնացած աշխատանք փնտրող անձանց մասնագիտական ուսուցման կազմակերպում
C24: Միջոցառման տեսակը
C25: Ծառայությունների մատուցում
B26: 11004 | C26: Միջոցառման անվանումը` | D26: -539.8 | E26: -3059.1 | F26: -4498.7 | G26: -5938.3
C27: Աշխատաշուկայում անմրցունակ անձանց փոքր ձեռնարկատիրական գործունեության աջակցության տրամադրում ծրագրի ուսուցման կազմակերպման և խորհրդատվական ծառայություններ
C28: Միջոցառման նկարագրությունը`
C29: Անմրցունակ անձանց ձեռնարկատիրական գործունեության մեկնարկի և իրականացման համար աջակցության տրամադրում և տնտեսական գործունեությունն սկսելուց հետո մեկ տարվա ընթացքում ուղեկցման աշխատանքների իրականացում:
C30: Միջոցառման տեսակը
C31: Ծառայությունների մատուցում
B32: 12001 | C32: Միջոցառման անվանումը` | D32: -3074.9 | E32: -17424.4 | F32: -25624.1 | G32: -33823.8
C33: Աշխատաշուկայում անմրցունակ անձանց փոքր ձեռնարկատիրական գործունեության աջակցության տրամադրում
C34: Միջոցառման նկարագրությունը`
C35: Փոքր ձեռնարկատիրական գործունեությամբ զբաղվելու և լրացուցիչ աշխատատեղեր ստեղծելու նպատակով աշխատաշուկայում անմրցունակ անձանց ֆինանսական աջակցության տրամադրում՛ ապահովելով հավասար հնարավորություններ կանանց և տղամարդկանց համար
C36: Միջոցառման տեսակը
C37: Տրանսֆերտների տրամադրում
B38: 12008 | C38: Միջոցառման անվանումը` | D38: 0 | E38: -23469.1 | F38: -34081.2 | G38: -44285.1
C39: Գործազուրկների, աշխատանաքից ազատման ռիսկ ունեցող, ինչպես նաև ազատազրկման ձևով պատիժը կրելու ավարտին վեց ամիս մնացած աշխատանք փնտրող անձանց կրթաթոշակի տրամադրում
C40: Միջոցառման նկարագրությունը`
C41: Մասնագիտական ուսուցման դասընթացներին մասնակցող գործազուրկների, աշխատանքից ազատման ռիսկ ունեցող, ինչպես նաև ազատազրկման ձևով պատիժը կրելու ավարտին վեց ամիս մնացած աշխատանք փնտրող անձանց կրթաթոշակի տրամադրում ուսուցման ամբողջ ընթացքում
C42: Միջոցառման տեսակը
C43: Տրանսֆերտների տրամադրում
...

Sheet 2
I1: Հավելված N 2
I2: ՀՀ կառավարության 2022 թվականի
I3: -----------------ի N -----------Ն որոշման
A5: ՀԱՅԱՍՏԱՆԻ ՀԱՆՐԱՊԵՏՈՒԹՅԱՆ ԿԱՌԱՎԱՐՈՒԹՅԱՆ 2021 ԹՎԱԿԱՆԻ ԴԵԿՏԵՄԲԵՐԻ 23-Ի N 2121-Ն ՈՐՈՇՄԱՆ N 3 և N 4 ՀԱՎԵԼՎԱԾՆԵՐՈՒՄ ԿԱՏԱՐՎՈՂ ՓՈՓՈԽՈՒԹՅՈՒՆՆԵՐԸ
J7: հազար դրամ
A8: Գործառական դասիչը | D8: Ծրագրային դասիչը | F8: Բյուջետային ծախսերի գործառական դասակարգման բաժինների, խմբերի և դասերի, բյուջետային ծրագրերի միջոցառումների, բյուջետային հատկացումների գլխավոր կարգադրիչների անվանումները | G8: Ցուցանիշների փոփոխությունները (ավելացումները նշված են դրական, իսկ նվազեցումները՝ փակագծերում)
A9: Բաժինը | B9: Խումբը | C9: Դասը | D9: Ծրագիր | E9: Միջոցառում | G9: Առաջին եռամսյակ | H9: Առաջին կիսամյակ | I9: Ինն ամիս | J9: Տարի
F10: ԸՆԴԱՄԵՆԸ ԾԱԽՍԵՐ | G10: =G12+G57 -> 0 | H10: =H12+H57 -> 0 | I10: =I12+I57 -> 0 | J10: =J12+J57 -> 0
F11: այդ թվում`
A12: 10 | F12: ՍՈՑԻԱԼԱԿԱՆ ՊԱՇՏՊԱՆՈՒԹՅՈՒՆ | G12: =G14 -> -3614.7 | H12: =H14 -> -65297.2 | I12: =I14 -> -95200 | J12: =J14 -> -124323.5
F13: այդ թվում`
B14: ՛05 | F14: Գործազրկություն | G14: =G16 -> -3614.7 | H14: =H16 -> -65297.2 | I14: =I16 -> -95200 | J14: =J16 -> -124323.5
F15: այդ թվում`
C16: ՛01 | F16: Գործազրկություն | G16: =G18 -> -3614.7 | H16: =H18 -> -65297.2 | I16: =I18 -> -95200 | J16: =J18 -> -124323.5
F17: այդ թվում`
D18: 1088 | F18: Զբաղվածության ծրագիր | G18: =G21+G30+G39+G48 -> -3614.7 | H18: =H21+H30+H39+H48 -> -65297.2 | I18: =I21+I30+I39+I48 -> -95200 | J18: =J21+J30+J39+J48 -> -124323.5
F19: այդ թվում`
F20: Ծրագրի միջոցառումներ
E21: 11001 | F21: Գործազուրկների, աշխատանաքից ազատման ռիսկ ունեցող, ինչպես նաև ազատազրկման ձևով պատիժը կրելու ավարտին վեց ամիս մնացած աշխատանք փնտրող անձանց մասնագիտական ուսուցման կազմակերպում | G21: =G23 -> 0 | H21: =H23 -> -21344.6 | I21: =I23 -> -30996 | J21: =J23 -> -40276.3
F22: այդ թվում` ըստ կատարողների
F23: ՀՀ աշխատանքի և սոցիալական հարցերի նախարարության միասնական սոցիալական ծառայություն | G23: =G25 -> 0 | H23: =H25 -> -21344.6 | I23: =I25 -> -30996 | J23: =J25 -> -40276.3
F24: այդ թվում` բյուջետային ծախսերի տնտեսագիտական դասակարգման հոդվածներ
F25: ԸՆԴԱՄԵՆԸ ԾԱԽՍԵՐ | G25: =G26 -> 0 | H25: =H26 -> -21344.6 | I25: =I26 -> -30996 | J25: =J26 -> -40276.3
F26: ԸՆԹԱՑԻԿ ԾԱԽՍԵՐ | G26: =G27 -> 0 | H26: =H27 -> -21344.6 | I26: =I27 -> -30996 | J26: =J27 -> -40276.3
F27: ԾԱՌԱՅՈՒԹՅՈՒՆՆԵՐԻ ԵՎ ԱՊՐԱՆՔՆԵՐԻ ՁԵՌՔԲԵՐՈՒՄ | G27: =G28 -> 0 | H27: =H28 -> -21344.6 | I27: =I28 -> -30996 | J27: =J28 -> -40276.3
F28: Այլ մասնագիտական ծառայությունների ձեռքբերում | G28: =G29 -> 0 | H28: =H29 -> -21344.6 | I28: =I29 -> -30996 | J28: =J29 -> -40276.3
F29: - Մասնագիտական ծառայություններ | G29: ='1'!D20 -> 0 | H29: ='1'!E20 -> -21344.6 | I29: ='1'!F20 -> -30996 | J29: ='1'!G20 -> -40276.3
E30: 11004 | F30: Աշխատաշուկայում անմրցունակ անձանց փոքր ձեռնարկատիրական գործունեության աջակցության տրամադրում ծրագրի ուսուցման կազմակերպման և խորհրդատվական ծառայություններ | G30: =G32 -> -539.8 | H30: =H32 -> -3059.1 | I30: =I32 -> -4498.7 | J30: =J32 -> -5938.3
F31: այդ թվում` ըստ կատարողների
F32: ՀՀ աշխատանքի և սոցիալական հարցերի նախարարության միասնական սոցիալական ծառայություն | G32: =G34 -> -539.8 | H32: =H34 -> -3059.1 | I32: =I34 -> -4498.7 | J32: =J34 -> -5938.3
F33: այդ թվում` բյուջետային ծախսերի տնտեսագիտական դասակարգման հոդվածներ
F34: ԸՆԴԱՄԵՆԸ ԾԱԽՍԵՐ | G34: =G35 -> -539.8 | H34: =H35 -> -3059.1 | I34: =I35 -> -4498.7 | J34: =J35 -> -5938.3
F35: ԸՆԹԱՑԻԿ ԾԱԽՍԵՐ | G35: =G36 -> -539.8 | H35: =H36 -> -3059.1 | I35: =I36 -> -4498.7 | J35: =J36 -> -5938.3
F36: ԾԱՌԱՅՈՒԹՅՈՒՆՆԵՐԻ ԵՎ ԱՊՐԱՆՔՆԵՐԻ ՁԵՌՔԲԵՐՈՒՄ | G36: =G37 -> -539.8 | H36: =H37 -> -3059.1 | I36: =I37 -> -4498.7 | J36: =J37 -> -5938.3
F37: Այլ մասնագիտական ծառայությունների ձեռքբերում | G37: =G38 -> -539.8 | H37: =H38 -> -3059.1 | I37: =I38 -> -4498.7 | J37: =J38 -> -5938.3
F38: - Մասնագիտական ծառայություններ | G38: ='1'!D26 -> -539.8 | H38: ='1'!E26 -> -3059.1 | I38: ='1'!F26 -> -4498.7 | J38: ='1'!G26 -> -5938.3
E39: 12001 | F39: Աշխատաշուկայում անմրցունակ անձանց փոքր ձեռնարկատիրական գործունեության աջակցության տրամադրում | G39: =G41 -> -3074.9 | H39: =H41 -> -17424.4 | I39: =I41 -> -25624.1 | J39: =J41 -> -33823.8
F40: այդ թվում` ըստ կատարողների
F41: ՀՀ աշխատանքի և սոցիալական հարցերի նախարարության միասնական սոցիալական ծառայություն | G41: =G43 -> -3074.9 | H41: =H43 -> -17424.4 | I41: =I43 -> -25624.1 | J41: =J43 -> -33823.8
F42: այդ թվում` բյուջետային ծախսերի տնտեսագիտական դասակարգման հոդվածներ
...

Sheet 3
F2: Հավելված N 3
F3: ՀՀ կառավարության 2022 թվականի
F4: -----------------ի N -----------Ն որոշման
A6: ՀԱՅԱՍՏԱՆԻ ՀԱՆՐԱՊԵՏՈՒԹՅԱՆ ԿԱՌԱՎԱՐՈՒԹՅԱՆ 2021 ԹՎԱԿԱՆԻ ԴԵԿՏԵՄԲԵՐԻ 23-Ի N 2121-Ն ՈՐՈՇՄԱՆ N 9 ՀԱՎԵԼՎԱԾԻ 9․15 ԵՎ N 9.47 ԱՂՅՈՒՍԱԿՆԵՐՈՒՄ ԿԱՏԱՐՎՈՂ ՓՈՓՈԽՈՒԹՅՈՒՆՆԵՐԸ
A7: Հայաստանի Հանրապետության աշխատանքի և սոցիալական հարցերի նախարարություն
A8: ՄԱՍ 2. ՊԵՏԱԿԱՆ ՄԱՐՄՆԻ ԳԾՈՎ ԱՐԴՅՈՒՆՔԱՅԻՆ (ԿԱՏԱՐՈՂԱԿԱՆ) ՑՈՒՑԱՆԻՇՆԵՐԸ
A10: Ծրագրի դասիչը | B10: Ծրագրի անվանումը
A11: 1088 | B11: Զբաղվածության ծրագիր
A13: Ծրագրի միջոցառումները
A15: Ծրագրի դասիչը` | B15: 1088 | C15: Ցուցանիշների փոփոխությունը (նվազեցումները նշված են փակագծերում)
A16: Միջոցառման դասիչը` | B16: 11001 | C16: Առաջին եռամսյակ | D16: Առաջին կիսամյակ | E16: Ինն ամիս | F16: Տարի
A17: Միջոցառման անվանումը` | B17: Գործազուրկների, աշխատանաքից ազատման ռիսկ ունեցող, ինչպես նաև ազատազրկման ձևով պատիժը կրելու ավարտին վեց ամիս մնացած աշխատանք փնտրող անձանց մասնագիտական ուսուցման կազմակերպում
A18: Նկարագրությունը` | B18: Գործազուրկների և աշխատանքից ազատման ռիսկ ունեցող, ինչպես նաև ազատազրկման ձևով պատիժը կրելու ավարտին մինչև վեց ամիս մնացած աշխատանք փնտրող անձանց մասնագիտական ուսուցման կազմակերպում
A19: Միջոցառման տեսակը` | B19: Ծառայությունների մատուցում
A20: Միջոցառումն իրականացնողի անվանումը | B20: «Գնումների մասին» ՀՀ օրենքի համաձայն ընտրված կազմակերպություն
A21: Արդյունքի չափորոշիչներ
A22: Ծրագրերում ընդգրկվածների թիվ, մարդ, այդ թվում՛ | C22: 0 | D22: =SUM(D23:D24) -> -230 | E22: =SUM(E23:E24) -> -334 | F22: =SUM(F23:F24) -> -434
A23: կին | C23: 0 | D23: -211 | E23: -307 | F23: -399
A24: տղամարդ | C24: 0 | D24: -19 | E24: -27 | F24: -35
A25: հաշմանդամություն ունեցող անձանց թիվ, մարդ | C25: 0 | D25: -25 | E25: -37 | F25: -43
A26: Միջոցառման վրա կատարվող ծախսը (հազար դրամ) | C26: ='1'!D20 -> 0 | D26: ='1'!E20 -> -21344.6 | E26: ='1'!F20 -> -30996 | F26: ='1'!G20 -> -40276.3
A28: Ծրագրի դասիչը` | B28: 1088 | C28: Ցուցանիշների փոփոխությունը (նվազեցումները նշված են փակագծերում)
A29: Միջոցառման դասիչը` | B29: 11004 | C29: Առաջին եռամսյակ | D29: Առաջին կիսամյակ | E29: Ինն ամիս | F29: Տարի
A30: Միջոցառման անվանումը` | B30: Աշխատաշուկայում անմրցունակ անձանց փոքր ձեռնարկատիրական գործունեության աջակցության տրամադրում ծրագրի ուսուցման կազմակերպման և խորհրդատվական ծառայություններ
A31: Նկարագրությունը` | B31: Անմրցունակ անձանց ձեռնարկատիրական գործունեության մեկնարկի և իրականացման համար աջակցության տրամադրում և տնտեսական գործունեությունն սկսելուց հետո մեկ տարվա ընթացքում ուղեկցման աշխատանքների իրականացում:
A32: Միջոցառման տեսակը` | B32: Ծառայությունների մատուցում
A33: Միջոցառումն իրականացնողի անվանումը | B33: «Գնումների մասին» ՀՀ օրենքի համաձայն ընտրված կազմակերպություն
A34: Արդյունքի չափորոշիչներ
A35: Ծրագրի շահառուների թիվ, մարդ, այդ թվում | C35: =SUM(C36:C37) -> -3 | D35: =SUM(D36:D37) -> -17 | E35: =SUM(E36:E37) -> -25 | F35: =SUM(F36:F37) -> -33
A36: կին | C36: -1 | D36: -4 | E36: -7 | F36: -13
A37: տղամարդ | C37: -2 | D37: -13 | E37: -18 | F37: -20
A38: ուսուցում անցած հաշմանդամություն ունեցող անձանց թիվը | C38: 0 | D38: -3 | E38: -5 | F38: -7
A39: Միջոցառման վրա կատարվող ծախսը (հազար դրամ) | C39: ='1'!D26 -> -539.8 | D39: ='1'!E26 -> -3059.1 | E39: ='1'!F26 -> -4498.7 | F39: ='1'!G26 -> -5938.3
A41: Ծրագրի դասիչը` | B41: 1088 | C41: Ցուցանիշների փոփոխությունը (նվազեցումները նշված են փակագծերում)
A42: Միջոցառման դասիչը` | B42: 12001 | C42: Առաջին եռամսյակ | D42: Առաջին կիսամյակ | E42: Ինն ամիս | F42: Տարի
A43: Միջոցառման անվանումը` | B43: Աշխատաշուկայում անմրցունակ անձանց փոքր ձեռնարկատիրական գործունեության աջակցության տրամադրում
A44: Նկարագրությունը` | B44: Փոքր ձեռնարկատիրական գործունեությամբ զբաղվելու և լրացուցիչ աշխատատեղեր ստեղծելու նպատակով աշխատաշուկայում անմրցունակ անձանց ֆինանսական աջակցության տրամադրում՛ ապահովելով հավասար հնարավորություններ կանանց և տղամարդկանց համար
A45: Միջոցառման տեսակը` | B45: Տրանսֆերտների տրամադրում
A46: Շահառուների ընտրության չափանիշները | B46: Զբաղվածության տարածքային կենտրոններում հաշվառված աշխատաշուկայում անմրցունակ և առնվազն երեք ամիս գործազուրկի կարգավիճակում գտնվող անձինք:
A47: Արդյունքի չափորոշիչներ
...

Sheet 4
F2: Հավելված N 4
F3: ՀՀ կառավարության 2022 թվականի
F4: -----------------ի N -----------Ն որոշման
A6: ՀԱՅԱՍՏԱՆԻ ՀԱՆՐԱՊԵՏՈՒԹՅԱՆ ԿԱՌԱՎԱՐՈՒԹՅԱՆ 2021 ԹՎԱԿԱՆԻ ԴԵԿՏԵՄԲԵՐԻ 23-Ի N 2121-Ն ՈՐՈՇՄԱՆ N 9.1 ՀԱՎԵԼՎԱԾԻ 9․1.20 ԵՎ 9.1.59 ԱՂՅՈՒՍԱԿՆԵՐՈՒՄ ԿԱՏԱՐՎՈՂ ՓՈՓՈԽՈՒԹՅՈՒՆՆԵՐԸ
A7: Հայաստանի Հանրապետության աշխատանքի և սոցիալական հարցերի նախարարության միասնական սոցիալական ծառայություն
A8: ՄԱՍ 2. ՊԵՏԱԿԱՆ ՄԱՐՄՆԻ ԳԾՈՎ ԱՐԴՅՈՒՆՔԱՅԻՆ (ԿԱՏԱՐՈՂԱԿԱՆ) ՑՈՒՑԱՆԻՇՆԵՐԸ
A10: Ծրագրի դասիչը | B10: Ծրագրի անվանումը
A11: 1088 | B11: Զբաղվածության ծրագիր
A13: Ծրագրի միջոցառումները
A15: Ծրագրի դասիչը` | B15: 1088 | C15: Ցուցանիշների փոփոխությունը (նվազեցումները նշված են փակագծերում)
A16: Միջոցառման դասիչը` | B16: 11001 | C16: Առաջին եռամսյակ | D16: Առաջին կիսամյակ | E16: Ինն ամիս | F16: Տարի
A17: Միջոցառման անվանումը` | B17: Գործազուրկների, աշխատանաքից ազատման ռիսկ ունեցող, ինչպես նաև ազատազրկման ձևով պատիժը կրելու ավարտին վեց ամիս մնացած աշխատանք փնտրող անձանց մասնագիտական ուսուցման կազմակերպում
A18: Նկարագրությունը` | B18: Գործազուրկների և աշխատանքից ազատման ռիսկ ունեցող, ինչպես նաև ազատազրկման ձևով պատիժը կրելու ավարտին մինչև վեց ամիս մնացած աշխատանք փնտրող անձանց մասնագիտական ուսուցման կազմակերպում
A19: Միջոցառման տեսակը` | B19: Ծառայությունների մատուցում
A20: Միջոցառումն իրականացնողի անվանումը | B20: «Գնումների մասին» ՀՀ օրենքի համաձայն ընտրված կազմակերպություն
A21: Արդյունքի չափորոշիչներ
A22: Ծրագրերում ընդգրկվածների թիվ, մարդ, այդ թվում՛ | C22: 0 | D22: =SUM(D23:D24) -> -230 | E22: =SUM(E23:E24) -> -334 | F22: =SUM(F23:F24) -> -434
A23: կին | C23: 0 | D23: -211 | E23: -307 | F23: -399
A24: տղամարդ | C24: 0 | D24: -19 | E24: -27 | F24: -35
A25: հաշմանդամություն ունեցող անձանց թիվ, մարդ | C25: 0 | D25: -25 | E25: -37 | F25: -43
A26: Միջոցառման վրա կատարվող ծախսը (հազար դրամ) | C26: ='1'!D20 -> 0 | D26: ='1'!E20 -> -21344.6 | E26: ='1'!F20 -> -30996 | F26: ='1'!G20 -> -40276.3
A28: Ծրագրի դասիչը` | B28: 1088 | C28: Ցուցանիշների փոփոխությունը (նվազեցումները նշված են փակագծերում)
A29: Միջոցառման դասիչը` | B29: 11004 | C29: Առաջին եռամսյակ | D29: Առաջին կիսամյակ | E29: Ինն ամիս | F29: Տարի
A30: Միջոցառման անվանումը` | B30: Աշխատաշուկայում անմրցունակ անձանց փոքր ձեռնարկատիրական գործունեության աջակցության տրամադրում ծրագրի ուսուցման կազմակերպման և խորհրդատվական ծառայություններ
A31: Նկարագրությունը` | B31: Անմրցունակ անձանց ձեռնարկատիրական գործունեության մեկնարկի և իրականացման համար աջակցության տրամադրում և տնտեսական գործունեությունն սկսելուց հետո մեկ տարվա ընթացքում ուղեկցման աշխատանքների իրականացում:
A32: Միջոցառման տեսակը` | B32: Ծառայությունների մատուցում
A33: Միջոցառումն իրականացնողի անվանումը | B33: «Գնումների մասին» ՀՀ օրենքի համաձայն ընտրված կազմակերպություն
A34: Արդյունքի չափորոշիչներ
A35: Ծրագրի շահառուների թիվ, մարդ, այդ թվում | C35: =SUM(C36:C37) -> -3 | D35: =SUM(D36:D37) -> -17 | E35: =SUM(E36:E37) -> -25 | F35: =SUM(F36:F37) -> -33
A36: կին | C36: -1 | D36: -4 | E36: -7 | F36: -13
A37: տղամարդ | C37: -2 | D37: -13 | E37: -18 | F37: -20
A38: ուսուցում անցած հաշմանդամություն ունեցող անձանց թիվը | C38: 0 | D38: -3 | E38: -5 | F38: -7
A39: Միջոցառման վրա կատարվող ծախսը (հազար դրամ) | C39: ='1'!D26 -> -539.8 | D39: ='1'!E26 -> -3059.1 | E39: ='1'!F26 -> -4498.7 | F39: ='1'!G26 -> -5938.3
A41: Ծրագրի դասիչը` | B41: 1088 | C41: Ցուցանիշների փոփոխությունը (նվազեցումները նշված են փակագծերում)
A42: Միջոցառման դասիչը` | B42: 12001 | C42: Առաջին եռամսյակ | D42: Առաջին կիսամյակ | E42: Ինն ամիս | F42: Տարի
A43: Միջոցառման անվանումը` | B43: Աշխատաշուկայում անմրցունակ անձանց փոքր ձեռնարկատիրական գործունեության աջակցության տրամադրում
A44: Նկարագրությունը` | B44: Փոքր ձեռնարկատիրական գործունեությամբ զբաղվելու և լրացուցիչ աշխատատեղեր ստեղծելու նպատակով աշխատաշուկայում անմրցունակ անձանց ֆինանսական աջակցության տրամադրում՛ ապահովելով հավասար հնարավորություններ կանանց և տղամարդկանց համար
A45: Միջոցառման տեսակը` | B45: Տրանսֆերտների տրամադրում
A46: Շահառուների ընտրության չափանիշները | B46: Զբաղվածության տարածքային կենտրոններում հաշվառված աշխատաշուկայում անմրցունակ և առնվազն երեք ամիս գործազուրկի կարգավիճակում գտնվող անձինք:
A47: Արդյունքի չափորոշիչներ
...

Sheet 5
I2: Հավելված N 5
I3: ՀՀ կառավարության 2022 թվականի
I4: -----------------ի N -----------Ն որոշման
A6: ՀԱՅԱՍՏԱՆԻ ՀԱՆՐԱՊԵՏՈՒԹՅԱՆ ԿԱՌԱՎԱՐՈՒԹՅԱՆ 2021 ԹՎԱԿԱՆԻ ԴԵԿՏԵՄԲԵՐԻ 23-Ի N 2121-Ն ՈՐՈՇՄԱՆ N 10 ՀԱՎԵԼՎԱԾՈՒՄ ԿԱՏԱՐՎՈՂ ՓՈՓՈԽՈՒԹՅՈՒՆՆԵՐԸ
A8: Գնման առարկայի | G8: Միավորի գինը ( դրամ) | H8: Ցուցանիշների փոփոխությունը (նվազեցումները նշված են փակագծերում)
A9: Կոդը | D9: Անվանումը | E9: Գնման ձևը | F9: Չափման միավորը | H9: Քանակը | I9: Գումարը (հազար դրամ)
A10: ՀՀ աշխատանքի և սոցիալական հարցերի նախարարության միասնական սոցիալական ծառայություն | I10: =I11 -> -46214.6
A11: Բաժին N 10 | B11: Խումբ N 05 | C11: Դաս N 01 | D11: Գործազրկություն | I11: =I12+I15 -> -46214.6
A12: 1088 11001 | B12: ='[1]2'!F22 -> Գործազուրկների, աշխատանաքից ազատման ռիսկ ունեցող, ինչպես նաև ազատազրկման ձևով պատիժը կրելու ավարտին վեց ամիս մնացած աշխատանք փնտրող անձանց մասնագիտական ուսուցման կազմակերպում | I12: =I14 -> -40276.3
B13: ՄԱՍ III. ԾԱՌԱՅՈՒԹՅՈՒՆՆԵՐ
A14: 80531100-1 | B14: արդյունաբերական ուսուցման ծառայություններ | E14: ԷԱՃ | F14: դրամ | I14: -40276.3
A15: 1088 11004 | B15: ='[1]2'!F31 -> Աշխատաշուկայում անմրցունակ անձանց փոքր ձեռնարկատիրական գործունեության աջակցության տրամադրում ծրագրի ուսուցման կազմակերպման և խորհրդատվական ծառայություններ | I15: =I17 -> -5938.3
B16: ՄԱՍ III. ԾԱՌԱՅՈՒԹՅՈՒՆՆԵՐ
A17: 80531100-1 | B17: արդյունաբերական ուսուցման ծառայություններ | E17: ԷԱՃ | F17: դրամ | I17: -5938.3

Sheet 6
J1: Հավելված N 6
H2: ՀՀ կառավարության 2022 թվականի
I3: -----------------ի N -----------Ն որոշման
B5: ՀԱՅԱՍՏԱՆԻ ՀԱՆՐԱՊԵՏՈՒԹՅԱՆ 2022 ԹՎԱԿԱՆԻ ՊԵՏԱԿԱՆ ԲՅՈՒՋԵՈՎ ՆԱԽԱՏԵՍՎԱԾ՝ ՀԱՅԱՍՏԱՆԻ ՀԱՆՐԱՊԵՏՈՒԹՅԱՆ ԿԱՌԱՎԱՐՈՒԹՅԱՆ ՊԱՀՈՒՍՏԱՅԻՆ ՖՈՆԴԻՑ ՀԱՏԿԱՑՈՒՄՆԵՐ ԿԱՏԱՐԵԼՈՒ ՎԵՐԱԲԵՐՅԱԼ
I6: հազար դրամ
A7: Գործառական դասիչը | D7: Ծրագրային դասիչը | F7: Բյուջետային ծախսերի գործառական դասակարգման բաժինների, խմբերի և դասերի, բյուջետային ծրագրերի միջոցառումների, բյուջետային հատկացումների գլխավոր կարգադրիչների անվանումները | G7: Ցուցանիշների փոփոխությունը (ավելացումները նշված են դրական նշանով, իսկ նվազեցումները` փակագծերում)
A8: Բաժին | B8: Խումբ | C8: Դաս | D8: Ծրագիր | E8: Միջոցառում | G8: Առաջին եռամսյակ | H8: Առաջին կիսամյակ | I8: Ինն ամիս | J8: Տարի
F9: ԸՆԴԱՄԵՆԸ ԾԱԽՍԵՐ | G9: =G11+G28 -> 0 | H9: =H11+H28 -> 0 | I9: =I11+I28 -> 0 | J9: =J11+J28 -> 0
F10: այդ թվում`
A11: 11 | F11: ՀԻՄՆԱԿԱՆ ԲԱԺԻՆՆԵՐԻՆ ՉԴԱՍՎՈՂ ՊԱՀՈՒՍՏԱՅԻՆ ՖՈՆԴԵՐ | G11: =G13 -> 3614.7 | H11: =H13 -> 65297.2 | I11: =I13 -> 95200 | J11: =J13 -> 124323.5
F12: այդ թվում`
B13: 01 | F13: ՀՀ կառավարության և համայնքների պահուստային ֆոնդ | G13: =G15 -> 3614.7 | H13: =H15 -> 65297.2 | I13: =I15 -> 95200 | J13: =J15 -> 124323.5
F14: այդ թվում`
C15: 01 | F15: ՀՀ կառավարության պահուստային ֆոնդ | G15: =G17 -> 3614.7 | H15: =H17 -> 65297.2 | I15: =I17 -> 95200 | J15: =J17 -> 124323.5
F16: այդ թվում`
D17: 1139 | F17: ՀՀ կառավարության պահուստային ֆոնդ | G17: =+G19 -> 3614.7 | H17: =+H19 -> 65297.2 | I17: =+I19 -> 95200 | J17: =+J19 -> 124323.5
F18: այդ թվում`
E19: 11001 | F19: ՀՀ կառավարության պահուստային ֆոնդ | G19: =G21 -> 3614.7 | H19: =H21 -> 65297.2 | I19: =I21 -> 95200 | J19: =J21 -> 124323.5
F20: այդ թվում` ըստ կատարողների
F21: ՀՀ կառավարություն | G21: =G23 -> 3614.7 | H21: =H23 -> 65297.2 | I21: =I23 -> 95200 | J21: =J23 -> 124323.5
F22: այդ թվում` բյուջետային ծախսերի տնտեսագիտական դասակարգման հոդվածներ
F23: ԸՆԴԱՄԵՆԸ ԾԱԽՍԵՐ | G23: =G24 -> 3614.7 | H23: =H24 -> 65297.2 | I23: =I24 -> 95200 | J23: =J24 -> 124323.5
F24: ԸՆԹԱՑԻԿ ԾԱԽՍԵՐ | G24: =G25 -> 3614.7 | H24: =H25 -> 65297.2 | I24: =I25 -> 95200 | J24: =J25 -> 124323.5
F25: Այլ ծախսեր | G25: =G26 -> 3614.7 | H25: =H26 -> 65297.2 | I25: =I26 -> 95200 | J25: =J26 -> 124323.5
F26: - Պահուստային միջոցներ | G26: ='2'!G72 -> 3614.7 | H26: ='2'!H72 -> 65297.2 | I26: ='2'!I72 -> 95200 | J26: ='2'!J72 -> 124323.5
F27: ՀՀ աշխատանքի և սոցիալական հարցերի նախարարություն | G27: =G28 -> -3614.7 | H27: =H28 -> -65297.2 | I27: =I28 -> -95200 | J27: =J28 -> -124323.5
A28: ='2'!A12 -> 10 | F28: ='2'!F12 -> ՍՈՑԻԱԼԱԿԱՆ ՊԱՇՏՊԱՆՈՒԹՅՈՒՆ | G28: ='2'!G12 -> -3614.7 | H28: ='2'!H12 -> -65297.2 | I28: ='2'!I12 -> -95200 | J28: ='2'!J12 -> -124323.5
F29: ='2'!F13 -> այդ թվում` | G29: ='2'!G13 -> 0 | H29: ='2'!H13 -> 0 | I29: ='2'!I13 -> 0 | J29: ='2'!J13 -> 0
B30: ='2'!B14 -> ՛05 | F30: ='2'!F14 -> Գործազրկություն | G30: ='2'!G14 -> -3614.7 | H30: ='2'!H14 -> -65297.2 | I30: ='2'!I14 -> -95200 | J30: ='2'!J14 -> -124323.5
F31: ='2'!F15 -> այդ թվում` | G31: ='2'!G15 -> 0 | H31: ='2'!H15 -> 0 | I31: ='2'!I15 -> 0 | J31: ='2'!J15 -> 0
C32: ='2'!C16 -> ՛01 | F32: ='2'!F16 -> Գործազրկություն | G32: ='2'!G16 -> -3614.7 | H32: ='2'!H16 -> -65297.2 | I32: ='2'!I16 -> -95200 | J32: ='2'!J16 -> -124323.5
F33: ='2'!F17 -> այդ թվում` | G33: ='2'!G17 -> 0 | H33: ='2'!H17 -> 0 | I33: ='2'!I17 -> 0 | J33: ='2'!J17 -> 0
D34: ='2'!D18 -> 1088 | F34: ='2'!F18 -> Զբաղվածության ծրագիր | G34: ='2'!G18 -> -3614.7 | H34: ='2'!H18 -> -65297.2 | I34: ='2'!I18 -> -95200 | J34: ='2'!J18 -> -124323.5
F35: ='2'!F19 -> այդ թվում` | G35: ='2'!G19 -> 0 | H35: ='2'!H19 -> 0 | I35: ='2'!I19 -> 0 | J35: ='2'!J19 -> 0
F36: ='2'!F20 -> Ծրագրի միջոցառումներ | G36: ='2'!G20 -> 0 | H36: ='2'!H20 -> 0 | I36: ='2'!I20 -> 0 | J36: ='2'!J20 -> 0
E37: ='2'!E21 -> 11001 | F37: ='2'!F21 -> Գործազուրկների, աշխատանաքից ազատման ռիսկ ունեցող, ինչպես նաև ազատազրկման ձևով պատիժը կրելու ավարտին վեց ամիս մնացած աշխատանք փնտրող անձանց մասնագիտական ուսուցման կազմակերպում | G37: ='2'!G21 -> 0 | H37: ='2'!H21 -> -21344.6 | I37: ='2'!I21 -> -30996 | J37: ='2'!J21 -> -40276.3
F38: ='2'!F22 -> այդ թվում` ըստ կատարողների | G38: ='2'!G22 -> 0 | H38: ='2'!H22 -> 0 | I38: ='2'!I22 -> 0 | J38: ='2'!J22 -> 0
F39: ='2'!F23 -> ՀՀ աշխատանքի և սոցիալական հարցերի նախարարության միասնական սոցիալական ծառայություն | G39: ='2'!G23 -> 0 | H39: ='2'!H23 -> -21344.6 | I39: ='2'!I23 -> -30996 | J39: ='2'!J23 -> -40276.3
F40: ='2'!F24 -> այդ թվում` բյուջետային ծախսերի տնտեսագիտական դասակարգման հոդվածներ | G40: ='2'!G24 -> 0 | H40: ='2'!H24 -> 0 | I40: ='2'!I24 -> 0 | J40: ='2'!J24 -> 0
F41: ='2'!F25 -> ԸՆԴԱՄԵՆԸ ԾԱԽՍԵՐ | G41: ='2'!G25 -> 0 | H41: ='2'!H25 -> -21344.6 | I41: ='2'!I25 -> -30996 | J41: ='2'!J25 -> -40276.3
...
