Workbook
Name _tab10: #REF!
Name _tab10: #REF!
Name _tab11: #REF!
Name _tab11: #REF!
Name _tab12: #REF!
Name _tab12: #REF!
Name _tab13: #REF!
Name _tab13: #REF!
Name _tab14: #REF!
Name _tab14: #REF!
Name _tab15: #REF!
Name _tab15: #REF!
Name _tab16: #REF!
Name _tab16: #REF!
Name _tab17: #REF!
Name _tab17: #REF!
Name _tab18: #REF!
Name _tab18: #REF!
Name _tab19: #REF!
Name _tab19: #REF!
Name _tab20: #REF!
Name _tab20: #REF!
Name _tab21: #REF!
Name _tab21: #REF!
Name _tab22: #REF!
Name _tab22: #REF!
Name _tab23: #REF!
Name _tab23: #REF!
Name _tab24: #REF!
Name _tab24: #REF!
Name _tab5: #REF!
Name _tab5: #REF!
Name _tab6: #REF!
Name _tab6: #REF!
Name _tab7: #REF!
Name _tab7: #REF!
Name _tab8: #REF!
Name _tab8: #REF!
Name _tab9: #REF!
Name _tab9: #REF!
Name AgencyCode: #REF!
Name AgencyCode: #REF!
Name AgencyCode: #REF!
Name AgencyName: #REF!
Name AgencyName: #REF!
Name AgencyName: #REF!
Name Functional1: #REF!
Name Functional1: #REF!
Name Functional1: #REF!
Name PANature: #REF!
Name PANature: #REF!
Name PANature: #REF!
Name par_count: #REF!,#REF!,#REF!,#REF!,#REF!,#REF!,#REF!,#REF!,#REF!,#REF!,#REF!,#REF!,#REF!,#REF!,#REF!
Name par_count: #REF!,#REF!,#REF!,#REF!,#REF!,#REF!,#REF!,#REF!,#REF!,#REF!,#REF!,#REF!,#REF!,#REF!,#REF!
Name par_qual: #REF!,#REF!,#REF!,#REF!,#REF!
Name par_qual: #REF!,#REF!,#REF!,#REF!,#REF!
Name par_time: #REF!,#REF!,#REF!,#REF!
Name par_time: #REF!,#REF!,#REF!,#REF!
Name par2.12s: #REF!
Name par2.12s: #REF!

Sheet 1
D1: Հավելված N1
D2: ՀՀ կառավարության 2021 թվականի
D3: ______________ ի N ___Ն որոշման
A6: «ՀԱՅԱUՏԱՆԻ ՀԱՆՐԱՊԵՏՈՒԹՅԱՆ 2021 ԹՎԱԿԱՆԻ ՊԵՏԱԿԱՆ ԲՅՈՒՋԵԻ ՄԱUԻՆ» OՐԵՆՔԻ N 1 ՀԱՎԵԼՎԱԾԻ N 2 ԱՂՅՈՒՍԱԿՈՒՄ ԿԱՏԱՐՎՈՂ ՎԵՐԱԲԱՇԽՈՒՄԸ, ՀԱՅԱՍՏԱՆԻ ՀԱՆՐԱՊԵՏՈՒԹՅԱՆ ԿԱՌԱՎԱՐՈՒԹՅԱՆ 2020 ԹՎԱԿԱՆԻ ԴԵԿՏԵՄԲԵՐԻ 30-Ի N 2215-Ն ՈՐՈՇՄԱՆ N 5 ՀԱՎԵԼՎԱԾԻ N 1 ԱՂՅՈՒՍԱԿՈՒՄ ԿԱՏԱՐՎՈՂ ՓՈՓՈԽՈՒԹՅՈՒՆՆԵՐԸ ԵՎ ԼՐԱՑՈՒՄԸ
D7: հազար դրամ
A8: Ծրագրային դասիչը | C8: Բյուջետային հատկացումների գլխավոր կարգադրիչների, ծրագրերի և միջոցառումների անվանումները | D8: Ցուցանիշների փոփոխությունը (ավելացումները նշված են դրական նշանով, իսկ նվազեցումները` փակագծերում)
A9: Ծրագիր | B9: Միջոցառում | D9: Տարի
C10: ԸՆԴԱՄԵՆԸ | D10: =-D11 -> 0
C11: ՀՀ տարածքային կառավարման և ենթակառուցվածքների նախարարություն | D11: =-D12-D26 -> 0
A12: 1049 | C12: Ծրագրի անվանումը` | D12: =+D20 -> -4001194.8
C13: Ճանապարհային ցանցի բարելավում
C14: Ծրագրի նպատակը`
C15: Ճանապարհային ցանցի բարելավում և անվտանգ երթևեկության ապահովում
C16: Վերջնական արդյունքի նկարագրությունը`
C17: Ճանապարհների ծածկի որակի և փոխադրումների արդյունավետության բարելավում՝ ճանապարհների վիճակով պայմանավորված պատահարների նվազում
A18: Ծրագրի միջոցառումներ
B19: 21001 | C19: Միջոցառման անվանումը`
C20: Պետական նշանակության ավտոճանապարհների հիմնանորոգում | D20: =-D26 -> -4001194.8
C21: Միջոցառման նկարագրությունը`
C22: Միջպետական, հանրապետական և մարզային նշանակության ավտոճոնապարհների քայքայված ծածկի վերանորոգում, մաշված ծածկի փոխարինում
C23: Միջոցառման տեսակը
C24: Հանրության կողմից անմիջականորեն օգտագործվող ակտիվների հետ կապված միջոցառումներ
A25: 1212 | C25: Ծրագրի անվանումը`
C26: Տարածքային զարգացում | D26: ='3'!D9 -> 4001194.8
C27: Ծրագրի նպատակը`
C28: Տարածքային համաչափ զարգացման խթանում
C29: Վերջնական արդյունքի նկարագրությունը`
C30: ՀՀ համայնքների կառավարման արդյունավետության բարձրացում և տնտեսական գործունեության խթանում
A31: Ծրագրի միջոցառումներ
B32: 12007 | C32: Միջոցառման անվանումը`
C33: ՀՀ մարզերին սուբվենցիաների տրամադրում՛ ենթակառուցվածքների զարգացման նպատակով | D33: =D26 -> 4001194.8
C34: Միջոցառման նկարագրությունը`
C35: ՀՀ մարզերին սուբվենցիաների տրամադրում՛ ենթակառուցվածքների զարգացման նպատակով
C36: Միջոցառման տեսակը
C37: Տրանսֆերտների տրամադրում

Sheet 2
H1: Հավելված N2
H2: ՀՀ կառավարության 2021 թվականի
H3: ______________ ի ___Ն որոշման
A4: «ՀԱՅԱՍՏԱՆԻ ՀԱՆՐԱՊԵՏՈՒԹՅԱՆ 2021 ԹՎԱԿԱՆԻ ՊԵՏԱԿԱՆ ԲՅՈՒՋԵԻ ՄԱՍԻՆ» ՕՐԵՆՔԻ N 1 ՀԱՎԵԼՎԱԾԻ N 3 ԱՂՅՈՒՍԱԿՈՒՄ ԿԱՏԱՐՎՈՂ ՓՈՓՈԽՈՒԹՅՈՒՆՆԵՐԸ ԵՎ ԼՐԱՑՈՒՄՆԵՐԸ
G5: հազ. դրամ
A6: Ծրագրային դասիչ | C6: Բյուջետային գլխավոր կարգադրիչների, ծրագրերի, միջոցառումների և ուղղությունների անվանումները | D6: Ցուցանիշների փոփոխությունը (ավելացումները նշված են դրական նշանով, իսկ նվազեցումները` փակագծերում)
D7: Ընդամենը, | E7: այդ թվում՝
A8: Ծրագիր | B8: Միջոցառում | E8: Կառուցման աշխատանքներ | F8: Վերակառուցման, վերանորոգման և վերականգնման աշխատանքներ | G8: Նախագծահե- տազոտական, գեոդեզիա- քարտեզագրա- կան աշխա- տանքներ | H8: Ոչ ֆինանսական այլ ակտիվների ձեռքբերում
C9: ԸՆԴԱՄԵՆԸ | D9: =+E9+F9+G9+H9 -> -4001194.8 | E9: =+E11 -> 0 | F9: =+F11 -> -4001194.8 | G9: =+G11 -> 0 | H9: =+H11 -> 0
C10: այդ թվում՝
C11: ՀՀ ՏԱՐԱԾՔԱՅԻՆ ԿԱՌԱՎԱՐՄԱՆ ԵՎ ԵՆԹԱԿԱՌՈՒՑՎԱԾՔՆԵՐԻ ՆԱԽԱՐԱՐՈՒԹՅՈՒՆ | D11: =+E11+F11+G11+H11 -> -4001194.8 | E11: =+E13+E39+E42+E41 -> 0 | F11: =+F13+F39+F42+F41 -> -4001194.8 | G11: =+G13+G39+G42+G41 -> 0 | H11: =+H13+H39+H42+H41 -> 0
C12: այդ թվում`
A13: 1049 | B13: 21001 | C13: Պետական նշանակության ավտոճանապարհների հիմնանորոգում | D13: =+E13+F13+G13+H13 -> -5988772 | E13: =+E15+E31+E36 -> 0 | F13: =F15+F31+F36 -> -5988772 | G13: =+G15+G31+G36 -> 0 | H13: =+H15+H31+H36 -> 0
C14: այդ թվում`
B15: 1 | C15: Միջպետական նշանակության ավտոճանապարհներ, այդ թվում | D15: =+E15+F15+G15+H15 -> -3705276.6 | E15: =SUM(E16+E20+E23+E25+E27+E29) -> 0 | F15: =+F16+F20+F23+F25+F27+F29 -> -3705276.6 | G15: =SUM(G16+G20+G23+G25+G27+G29) -> 0 | H15: =SUM(H16+H20+H23+H25+H27+H29) -> 0
C16: Մ-2, Երևան-Երասխ-Գորիս-Մեղրի-Իրանի սահման միջպետական նշանակության ավտոճանապարհի, այդ թվում | D16: =+E16+F16+G16+H16 -> -2307366.7 | E16: 0 | F16: =+F17+F18+F19 -> -2307366.7 | G16: 0 | H16: 0
C17: կմ98+000 - կմ101+400 հատվածի հիմնանորոգում | D17: =+E17+F17+G17+H17 -> -600000 | E17: 0 | F17: -600000 | G17: 0 | H17: 0
C18: կմ108+400 - կմ126+100 հատվածի հիմնանորոգում | D18: =+E18+F18+G18+H18 -> -763466.7 | E18: 0 | F18: -763466.7 | G18: 0 | H18: 0
C19: կմ196+000- կմ202+200 հատվածի հիմնանորոգում | D19: =+E19+F19+G19+H19 -> -943900 | E19: 0 | F19: -943900 | G19: 0 | H19: 0
C20: Մ-3, Թուրքիայի սահման-Մարգարա-Վանաձոր-Տաշիր-Վրաստանի սահման միջպետական նշանակության ավտոճանապարհի, այդ թվում | D20: =+E20+F20+G20+H20 -> -2563510.5 | E20: 0 | F20: =+F21+F22 -> -2563510.5 | G20: 0 | H20: 0
C21: կմ130+400-կմ135+354 հատվածի հիմնանորոգում | D21: =+E21+F21+G21+H21 -> 15829.2 | E21: 0 | F21: 15829.2 | G21: 0 | H21: 0
C22: կմ154+000-կմ176+900 հատվածի հիմնանորոգում | D22: =+E22+F22+G22+H22 -> -2579339.7 | E22: 0 | F22: -2579339.7 | G22: 0 | H22: 0
C23: Մ-4, Երևան-Սևան-Իջևան-Ադրբեջանի սահման միջպետական նշանակության ավտոճանապարհի, այդ թվում | D23: =+E23+F23+G23+H23 -> 867444.9 | E23: 0 | F23: =+F24 -> 867444.9 | G23: 0 | H23: 0
C24: կմ83+200-կմ91+176 հատվածի հիմնանորոգում | D24: =+E24+F24+G24+H24 -> 867444.9 | E24: 0 | F24: 867444.9 | G24: 0 | H24: 0
C25: Մ-10, Սևան-Մարտունի-Գետափ միջպետական նշանակության ավտոճանապարհի, այդ թվում | D25: =+E25+F25+G25+H25 -> 2890 | E25: 0 | F25: =+F26 -> 2890 | G25: 0 | H25: 0
C26: կմ57+450-կմ59+450 հատվածի մայթերի կառուցում | D26: =+E26+F26+G26+H26 -> 2890 | E26: 0 | F26: 2890 | G26: 0 | H26: 0
C27: Մ-11, Մարտունի - Վարդենիս - ԼՂՀ սահման միջպետական նշանակության ավտոճանապարհի, այդ թվում | D27: =+E27+F27+G27+H27 -> 198731.1 | E27: 0 | F27: =+F28 -> 198731.1 | G27: 0 | H27: 0
C28: կմ0+000-կմ5+900 հատվածի հիմնանորոգում | D28: =+E28+F28+G28+H28 -> 198731.1 | E28: 0 | F28: 198731.1 | G28: 0 | H28: 0
C29: Մ-13, /Մ-2/ - Անգեղակոթ - Նախիջևանի սահման միջպետական նշանակության ավտոճանապարհի, այդ թվում | D29: =+E29+F29+G29+H29 -> 96534.6 | E29: 0 | F29: =+F30 -> 96534.6 | G29: 0 | H29: 0
C30: կմ0+000-կմ8+000 հատվածի հիմնանորոգում | D30: =+E30+F30+G30+H30 -> 96534.6 | E30: 0 | F30: 96534.6 | G30: 0 | H30: 0
B31: 2 | C31: Հանրապետական նշանակության ավտոճանապարհների հիմնանորոգում, այդ թվում | D31: =+E31+F31+G31+H31 -> -2337866.2 | E31: 0 | F31: =+F32+F33+F34+F35 -> -2337866.2 | G31: 0 | H31: 0
C32: Հ-3, Երևան (Ջրաշխարհ, Մ-4-ի հետ հատման տեղ) - Գառնի -Գեղարդի վանք հանրապետական նշանակության ավտոճանապարհի կմ27+500-կմ33+500 հատվածի հիմնանորոգում | D32: =+E32+F32+G32+H32 -> -232773 | E32: 0 | F32: -232773 | G32: 0 | H32: 0
C33: Հ-45, /Մ-2/-Շաքի-Սիսան-Դաստակերտ-Ցողունի հանրապետական նշանակության ավտոճանապարհի կմ14+590-կմ25+900 հատվածի հիմնանորոգում | D33: =+E33+F33+G33+H33 -> -1082199.5 | E33: 0 | F33: -1082199.5 | G33: 0 | H33: 0
C34: Հ-46, /Մ-2/-Տաթև-Աղվանի-/Մ-2/(Սյունիք) հանրապետական նշանակության ավտոճանապարհի կմ37+500-կմ55+000 հատվածի հիմնանորոգում | D34: =+E34+F34+G34+H34 -> -961122.9 | E34: 0 | F34: -961122.9 | G34: 0 | H34: 0
C35: Հ-46, /Մ-2/-Տաթև-Աղվանի-/Մ-2/(Սյունիք) հանրապետական նշանակության ավտոճանապարհի կմ55+000-կմ68+000 հատվածի հիմնանորոգում | D35: =+E35+F35+G35+H35 -> -61770.8 | E35: 0 | F35: -61770.8 | G35: 0 | H35: 0
B36: 3 | C36: Մարզային նշանակության ավտոճանապարհներ, այդ թվում | D36: =+E36+F36+G36+H36 -> 54370.8 | E36: 0 | F36: =+F37+F38 -> 54370.8 | G36: 0 | H36: 0
C37: Իջևան քաղաքի Սարիբեկ-Օհանյան փողոցի կմ0+000-կմ1+145 հատվածի հիմնանորոգում | D37: =+E37+F37+G37+H37 -> 14400 | E37: 0 | F37: 14400 | G37: 0 | H37: 0
C38: Արթիկ համայնքի Սպանդարյան փողոցի ասֆալտապատում | D38: =+E38+F38+G38+H38 -> 39970.8 | E38: 0 | F38: 39970.8 | G38: 0 | H38: 0
A39: 1049 | B39: 21002 | C39: Տրանսպորտային օբյեկտների հիմնանորոգում, այդ թվում | D39: =+E39+F39+G39+H39 -> 26657 | E39: 0 | F39: =+F40 -> 26657 | G39: 0 | H39: 0
C40: Մ- 3, Թուրքիայի սահման-Մարգարա-Վանաձոր-Տաշիր-Վրաստանի սահման կմ144+020-ում գտնվող կամրջի հիմնանորոգում | D40: =+E40+F40+G40+H40 -> 26657 | E40: 0 | F40: 26657 | G40: 0 | H40: 0
...

Sheet 3
D1: Հավելված № 3
D2: ՀՀ կառավարության 2021 թվականի
D3: -------------- ի № ---- -Ն որոշման
A5: «ՀԱՅԱՍՏԱՆԻ ՀԱՆՐԱՊԵՏՈՒԹՅԱՆ 2021 ԹՎԱԿԱՆԻ ՊԵՏԱԿԱՆ ԲՅՈՒՋԵԻ ՄԱՍԻՆ» ՕՐԵՆՔԻ N 1 ՀԱՎԵԼՎԱԾԻ N 7 ԱՂՅՈՒՍԱԿՈՒՄ ԵՎ ՀԱՅԱՍՏԱՆԻ ՀԱՆՐԱՊԵՏՈՒԹՅԱՆ ԿԱՌԱՎԱՐՈՒԹՅԱՆ 2020 ԹՎԱԿԱՆԻ ԴԵԿՏԵՄԲԵՐԻ 30-Ի N 2215-Ն ՈՐՈՇՄԱՆ N 5 ՀԱՎԵԼՎԱԾԻ N 6 ԱՂՅՈՒՍԱԿՈՒՄ ԿԱՏԱՐՎՈՂ ՓՈՓՈԽՈՒԹՅՈՒՆԸ ԵՎ ԼՐԱՑՈՒՄՆԵՐԸ
D6: հազար դրամ
A7: Ծրագրային դասիչը | C7: Բյուջետային հատկացումների գլխավոր կարգադրիչների, ծրագրերի, միջոցառումների և միջոցառումները կատարող պետական մարմինների անվանումները | D7: Ցուցանիշների փոփոխությունը (ավելացումները նշված են դրական նշանով, իսկ նվազեցումները` փակագծերում)
A8: Ծրագիր | B8: Միջոցառում | D8: Տարի
C9: ԸՆԴԱՄԵՆԸ | D9: =D19+D39+D73+D89+D114+D144+D181+D205++D211+D226 -> 4001194.8
C10: այդ թվում
A11: Կապիտալ սուբվենցիաներ համայնքներին | D11: =D9 -> 4001194.8
A12: այդ թվում`
A13: ՀՀ տարածքային կառավարման և ենթակառուցվածքների նախարարություն | D13: =D9 -> 4001194.8
A14: այդ թվում`
A15: 1212 | B15: Տարածքային զարգացում | D15: =D9 -> 4001194.8
C16: այդ թվում`
B17: 12007 | C17: ՀՀ մարզերին սուբվենցիաների տրամադրում՝ ենթակառուցվածքների զարգացման նպատակով | D17: =+D19+D39+D73+D89+D114+D144+D181+D205+D211+D226 -> 4001194.8
C18: այդ թվում` ըստ կատարողների
C19: ՀՀ Արագածոտնի մարզպետարան | D19: =SUM(D21:D38) -> 231044.2
C20: այդ թվում` ըստ ուղղությունների
C21: Նոր Ամանոս համայնքում այլընտրանքային արևային ֆոտովոլտային կայանի տեղադրում | D21: 3418.4
C22: Եղնիկ համայնքի խմելաջրի ներքին ցանցի կապիտալ վերանորոգում | D22: 4979.4
C23: Վերին Սասնաշեն համայնքի խմելու ջրագծի մասնակի վերանորոգում | D23: 11122.2
C24: Իրինդ համայնքի 1-ին, 5-րդ, 6-րդ, 7-րդ, 8-րդ, 9-րդ, 15-րդ, 18-րդ, 22-րդ, 23-րդ, 24-րդ փողոցների և 6-րդ փողոցի 1-ին փակուղու գազիֆիկացման աշխատանքներ | D24: 3815.4
C25: Ալագյազ համայնքի Շենկանի բնակավայր տանող ճանապարհի ասֆալտապատում և Սադունց բնակավայրի փողոցի հիմնանորոգում/55/ | D25: 87115.7
C26: Արագածավան համայնքի Արագածավան և Արտենի բնակավայրերի գազիֆիկացում | D26: 19094.8
C27: Գառնահովիտ համայնքում համայնքային շենքի կառուցում | D27: 6675
C28: Օշական համայնքի թիվ 2 խորքային հորի պոմպի և մղման խողովակաշարի վերականգնում | D28: 15832.2
C29: Ուջան համայնքին պատկանող շինությունների տանիքների վրա ֆոտովոլտային կայանքների տեղադրման աշխատանքներ, որից Ուջանի համայնքապետարանի շենքի տանիքին կառուցվող 10.01ԿՎտ դրվածքային հզորությամբ ԱՖԿ, մանկապարտեզի շենքի տանիքին կառուցվող 10.01կվտ դրվածքային հզորությամբ ԱՖԿ | D29: 5392.7
C30: Ուջան համայնքի 8 առանձնացված փողոցների գազամատակարարման աշխատանքների իրականացում | D30: 6886.8
C31: Սասունիկ համայնքի զոհված ազատամարտիկների պանթեոնի տարածքի ցանկապատի կառուցում | D31: 3323.5
C32: Ուջան համայնքի արոտավայրերի ջրարբիացման համակարգի և նոր ջրագծի կառուցում | D32: 30552.3
... C38: Ոսկեհատ համայնքի խորքային հորի վերականգնում | D38: 3942.2
C39: ՀՀ Արարատի մարզպետարան | D39: =SUM(D41:D72) -> 530951.7
C40: այդ թվում` ըստ ուղղությունների
C41: Արարատ համայնքիԿայարանային փ., Կայարանային նրբ., Գայի փ. հատված, Իսակով փ., իսահակյան փ. Հատված, Շ. Գրիգորյան փ, Սայաթ Նովա փ., օղակաձև փ., Արարատյան փ., Պ. Սևակ փ. հատված, հաղթանակի փ. հատված, Րաֆֆի փ. Հատված, Թևոսյան փ., Կոլխոզնիկների փ. հատված փողոցների ասֆատապատման աշխատանքներ | D41: 52444.4
C42: Այնթապ համայնքի փողոցների հիմնանորոգման և հարթեցման աշխատանքներ 4կմ | D42: 56159.4
C43: Հովտաշատ համայնք Հ. Բաղրամյան 57/1 հողամաս հասցեում պոլիկլինիկայի կառուցում | D43: 31370.5
C44: Վեդի քաղաքային համայնքի Արարատյան 36, 38, 40, 42, Գայի 5, 7, 9, և Կասյան 26/14, 26/15 ԲԲՇ-ների բակերի ասֆալտապատում և բարեկարգում | D44: 24205.5
C45: Արաքսավան համայնքի Նոր պոմպակայանի ու ոռոգման ցանցի կառուցում | D45: 10911.6
C46: Նորաբաց համայնքի Երևանյան փողոցի ասֆալտապատման աշխատանքներ | D46: 27243
...

Sheet 4
G1: Հավելված N4
G2: ՀՀ կառավարության 2021 թվականի
G3: ______________ ի N ___Ն որոշման
A5: ՀԱՅԱՍՏԱՆԻ ՀԱՆՐԱՊԵՏՈՒԹՅԱՆ ԿԱՌԱՎԱՐՈՒԹՅԱՆ 2020 ԹՎԱԿԱՆԻ ԴԵԿՏԵՄԲԵՐԻ 30-Ի N2215-Ն ՈՐՈՇՄԱՆ NN 3 և 4 ՀԱՎԵԼՎԱԾՆԵՐՈՒՄ ԿԱՏԱՐՎՈՂ ՓՈՓՈԽՈՒԹՅՈՒՆՆԵՐԸ ԵՎ ԼՐԱՑՈՒՄՆԵՐԸ
G6: հազար դրամ
A7: Գործառական դասիչը | D7: Ծրագրային դասիչը | F7: Բյուջետային հատկացումների գլխավոր կարգադրիչների, ծրագրերի, միջոցառումների և միջոցառումները կատարող պետական մարմինների անվանումները | G7: Ցուցանիշների փոփոխությունները (ավելացումները նշված են դրական նշանով իսկ նվազեցումները` փակագծերում)
A8: բաժին | B8: խումբ | C8: դաս | D8: Ծրագիր | E8: Միջոցառում | G8: տարի
A9: ԸՆԴԱՄԵՆԸ ԾԱԽՍԵՐ | G9: =+G10+G92 -> 0
A10: 01 | F10: ԸՆԴՀԱՆՈՒՐ ԲՆՈՒՅԹԻ ՀԱՆՐԱՅԻՆ ԾԱՌԱՅՈՒԹՅՈՒՆՆԵՐ | G10: =G29+G36+G43+G50+G57+G64+G22+G71+G78+G85 -> 4001194.8
F11: այդ թվում՝
B12: 08 | F12: Կառավարության տարբեր մակարդակների միջև իրականացվող ընդհանուր բնույթի տրանսֆերտներ | G12: =G10 -> 4001194.8
F13: այդ թվում՝
C14: 01 | F14: Կառավարության տարբեր մակարդակների միջև իրականացվող ընդհանուր բնույթի տրանսֆերտներ | G14: =G12 -> 4001194.8
F15: այդ թվում՝
F16: ՀՀ տարածքային կառավարման և ենթակառուցվածքների նախարարություն | G16: =G14 -> 4001194.8
F17: այդ թվում՝
D18: 1212 | F18: Տարածքային զարգացում | G18: ='1'!D26 -> 4001194.8
F19: այդ թվում`
E20: 12007 | F20: ՀՀ մարզերին սուբվենցիաների տրամադրում՛ ենթակառուցվածքների զարգացման նպատակով_x000D_ | G20: ='1'!D26 -> 4001194.8
F21: այդ թվում` ըստ կատարողների
F22: ՀՀ Արագածոտնի մարզպետարան | G22: ='3'!D19 -> 231044.2
F23: այդ թվում` բյուջետային ծախսերի տնտեսագիտական դասակարգման հոդվածներ
F24: ԸՆԴԱՄԵՆԸ ԾԱԽՍԵՐ | G24: =G22 -> 231044.2
F25: ԸՆԹԱՑԻԿ ԾԱԽՍԵՐ | G25: =G22 -> 231044.2
F26: ԴՐԱՄԱՇՆՈՐՀՆԵՐ | G26: =G22 -> 231044.2
F27: Կապիտալ դրամաշնորհներ պետական հատվածի այլ մակարդակներին | G27: =G22 -> 231044.2
F28: - Կապիտալ սուբվենցիաներ համայնքներին | G28: =G27 -> 231044.2
F29: ՀՀ Արարատի մարզպետարան | G29: ='3'!D39 -> 530951.7
F30: այդ թվում` բյուջետային ծախսերի տնտեսագիտական դասակարգման հոդվածներ
F31: ԸՆԴԱՄԵՆԸ ԾԱԽՍԵՐ | G31: =G29 -> 530951.7
F32: ԸՆԹԱՑԻԿ ԾԱԽՍԵՐ | G32: =G29 -> 530951.7
F33: ԴՐԱՄԱՇՆՈՐՀՆԵՐ | G33: =G29 -> 530951.7
F34: Կապիտալ դրամաշնորհներ պետական հատվածի այլ մակարդակներին | G34: =G29 -> 530951.7
F35: - Կապիտալ սուբվենցիաներ համայնքներին | G35: =G34 -> 530951.7
F36: ՀՀ Արմավիրի մարզպետարան | G36: ='3'!D73 -> 192484.1
F37: այդ թվում` բյուջետային ծախսերի տնտեսագիտական դասակարգման հոդվածներ
F38: ԸՆԴԱՄԵՆԸ ԾԱԽՍԵՐ | G38: =G36 -> 192484.1
F39: ԸՆԹԱՑԻԿ ԾԱԽՍԵՐ | G39: =G38 -> 192484.1
F40: ԴՐԱՄԱՇՆՈՐՀՆԵՐ | G40: =G39 -> 192484.1
F41: Կապիտալ դրամաշնորհներ պետական հատվածի այլ մակարդակներին | G41: =G40 -> 192484.1
...

Sheet 5
A1: Հավելված N5
A2: ՀՀ կառավարության 2021 թվականի
A3: ______________ ի ___Ն որոշման
A5: ՀԱՅԱՍՏԱՆԻ ՀԱՆՐԱՊԵՏՈՒԹՅԱՆ ԿԱՌԱՎԱՐՈՒԹՅԱՆ 2020 ԹՎԱԿԱՆԻ ԴԵԿՏԵՄԲԵՐԻ 30-Ի N 2215-Ն ՈՐՈՇՄԱՆ N 5 ՀԱՎԵԼՎԱԾԻ N 2 ԱՂՅՈՒՍԱԿՈՒՄ ԿԱՏԱՐՎՈՂ ՓՈՓՈԽՈՒԹՅՈՒՆՆԵՐԸ ԵՎ ԼՐԱՑՈՒՄՆԵՐԸ
D6: հազ. դրամ
A7: Ծրագրային դասիչ | C7: Բյուջետային գլխավոր կարգադրիչների, ծրագրերի, միջոցառումների և ուղղությունների անվանումները | D7: Ցուցանիշների փոփոխությունը (ավելացումները նշված են դրական նշանով, իսկ նվազեցումները` փակագծերում)
A8: Ծրագիր | B8: Միջոցառում | D8: Տարի
C9: ԸՆԴԱՄԵՆԸ | D9: =+D11 -> -4001194.8
C10: այդ թվում՝
C11: ՀՀ ՏԱՐԱԾՔԱՅԻՆ ԿԱՌԱՎԱՐՄԱՆ ԵՎ ԵՆԹԱԿԱՌՈՒՑՎԱԾՔՆԵՐԻ ՆԱԽԱՐԱՐՈՒԹՅՈՒՆ | D11: =+D13+D41+D46+D49 -> -4001194.8
C12: այդ թվում`
A13: 1049 | B13: 21001 | C13: Պետական նշանակության ավտոճանապարհների հիմնանորոգում | D13: =+D15 -> -5988772
C14: այդ թվում` ըստ կատարողների
C15: ՀՀ տարածքային կառավարման և ենթակառուցվածքների նախարարություն | D15: =+D17+D33+D38 -> -5988772
C16: այդ թվում՝ ըստ ուղղությունների
B17: 1 | C17: Միջպետական նշանակության ավտոճանապարհներ, այդ թվում | D17: =+D18+D22+D25+D27+D29+D31 -> -3705276.6
C18: Մ-2, Երևան-Երասխ-Գորիս-Մեղրի-Իրանի սահման միջպետական նշանակության ավտոճանապարհի, այդ թվում | D18: =+D19+D20+D21 -> -2307366.7
C19: կմ98+000 - կմ101+400 հատվածի հիմնանորոգում | D19: -600000
C20: կմ108+400 - կմ126+100 հատվածի հիմնանորոգում | D20: -763466.7
C21: կմ196+000- կմ202+200 հատվածի հիմնանորոգում | D21: -943900
C22: Մ-3, Թուրքիայի սահման-Մարգարա-Վանաձոր-Տաշիր-Վրաստանի սահման միջպետական նշանակության ավտոճանապարհի, այդ թվում | D22: =+D23+D24 -> -2563510.5
C23: կմ130+400-կմ135+354 հատվածի հիմնանորոգում | D23: 15829.2
C24: կմ154+000-կմ176+900 հատվածի հիմնանորոգում | D24: -2579339.7
C25: Մ-4, Երևան-Սևան-Իջևան-Ադրբեջանի սահման միջպետական նշանակության ավտոճանապարհի, այդ թվում | D25: =+D26 -> 867444.9
C26: կմ83+200-կմ91+176 հատվածի հիմնանորոգում | D26: 867444.9
C27: Մ-10, Սևան-Մարտունի-Գետափ միջպետական նշանակության ավտոճանապարհի, այդ թվում | D27: =+D28 -> 2890
C28: կմ57+450-կմ59+450 հատվածի մայթերի կառուցում | D28: 2890
C29: Մ-11, Մարտունի - Վարդենիս - ԼՂՀ սահման միջպետական նշանակության ավտոճանապարհի, այդ թվում | D29: =+D30 -> 198731.1
C30: կմ0+000-կմ5+900 հատվածի հիմնանորոգում | D30: 198731.1
C31: Մ-13, /Մ-2/ - Անգեղակոթ - Նախիջևանի սահման միջպետական նշանակության ավտոճանապարհի, այդ թվում | D31: =+D32 -> 96534.6
C32: կմ0+000-կմ8+000 հատվածի հիմնանորոգում | D32: 96534.6
B33: 2 | C33: Հանրապետական նշանակության ավտոճանապարհների հիմնանորոգում, այդ թվում | D33: =+D34+D35+D36+D37 -> -2337866.2
C34: Հ-3, Երևան (Ջրաշխարհ, Մ-4-ի հետ հատման տեղ) - Գառնի -Գեղարդի վանք հանրապետական նշանակության ավտոճանապարհի կմ27+500-կմ33+500 հատվածի հիմնանորոգում | D34: -232773
C35: Հ-45, /Մ-2/-Շաքի-Սիսան-Դաստակերտ-Ցողունի հանրապետական նշանակության ավտոճանապարհի կմ14+590-կմ25+900 հատվածի հիմնանորոգում | D35: -1082199.5
C36: Հ-46, /Մ-2/-Տաթև-Աղվանի-/Մ-2/(Սյունիք) հանրապետական նշանակության ավտոճանապարհի կմ37+500-կմ55+000 հատվածի հիմնանորոգում | D36: -961122.9
C37: Հ-46, /Մ-2/-Տաթև-Աղվանի-/Մ-2/(Սյունիք) հանրապետական նշանակության ավտոճանապարհի կմ55+000-կմ68+000 հատվածի հիմնանորոգում | D37: -61770.8
B38: 3 | C38: Մարզային նշանակության ավտոճանապարհներ, այդ թվում | D38: =+D39+D40 -> 54370.8
C39: Իջևան քաղաքի Սարիբեկ-Օհանյան փողոցի կմ0+000-կմ1+145 հատվածի հիմնանորոգում | D39: 14400
C40: Արթիկ համայնքի Սպանդարյան փողոցի ասֆալտապատում | D40: 39970.8
A41: 1049 | B41: 21002 | C41: Տրանսպորտային օբյեկտների հիմնանորոգում, այդ թվում | D41: =+D45 -> 26657
...

Sheet 6
B1: Հավելված 6
B2: ՀՀ կառավարության 2021 թվականի
B3: ______________ ի ___Ն որոշման
A5: ՀԱՅԱՍՏԱՆԻ ՀԱՆՐԱՊԵՏՈՒԹՅԱՆ ԿԱՌԱՎԱՐՈՒԹՅԱՆ 2020 ԹՎԱԿԱՆԻ ԴԵԿՏԵՄԲԵՐԻ 30-Ի ԹԻՎ 2215-Ն ՈՐՈՇՄԱՆ N9 ՀԱՎԵԼՎԱԾԻ 9.8 ԱՂՅՈՒՍԱԿՈՒՄ ԿԱՏԱՐՎՈՂ ՓՈՓՈԽՈՒԹՅՈՒՆՆԵՐԸ
A7: =+'[3]4'!C11 -> ՀՀ տարածքային կառավարման և ենթակառուցվածքների նախարարություն
A9: ՄԱՍ 2. ՊԵՏԱԿԱՆ ՄԱՐՄՆԻ ԳԾՈՎ ԱՐԴՅՈՒՆՔԱՅԻՆ (ԿԱՏԱՐՈՂԱԿԱՆ) ՑՈՒՑԱՆԻՇՆԵՐԸ
A12: Ծրագրի դասիչը | B12: Ծրագրի անվանումը
A13: =+'[3]4'!A13 -> 1212 | B13: =+'[3]1'!C12 -> Տարածքային զարգացում
A15: Ծրագրի միջոցառումները
A17: Ծրագրի դասիչը` | B17: 1212 | C17: Ցուցանիշների փոփոխությունները (ավելացումները նշված են դրական նշանով)
A18: Միջոցառման դասիչը` | B18: 12007 | C18: Տարի
A19: Միջոցառման անվանումը` | B19: ՀՀ մարզերին սուբվենցիաների տրամադրում` ենթակառուցվածքների զարգացման նպատակով_x000D_
A20: Նկարագրությունը` | B20: ՀՀ մարզերին սուբվենցիաների տրամադրում` ենթակառուցվածքների զարգացման նպատակով
A21: Միջոցառման տեսակը` | B21: Տրանսֆերտների տրամադրում
A22: Միջոցառումն իրականացնողի անվանումը | B22: ՀՀ համայնքներ
A23: Արդյունքի չափորոշիչներ
A24: ՀՀ համայնքների թիվ, հատ | C24: 148
A25: Միջոցառման վրա կատարվող ծախսը (հազար դրամ) | C25: =+'3'!D15 -> 4001194.8
A28: Ծրագրի դասիչը | B28: Ծրագրի անվանումը
A29: 1049 | B29: Ճանապարհային ցանցի բարելավում
A31: Ծրագրի միջոցառումները
A33: Ծրագրի դասիչը` | B33: 1049 | C33: Ցուցանիշների փոփոխությունը (նվազեցումները նշված են փակագծերում)
A34: Միջոցառման դասիչը` | B34: 21001 | C34: Տարի
A35: Միջոցառման անվանումը` | B35: Պետական նշանակության ավտոճանապարհների հիմնանորոգում
A36: Նկարագրությունը` | B36: Միջպետական՝ հանրապետական և մարզային նշանակության ավտոճանապարհների քայքայված ծածկի վերանորոգում՝ մաշված ծածկի փոխարինում
A37: Միջոցառման տեսակը` | B37: Հանրության կողմից անմիջականորեն օգտագործվող ակտիվների հետ կապված միջոցառումներ
A38: Արդյունքի չափորոշիչներ
A39: Հիմնանորոգվող ավտոճանապարհների երկարությունը/կիլոմետր/ այդ թվում՛ | C39: =+C40+C41+C42 -> -36.296
A40: Միջպետական նշանակության ավտոճանապարհներ | C40: =-21.5+0.154+7.96+1 -> -12.386
A41: Հանրապետական նշանակության ավտոճանապարհներ | C41: -12.31
A42: Մարզային նշանակության ավտոճանապարհներ | C42: -11.6
A43: Միջոցառման վրա կատարվող ծախսը (հազար դրամ) | C43: =-C25 -> -4001194.8
A46: Ծրագրի դասիչը` | B46: 1049 | C46: Ցուցանիշների փոփոխությունները (ավելացումները նշված են դրական նշանով)
A47: Միջոցառման դասիչը` | B47: 21002 | C47: Տարի
A48: Միջոցառման անվանումը` | B48: Տրանսպորտային օբյեկտների հիմնանորոգում
A49: Նկարագրությունը` | B49: Ավտոմոբիլային ճանապարհների վրա գտնվող կամուրջների հիմնանորոգում
A50: Միջոցառման տեսակը` | B50: Հանրության կողմից անմիջականորեն օգտագործվող ակտիվների հետ կապված միջոցառումներ
A51: Արդյունքի չափորոշիչներ
A52: Հիմնանորոգվող տրանսպորտային օբյեկտների թիվը, այդ թվում՛
A53: Կամուրջներ | C53: 1
...

Sheet 7
C1: Հավելված N 7
C2: ՀՀ կառավարության 2021 թվականի
C3: -------------- ի N ---- -Ն որոշման
A6: ՀԱՅԱՍՏԱՆԻ ՀԱՆՐԱՊԵՏՈՒԹՅԱՆ ԿԱՌԱՎԱՐՈՒԹՅԱՆ 2020 ԹՎԱԿԱՆԻ ԴԵԿՏԵՄԲԵՐԻ 30-Ի N 2215-Ն ՈՐՈՇՄԱՆ N 9.1 ՀԱՎԵԼՎԱԾԻ N 9.1.8 ԱՂՅՈՒՍԱԿՈՒՄ ԿԱՏԱՐՎՈՂ ՓՈՓՈԽՈՒԹՅՈՒՆԸ
A8: ՀՀ ՏԱՐԱԾՔԱՅԻՆ ԿԱՌԱՎԱՐՄԱՆ ԵՎ ԵՆԹԱԿԱՌՈՒՑՎԱԾՔՆԵՐԻ ՆԱԽԱՐԱՐՈՒԹՅՈՒՆ
A9: ՄԱՍ 1. ՊԵՏԱԿԱՆ ՄԱՐՄՆԻ ԳԾՈՎ ԱՐԴՅՈՒՆՔԱՅԻՆ (ԿԱՏԱՐՈՂԱԿԱՆ) ՑՈՒՑԱՆԻՇՆԵՐԸ
A10: Ծրագրի դասիչը | B10: Ծրագրի անվանումը
A11: 1049 | B11: Ճանապարհային ցանցի բարելավում
A13: Ծրագրի միջոցառումները
A15: Ծրագրի դասիչը` | B15: 1049 | C15: Ցուցանիշների փոփոխությունը (նվազեցումները նշված են փակագծերում)
A16: Միջոցառման դասիչը` | B16: 21001 | C16: Տարի
A17: Միջոցառման անվանումը` | B17: Պետական նշանակության ավտոճանապարհների հիմնանորոգում
A18: Նկարագրությունը` | B18: Միջպետական՝ հանրապետական և մարզային նշանակության ավտոճանապարհների քայքայված ծածկի վերանորոգում՝ մաշված ծածկի փոխարինում_x000D_
A19: Միջոցառման տեսակը` | B19: Հանրության կողմից անմիջականորեն օգտագործվող ակտիվների հետ կապված միջոցառումներ
A20: Արդյունքի չափորոշիչներ
A21: Հիմնանորոգվող ավտոճանապարհների երկարությունը/կիլոմետր/ այդ թվում՛ | C21: =+C22+C23+C24 -> -36.296
A22: Միջպետական նշանակության ավտոճանապարհներ | C22: =-21.5+0.154+7.96+1 -> -12.386
A23: Հանրապետական նշանակության ավտոճանապարհներ | C23: -12.31
A24: Մարզային նշանակության ավտոճանապարհներ | C24: -11.6
A25: Միջոցառման վրա կատարվող ծախսը (հազար դրամ) | C25: =+'5'!D15 -> -5988772
A28: Ծրագրի դասիչը` | B28: 1049 | C28: Ցուցանիշների փոփոխությունները (ավելացումները նշված են դրական նշանով)
A29: Միջոցառման դասիչը` | B29: 21002 | C29: Տարի
A30: Միջոցառման անվանումը` | B30: Տրանսպորտային օբյեկտների հիմնանորոգում
A31: Նկարագրությունը` | B31: Ավտոմոբիլային ճանապարհների վրա գտնվող կամուրջների հիմնանորոգում
A32: Միջոցառման տեսակը` | B32: Հանրության կողմից անմիջականորեն օգտագործվող ակտիվների հետ կապված միջոցառումներ
A33: Արդյունքի չափորոշիչներ
A34: Հիմնանորոգվող տրանսպորտային օբյեկտների թիվը, այդ թվում՛
A35: Կամուրջներ | C35: 1
A36: Կամուրջներ (մ) | C36: 48
A37: Աշխատանքների ավարտվածության աստիճան, % | C37: 23
A38: Միջոցառման վրա կատարվող ծախսը (հազար դրամ) | C38: =+'2'!F40 -> 26657
A40: ՀԱՅԱՍՏԱՆԻ ՀԱՆՐԱՊԵՏՈՒԹՅԱՆ ԿԱՌԱՎԱՐՈՒԹՅԱՆ 2020 ԹՎԱԿԱՆԻ ԴԵԿՏԵՄԲԵՐԻ 30-Ի № 2215-Ն ՈՐՈՇՄԱՆ № 9.1 ՀԱՎԵԼՎԱԾԻ № 9.1.48 ԱՂՅՈՒՍԱԿՈՒՄ ԿԱՏԱՐՎՈՂ ՓՈՓՈԽՈՒԹՅՈՒՆՆԵՐԸ ԵՎ ԼՐԱՑՈՒՄՆԵՐԸ
A41: ՀՀ Արագածոտնի մարզպետարան
A43: ՄԱՍ 1. ՊԵՏԱԿԱՆ ՄԱՐՄՆԻ ԳԾՈՎ ԱՐԴՅՈՒՆՔԱՅԻՆ (ԿԱՏԱՐՈՂԱԿԱՆ) ՑՈՒՑԱՆԻՇՆԵՐԸ
A44: Ծրագրի դասիչը | B44: Ծրագրի անվանումը
A45: 1212 | B45: Տարածքային զարգացում
A47: Ծրագրի միջոցառումները
A48: Ծրագրի դասիչը` | B48: 1212 | C48: Ցուցանիշների փոփոխությունները (ավելացումները նշված են դրական նշանով)
A49: Միջոցառման դասիչը` | B49: 12007 | C49: Տարի
A50: Միջոցառման անվանումը` | B50: ՀՀ մարզերին սուբվենցիաների տրամադրում` ենթակառուցվածքների զարգացման նպատակով_x000D_
...

Sheet 8
A1: Հավելված N8
A2: ՀՀ կառավարության 2021 թվականի
A3: ______________ ի N___Ն որոշման
A5: ՀԱՅԱՍՏԱՆԻ ՀԱՆՐԱՊԵՏՈՒԹՅԱՆ ԿԱՌԱՎԱՐՈՒԹՅԱՆ 2020 ԹՎԱԿԱՆԻ ԴԵԿՏԵՄԲԵՐԻ 30-Ի N 2215-Ն ՈՐՈՇՄԱՆ N 10 ՀԱՎԵԼՎԱԾՈՒՄ ԿԱՏԱՐՎՈՂ ՓՈՓՈԽՈՒԹՅՈՒՆՆԵՐԸ
A6: Կոդը | B6: Անվանումը | C6: Գնման ձևը | D6: Չափման միավորը | E6: Միավորի գինը | F6: Ցուցանիշների փոփոխությունը (նվազեցումները նշված են փակագծերում)
F7: Քանակը | G7: Գումարը (հազար դրամով)
A8: ՀՀ տարածքային կառավարման և ենթակառուցվածքների նախարարություն | G8: =+G9 -> -5962115.3
A9: Բաժին N 04 | B9: Խումբ N 05 | C9: Դաս N 01 | D9: Ճանապարհային տրանսպորտ | G9: =+G10+G32 -> -5962115.3
A10: 1049 21001 | B10: Պետական նշանակության ավտոճանապարհների հիմնանորոգում | G10: =+G11+G27 -> -5988772.4
A11: ՄԱՍ II. ԱՇԽԱՏԱՆՔՆԵՐ | G11: =SUM(G12:G26) -> -6006640
A12: 45231177/556 | B12: ճանապարհների վերանորոգման աշխատանքներ | C12: ՀԲՄ | D12: դրամ | F12: 1 | G12: -600000
A13: 45231177/540 | B13: ճանապարհների վերանորոգման աշխատանքներ | C13: ՀԲՄ | D13: դրամ | F13: 1 | G13: -763466.76
A14: 45231177/557 | B14: ճանապարհների վերանորոգման աշխատանքներ | C14: ՀԲՄ | D14: դրամ | F14: 1 | G14: -943900
A15: 45231177/554 | B15: ճանապարհների վերանորոգման աշխատանքներ | C15: ՀԲՄ | D15: դրամ | F15: 1 | G15: 15829.139
A16: 45231177/566 | B16: ճանապարհների վերանորոգման աշխատանքներ | C16: ՀԲՄ | D16: դրամ | F16: 1 | G16: -2579339.7
A17: 45231177/574 | B17: ճանապարհների վերանորոգման աշխատանքներ | C17: ՀԲՄ | D17: դրամ | E17: 853800517 | F17: 1 | G17: =+F17*E17/1000 -> 853800.52
A18: 45231177/584 | B18: ճանապարհների վերանորոգման աշխատանքներ | C18: ՀԲՄ | D18: դրամ | F18: 1 | G18: 2889.919
A19: 45231177/538 | B19: ճանապարհների վերանորոգման աշխատանքներ | C19: ՀԲՄ | D19: դրամ | E19: 195902899 | F19: 1 | G19: =+F19*E19/1000 -> 195902.9
A20: 45231177/577 | B20: ճանապարհների վերանորոգման աշխատանքներ | C20: ՀԲՄ | D20: դրամ | E20: 95568804 | F20: 1 | G20: =+F20*E20/1000 -> 95568.804
A21: 45231177/504 | B21: ճանապարհների վերանորոգման աշխատանքներ | C21: ՀԲՄ | D21: դրամ | F21: 1 | G21: -232773.01
A22: 45231177/553 | B22: ճանապարհների վերանորոգման աշխատանքներ | C22: ՀԲՄ | D22: դրամ | F22: 1 | G22: -1082199.5
A23: 45231177/59 | B23: ճանապարհների վերանորոգման աշխատանքներ | C23: ՀՄԱ | D23: դրամ | F23: 1 | G23: -961122.94
A24: 45231177/60 | B24: ճանապարհների վերանորոգման աշխատանքներ | C24: ՀՄԱ | D24: դրամ | F24: 1 | G24: -61770.898
A25: 45231177/544 | B25: ճանապարհների վերանորոգման աշխատանքներ | C25: ՀԲՄ | D25: դրամ | F25: 1 | G25: 14400
A26: 45231177/572 | B26: ճանապարհների վերանորոգման աշխատանքներ | C26: ՀԲՄ | D26: դրամ | E26: 39541536 | F26: 1 | G26: =+F26*E26/1000 -> 39541.536
A27: ՄԱՍ III. ԾԱՌԱՅՈՒԹՅՈՒՆՆԵՐ | G27: =SUM(G28:G31) -> 17867.637
A28: 71351540/533 | B28: տեխնիկական հսկողության ծառայություններ | C28: ՀԲՄ | D28: դրամ | E28: 13644315 | F28: 1 | G28: =+F28*E28/1000 -> 13644.315
A29: 71351540/528 | B29: տեխնիկական հսկողության ծառայություններ | C29: ՀԲՄ | D29: դրամ | E29: 2828170 | F29: 1 | G29: =+F29*E29/1000 -> 2828.17
A30: 71351540/533 | B30: տեխնիկական հսկողության ծառայություններ | C30: ՀԲՄ | D30: դրամ | E30: 965792 | F30: 1 | G30: =+F30*E30/1000 -> 965.792
A31: 71351540/533 | B31: տեխնիկական հսկողության ծառայություններ | C31: ՀԲՄ | D31: դրամ | E31: 429360 | F31: 1 | G31: =+F31*E31/1000 -> 429.36
A32: 1049 21002 | B32: Տրանսպորտային օբյեկտների հիմնանորոգում | G32: =+G34+G35+G36+G37 -> 26657.056
A33: ՄԱՍ II. ԱՇԽԱՏԱՆՔՆԵՐ
A34: 45231177/502 | B34: կամուրջների վերանորոգման շինարարական աշխատանքներեր | C34: ՀԲՄ | D34: դրամ | E34: 26094016 | F34: 1 | G34: =+F34*E34/1000 -> 26094.016
A35: ՄԱՍ III. ԾԱՌԱՅՈՒԹՅՈՒՆՆԵՐ
A36: 98111140 | B36: հեղինակային հսկողության ծառայություններ | C36: ՄԱ | D36: դրամ | E36: 160900 | F36: 1 | G36: =+F36*E36/1000 -> 160.9
A37: 71351540/546 | B37: տեխնիկական հսկողության ծառայություններ | C37: ՀԲՄ | D37: դրամ | E37: 402140 | F37: 1 | G37: =+F37*E37/1000 -> 402.14
