Workbook
Name _tab10: #REF!
Name _tab10: #REF!
Name _tab10: #REF!
Name _tab10: #REF!
Name _tab11: #REF!
Name _tab11: #REF!
Name _tab11: #REF!
Name _tab11: #REF!
Name _tab12: #REF!
Name _tab12: #REF!
Name _tab12: #REF!
Name _tab12: #REF!
Name _tab13: #REF!
Name _tab13: #REF!
Name _tab13: #REF!
Name _tab13: #REF!
Name _tab14: #REF!
Name _tab14: #REF!
Name _tab14: #REF!
Name _tab14: #REF!
Name _tab15: #REF!
Name _tab15: #REF!
Name _tab15: #REF!
Name _tab15: #REF!
Name _tab16: #REF!
Name _tab16: #REF!
Name _tab16: #REF!
Name _tab16: #REF!
Name _tab17: #REF!
Name _tab17: #REF!
Name _tab17: #REF!
Name _tab17: #REF!
Name _tab18: #REF!
Name _tab18: #REF!
Name _tab18: #REF!
Name _tab18: #REF!
Name _tab19: #REF!
Name _tab19: #REF!
Name _tab19: #REF!
Name _tab19: #REF!
Name _tab20: #REF!
Name _tab20: #REF!
Name _tab20: #REF!
Name _tab20: #REF!
Name _tab21: #REF!
Name _tab21: #REF!
Name _tab21: #REF!
Name _tab21: #REF!
Name _tab22: #REF!
Name _tab22: #REF!
Name _tab22: #REF!
Name _tab22: #REF!
Name _tab23: #REF!
Name _tab23: #REF!
Name _tab23: #REF!
Name _tab23: #REF!
Name _tab24: #REF!
Name _tab24: #REF!
Name _tab24: #REF!
Name _tab24: #REF!

Sheet 1
D1: Հավելված N 1
D2: ՀՀ կառավարության 2021 թվականի
D3: ___________ ___-ի N _______ -Ն որոշման
A7: «ՀԱՅԱՍՏԱՆԻ ՀԱՆՐԱՊԵՏՈՒԹՅԱՆ 2021 ԹՎԱԿԱՆԻ ՊԵՏԱԿԱՆ ԲՅՈՒՋԵԻ ՄԱՍԻՆ» ՀԱՅԱՍՏԱՆԻ ՀԱՆՐԱՊԵՏՈՒԹՅԱՆ ՕՐԵՆՔԻ N 1 ՀԱՎԵԼՎԱԾԻ N 2 ԱՂՅՈՒՍԱԿՈՒՄ ԿԱՏԱՐՎՈՂ ՎԵՐԱԲԱՇԽՈՒՄ ԵՎ ՀԱՅԱՍՏԱՆԻ ՀԱՆՐԱՊԵՏՈՒԹՅԱՆ ԿԱՌԱՎԱՐՈՒԹՅԱՆ 2020 ԹՎԱԿԱՆԻ ԴԵԿՏԵՄԲԵՐԻ 30-Ի N 2215-Ն ՈՐՈՇՄԱՆ N 5 ՀԱՎԵԼՎԱԾԻ N 1 ԱՂՅՈՒՍԱԿՈՒՄ ԿԱՏԱՐՎՈՂ ՓՈՓՈԽՈՒԹՅՈՒՆՆԵՐԸ
D8: (հազ.դրամ)
A9: Ծրագրային դասիչը | C9: Բյուջետային հատկացումների գլխավոր կարգադրիչների, ծրագրերի և միջոցառումների անվանումները | D9: Ցուցանիշների փոփոխությունը (ավելացումները նշված են դրական նշանով, իսկ նվազեցումները՝ փակագծերում)
D10: Տարի
A11: Ծրագիր | B11: Միջոցառում
C12: Ընդամենը | D12: =D13 -> 9.9993777e-06
C13: ՀՀ պաշտպանության նախարարություն | D13: =+D15+D39+D69 -> 9.9993777e-06
C14: Ծրագրի անվանումը՝
A15: 1169 | C15: ՀՀ պաշտպանության ապահովում | D15: =D21+D33+D27 -> 1247084.5
C16: Ծրագրի նպատակը՝
C17: ՀՀ ԶՈւ ռազմավարական ծավալումն ապահովող մարտական պատրաստականության պահպանում՝ արտաքին թշնամուց ՀՀ պետական սահմանների պաշտպանության ապահովում
C18: Վերջնական արդյունքի նկարագրությունը՝
C19: ՀՀ ԶՈւ ռազմավարական ծավալումն ապահովող մարտական պատրաստականության պահպանում
A20: Ծրագրի միջոցառումներ
B21: 11001 | C21: Միջոցառման անվանումը՝ | D21: =+'3'!G22 -> -1331786.1
C22: Ռազմական կարիքների բավարարում
C23: Միջոցառման նկարագրությունը՝
C24: Ընթացիկ գործունեության ապահովման գործողություններ
C25: Միջոցառման տեսակը
C26: Ծառայությունների մատուցում
B27: 11003 | C27: Միջոցառման անվանումը՝ | D27: =+'3'!G49 -> -111974.1
C28: Ռազմական նշանակության համակարգերի պահպանում
C29: Միջոցառման նկարագրությունը՝
C30: ՀՀ տարածքում ռազմական նշանակության համակարգի պահպանում
C31: Միջոցառման տեսակը
C32: Ծառայությունների մատուցում
B33: 31001 | C33: Միջոցառման անվանումը՝ | D33: =+'3'!G59 -> 2690844.7
C34: ՀՀ պաշտպանության նախարարության շենքային պայմանների բարելավում
C35: Միջոցառման նկարագրությունը՝
C36: Պաշտպանության կարիքների համար բնակելի, գրասենյակային և այլ նշանակության շենքերի և շինությունների կառուցում
C37: Միջոցառման տեսակը
C38: Պետական մարմինների կողմից օգտագործվող ոչ ֆինանսական ակտիվների հետ գործառնություններ
A39: 1204 | C39: Ռազմաբժշկական սպասարկում և առողջապահական ծառայություններ | D39: =D45+D63+D51+D57 -> -724131.53
C40: Ծրագրի նպատակը՝
C41: Զինծառայողների, ինչպես նաև նրանց ընտանիքների անդամների առողջության պահպանում, որակյալ բժշկական ծառայություններով ապահովում
C42: Վերջնական արդյունքի նկարագրությունը՝
C43: Ծառայողական պարտականությունների արդյունավետ կատարմանը խոչընդոտող հիվանդությունների կանխարգելում և առողջական խնդիրների լուծում
...

Sheet 2
H1: Հավելված N 2
H2: ՀՀ կառավարության 2021 թվականի
H3: ___________ ___-ի N _______ -Ն որոշման
A5: «ՀԱՅԱՍՏԱՆԻ ՀԱՆՐԱՊԵՏՈՒԹՅԱՆ 2021 ԹՎԱԿԱՆԻ ՊԵՏԱԿԱՆ ԲՅՈՒՋԵԻ ՄԱՍԻՆ» ՀԱՅԱՍՏԱՆԻ ՀԱՆՐԱՊԵՏՈՒԹՅԱՆ ՕՐԵՆՔԻ N 1 ՀԱՎԵԼՎԱԾԻ N 3 ԱՂՅՈՒՍԱԿՈՒՄ ԿԱՏԱՐՎՈՂ ՓՈՓՈԽՈՒԹՅՈՒՆՆԵՐԸ
G6: (հազ.դրամ)
A7: Ծրագրային դասիչ | C7: Բյուջետային գլխավոր կարգադրիչների, ծրագրերի, միջոցառումների և ուղղությունների անվանումները | D7: Ցուցանիշների փոփոխությունը (ավելացումները նշված են դրական նշանով, իսկ նվազեցումները՝ փակագծերում)
D8: Ընդամենը, | E8: այդ թվում՝
A9: Ծրագիր | B9: Միջոցառում | E9: Կառուցման աշխատանքներ | F9: Վերակառուցման, վերանորոգման և վերականգնման աշխատանքներ | G9: Նախագծահե- տազոտական, գեոդեզիա- քարտեզագրա- կան աշխա- տանքներ | H9: Ոչ ֆինանսական այլ ակտիվների ձեռքբերում
C10: ԸՆԴԱՄԵՆԸ | D10: =+D12 -> 2492322.7 | E10: =+E12 -> 2690844.7 | H10: =+H12 -> -198522
C11: այդ թվում՝
C12: ՀՀ ՊԱՇՏՊԱՆՈՒԹՅԱՆ ՆԱԽԱՐԱՐՈՒԹՅՈՒՆ | D12: =+D14+D15 -> 2492322.7 | E12: =+E14+E15 -> 2690844.7 | H12: =+H14+H15 -> -198522
C13: այդ թվում`
A14: 1169 | B14: 31001 | C14: ՀՀ պաշտպանության նախարարության շենքային պայմաններ բարելավում | D14: =SUM(E14:H14) -> 2690844.7 | E14: =+'3'!G59 -> 2690844.7
A15: 1204 | B15: 31001 | C15: Հոսպիտալների և բուժկետերի բժշկական սարքավորումներով համալրում | D15: =SUM(E15:H15) -> -198522 | H15: =+'3'!G94 -> -198522

Sheet 3
G1: Հավելված N 3
F2: ՀՀ կառավարության 2021 թվականի
F3: ___________ ___-ի N _______ -Ն որոշման
A7: ՀԱՅԱՍՏԱՆԻ ՀԱՆՐԱՊԵՏՈՒԹՅԱՆ ԿԱՌԱՎԱՐՈՒԹՅԱՆ 2020 ԹՎԱԿԱՆԻ ԴԵԿՏԵՄԲԵՐԻ 30-Ի N 2215-Ն ՈՐՈՇՄԱՆ N 3 և 4 ՀԱՎԵԼՎԱԾՆԵՐՈՒՄ ԿԱՏԱՐՎՈՂ ՓՈՓՈԽՈՒԹՅՈՒՆՆԵՐԸ
G8: (հազ.դրամ)
A10: Գործառական դասիչը | D10: Ծրագրային դասիչը | F10: Բյուջետային ծախսերի գործառական դասակարգման բաժինների, խմբերի և դասերի, բյուջետային ծրագրերի միջոցառումների, բյուջետային հատկացումների գլխավոր կարգադրիչների անվանումները | G10: Ցուցանիշների փոփոխությունը (ավելացումները նշված են դրական նշանով, իսկ նվազեցումները՝ փակագծերում)
G11: Տարի
A12: Բաժին | B12: Խումբ | C12: Դաս | D12: Ծրագիր | E12: Միջոցառում
F13: ԸՆԴԱՄԵՆԸ ԾԱԽՍԵՐ այդ թվում՝ | G13: =G14+G73+G136 -> 9.9993777e-06
A14: 02 | F14: ՊԱՇՏՊԱՆՈՒԹՅՈՒՆ | G14: =+G16 -> 1247084.5
F15: այդ թվում`
B16: 01 | F16: Ռազմական պաշտպանություն | G16: =+G18 -> 1247084.5
F17: այդ թվում`
C18: 01 | F18: Ռազմական պաշտպանություն | G18: =+G20 -> 1247084.5
F19: այդ թվում`
F20: ՀՀ պաշտպանության նախարարություն | G20: =+G21 -> 1247084.5
D21: 1169 | F21: ՀՀ պաշտպանության ապահովում | G21: =+G22+G59+G49 -> 1247084.5
E22: 11001 | F22: Ռազմական կարիքների բավարարում | G22: =+G24 -> -1331786.1
F23: այդ թվում` ըստ կատարողների
F24: ՀՀ պաշտպանության նախարարություն | G24: =+G26 -> -1331786.1
F25: այդ թվում` բյուջետային ծախսերի տնտեսագիտական դասակարգման հոդվածներ
F26: ԸՆԴԱՄԵՆԸ ԾԱԽՍԵՐ | G26: =+G27 -> -1331786.1
F27: ԸՆԹԱՑԻԿ ԾԱԽՍԵՐ | G27: =+G28+G46 -> -1331786.1
F28: ԾԱՌԱՅՈՒԹՅՈՒՆՆԵՐԻ ԵՎ ԱՊՐԱՆՔՆԵՐԻ ՁԵՌՔ ԲԵՐՈՒՄ | G28: =G29+G36+G40+G32+G38 -> -520236.8
F29: ՇԱՐՈՒՆԱԿԱԿԱՆ ԾԱԽՍԵՐ | G29: =G31+G30 -> -72137
F30: - Էներգետիկ ծառայություններ | G30: -68000
F31: - Ապահովագրական ծախսեր | G31: -4137
F32: ՊԱՅՄԱՆԱԳՐԱՅԻՆ ԾԱՌԱՅՈՒԹՅՈՒՆՆԵՐԻ ՁԵՌՔ ԲԵՐՈՒՄ | G32: =G33+G35+G34 -> -64245.865
F33: - Տեղեկատվական ծառայություններ | G33: -2574.52
F34: - Ներկայացուցչական ծախսեր | G34: -870.25
F35: - Ընդհանուր բնույթի այլ ծառայություններ | G35: -60801.095
F36: ԱՅԼ ՄԱՍՆԱԳԻՏԱԿԱՆ ԾԱՌԱՅՈՒԹՈՒՆՆԵՐԻ ՁԵՌՔ ԲԵՐՈՒՄ | G36: =G37 -> -900
F37: - Մասնագիտական ծառայություններ | G37: -900
F38: ԸՆԹԱՑԻԿ ՆՈՐՈԳՈՒՄ ԵՎ ՊԱՀՊԱՆՈՒՄ (ԾԱՌԱՅՈՒԹՅՈՒՆՆԵՐ ԵՎ ՆՅՈՒԹԵՐ) | G38: =G39 -> -11378.328
F39: - Մեքենաների և սարքավորումների ընթացիկ նորոգում և պահպանում | G39: -11378.328
F40: ՆՅՈՒԹԵՐ | G40: =G41+G45+G43+G42+G44 -> -371575.61
F41: - Գրասենյակային նյութեր և հագուստ | G41: -18221.88
F42: - Գյուղատնտեսական ապրանքներ | G42: -1957.86
F43: - Տրանսպորտային նյութեր | G43: -254393.6
F44: - Կենցաղային և հանրային սննդի նյութեր | G44: -4657.4999
...

Sheet 4
A1: Հավելված N 4
A2: ՀՀ կառավարության 2021 թվականի
A3: ______________ ի ___Ն որոշման
A5: ՀԱՅԱՍՏԱՆԻ ՀԱՆՐԱՊԵՏՈՒԹՅԱՆ ԿԱՌԱՎԱՐՈՒԹՅԱՆ 2020 ԹՎԱԿԱՆԻ ԴԵԿՏԵՄԲԵՐԻ 30-Ի N 2215-Ն ՈՐՈՇՄԱՆ N 5 ՀԱՎԵԼՎԱԾԻ N 2 ԱՂՅՈՒՍԱԿՈՒՄ ԿԱՏԱՐՎՈՂ ՓՈՓՈԽՈՒԹՅՈՒՆՆԵՐԸ
D6: (հազ.դրամ)
A7: Ծրագրային դասիչ | C7: Բյուջետային գլխավոր կարգադրիչների, ծրագրերի, միջոցառումների և ուղղությունների անվանումները | D7: Ցուցանիշների փոփոխությունը (ավելացումները նշված են դրական նշանով, իսկ նվազեցումները՝ փակագծերում)
A8: Ծրագիր | B8: Միջոցառում | D8: Տարի
C10: ԸՆԴԱՄԵՆԸ | D10: =+D12 -> 2492322.7
C11: այդ թվում՝
C12: ՀՀ ՊԱՇՏՊԱՆՈՒԹՅԱՆ ՆԱԽԱՐԱՐՈՒԹՅՈՒՆ | D12: =+D14+D17 -> 2492322.7
C13: այդ թվում`
A14: 1169 | B14: 31001 | C14: ՀՀ պաշտպանության նախարարության շենքային պայմանների բարելավում | D14: =D16 -> 2690844.7
C15: այդ թվում` ըստ կատարողների
C16: ՀՀ պաշտպանության նախարարություն | D16: =+'2'!D14 -> 2690844.7
A17: 1204 | B17: 31001 | C17: Հոսպիտալների և բուժկետերի բժշկական սարքավորումներով համալրում | D17: =D19 -> -198522
C18: այդ թվում` ըստ կատարողների
C19: ՀՀ պաշտպանության նախարարություն | D19: =+'2'!D15 -> -198522

Sheet 5
C1: Հավելված N 5
B2: ՀՀ կառավարության 2021 թվականի
B3: ______________ ի ___Ն որոշման
A6: ՀԱՅԱՍՏԱՆԻ ՀԱՆՐԱՊԵՏՈՒԹՅԱՆ ԿԱՌԱՎԱՐՈՒԹՅԱՆ 2020 ԹՎԱԿԱՆԻ ԴԵԿՏԵՄԲԵՐԻ 30-Ի N 2215-Ն ՈՐՈՇՄԱՆ N 9 ՀԱՎԵԼՎԱԾԻ N 9.15 ԵՎ N 9.1 ՀԱՎԵԼՎԱԾԻ N 9.1.15 ԱՂՅՈՒՍԱԿՆԵՐՈՒՄ ԿԱՏԱՐՎՈՂ ՓՈՓՈԽՈՒԹՅՈՒՆՆԵՐ
A7: ՀՀ պաշտպանության նախարարություն
A9: Ծրագրի դասիչը | B9: Ծրագրի անվանումը
A10: 1169 | B10: ՀՀ պաշտպանության ապահովում
A12: Ծրագրի միջոցառումները
A14: Ծրագրի դասիչը` | B14: 1169 | C14: Ցուցանիշների փոփոխությունը (նվազեցումները նշված են փակագծերում)
A15: Միջոցառման դասիչը` | B15: 11001 | C15: Տարի
A16: Միջոցառման անվանումը` | B16: Ռազմական կարիքների բավարարում
A17: Նկարագրությունը` | B17: Ընթացիկ գործունեության ապահովման գործողություններ
A18: Միջոցառման տեսակը` | B18: Ծառայությունների մատուցում
A19: Միջոցառումն իրականացնողի անվանումը | B19: ՀՀ պաշտպանության նախարարություն
A20: Արդյունքի չափորոշիչներ
A22: Միջոցառման վրա կատարվող ծախսը (հազար դրամ) | C22: =+'3'!G22 -> -1331786.1
A24: Ծրագրի դասիչը` | B24: 1169 | C24: Ցուցանիշների փոփոխությունը (նվազեցումները նշված են փակագծերում)
A25: Միջոցառման դասիչը` | B25: 11003 | C25: Տարի
A26: Միջոցառման անվանումը` | B26: Ռազմական նշանակության համակարգերի պահպանում
A27: Նկարագրությունը` | B27: ՀՀ տարածքում ռազմական նշանակության համակարգի պահպանում
A28: Միջոցառման տեսակը` | B28: Ծառայությունների մատուցում
A29: Միջոցառումն իրականացնողի անվանումը | B29: ՀՀ պաշտպանության նախարարություն
A30: Արդյունքի չափորոշիչներ
A32: Միջոցառման վրա կատարվող ծախսը (հազար դրամ) | C32: =+'3'!G49 -> -111974.1
A34: Ծրագրի դասիչը` | B34: 1169 | C34: Ցուցանիշների փոփոխությունը (ավելացումները նշված են դրական նշանով)
A35: Միջոցառման դասիչը` | B35: 31001 | C35: Տարի
A36: Միջոցառման անվանումը` | B36: ՀՀ պաշտպանության նախարարության շենքային պայմանների բարելավում
A37: Նկարագրությունը` | B37: Պաշտպանության կարիքների համար բնակելի, գրասենյակային և այլ նշանակության շենքերի և շինությունների կառուցում
A38: Միջոցառման տեսակը` | B38: Պետական մարմինների կողմից օգտագործվող ոչ ֆինանսական ակտիվների հետ գործառնություններ
A39: Միջոցառումն իրականացնողի անվանումը | B39: ՀՀ պաշտպանության նախարարություն
A40: Արդյունքի չափորոշիչներ
A42: Միջոցառման վրա կատարվող ծախսը (հազար դրամ) | C42: =+'3'!G59 -> 2690844.7
A44: Ծրագրի դասիչը | B44: Ծրագրի անվանումը
A45: 1204 | B45: Ռազմաբժշկական սպասարկում և առողջապահական ծառայություններ
A47: Ծրագրի միջոցառումները
A49: Ծրագրի դասիչը` | B49: 1204 | C49: Ցուցանիշների փոփոխությունը (նվազեցումները նշված են փակագծերում)
A50: Միջոցառման դասիչը` | B50: 11001 | C50: Տարի
A51: Միջոցառման անվանումը` | B51: Զինծառայողներին, ինչպես նաև նրանց ընտանքիների անդամներին բժշկական օգնության ծառայություններ
A52: Նկարագրությունը` | B52: ՊՆ համակարգում վերականգնողական մասնագիտացված բուժօգնության գծով ծառայությունների տրամադրում
A53: Միջոցառման տեսակը` | B53: Ծառայությունների մատուցում
...

Sheet 6
G1: Հավելված N 6
G2: ՀՀ կառավարության 2021 թվականի
G3: ___________ ___-ի N _______ -Ն որոշման
A5: ՀԱՅԱՍՏԱՆԻ ՀԱՆՐԱՊԵՏՈՒԹՅԱՆ ԿԱՌԱՎԱՐՈՒԹՅԱՆ 2020 ԹՎԱԿԱՆԻ ԴԵԿՏԵՄԲԵՐԻ 30-Ի N 2215-Ն ՈՐՈՇՄԱՆ N 10 ՀԱՎԵԼՎԱԾՈՒՄ ԿԱՏԱՐՎՈՂ ՓՈՓՈԽՈՒԹՅՈՒՆՆԵՐԸ
A6: Կոդը | B6: Անվանումը | C6: Գնման ձևը | D6: Չափման միավորը | E6: Միավորի գինը | F6: Ցուցանիշների փոփոխությունը (նվազեցումները նշված են փակագծերում)
F7: քանակը | G7: գումարը (հազար դրամով)
B8: ՀՀ պաշտպանության նախարարություն | G8: =+G9+G389+G1302+G1319+G1323 -> -1497595.9
A9: Բաժին N02 | B9: Խումբ N01 Դաս N01 | C9: Ռազմական պաշտպանություն | G9: =+G10+G360 -> -773464.42
A10: 1169 11001 | B10: Ռազմական կարիքների բավարարում | G10: =+G11+G159 -> -520236.8
B11: ՄԱՍ I. ԱՊՐԱՆՔՆԵՐ | G11: =SUM(G12:G158) -> -371575.61
A12: 18111520/1 | B12: թթվադիմացկուն կոստյում | C12: ԳՀ | D12: լրակազմ | G12: -15.04
A13: 18211500/4 | B13: բաճկոն | C13: ԳՀ | D13: հատ | G13: -0.8
A14: 18211500/5 | B14: բաճկոն | C14: ԳՀ | D14: հատ | G14: -0.16
A15: 18231910/12 | B15: բաճկոն ― տաբատ | C15: ԳՀ | D15: լրակազմ | G15: -0.128
A16: 18231910/13 | B16: բաճկոն ― տաբատ | C16: ԳՀ | D16: լրակազմ | G16: -0.064
A17: 18231910/8 | B17: բաճկոն ― տաբատ | C17: ԳՀ | D17: լրակազմ | G17: -0.76
A18: 18231910/9 | B18: բաճկոն ― տաբատ | C18: ԳՀ | D18: լրակազմ | G18: -0.38
A19: 18331200/6 | B19: վերնաշապիկներ | C19: ԳՀ | D19: հատ | E19: 3700 | F19: -500 | G19: =+F19*E19/1000 -> -1850
A20: 18331300/10 | B20: պոլո շապիկներ | C20: ԳՀ | D20: հատ | G20: -1776
A21: 18331300/9 | B21: պոլո շապիկներ | C21: ԳՀ | D21: հատ | G21: -570
A22: 18411300/6 | B22: մարզական հագուստ | C22: ԳՀ | D22: հատ | E22: 20000 | F22: -20 | G22: =+F22*E22/1000 -> -400
A23: 18421130/4 | B23: ձեռնոցներ | C23: ԳՀ | D23: զույգ | E23: 4500 | F23: -1000 | G23: =+F23*E23/1000 -> -4500
A24: 18421400/4 | B24: օձիք | C24: ԳՀ | D24: հատ | G24: -3520
A25: 19221100/2 | B25: բրդե կտոր | C25: ՀՄԱ | D25: քմ | G25: -387.17536
A26: 30121460/58 | B26: տոներային քարտրիջներ | C26: ԳՀ | D26: հատ | G26: -139.5
A27: 30121460/59 | B27: տոներային քարտրիջներ | C27: ԳՀ | D27: հատ | G27: -152
A28: 30121460/60 | B28: տոներային քարտրիջներ | C28: ԳՀ | D28: հատ | G28: -71.04
A29: 30121460/61 | B29: տոներային քարտրիջներ | C29: ԳՀ | D29: հատ | G29: -40
A30: 30121460/62 | B30: տոներային քարտրիջներ | C30: ԳՀ | D30: հատ | G30: -91
A31: 30121460/63 | B31: տոներային քարտրիջներ | C31: ԳՀ | D31: հատ | G31: -442
A32: 30121460/64 | B32: տոներային քարտրիջներ | C32: ԳՀ | D32: հատ | G32: -180
A33: 30121470/17 | B33: տոներ լազերային տպիչների/հեռապատճենահանող մեքենաների համար | C33: ԳՀ | D33: կիլոգրամ | G33: -0.1
A34: 30121470/18 | B34: տոներ լազերային տպիչների/հեռապատճենահանող մեքենաների համար | C34: ԳՀ | D34: կիլոգրամ | G34: -22.1122
A35: 30121470/19 | B35: տոներ լազերային տպիչների/հեռապատճենահանող մեքենաների համար | C35: ԳՀ | D35: կիլոգրամ | E35: 6200 | F35: -30 | G35: =+E35*F35/1000 -> -186
A36: 30121470/20 | B36: տոներ լազերային տպիչների/հեռապատճենահանող մեքենաների համար | C36: ԳՀ | D36: կիլոգրամ | E36: 6000 | F36: -30 | G36: =+E36*F36/1000 -> -180
A37: 30121470/21 | B37: տոներ լազերային տպիչների/հեռապատճենահանող մեքենաների համար | C37: ԳՀ | D37: կիլոգրամ | G37: -3
A38: 30121470/22 | B38: տոներ լազերային տպիչների/հեռապատճենահանող մեքենաների համար | C38: ԳՀ | D38: կիլոգրամ | G38: -0.8
A39: 30121470/23 | B39: տոներ լազերային տպիչների/հեռապատճենահանող մեքենաների համար | C39: ԳՀ | D39: կիլոգրամ | G39: -120
A40: 30121500/1 | B40: քարտրիջներ | C40: ԳՀ | D40: հատ | G40: -0.2
A41: 30121500/13 | B41: քարտրիջներ | C41: ԳՀ | D41: հատ | G41: -6.03
...

Sheet Sheet1
A1: 4239 | B1: 20939.6
A2: 4252 | B2: 4001.2
A3: 4261 | B3: 24221.5
A4: 4264 | B4: 658398.2
A5: 4267 | B5: 51113.2
A6: 4269 | B6: 58135.2
A7: 5121 | B7: 34800
A8: 5122 | B8: 30780.6
A9: 5129 | B9: 165718.2
A10: 5132 | B10: 33.2
