Workbook
Name _tab10: #REF!
Name _tab10: #REF!
Name _tab10: #REF!
Name _tab10: #REF!
Name _tab11: #REF!
Name _tab11: #REF!
Name _tab11: #REF!
Name _tab11: #REF!
Name _tab12: #REF!
Name _tab12: #REF!
Name _tab12: #REF!
Name _tab12: #REF!
Name _tab13: #REF!
Name _tab13: #REF!
Name _tab13: #REF!
Name _tab13: #REF!
Name _tab14: #REF!
Name _tab14: #REF!
Name _tab14: #REF!
Name _tab14: #REF!
Name _tab15: #REF!
Name _tab15: #REF!
Name _tab15: #REF!
Name _tab15: #REF!
Name _tab16: #REF!
Name _tab16: #REF!
Name _tab16: #REF!
Name _tab16: #REF!
Name _tab17: #REF!
Name _tab17: #REF!
Name _tab17: #REF!
Name _tab17: #REF!
Name _tab18: #REF!
Name _tab18: #REF!
Name _tab18: #REF!
Name _tab18: #REF!
Name _tab19: #REF!
Name _tab19: #REF!
Name _tab19: #REF!
Name _tab19: #REF!
Name _tab20: #REF!
Name _tab20: #REF!
Name _tab20: #REF!
Name _tab20: #REF!
Name _tab21: #REF!
Name _tab21: #REF!
Name _tab21: #REF!
Name _tab21: #REF!
Name _tab22: #REF!
Name _tab22: #REF!
Name _tab22: #REF!
Name _tab22: #REF!
Name _tab23: #REF!
Name _tab23: #REF!
Name _tab23: #REF!
Name _tab23: #REF!
Name _tab24: #REF!
Name _tab24: #REF!
Name _tab24: #REF!
Name _tab24: #REF!

Sheet 1
D1: Հավելված N 1
D2: ՀՀ կառավարության 2021 թվականի
D3: ___________ ___-ի N _______ -Ն որոշման
A7: «ՀԱՅԱՍՏԱՆԻ ՀԱՆՐԱՊԵՏՈՒԹՅԱՆ 2021 ԹՎԱԿԱՆԻ ՊԵՏԱԿԱՆ ԲՅՈՒՋԵԻ ՄԱՍԻՆ» ՀԱՅԱՍՏԱՆԻ ՀԱՆՐԱՊԵՏՈՒԹՅԱՆ ՕՐԵՆՔԻ N 1 ՀԱՎԵԼՎԱԾԻ N 2 ԱՂՅՈՒՍԱԿՈՒՄ ԿԱՏԱՐՎՈՂ ՎԵՐԱԲԱՇԽՈՒՄ ԵՎ ՀԱՅԱՍՏԱՆԻ ՀԱՆՐԱՊԵՏՈՒԹՅԱՆ ԿԱՌԱՎԱՐՈՒԹՅԱՆ 2020 ԹՎԱԿԱՆԻ ԴԵԿՏԵՄԲԵՐԻ 30-Ի N 2215-Ն ՈՐՈՇՄԱՆ N 5 ՀԱՎԵԼՎԱԾԻ N 1 ԱՂՅՈՒՍԱԿՈՒՄ ԿԱՏԱՐՎՈՂ ՓՈՓՈԽՈՒԹՅՈՒՆՆԵՐԸ
D8: (հազ.դրամ)
A9: Ծրագրային դասիչը | C9: Բյուջետային հատկացումների գլխավոր կարգադրիչների, ծրագրերի և միջոցառումների անվանումները | D9: Ցուցանիշների փոփոխությունը (ավելացումները նշված են դրական նշանով, իսկ նվազեցումները՝ փակագծերում)
D10: Տարի
A11: Ծրագիր | B11: Միջոցառում
C12: Ընդամենը | D12: =D13 -> 9.9993777e-06
C13: ՀՀ պաշտպանության նախարարություն | D13: =+D15+D39+D69 -> 9.9993777e-06
C14: Ծրագրի անվանումը՝
A15: 1169 | C15: ՀՀ պաշտպանության ապահովում | D15: =D21+D33+D27 -> 1247084.5
C16: Ծրագրի նպատակը՝
C17: ՀՀ ԶՈւ ռազմավարական ծավալումն ապահովող մարտական պատրաստականության պահպանում՝ արտաքին թշնամուց ՀՀ պետական սահմանների պաշտպանության ապահովում
C18: Վերջնական արդյունքի նկարագրությունը՝
C19: ՀՀ ԶՈւ ռազմավարական ծավալումն ապահովող մարտական պատրաստականության պահպանում
A20: Ծրագրի միջոցառումներ
B21: 11001 | C21: Միջոցառման անվանումը՝ | D21: =+'3'!G22 -> -1331786.1
C22: Ռազմական կարիքների բավարարում
C23: Միջոցառման նկարագրությունը՝
C24: Ընթացիկ գործունեության ապահովման գործողություններ
C25: Միջոցառման տեսակը
C26: Ծառայությունների մատուցում
B27: 11003 | C27: Միջոցառման անվանումը՝ | D27: =+'3'!G49 -> -111974.1
C28: Ռազմական նշանակության համակարգերի պահպանում
C29: Միջոցառման նկարագրությունը՝
C30: ՀՀ տարածքում ռազմական նշանակության համակարգի պահպանում
C31: Միջոցառման տեսակը
C32: Ծառայությունների մատուցում
B33: 31001 | C33: Միջոցառման անվանումը՝ | D33: =+'3'!G59 -> 2690844.7
C34: ՀՀ պաշտպանության նախարարության շենքային պայմանների բարելավում
C35: Միջոցառման նկարագրությունը՝
C36: Պաշտպանության կարիքների համար բնակելի, գրասենյակային և այլ նշանակության շենքերի և շինությունների կառուցում
C37: Միջոցառման տեսակը
C38: Պետական մարմինների կողմից օգտագործվող ոչ ֆինանսական ակտիվների հետ գործառնություններ
A39: 1204 | C39: Ռազմաբժշկական սպասարկում և առողջապահական ծառայություններ | D39: =D45+D63+D51+D57 -> -724131.53
C40: Ծրագրի նպատակը՝
C41: Զինծառայողների, ինչպես նաև նրանց ընտանիքների անդամների առողջության պահպանում, որակյալ բժշկական ծառայություններով ապահովում
C42: Վերջնական արդյունքի նկարագրությունը՝
C43: Ծառայողական պարտականությունների արդյունավետ կատարմանը խոչընդոտող հիվանդությունների կանխարգելում և առողջական խնդիրների լուծում
A44: Ծրագրի միջոցառումներ
B45: 11001 | C45: Միջոցառման անվանումը՝ | D45: =+'3'!G110 -> -17000
C46: Զինծառայողներին, ինչպես նաև նրանց ընտանքիների անդամներին բժշկական օգնության ծառայություններ
C47: Միջոցառման նկարագրությունը՝
C48: ՊՆ համակարգում վերականգնողական մասնագիտացված բուժօգնության գծով ծառայությունների տրամադրում
C49: Միջոցառման տեսակը
C50: Ծառայությունների մատուցում
B51: 11003 | C51: Միջոցառման անվանումը՝ | D51: =+'3'!G126 -> -24735.25
C52: Հոսպիտալների և բուժկետերի բժշկական սարքավորումների պահպանման ծառայություններ
C53: Միջոցառման նկարագրությունը՝
C54: Զինվորական հոսպիտալների և բժշկական կետերի և սարքավորումների ընթացիկ վերանորոգման և տեխնիկական սպասարկման ծառայություններ
C55: Միջոցառման տեսակը
C56: Ծառայությունների մատուցում
B57: 11004 | C57: Միջոցառման անվանումը՝ | D57: =+'3'!G81 -> -483874.28
C58: Դեղորայքի տրամադրում զորամասային և հոսպիտալային օղակներում բուժօգնություն ստացողներին
C59: Միջոցառման նկարագրությունը՝
C60: Կնետրոնացված կարգով դեղորայքի ձեռքբ բերում ամբուլատոր-պոլիկլինիկական և հոսպիտալային բուժօգնություն ստացողներին տրամադրելու համար
C61: Միջոցառման տեսակը
C62: Ծառայությունների մատուցում
B63: 31001 | C63: Միջոցառման անվանումը՝ | D63: =+'3'!G94 -> -198522
C64: Հոսպիտալների և բուժկետերի բժշկական սարքավորումներով համալրում
C65: Միջոցառման նկարագրությունը՝
C66: Զորամասային և հոսպիտալային օղակներում բժշկական հետազոտությունների համար անհրաժեշտ սարքավորումների և գույքի ձեռքբերում
C67: Միջոցառման տեսակը
C68: Պետական մարմինների կողմից օգտագործվող ոչ ֆինանսական ակտիվների հետ գործառնություններ
A69: 1125 | C69: Ռազմական ուսուցում և վերապատրաստում | D69: =+D75 -> -522953
C70: Ծրագրի նպատակը՝
C71: ՀՀ ԶՈւ պատրաստության մակարդակի բարձրացում
C72: Վերջնական արդյունքի նկարագրությունը՝
C73: ՀՀ ԶՈւ-ում զինծառայողների‚ ստորաբաժանումների և կառավարման մարմինների պատրաստության մակարդակի բարձրացում
A74: Ծրագրի միջոցառումներ
B75: 11001 | C75: Միջոցառման անվանումը՝ | D75: =+'3'!G144 -> -522953
C76: Ռազմաուսումնական հաստատություններում նեղ մասնագետների պատրաստում և վերապատրաստում
C77: Միջոցառման նկարագրությունը՝
C78: Ուսուցում արտերկրների ռազմական ուսումնական հաստատությունենրում‚ ակադեմիաներում‚ դասընթացներում վերապատրաստում
C79: Միջոցառման տեսակը
C80: Ծառայությունների մատուցում

Sheet 2
H1: Հավելված N 2
H2: ՀՀ կառավարության 2021 թվականի
H3: ___________ ___-ի N _______ -Ն որոշման
A5: «ՀԱՅԱՍՏԱՆԻ ՀԱՆՐԱՊԵՏՈՒԹՅԱՆ 2021 ԹՎԱԿԱՆԻ ՊԵՏԱԿԱՆ ԲՅՈՒՋԵԻ ՄԱՍԻՆ» ՀԱՅԱՍՏԱՆԻ ՀԱՆՐԱՊԵՏՈՒԹՅԱՆ ՕՐԵՆՔԻ N 1 ՀԱՎԵԼՎԱԾԻ N 3 ԱՂՅՈՒՍԱԿՈՒՄ ԿԱՏԱՐՎՈՂ ՓՈՓՈԽՈՒԹՅՈՒՆՆԵՐԸ
G6: (հազ.դրամ)
A7: Ծրագրային դասիչ | C7: Բյուջետային գլխավոր կարգադրիչների, ծրագրերի, միջոցառումների և ուղղությունների անվանումները | D7: Ցուցանիշների փոփոխությունը (ավելացումները նշված են դրական նշանով, իսկ նվազեցումները՝ փակագծերում)
D8: Ընդամենը, | E8: այդ թվում՝
A9: Ծրագիր | B9: Միջոցառում | E9: Կառուցման աշխատանքներ | F9: Վերակառուցման, վերանորոգման և վերականգնման աշխատանքներ | G9: Նախագծահե- տազոտական, գեոդեզիա- քարտեզագրա- կան աշխա- տանքներ | H9: Ոչ ֆինանսական այլ ակտիվների ձեռքբերում
C10: ԸՆԴԱՄԵՆԸ | D10: =+D12 -> 2492322.7 | E10: =+E12 -> 2690844.7 | H10: =+H12 -> -198522
C11: այդ թվում՝
C12: ՀՀ ՊԱՇՏՊԱՆՈՒԹՅԱՆ ՆԱԽԱՐԱՐՈՒԹՅՈՒՆ | D12: =+D14+D15 -> 2492322.7 | E12: =+E14+E15 -> 2690844.7 | H12: =+H14+H15 -> -198522
C13: այդ թվում`
A14: 1169 | B14: 31001 | C14: ՀՀ պաշտպանության նախարարության շենքային պայմաններ բարելավում | D14: =SUM(E14:H14) -> 2690844.7 | E14: =+'3'!G59 -> 2690844.7
A15: 1204 | B15: 31001 | C15: Հոսպիտալների և բուժկետերի բժշկական սարքավորումներով համալրում | D15: =SUM(E15:H15) -> -198522 | H15: =+'3'!G94 -> -198522

Sheet 3
G1: Հավելված N 3
F2: ՀՀ կառավարության 2021 թվականի
F3: ___________ ___-ի N _______ -Ն որոշման
A7: ՀԱՅԱՍՏԱՆԻ ՀԱՆՐԱՊԵՏՈՒԹՅԱՆ ԿԱՌԱՎԱՐՈՒԹՅԱՆ 2020 ԹՎԱԿԱՆԻ ԴԵԿՏԵՄԲԵՐԻ 30-Ի N 2215-Ն ՈՐՈՇՄԱՆ N 3 և 4 ՀԱՎԵԼՎԱԾՆԵՐՈՒՄ ԿԱՏԱՐՎՈՂ ՓՈՓՈԽՈՒԹՅՈՒՆՆԵՐԸ
G8: (հազ.դրամ)
A10: Գործառական դասիչը | D10: Ծրագրային դասիչը | F10: Բյուջետային ծախսերի գործառական դասակարգման բաժինների, խմբերի և դասերի, բյուջետային ծրագրերի միջոցառումների, բյուջետային հատկացումների գլխավոր կարգադրիչների անվանումները | G10: Ցուցանիշների փոփոխությունը (ավելացումները նշված են դրական նշանով, իսկ նվազեցումները՝ փակագծերում)
G11: Տարի
A12: Բաժին | B12: Խումբ | C12: Դաս | D12: Ծրագիր | E12: Միջոցառում
F13: ԸՆԴԱՄԵՆԸ ԾԱԽՍԵՐ այդ թվում՝ | G13: =G14+G73+G136 -> 9.9993777e-06
A14: 02 | F14: ՊԱՇՏՊԱՆՈՒԹՅՈՒՆ | G14: =+G16 -> 1247084.5
F15: այդ թվում`
B16: 01 | F16: Ռազմական պաշտպանություն | G16: =+G18 -> 1247084.5
F17: այդ թվում`
C18: 01 | F18: Ռազմական պաշտպանություն | G18: =+G20 -> 1247084.5
F19: այդ թվում`
F20: ՀՀ պաշտպանության նախարարություն | G20: =+G21 -> 1247084.5
D21: 1169 | F21: ՀՀ պաշտպանության ապահովում | G21: =+G22+G59+G49 -> 1247084.5
E22: 11001 | F22: Ռազմական կարիքների բավարարում | G22: =+G24 -> -1331786.1
F23: այդ թվում` ըստ կատարողների
F24: ՀՀ պաշտպանության նախարարություն | G24: =+G26 -> -1331786.1
F25: այդ թվում` բյուջետային ծախսերի տնտեսագիտական դասակարգման հոդվածներ
F26: ԸՆԴԱՄԵՆԸ ԾԱԽՍԵՐ | G26: =+G27 -> -1331786.1
F27: ԸՆԹԱՑԻԿ ԾԱԽՍԵՐ | G27: =+G28+G46 -> -1331786.1
F28: ԾԱՌԱՅՈՒԹՅՈՒՆՆԵՐԻ ԵՎ ԱՊՐԱՆՔՆԵՐԻ ՁԵՌՔ ԲԵՐՈՒՄ | G28: =G29+G36+G40+G32+G38 -> -520236.8
F29: ՇԱՐՈՒՆԱԿԱԿԱՆ ԾԱԽՍԵՐ | G29: =G31+G30 -> -72137
F30: - Էներգետիկ ծառայություններ | G30: -68000
F31: - Ապահովագրական ծախսեր | G31: -4137
F32: ՊԱՅՄԱՆԱԳՐԱՅԻՆ ԾԱՌԱՅՈՒԹՅՈՒՆՆԵՐԻ ՁԵՌՔ ԲԵՐՈՒՄ | G32: =G33+G35+G34 -> -64245.865
F33: - Տեղեկատվական ծառայություններ | G33: -2574.52
F34: - Ներկայացուցչական ծախսեր | G34: -870.25
F35: - Ընդհանուր բնույթի այլ ծառայություններ | G35: -60801.095
F36: ԱՅԼ ՄԱՍՆԱԳԻՏԱԿԱՆ ԾԱՌԱՅՈՒԹՈՒՆՆԵՐԻ ՁԵՌՔ ԲԵՐՈՒՄ | G36: =G37 -> -900
F37: - Մասնագիտական ծառայություններ | G37: -900
F38: ԸՆԹԱՑԻԿ ՆՈՐՈԳՈՒՄ ԵՎ ՊԱՀՊԱՆՈՒՄ (ԾԱՌԱՅՈՒԹՅՈՒՆՆԵՐ ԵՎ ՆՅՈՒԹԵՐ) | G38: =G39 -> -11378.328
F39: - Մեքենաների և սարքավորումների ընթացիկ նորոգում և պահպանում | G39: -11378.328
F40: ՆՅՈՒԹԵՐ | G40: =G41+G45+G43+G42+G44 -> -371575.61
F41: - Գրասենյակային նյութեր և հագուստ | G41: -18221.88
F42: - Գյուղատնտեսական ապրանքներ | G42: -1957.86
F43: - Տրանսպորտային նյութեր | G43: -254393.6
F44: - Կենցաղային և հանրային սննդի նյութեր | G44: -4657.4999
F45: - Հատուկ նպատակային այլ նյութեր | G45: -92344.766
F46: ԱՅԼ ԾԱԽՍԵՐ | G46: =G47 -> -811549.29
F47: - Այլ ծախսեր | G47: -811549.29
E49: 11003 | F49: Ռազմական նշանակության համակարգերի պահպանում | G49: =+G51 -> -111974.1
F50: այդ թվում` ըստ կատարողների
F51: ՀՀ պաշտպանության նախարարություն | G51: =+G53 -> -111974.1
F52: այդ թվում` բյուջետային ծախսերի տնտեսագիտական դասակարգման հոդվածներ
F53: ԸՆԴԱՄԵՆԸ ԾԱԽՍԵՐ | G53: =+G54 -> -111974.1
F54: ԸՆԹԱՑԻԿ ԾԱԽՍԵՐ | G54: =+G55 -> -111974.1
F55: ԾԱՌԱՅՈՒԹՅՈՒՆՆԵՐԻ ԵՎ ԱՊՐԱՆՔՆԵՐԻ ՁԵՌՔ ԲԵՐՈՒՄ | G55: =G56 -> -111974.1
F56: ԸՆԹԱՑԻԿ ՆՈՐՈԳՈՒՄ ԵՎ ՊԱՀՊԱՆՈՒՄ (ԾԱՌԱՅՈՒԹՅՈՒՆՆԵՐ ԵՎ ՆՅՈՒԹԵՐ) | G56: =G57 -> -111974.1
F57: - Մեքենաների և սարքավորումների ընթացիկ նորոգում և պահպանում | G57: -111974.1
E59: 31001 | F59: ՀՀ պաշտպանության նախարարության շենքային պայմանների բարելավում | G59: =+G61 -> 2690844.7
F60: այդ թվում` ըստ կատարողների
F61: ՀՀ պաշտպանության նախարարություն | G61: =+G63 -> 2690844.7
F62: այդ թվում` բյուջետային ծախսերի տնտեսագիտական դասակարգման հոդվածներ
F63: ԸՆԴԱՄԵՆԸ ԾԱԽՍԵՐ | G63: =+G64 -> 2690844.7
F64: ՈՉ ՖԻՆԱՆՍԱԿԱՆ ԱԿՏԻՎՆԵՐԻ ԳԾՈՎ ԾԱԽՍԵՐ | G64: =+G65 -> 2690844.7
F65: ՀԻՄՆԱԿԱՆ ՄԻՋՈՑՆԵՐ | G65: =G68+G66 -> 2690844.7
F66: ՇԵՆՔԵՐ ԵՎ ՇԻՆՈՒԹՅՈՒՆՆԵՐ | G66: =+G67 -> 2944072.3
F67: - Շենքերի և շինությունների շինարարություն | G67: 2944072.3
F68: ՄԵՔԵՆԱՆԵՐ ԵՎ ՍԱՐՔԱՎՈՐՈՒՄՆԵՐ | G68: =G71+G70+G69 -> -253227.62
F69: - Տրանսպորտային սարքավորումներ | G69: -114600.1
F70: - Վարչական սարքավորումներ | G70: -4150
F71: - Այլ մեքենաներ և սարքավորումներ | G71: -134477.52
A73: 07 | F73: ԱՌՈՂՋԱՊԱՀՈՒԹՅՈՒՆ | G73: =+G75+G104+G120 -> -724131.53
F74: այդ թվում`
B75: 01 | F75: Բժշկական ապրանքներ, սարքեր և սարքավորումներ | G75: =+G77+G90 -> -682396.28
F76: այդ թվում`
C77: 01 | F77: Դեղագործական ապրանքներ | G77: =+G79 -> -483874.28
F78: այդ թվում`
F79: ՀՀ պաշտպանության նախարարություն | G79: =+G80 -> -483874.28
D80: 1204 | F80: Ռազմաբժշկական սպասարկում և առողջապահական ծառայություններ | G80: =+G81+G175 -> -483874.28
E81: 11004 | F81: Դեղորայքի տրամադրում զորամասային և հոսպիտալային օղակներում բուժօգնություն ստացողներին | G81: =+G83 -> -483874.28
F82: այդ թվում` ըստ կատարողների
F83: ՀՀ պաշտպանության նախարարություն | G83: =+G85 -> -483874.28
F84: այդ թվում` բյուջետային ծախսերի տնտեսագիտական դասակարգման հոդվածներ
F85: ԸՆԴԱՄԵՆԸ ԾԱԽՍԵՐ | G85: =+G86 -> -483874.28
F86: ԸՆԹԱՑԻԿ ԾԱԽՍԵՐ | G86: =+G87+G172+G169 -> -483874.28
F87: ԾԱՌԱՅՈՒԹՅՈՒՆՆԵՐԻ ԵՎ ԱՊՐԱՆՔՆԵՐԻ ՁԵՌՔ ԲԵՐՈՒՄ | G87: =G88 -> -483874.28
F88: ՆՅՈՒԹԵՐ | G88: =G89+G162+G160+G135+G161 -> -483874.28
F89: - Առողջապահական և լաբորատոր նյութեր | G89: -483874.28
C90: 03 | F90: Բժշկական սարքեր և սարքավորումներ | G90: =+G92 -> -198522
F91: այդ թվում`
F92: ՀՀ պաշտպանության նախարարություն | G92: =+G93 -> -198522
D93: 1204 | F93: Ռազմաբժշկական սպասարկում և առողջապահական ծառայություններ | G93: =+G94+G188 -> -198522
E94: 31001 | F94: Հոսպիտալների և բուժկետերի բժշկական սարքավորումներով համալրում | G94: =+G96 -> -198522
F95: այդ թվում` ըստ կատարողների
F96: ՀՀ պաշտպանության նախարարություն | G96: =+G98 -> -198522
F97: այդ թվում` բյուջետային ծախսերի տնտեսագիտական դասակարգման հոդվածներ
F98: ԸՆԴԱՄԵՆԸ ԾԱԽՍԵՐ | G98: =+G99 -> -198522
F99: ՈՉ ՖԻՆԱՆՍԱԿԱՆ ԱԿՏԻՎՆԵՐԻ ԳԾՈՎ ԾԱԽՍԵՐ | G99: =+G100+G185+G182 -> -198522
F100: ՀԻՄՆԱԿԱՆ ՄԻՋՈՑՆԵՐ | G100: =G101 -> -198522
F101: ՄԵՔԵՆԱՆԵՐ ԵՎ ՍԱՐՔԱՎՈՐՈՒՄՆԵՐ | G101: =G102+G175+G173+G172+G174 -> -198522
F102: - Այլ մեքենաներ և սարքավորումներ | G102: -198522
B104: 03 | F104: Հիվանդանոցային ծառայություններ | G104: =+G106+G161 -> -17000
F105: այդ թվում`
C106: 01 | F106: Ընդհանուր բնույթի հիվանդանոցային ծառայություններ | G106: =+G108 -> -17000
F107: այդ թվում`
F108: ՀՀ պաշտպանության նախարարություն | G108: =+G109 -> -17000
...

Sheet 4
A1: Հավելված N 4
A2: ՀՀ կառավարության 2021 թվականի
A3: ______________ ի ___Ն որոշման
A5: ՀԱՅԱՍՏԱՆԻ ՀԱՆՐԱՊԵՏՈՒԹՅԱՆ ԿԱՌԱՎԱՐՈՒԹՅԱՆ 2020 ԹՎԱԿԱՆԻ ԴԵԿՏԵՄԲԵՐԻ 30-Ի N 2215-Ն ՈՐՈՇՄԱՆ N 5 ՀԱՎԵԼՎԱԾԻ N 2 ԱՂՅՈՒՍԱԿՈՒՄ ԿԱՏԱՐՎՈՂ ՓՈՓՈԽՈՒԹՅՈՒՆՆԵՐԸ
D6: (հազ.դրամ)
A7: Ծրագրային դասիչ | C7: Բյուջետային գլխավոր կարգադրիչների, ծրագրերի, միջոցառումների և ուղղությունների անվանումները | D7: Ցուցանիշների փոփոխությունը (ավելացումները նշված են դրական նշանով, իսկ նվազեցումները՝ փակագծերում)
A8: Ծրագիր | B8: Միջոցառում | D8: Տարի
C10: ԸՆԴԱՄԵՆԸ | D10: =+D12 -> 2492322.7
C11: այդ թվում՝
C12: ՀՀ ՊԱՇՏՊԱՆՈՒԹՅԱՆ ՆԱԽԱՐԱՐՈՒԹՅՈՒՆ | D12: =+D14+D17 -> 2492322.7
C13: այդ թվում`
A14: 1169 | B14: 31001 | C14: ՀՀ պաշտպանության նախարարության շենքային պայմանների բարելավում | D14: =D16 -> 2690844.7
C15: այդ թվում` ըստ կատարողների
C16: ՀՀ պաշտպանության նախարարություն | D16: =+'2'!D14 -> 2690844.7
A17: 1204 | B17: 31001 | C17: Հոսպիտալների և բուժկետերի բժշկական սարքավորումներով համալրում | D17: =D19 -> -198522
C18: այդ թվում` ըստ կատարողների
C19: ՀՀ պաշտպանության նախարարություն | D19: =+'2'!D15 -> -198522

Sheet 5
C1: Հավելված N 5
B2: ՀՀ կառավարության 2021 թվականի
B3: ______________ ի ___Ն որոշման
A6: ՀԱՅԱՍՏԱՆԻ ՀԱՆՐԱՊԵՏՈՒԹՅԱՆ ԿԱՌԱՎԱՐՈՒԹՅԱՆ 2020 ԹՎԱԿԱՆԻ ԴԵԿՏԵՄԲԵՐԻ 30-Ի N 2215-Ն ՈՐՈՇՄԱՆ N 9 ՀԱՎԵԼՎԱԾԻ N 9.15 ԵՎ N 9.1 ՀԱՎԵԼՎԱԾԻ N 9.1.15 ԱՂՅՈՒՍԱԿՆԵՐՈՒՄ ԿԱՏԱՐՎՈՂ ՓՈՓՈԽՈՒԹՅՈՒՆՆԵՐ
A7: ՀՀ պաշտպանության նախարարություն
A9: Ծրագրի դասիչը | B9: Ծրագրի անվանումը
A10: 1169 | B10: ՀՀ պաշտպանության ապահովում
A12: Ծրագրի միջոցառումները
A14: Ծրագրի դասիչը` | B14: 1169 | C14: Ցուցանիշների փոփոխությունը (նվազեցումները նշված են փակագծերում)
A15: Միջոցառման դասիչը` | B15: 11001 | C15: Տարի
A16: Միջոցառման անվանումը` | B16: Ռազմական կարիքների բավարարում
A17: Նկարագրությունը` | B17: Ընթացիկ գործունեության ապահովման գործողություններ
A18: Միջոցառման տեսակը` | B18: Ծառայությունների մատուցում
A19: Միջոցառումն իրականացնողի անվանումը | B19: ՀՀ պաշտպանության նախարարություն
A20: Արդյունքի չափորոշիչներ
A22: Միջոցառման վրա կատարվող ծախսը (հազար դրամ) | C22: =+'3'!G22 -> -1331786.1
A24: Ծրագրի դասիչը` | B24: 1169 | C24: Ցուցանիշների փոփոխությունը (նվազեցումները նշված են փակագծերում)
A25: Միջոցառման դասիչը` | B25: 11003 | C25: Տարի
A26: Միջոցառման անվանումը` | B26: Ռազմական նշանակության համակարգերի պահպանում
A27: Նկարագրությունը` | B27: ՀՀ տարածքում ռազմական նշանակության համակարգի պահպանում
A28: Միջոցառման տեսակը` | B28: Ծառայությունների մատուցում
A29: Միջոցառումն իրականացնողի անվանումը | B29: ՀՀ պաշտպանության նախարարություն
A30: Արդյունքի չափորոշիչներ
A32: Միջոցառման վրա կատարվող ծախսը (հազար դրամ) | C32: =+'3'!G49 -> -111974.1
A34: Ծրագրի դասիչը` | B34: 1169 | C34: Ցուցանիշների փոփոխությունը (ավելացումները նշված են դրական նշանով)
A35: Միջոցառման դասիչը` | B35: 31001 | C35: Տարի
A36: Միջոցառման անվանումը` | B36: ՀՀ պաշտպանության նախարարության շենքային պայմանների բարելավում
A37: Նկարագրությունը` | B37: Պաշտպանության կարիքների համար բնակելի, գրասենյակային և այլ նշանակության շենքերի և շինությունների կառուցում
A38: Միջոցառման տեսակը` | B38: Պետական մարմինների կողմից օգտագործվող ոչ ֆինանսական ակտիվների հետ գործառնություններ
A39: Միջոցառումն իրականացնողի անվանումը | B39: ՀՀ պաշտպանության նախարարություն
A40: Արդյունքի չափորոշիչներ
A42: Միջոցառման վրա կատարվող ծախսը (հազար դրամ) | C42: =+'3'!G59 -> 2690844.7
A44: Ծրագրի դասիչը | B44: Ծրագրի անվանումը
A45: 1204 | B45: Ռազմաբժշկական սպասարկում և առողջապահական ծառայություններ
A47: Ծրագրի միջոցառումները
A49: Ծրագրի դասիչը` | B49: 1204 | C49: Ցուցանիշների փոփոխությունը (նվազեցումները նշված են փակագծերում)
A50: Միջոցառման դասիչը` | B50: 11001 | C50: Տարի
A51: Միջոցառման անվանումը` | B51: Զինծառայողներին, ինչպես նաև նրանց ընտանքիների անդամներին բժշկական օգնության ծառայություններ
A52: Նկարագրությունը` | B52: ՊՆ համակարգում վերականգնողական մասնագիտացված բուժօգնության գծով ծառայությունների տրամադրում
A53: Միջոցառման տեսակը` | B53: Ծառայությունների մատուցում
A54: Միջոցառումն իրականացնողի անվանումը | B54: «Գնումների մասին» ՀՀ օրենքի համաձայն ընտրված կազմակերպություն
A55: Արդյունքի չափորոշիչներ
A57: Միջոցառման վրա կատարվող ծախսը (հազար դրամ) | C57: =+'3'!G110 -> -17000
A59: Ծրագրի դասիչը` | B59: 1204 | C59: Ցուցանիշների փոփոխությունը (նվազեցումները նշված են փակագծերում)
A60: Միջոցառման դասիչը` | B60: 11003 | C60: Տարի
A61: Միջոցառման անվանումը` | B61: Հոսպիտալների և բուժկետերի բժշկական սարքավորումների պահպանման ծառայություններ
A62: Նկարագրությունը` | B62: Զինվորական հոսպիտալների և բժշկական կետերի և սարքավորումների ընթացիկ վերանորոգման և տեխնիկական սպասարկման ծառայություններ
A63: Միջոցառման տեսակը` | B63: Ծառայությունների մատուցում
A64: Միջոցառումն իրականացնողի անվանումը | B64: «Գնումների մասին» ՀՀ օրենքի համաձայն ընտրված կազմակերպություն
A65: Արդյունքի չափորոշիչներ
A66: Հատուկ բժշկական սարքերի, սարքավորումների սպասարկման և ընթացիկ վերանորոգման ծառայություններ, թիվ | C66: -50
A67: Միջոցառման վրա կատարվող ծախսը (հազար դրամ) | C67: =+'3'!G126 -> -24735.25
A69: Ծրագրի դասիչը` | B69: 1204 | C69: Ցուցանիշների փոփոխությունը (նվազեցումները նշված են փակագծերում)
A70: Միջոցառման դասիչը` | B70: 11004 | C70: Տարի
A71: Միջոցառման անվանումը` | B71: Դեղորայքի տրամադրում զորամասային և հոսպիտալային օղակներում բուժօգնություն ստացողներին
A72: Նկարագրությունը` | B72: Կնետրոնացված կարգով դեղորայքի ձեռքբ բերում ամբուլատոր-պոլիկլինիկական և հոսպիտալային բուժօգնություն ստացողներին տրամադրելու համար
A73: Միջոցառման տեսակը` | B73: Ծառայությունների մատուցում
A74: Միջոցառումն իրականացնողի անվանումը | B74: «Գնումների մասին» ՀՀ օրենքի համաձայն ընտրված կազմակերպություն
A75: Արդյունքի չափորոշիչներ
A77: Միջոցառման վրա կատարվող ծախսը (հազար դրամ) | C77: =+'3'!G81 -> -483874.28
A79: Ծրագրի դասիչը` | B79: 1204 | C79: Ցուցանիշների փոփոխությունը (նվազեցումները նշված են փակագծերում)
A80: Միջոցառման դասիչը` | B80: 31001 | C80: Տարի
A81: Միջոցառման անվանումը` | B81: Հոսպիտալների և բուժկետերի բժշկական սարքավորումներով համալրում
A82: Նկարագրությունը` | B82: Զորամասային և հոսպիտալային օղակներում բժշկական հետազոտությունների համար անհրաժեշտ սարքավորումների և գույքի ձեռքբերում
A83: Միջոցառման տեսակը` | B83: Պետական մարմինների կողմից օգտագործվող ոչ ֆինանսական ակտիվների հետ գործառնություններ
A84: Միջոցառումն իրականացնողի անվանումը | B84: «Գնումների մասին» ՀՀ օրենքի համաձայն ընտրված կազմակերպություն
A85: Արդյունքի չափորոշիչներ
A86: Բժշկական սարքավորումների քանակ, հատ | C86: -551
A87: Միջոցառման վրա կատարվող ծախսը (հազար դրամ) | C87: =+'3'!G94 -> -198522
A89: Ծրագրի դասիչը | B89: Ծրագրի անվանումը
A90: 1125 | B90: Ռազմական ուսուցում և վերապատրաստում
A92: Ծրագրի միջոցառումները
A94: Ծրագրի դասիչը` | B94: 1125 | C94: Ցուցանիշների փոփոխությունը (նվազեցումները նշված են փակագծերում)
A95: Միջոցառման դասիչը` | B95: 11001 | C95: Տարի
A96: Միջոցառման անվանումը` | B96: Ռազմաուսումնական հաստատություններում նեղ մասնագետների պատրաստում և վերապատրաստում
A97: Նկարագրությունը` | B97: Ուսուցում արտերկրների ռազմական ուսումնական հաստատությունենրում‚ ակադեմիաներում‚ դասընթացներում վերապատրաստում
A98: Միջոցառման տեսակը` | B98: Ծառայությունների մատուցում
A99: Միջոցառումն իրականացնողի անվանումը | B99: ՀՀ պաշտպանության նախարարություն
A100: Արդյունքի չափորոշիչներ
A102: Միջոցառման վրա կատարվող ծախսը (հազար դրամ) | C102: =+'3'!G144 -> -522953

Sheet 6
G1: Հավելված N 6
G2: ՀՀ կառավարության 2021 թվականի
G3: ___________ ___-ի N _______ -Ն որոշման
A5: ՀԱՅԱՍՏԱՆԻ ՀԱՆՐԱՊԵՏՈՒԹՅԱՆ ԿԱՌԱՎԱՐՈՒԹՅԱՆ 2020 ԹՎԱԿԱՆԻ ԴԵԿՏԵՄԲԵՐԻ 30-Ի N 2215-Ն ՈՐՈՇՄԱՆ N 10 ՀԱՎԵԼՎԱԾՈՒՄ ԿԱՏԱՐՎՈՂ ՓՈՓՈԽՈՒԹՅՈՒՆՆԵՐԸ
A6: Կոդը | B6: Անվանումը | C6: Գնման ձևը | D6: Չափման միավորը | E6: Միավորի գինը | F6: Ցուցանիշների փոփոխությունը (նվազեցումները նշված են փակագծերում)
F7: քանակը | G7: գումարը (հազար դրամով)
B8: ՀՀ պաշտպանության նախարարություն | G8: =+G9+G389+G1302+G1319+G1323 -> -1497595.9
A9: Բաժին N02 | B9: Խումբ N01 Դաս N01 | C9: Ռազմական պաշտպանություն | G9: =+G10+G360 -> -773464.42
A10: 1169 11001 | B10: Ռազմական կարիքների բավարարում | G10: =+G11+G159 -> -520236.8
B11: ՄԱՍ I. ԱՊՐԱՆՔՆԵՐ | G11: =SUM(G12:G158) -> -371575.61
A12: 18111520/1 | B12: թթվադիմացկուն կոստյում | C12: ԳՀ | D12: լրակազմ | G12: -15.04
A13: 18211500/4 | B13: բաճկոն | C13: ԳՀ | D13: հատ | G13: -0.8
A14: 18211500/5 | B14: բաճկոն | C14: ԳՀ | D14: հատ | G14: -0.16
A15: 18231910/12 | B15: բաճկոն ― տաբատ | C15: ԳՀ | D15: լրակազմ | G15: -0.128
A16: 18231910/13 | B16: բաճկոն ― տաբատ | C16: ԳՀ | D16: լրակազմ | G16: -0.064
A17: 18231910/8 | B17: բաճկոն ― տաբատ | C17: ԳՀ | D17: լրակազմ | G17: -0.76
A18: 18231910/9 | B18: բաճկոն ― տաբատ | C18: ԳՀ | D18: լրակազմ | G18: -0.38
A19: 18331200/6 | B19: վերնաշապիկներ | C19: ԳՀ | D19: հատ | E19: 3700 | F19: -500 | G19: =+F19*E19/1000 -> -1850
A20: 18331300/10 | B20: պոլո շապիկներ | C20: ԳՀ | D20: հատ | G20: -1776
A21: 18331300/9 | B21: պոլո շապիկներ | C21: ԳՀ | D21: հատ | G21: -570
A22: 18411300/6 | B22: մարզական հագուստ | C22: ԳՀ | D22: հատ | E22: 20000 | F22: -20 | G22: =+F22*E22/1000 -> -400
A23: 18421130/4 | B23: ձեռնոցներ | C23: ԳՀ | D23: զույգ | E23: 4500 | F23: -1000 | G23: =+F23*E23/1000 -> -4500
A24: 18421400/4 | B24: օձիք | C24: ԳՀ | D24: հատ | G24: -3520
A25: 19221100/2 | B25: բրդե կտոր | C25: ՀՄԱ | D25: քմ | G25: -387.17536
A26: 30121460/58 | B26: տոներային քարտրիջներ | C26: ԳՀ | D26: հատ | G26: -139.5
A27: 30121460/59 | B27: տոներային քարտրիջներ | C27: ԳՀ | D27: հատ | G27: -152
A28: 30121460/60 | B28: տոներային քարտրիջներ | C28: ԳՀ | D28: հատ | G28: -71.04
A29: 30121460/61 | B29: տոներային քարտրիջներ | C29: ԳՀ | D29: հատ | G29: -40
A30: 30121460/62 | B30: տոներային քարտրիջներ | C30: ԳՀ | D30: հատ | G30: -91
A31: 30121460/63 | B31: տոներային քարտրիջներ | C31: ԳՀ | D31: հատ | G31: -442
A32: 30121460/64 | B32: տոներային քարտրիջներ | C32: ԳՀ | D32: հատ | G32: -180
A33: 30121470/17 | B33: տոներ լազերային տպիչների/հեռապատճենահանող մեքենաների համար | C33: ԳՀ | D33: կիլոգրամ | G33: -0.1
A34: 30121470/18 | B34: տոներ լազերային տպիչների/հեռապատճենահանող մեքենաների համար | C34: ԳՀ | D34: կիլոգրամ | G34: -22.1122
A35: 30121470/19 | B35: տոներ լազերային տպիչների/հեռապատճենահանող մեքենաների համար | C35: ԳՀ | D35: կիլոգրամ | E35: 6200 | F35: -30 | G35: =+E35*F35/1000 -> -186
A36: 30121470/20 | B36: տոներ լազերային տպիչների/հեռապատճենահանող մեքենաների համար | C36: ԳՀ | D36: կիլոգրամ | E36: 6000 | F36: -30 | G36: =+E36*F36/1000 -> -180
A37: 30121470/21 | B37: տոներ լազերային տպիչների/հեռապատճենահանող մեքենաների համար | C37: ԳՀ | D37: կիլոգրամ | G37: -3
A38: 30121470/22 | B38: տոներ լազերային տպիչների/հեռապատճենահանող մեքենաների համար | C38: ԳՀ | D38: կիլոգրամ | G38: -0.8
A39: 30121470/23 | B39: տոներ լազերային տպիչների/հեռապատճենահանող մեքենաների համար | C39: ԳՀ | D39: կիլոգրամ | G39: -120
A40: 30121500/1 | B40: քարտրիջներ | C40: ԳՀ | D40: հատ | G40: -0.2
A41: 30121500/13 | B41: քարտրիջներ | C41: ԳՀ | D41: հատ | G41: -6.03
A42: 30121500/14 | B42: քարտրիջներ | C42: ԳՀ | D42: հատ | G42: -6.03
A43: 30121500/15 | B43: քարտրիջներ | C43: ԳՀ | D43: հատ | G43: -6.03
A44: 30121500/16 | B44: քարտրիջներ | C44: ԳՀ | D44: հատ | G44: -6.03
A45: 30121500/2 | B45: քարտրիջներ | C45: ԳՀ | D45: հատ | G45: -0.2
A46: 30121500/3 | B46: քարտրիջներ | C46: ԳՀ | D46: հատ | G46: -0.2
A47: 30121500/36 | B47: քարտրիջներ | C47: ԳՀ | D47: հատ | G47: -1.2
A48: 30121500/37 | B48: քարտրիջներ | C48: ԳՀ | D48: հատ | G48: -1.2
... A74: 39561133/24 | B74: տարբերանշաններ | C74: ԳՀ | D74: հատ | G74: -559.5
A75: 03211400/2 | B75: գարի | C75: ՀՄԱ | D75: կիլոգրամ | E75: 13140 | F75: -149 | G75: =+F75*E75/1000 -> -1957.86
A76: 09131100/3 | B76: ավիացիոն կերոսին | C76: ՀԲՄ | D76: տոննա | G76: -119780
A77: 09132100/2 | B77: բենզին, պրեմիում | C77: ՀԲՄ | D77: լիտր | G77: -286
A78: 09132200/2 | B78: բենզին, ռեգուլյար | C78: ՀԲՄ | D78: լիտր | G78: -850
A79: 09132400/4 | B79: բենզին, ռեգուլյար | C79: ՀԲՄ | D79: տոննա | G79: -42721.88
A80: 09134200/2 | B80: դիզելային վառելիք, ամառային | C80: ՀԲՄ | D80: լիտր | G80: -970.585
A81: 09134240/2 | B81: դիզելային վառելիք, ամառային | C81: ՀԲՄ | D81: տոննա | G81: -37767.562
A82: 09211110/11 | B82: շարժիչի յուղեր | C82: ՀԲՄ | D82: կիլոգրամ | G82: -18227.804
A83: 09211110/12 | B83: շարժիչի յուղեր | C83: ԳՀ | D83: կիլոգրամ | G83: -1836.8112
A84: 09211150/1 | B84: լիտոլ-24 | C84: ԲՄ | D84: կիլոգրամ | G84: -300
A85: 09211660/7 | B85: հիդրավլիկ համակարգերում ― այլ նպատակներով օգտագործվող յուղեր | C85: ԲՄ | D85: կիլոգրամ | G85: -120
A86: 09221600/3 | B86: ուայթ սպիրիտ (լաքային բենզին) | C86: ԳՀ | D86: լիտր | G86: -1383.142
A87: 34331300/106 | B87: ավտոմեքենաների պահեստամասեր | C87: ԳՀ | D87: հատ | E87: 17000 | F87: -10 | G87: =+E87*F87/1000 -> -170
A88: 34331300/109 | B88: ավտոմեքենաների պահեստամասեր | C88: ԳՀ | D88: հատ | E88: 10500 | F88: -20 | G88: =+E88*F88/1000 -> -210
A89: 34331300/112 | B89: ավտոմեքենաների պահեստամասեր | C89: ԳՀ | D89: հատ | E89: 34900 | F89: -15 | G89: =+E89*F89/1000 -> -523.5
A90: 34331300/113 | B90: ավտոմեքենաների պահեստամասեր | C90: ԳՀ | D90: հատ | E90: 32000 | F90: -20 | G90: =+E90*F90/1000 -> -640
A91: 34331300/115 | B91: ավտոմեքենաների պահեստամասեր | C91: ԳՀ | D91: հատ | E91: 1300 | F91: -50 | G91: =+E91*F91/1000 -> -65
A92: 34331300/116 | B92: ավտոմեքենաների պահեստամասեր | C92: ԳՀ | D92: հատ | E92: 7476 | F92: -40 | G92: =+E92*F92/1000 -> -299.04
A93: 34331300/121 | B93: ավտոմեքենաների պահեստամասեր | C93: ԳՀ | D93: հատ | E93: 66000 | F93: -20 | G93: =+E93*F93/1000 -> -1320
A94: 34331300/123 | B94: ավտոմեքենաների պահեստամասեր | C94: ԳՀ | D94: հատ | E94: 37000 | F94: -20 | G94: =+E94*F94/1000 -> -740
A95: 34331300/124 | B95: ավտոմեքենաների պահեստամասեր | C95: ԳՀ | D95: հատ | E95: 58900 | F95: -20 | G95: =+E95*F95/1000 -> -1178
A96: 34331300/127 | B96: ավտոմեքենաների պահեստամասեր | C96: ԳՀ | D96: հատ | E96: 31700 | F96: -25 | G96: =+E96*F96/1000 -> -792.5
A97: 34331300/131 | B97: ավտոմեքենաների պահեստամասեր | C97: ԳՀ | D97: հատ | E97: 11067 | F97: -20 | G97: =+E97*F97/1000 -> -221.34
A98: 34331300/134 | B98: ավտոմեքենաների պահեստամասեր | C98: ԳՀ | D98: հատ | E98: 4600 | F98: -30 | G98: =+E98*F98/1000 -> -138
... A123: 34331300/91 | B123: ավտոմեքենաների պահեստամասեր | C123: ԳՀ | D123: հատ | E123: 3600 | F123: -30 | G123: =+E123*F123/1000 -> -108
A124: 34351200/501 | B124: ավտոմեքենաների անիվներ | C124: ԳՀ | D124: հատ | G124: -24.5
A125: 39831120/3 | B125: նավթային լուծիչ | C125: ԳՀ | D125: կիլոգրամ | G125: -6500
A126: 39831241/2 | B126: օճառ, ձեռքի | C126: ՀՄԱ | D126: կիլոգրամ | G126: -4657.4999
A127: 18931220/5 | B127: ձեռքի պայուսակներ | C127: ԳՀ | D127: հատ | G127: -200
A128: 30232231/4 | B128: համակարգչի կոշտ սկավառակ | C128: ԳՀ | D128: հատ | G128: -1494.96
A129: 30232231/5 | B129: համակարգչի կոշտ սկավառակ | C129: ԳՀ | D129: հատ | G129: -374
A130: 30237460/2 | B130: համակարգչային ստեղնաշարեր | C130: ԳՀ | D130: հատ | G130: -56
A131: 31442110/1 | B131: մարտկոց` 3V (1/3N) | C131: ԳՀ | D131: հատ | G131: -1.2
A132: 31442130/1 | B132: մարտկոց` 3V(CR2) | C132: ԳՀ | D132: հատ | G132: -3.2
A133: 32571500/10 | B133: հաղորդակցման մալուխներ հատուկ կիրառման համար | C133: ԳՀ | D133: մետր | G133: -8010
A134: 32571500/11 | B134: հաղորդակցման մալուխներ հատուկ կիրառման համար | C134: ԳՀ | D134: մետր | G134: -8010
A135: 32571500/12 | B135: հաղորդակցման մալուխներ հատուկ կիրառման համար | C135: ԳՀ | D135: մետր | G135: -7300
... A141: 32571500/18 | B141: հաղորդակցման մալուխներ հատուկ կիրառման համար | C141: ԳՀ | D141: մետր | G141: -8010
A142: 32571500/19 | B142: հաղորդակցման մալուխներ հատուկ կիրառման համար | C142: ԳՀ | D142: մետր | E142: 900 | F142: -89.44 | G142: =+E142*F142/1000-1922.4 -> -2002.896
A143: 32571500/8 | B143: հաղորդակցման մալուխներ հատուկ կիրառման համար | C143: ԳՀ | D143: մետր | G143: -8010
A144: 32571500/9 | B144: հաղորդակցման մալուխներ հատուկ կիրառման համար | C144: ԳՀ | D144: մետր | G144: -8010
A145: 35821100/1 | B145: ՀՀ զինանշան | C145: ԳՀ | D145: հատ | G145: -22.22979
A146: 35821300/1 | B146: դրոշակաձող | C146: ԳՀ | D146: հատ | G146: -42.00009
A147: 35821400/1 | B147: դրոշներ | C147: ԳՀ | D147: հատ | G147: -2
A148: 37431210/1 | B148: ցատկապարան | C148: ԳՀ | D148: հատ | G148: -207.03
A149: 37461310/1 | B149: նետման համար նախատեսված թիրախներ | C149: ԳՀ | D149: հատ | G149: -17.5
A150: 37461310/2 | B150: նետման համար նախատեսված թիրախներ | C150: ԳՀ | D150: հատ | G150: -31.8
A151: 37481200/2 | B151: սպորտային տեղեկատվության ցուցատախտակներ | C151: ԳՀ | D151: հատ | G151: -170
A152: 42631150/1 | B152: մամլիչներ | C152: ԳՀ | D152: հատ | E152: 3000 | F152: -10 | G152: =+E152*F152/1000 -> -30
A153: 44322420/2 | B153: մալուխ` Ակվվգ 19*2.5 | C153: ԳՀ | D153: մետր | E153: 410 | F153: -427 | G153: =+E153*F153/1000 -> -175.07
A154: 44322480/3 | B154: մալուխ` ՊՊՃ4*1 | C154: ԳՀ | D154: մետր | E154: 360 | F154: -958 | G154: =+E154*F154/1000 -> -344.88
A155: 44421700/9 | B155: արկղեր | C155: ԳՀ | D155: հատ | G155: -130
...

Sheet Sheet1
A1: 4239 | B1: 20939.6
A2: 4252 | B2: 4001.2
A3: 4261 | B3: 24221.5
A4: 4264 | B4: 658398.2
A5: 4267 | B5: 51113.2
A6: 4269 | B6: 58135.2
A7: 5121 | B7: 34800
A8: 5122 | B8: 30780.6
A9: 5129 | B9: 165718.2
A10: 5132 | B10: 33.2
