Workbook
Name AgencyCode: #REF!
Name AgencyCode: #REF!
Name AgencyCode: #REF!
Name AgencyName: #REF!
Name AgencyName: #REF!
Name AgencyName: #REF!
Name åû: #REF!
Name davit: #REF!
Name Functional1: #REF!
Name Functional1: #REF!
Name Functional1: #REF!
Name ggg: #REF!
Name mas: #REF!
Name mass: #REF!
Name PANature: #REF!
Name PANature: #REF!
Name PANature: #REF!
Name PAType: #REF!
Name PAType: #REF!
Name PAType: #REF!
Name Performance2: #REF!
Name Performance2: #REF!
Name Performance2: #REF!
Name PerformanceType: #REF!
Name PerformanceType: #REF!
Name PerformanceType: #REF!
Name x: #REF!
Name Հավելված: #REF!
Name Մաս: #REF!
Name շախմատիստ: #REF!

Sheet Հ1
E1: Հավելված N 1
E2: ՀՀ կառավարության 2021 թվականի
E3: ______________ ի N___Ն որոշման
B5: «ՀԱՅԱUՏԱՆԻ ՀԱՆՐԱՊԵՏՈՒԹՅԱՆ 2021 ԹՎԱԿԱՆԻ ՊԵՏԱԿԱՆ ԲՅՈՒՋԵԻ ՄԱUԻՆ» OՐԵՆՔԻ N 1 ՀԱՎԵԼՎԱԾԻ N 2 ԱՂՅՈՒՍԱԿՈՒՄ ԿԱՏԱՐՎՈՂ ՎԵՐԱԲԱՇԽՈՒՄԸ ԵՎ ՀԱՅԱՍՏԱՆԻ ՀԱՆՐԱՊԵՏՈՒԹՅԱՆ ԿԱՌԱՎԱՐՈՒԹՅԱՆ 2020 ԹՎԱԿԱՆԻ ԴԵԿՏԵՄԲԵՐԻ 30-Ի N 2215-Ն ՈՐՈՇՄԱՆ N 5 ՀԱՎԵԼՎԱԾԻ N 1 ԱՂՅՈՒՍԱԿՈՒՄ ԿԱՏԱՐՎՈՂ ՓՈՓՈԽՈՒԹՅՈՒՆՆԵՐԸ
E7: հազար դրամ
B8: Ծրագրային դասիչը | D8: Բյուջետային հատկացումների գլխավոր կարգադրիչների, ծրագրերի և միջոցառումների անվանումները | E8: Ցուցանիշների փոփոխությունը (ավելացումները նշված են դրական նշանով, իսկ նվազեցումները` փակագծերում)
B9: Ծրագիր | C9: Միջոցառում | E9: Տարի
D10: ԸՆԴԱՄԵՆԸ | E10: 0
D11: այդ թվում
D12: ՀՀ տարածքային կառավարման և ենթակառուցվածքների նախարարություն | E12: =E13 -> 11890
B13: 1212 | D13: Ծրագրի անվանումը` | E13: =+E20 -> 11890
D14: Տարածքային զարգացում
D15: Ծրագրի նպատակը`
D16: Տարածքային համաչափ զարգացման խթանում
D17: Վերջնական արդյունքի նկարագրությունը`
D18: ՀՀ համայնքների կառավարման արդյունավետության բարձրացում և տնտեսական գործունեության խթանում
D19: Ծրագրի միջոցառումներ
C20: 12017 | D20: Միջոցառման անվանումը` | E20: =-E27 -> 11890
D21: Պատերազմի արդյունքում ժամանակավորապես Հայաստանի Հանրապետությունում գտնվող քաղաքացիներին մշտական բնակության վայր տեղափոխում
D22: Միջոցառման նկարագրությունը`
D23: Ադրբեջանի կողմից սանձազերծված պատերազմի արդյունքում Արցախի Հանրապետությունից Հայաստանի Հանրապետություն ժամանակավորապես ժամանած քաղաքացիներին Արցախի Հանրապետություն ուղարկելու նպատակով` Երևանի քաղաքապետարանի և ՀՀ մարզպետարանների կողմից կազմակերպված ուղևորափոխադրումների փոխհատուցում
D24: Միջոցառման տեսակը
D25: Տրանսֆերտների տրամադրում
D26: ՀՀ կառավարություն | E26: =E27 -> -11890
B27: 1139 | D27: Ծրագրի անվանումը` | E27: =+E34 -> -11890
D28: ՀՀ կառավարության պահուստային ֆոնդ
D29: Ծրագրի նպատակը`
D30: Պետական բյուջեում չկանխատեսված, ինչպես նաեւ բյուջետային երաշխիքների ապահովման ծախսերի ֆինանսավորման ապահովում
D31: Վերջնական արդյունքի նկարագրությունը`
D32: Պահուստային ֆոնդի կառավարման արդյունավետության և թափանցիկության ապահովում
D33: Ծրագրի միջոցառումներ
C34: 11001 | D34: Միջոցառման անվանումը` | E34: =+Հ2!H21 -> -11890
D35: ՀՀ կառավարության պահուստային ֆոնդ
D36: Միջոցառման նկարագրությունը`
D37: ՀՀ պետական բյուջեում նախատեսված ելքերի լրացուցիչ ֆինանսավորման, պետական բյուջեում չկանխատեսված ելքերի, ինչպես նաև բյուջետային երաշխիքների ապահովման ելքերի ֆինանսավորման ապահովում
D38: Միջոցառման տեսակը
D39: Ծառայությունների մատուցում

Sheet Հ2
H1: Հավելված N 2
H2: ՀՀ կառավարության 2021 թվականի
H3: ______________ ի N___Ն որոշման
B5: ՀԱՅԱՍՏԱՆԻ ՀԱՆՐԱՊԵՏՈՒԹՅԱՆ ԿԱՌԱՎԱՐՈՒԹՅԱՆ 2020 ԹՎԱԿԱՆԻ ԴԵԿՏԵՄԲԵՐԻ 30-Ի N 2215-Ն ՈՐՈՇՄԱՆ NN 3 ԵՎ 4 ՀԱՎԵԼՎԱԾՆԵՐՈՒՄ ԿԱՏԱՐՎՈՂ ՓՈՓՈԽՈՒԹՅՈՒՆՆԵՐԸ
H7: հազար դրամ
B8: Գործառական դասիչը | E8: Ծրագրային դասիչը | G8: Բյուջետային հատկացումների գլխավոր կարգադրիչների, ծրագրերի, միջոցառումների և միջոցառումները կատարող պետական մարմինների անվանումները | H8: Ցուցանիշների փոփոխությունը (ավելացումները նշված են դրական նշանով, իսկ նվազեցումները` փակագծերում)
B9: Բաժին | C9: Խումբ | D9: Դաս | E9: Ծրագիր | F9: Միջոցառում | H9: Տարի
G10: ԸՆԴԱՄԵՆԸ | H10: =+H12+H31 -> 0
G11: այդ թվում
G12: ՀՀ կառավարություն | H12: =+H13 -> -11890
B13: 11 | G13: ՀԻՄՆԱԿԱՆ ԲԱԺԻՆՆԵՐԻՆ ՉԴԱՍՎՈՂ ՊԱՀՈՒՍՏԱՅԻՆ ՖՈՆԴԵՐ | H13: =+H15 -> -11890
G14: այդ թվում`
C15: 01 | G15: ՀՀ կառավարության և համայնքների պահուստային ֆոնդ | H15: =+H17 -> -11890
G16: այդ թվում`
D17: 01 | G17: ՀՀ կառավարության պահուստային ֆոնդ | H17: =+H19 -> -11890
G18: այդ թվում`
E19: 1139 | G19: ՀՀ կառավարության պահուստային ֆոնդ | H19: =+H21 -> -11890
G20: այդ թվում`
F21: 11001 | G21: ՀՀ կառավարության պահուստային ֆոնդ | H21: =+H23 -> -11890
G22: այդ թվում`
G23: ՀՀ կառավարության պահուստային ֆոնդ | H23: =+H25 -> -11890
G24: այդ թվում` ըստ կատարողների
G25: ՀՀ կառավարություն | H25: =+H28 -> -11890
G26: այդ թվում` բյուջետային ծախսերի տնտեսագիտական դասակարգման հոդվածներ | H26: =+H27 -> -11890
G27: ԸՆԴԱՄԵՆԸ ԾԱԽՍԵՐ | H27: =+H28 -> -11890
G28: ԸՆԹԱՑԻԿ ԾԱԽՍԵՐ | H28: =+H29 -> -11890
G29: ԱՅԼ ԾԱԽՍԵՐ | H29: =+H30 -> -11890
G30: Պահուստային միջոցներ | H30: =-H50 -> -11890
G31: ՀՀ տարածքային կառավարման և ենթակառուցվածքների նախարարություն | H31: =+H32 -> 11890
B32: 01 | G32: ԸՆԴՀԱՆՈՒՐ ԲՆՈՒՅԹԻ ՀԱՆՐԱՅԻՆ ԾԱՌԱՅՈՒԹՅՈՒՆՆԵՐ | H32: =H34 -> 11890
G33: այդ թվում`
C34: 08 | G34: Կառավարության տարբեր մակարդակների միջև իրականացվող ընդհանուր բնույթի տրանսֆերտներ | H34: =H36 -> 11890
G35: այդ թվում`
D36: 01 | G36: Կառավարության տարբեր մակարդակների միջև իրականացվող ընդհանուր բնույթի տրանսֆերտներ | H36: =+H38 -> 11890
G37: այդ թվում`
G38: ՀՀ տարածքային կառավարման և ենթակառուցվածքների նախարարություն | H38: =+H40 -> 11890
G39: այդ թվում`
E40: 1212 | G40: Տարածքային զարգացում | H40: =+H42 -> 11890
G41: այդ թվում`
F42: 12017 | G42: =+Հ1!D21 -> Պատերազմի արդյունքում ժամանակավորապես Հայաստանի Հանրապետությունում գտնվող քաղաքացիներին մշտական բնակության վայր տեղափոխում | H42: =+H44 -> 11890
...

Sheet Հ3
E1: Հավելված N 3
E2: ՀՀ կառավարության 2021 թվականի
E3: ______________ ի N___Ն որոշման
B5: «ՀԱՅԱՍՏԱՆԻ ՀԱՆՐԱՊԵՏՈՒԹՅԱՆ 2021 ԹՎԱԿԱՆԻ ՊԵՏԱԿԱՆ ԲՅՈՒՋԵԻ ՄԱՍԻՆ» ՕՐԵՆՔԻ N 1 ՀԱՎԵԼՎԱԾԻ N 7 ԱՂՅՈՒՍԱԿՈՒՄ ԵՎ ՀԱՅԱՍՏԱՆԻ ՀԱՆՐԱՊԵՏՈՒԹՅԱՆ ԿԱՌԱՎԱՐՈՒԹՅԱՆ 2020 ԹՎԱԿԱՆԻ ԴԵԿՏԵՄԲԵՐԻ 30-Ի N 2215-Ն ՈՐՈՇՄԱՆ N 5 ՀԱՎԵԼՎԱԾԻ N 6 ԱՂՅՈՒՍԱԿՈՒՄ ԿԱՏԱՐՎՈՂ ՓՈՓՈԽՈՒԹՅՈՒՆԸ
E7: հազար դրամ
B8: Ծրագրային դասիչը | D8: Հատկացումների տրամադրման նպատակները և բյուջետային գլխավոր կարգադրիչների, ծրագրերի, միջոցառումների և կատարող պետական մարմնի անվանումները | E8: Ցուցանիշների փոփոխությունը (ավելացումները նշված են դրական նշանով)
B9: Ծրագիր | C9: Միջոցառում | E9: Տարի
D10: Ընդամենը | E10: =+E12 -> 11890
B11: այդ թվում`
B12: ՀՀ տարածքային կառավարման և ենթակառուցվածքների նախարարություն | E12: =+E14 -> 11890
B13: այդ թվում`
B14: 1212 | C14: Տարածքային զարգացում | E14: =E15 -> 11890
C15: 12017 | D15: =+Հ2!G42 -> Պատերազմի արդյունքում ժամանակավորապես Հայաստանի Հանրապետությունում գտնվող քաղաքացիներին մշտական բնակության վայր տեղափոխում | E15: =+E16 -> 11890
D16: ՀՀ տարածքային կառավարման և ենթակառուցվածքների նախարարություն | E16: =+Հ2!H50 -> 11890

Sheet Հ4
D1: Հավելված N 4
D2: ՀՀ կառավարության 2021 թվականի
D3: ______________ ի N___Ն որոշման
A5: ՀԱՅԱՍՏԱՆԻ ՀԱՆՐԱՊԵՏՈՒԹՅԱՆ ԿԱՌԱՎԱՐՈՒԹՅԱՆ 2020 ԹՎԱԿԱՆԻ ԴԵԿՏԵՄԲԵՐԻ 30-Ի N 2215-Ն ՈՐՈՇՄԱՆ N 9 ՀԱՎԵԼՎԱԾԻ NN 9.47 ԵՎ 9.8 ԱՂՅՈՒՍԱԿՆԵՐՈՒՄ ԿԱՏԱՐՎՈՂ ՓՈՓՈԽՈՒԹՅՈՒՆՆԵՐԸ
D6: Աղյուսակ 9.47
B7: ՀՀ կառավարություն
B9: ՄԱՍ 2. ՊԵՏԱԿԱՆ ՄԱՐՄՆԻ ԳԾՈՎ ԱՐԴՅՈՒՆՔԱՅԻՆ (ԿԱՏԱՐՈՂԱԿԱՆ) ՑՈՒՑԱՆԻՇՆԵՐԸ
B11: Ծրագրի դասիչը | C11: Ծրագրի անվանումը
B12: 1139 | C12: ՀՀ կառավարության պահուստային ֆոնդ
B14: Ծրագրի միջոցառումները
B16: Ծրագրի դասիչը՝ | C16: 1139 | D16: Ցուցանիշների փոփոխությունը (նվազեցումները նշված են փակագծերում)
B17: Միջոցառման դասիչը՝ | C17: 11001 | D17: Տարի
B18: Միջոցառման անվանումը՝ | C18: ՀՀ կառավարության պահուստային ֆոնդ
B19: Նկարագրությունը՝ | C19: ՀՀ պետական բյուջեում նախատեսված ելքերի լրացուցիչ ֆինանսավորման, պետական բյուջեում չկանխատեսված ելքերի, ինչպես նաև բյուջետային երաշխիքների ապահովման ելքերի ֆինանսավորման ապահովում
B20: Միջոցառման տեսակը՝ | C20: Ծառայությունների մատուցում
C21: Արդյունքի չափորոշիչներ
B22: Միջոցառման վրա կատարվող ծախսը (հազար դրամ) | D22: =-D42 -> -11890
D24: Աղյուսակ 9.8
B25: ՀՀ տարածքային կառավարման և ենթակառուցվածքների նախարարություն
B27: ՄԱՍ 2. ՊԵՏԱԿԱՆ ՄԱՐՄՆԻ ԳԾՈՎ ԱՐԴՅՈՒՆՔԱՅԻՆ (ԿԱՏԱՐՈՂԱԿԱՆ) ՑՈՒՑԱՆԻՇՆԵՐԸ
B29: Ծրագրի դասիչը | C29: Ծրագրի անվանումը
B30: 1212 | C30: Տարածքային զարգացում
B32: Ծրագրի միջոցառումները
B33: Ծրագրի դասիչը` | C33: 1212 | D33: Ցուցանիշների փոփոխությունը (ավելացումները նշված են դրական նշանով)
B34: Միջոցառման դասիչը` | C34: 12017 | D34: Տարի
B35: Միջոցառման անվանումը` | C35: =+Հ1!D21 -> Պատերազմի արդյունքում ժամանակավորապես Հայաստանի Հանրապետությունում գտնվող քաղաքացիներին մշտական բնակության վայր տեղափոխում
B36: Նկարագրությունը` | C36: =+Հ1!D23 -> Ադրբեջանի կողմից սանձազերծված պատերազմի արդյունքում Արցախի Հանրապետությունից Հայաստանի Հանրապետություն ժամանակավորապես ժամանած քաղաքացիներին Արցախի Հանրապետություն ուղարկելու նպատակով` Երևանի քաղաքապետարանի և ՀՀ մարզպետարանների կողմից կազմակերպված ուղևորափոխադրումների փոխհատուցում
B37: Միջոցառման տեսակը` | C37: Տրանսֆերտների տրամադրում
B38: Շահառուների ընտրության չափանիշները` | C38: Մասնագիտացված միավոր
B39: Արդյունքի չափորոշիչներ
B40: Տեղափոխված ուղևորների քանակ, մարդ | D40: 1793
B41: Երթերի քանակ, հատ | D41: 41
B42: Միջոցառման վրա կատարվող ծախսը (հազար դրամ) | D42: 11890

Sheet Հ5
D1: Հավելված N 5
D2: ՀՀ կառավարության 2021 թվականի
D3: ______________ ի N___Ն որոշման
A5: ՀԱՅԱՍՏԱՆԻ ՀԱՆՐԱՊԵՏՈՒԹՅԱՆ ԿԱՌԱՎԱՐՈՒԹՅԱՆ 2020 ԹՎԱԿԱՆԻ ԴԵԿՏԵՄԲԵՐԻ 30-Ի N 2215-Ն ՈՐՈՇՄԱՆ N 9.1 ՀԱՎԵԼՎԱԾԻ NN 9.1.58 ԵՎ 9.1.8 ԱՂՅՈՒՍԱԿՆԵՐՈՒՄ ԿԱՏԱՐՎՈՂ ՓՈՓՈԽՈՒԹՅՈՒՆՆԵՐԸ
D6: Աղյուսակ 9.1.58
B7: ՀՀ կառավարություն
B9: ՄԱՍ 1. ՊԵՏԱԿԱՆ ՄԱՐՄՆԻ ԳԾՈՎ ԱՐԴՅՈՒՆՔԱՅԻՆ (ԿԱՏԱՐՈՂԱԿԱՆ) ՑՈՒՑԱՆԻՇՆԵՐԸ
B11: Ծրագրի դասիչը | C11: Ծրագրի անվանումը
B12: 1139 | C12: ՀՀ կառավարության պահուստային ֆոնդ
B14: Ծրագրի միջոցառումները
B16: Ծրագրի դասիչը` | C16: 1139 | D16: Ցուցանիշների փոփոխությունը (նվազեցումները նշված են փակագծերում)
B17: Միջոցառման դասիչը` | C17: 11001 | D17: Տարի
B18: Միջոցառման անվանումը` | C18: ՀՀ կառավարության պահուստային ֆոնդ
B19: Նկարագրությունը` | C19: ՀՀ պետական բյուջեում նախատեսված ելքերի լրացուցիչ ֆինանսավորման, պետական բյուջեում չկանխատեսված ելքերի, ինչպես նաև բյուջետային երաշխիքների ապահովման ելքերի ֆինանսավորման ապահովում
B20: Միջոցառման տեսակը` | C20: Ծառայությունների մատուցում
C21: Արդյունքի չափորոշիչներ
B22: Միջոցառման վրա կատարվող ծախսը (հազար դրամ) | D22: =-D41 -> -11890
D24: Աղյուսակ 9.1.8
B25: ՀՀ տարածքային կառավարման և ենթակառուցվածքների նախարարություն
B26: ՄԱՍ 1. ՊԵՏԱԿԱՆ ՄԱՐՄՆԻ ԳԾՈՎ ԱՐԴՅՈՒՆՔԱՅԻՆ (ԿԱՏԱՐՈՂԱԿԱՆ) ՑՈՒՑԱՆԻՇՆԵՐԸ
B28: Ծրագրի դասիչը | C28: Ծրագրի անվանումը
B29: 1212 | C29: Տարածքային զարգացում
B31: Ծրագրի միջոցառումները
B32: Ծրագրի դասիչը` | C32: 1212 | D32: Ցուցանիշների փոփոխությունը (ավելացումները նշված են դրական նշանով)
B33: Միջոցառման դասիչը` | C33: 12017 | D33: Տարի
B34: Միջոցառման անվանումը` | C34: Պատերազմի արդյունքում ժամանակավորապես Հայաստանի Հանրապետությունում գտնվող քաղաքացիներին մշտական բնակության վայր տեղափոխում
B35: Նկարագրությունը` | C35: Ադրբեջանի կողմից սանձազերծված պատերազմի արդյունքում Արցախի Հանրապետությունից Հայաստանի Հանրապետություն ժամանակավորապես ժամանած քաղաքացիներին Արցախի Հանրապետություն ուղարկելու նպատակով` Երևանի քաղաքապետարանի և ՀՀ մարզպետարանների կողմից կազմակերպված ուղևորափոխադրումների փոխհատուցում
B36: Միջոցառման տեսակը` | C36: Տրանսֆերտների տրամադրում
B37: Շահառուների ընտրության չափանիշները` | C37: Մասնագիտացված միավոր
B38: Արդյունքի չափորոշիչներ
B39: Տեղափոխված ուղևորների քանակ, մարդ | D39: =+Հ4!D40 -> 1793
B40: Երթերի քանակ, հատ | D40: =+Հ4!D41 -> 41
B41: Միջոցառման վրա կատարվող ծախսը (հազար դրամ) | D41: =+Հ4!D42 -> 11890
