Workbook

Sheet 1
D1: Հավելված N 1
D2: ՀՀ կառավարության 2021 թվականի
D3: -ի N -Ն որոշման
A4: «ՀԱՅԱՍՏԱՆԻ ՀԱՆՐԱՊԵՏՈՒԹՅԱՆ 2021 ԹՎԱԿԱՆԻ ՊԵՏԱԿԱՆ ԲՅՈՒՋԵԻ ՄԱՍԻՆ» ՕՐԵՆՔԻ N 1 ՀԱՎԵԼՎԱԾԻ N 2 ԱՂՅՈՒՍԱԿՈՒՄ ԿԱՏԱՐՎՈՂ ՎԵՐԱԲԱՇԽՈՒՄԸ ԵՎ ԼՐԱՑՈՒՄՆԵՐԸ, ՀԱՅԱՍՏԱՆԻ ՀԱՆՐԱՊԵՏՈՒԹՅԱՆ ԿԱՌԱՎԱՐՈՒԹՅԱՆ 2020 ԹՎԱԿԱՆԻ ԴԵԿՏԵՄԲԵՐԻ 30-Ի N 2215-Ն ՈՐՈՇՄԱՆ N 5 ՀԱՎԵԼՎԱԾԻ N 1 ԱՂՅՈՒՍԱԿՈՒՄ ԿԱՏԱՐՎՈՂ ՓՈՓՈԽՈՒԹՅՈՒՆՆԵՐԸ ԵՎ ԼՐԱՑՈՒՄՆԵՐԸ
D6: (հազ. դրամ)
A7: Ծրագրային դասիչը | C7: Բյուջետային գլխավոր կարգադրիչների, ծրագրերի և միջոցառումների անվանումները | D7: Ցուցանիշների փոփոխությունը (ավելացումները նշված են դրական նշանով, իսկ նվազեցումները՝ փակագծերում)
A8: Ծրագիր | B8: Միջոցառում | D8: Տարի
C9: ԸՆԴԱՄԵՆԸ | D9: =D10+D43 -> 0
C10: ՀՀ տարածքային կառավարման և ենթակառուցվածքների նախարարություն | D10: =D11+D30 -> 0
A11: 1004 | C11: Ծրագրի անվանումը` | D11: =D24+D18 -> -15998.7
C12: Ոռոգման համակարգի առողջացում
C13: Ծրագրի նպատակը`
C14: Ոռոգման ծառայությունների հասանելիության և մատչելիության ապահովում
C15: Վերջնական արդյունքի նկարագրությունը`
C16: Ոռոգման ջրի մատակարարման արդյունավետության և հասանելիության բարելավում՝ կորուստների կրճատում
A17: Ծրագրի միջոցառումներ
B18: 12003 | C18: Միջոցառման անվանումը` | D18: 4810
C19: Աջակցություն ոռոգման համակարգերի հիմնանորոգմանը
C20: Միջոցառման նկարագրությունը`
C21: Աջակցություն ոռոգման համակարգերի հիմնանորոգման նպատակով իրականացվող միջոցառումներին
C22: Միջոցառման տեսակը
C23: Տրանսֆերտների տրամադրում
B24: 31007 | C24: Միջոցառման անվանումը` | D24: =-(D18+D37) -> -20808.7
C25: Ջրային տնտեսության հիդրոտեխնիկական սարքավորումների տեղադրման աշխատանքներ
C26: Միջոցառման նկարագրությունը`
C27: Ոռոգման համակարգերի ջրանցքների բաժանարար կետերը SCADA համակարգով հագեցած ջրաչափական սարքավորումներով կահավորում
C28: Միջոցառման տեսակը
C29: Պետական մարմինների կողմից օգտագործվող ոչ ֆինանսական ակտիվների հետ գործառնություններ
A30: 1109 | C30: Ծրագրի անվանումը` | D30: =D37 -> 15998.7
C31: Ջրային տնտեսության ոլորտում ծրագրերի համակարգում և մոնիտորինգ
C32: Ծրագրի նպատակը`
C33: Ջրային տնտեսության ոլորտում պետական արդյունավետ ծրագրերի մշակման և իրականացման ապահովում
C34: Վերջնական արդյունքի նկարագրությունը`
C35: Ջրային տնտեսության ոլորտում իրականացվող ծրագրերի ազդեցության և արդյունավետության բարելավում
A36: Ծրագրի միջոցառումներ
B37: 31001 | C37: Միջոցառման անվանումը` | D37: 15998.7
C38: Ջրային կոմիտեի տեխնիկական հագեցվածության բարելավում
C39: Միջոցառման նկարագրությունը`
C40: Ջրային կոմիտեի աշխատանքային պայմանների բարելավման համար վարչական սարքավորումների ձեռքբերում
C41: Միջոցառման տեսակը
...

Sheet 2
A1: Հավելված N 2
A2: ՀՀ կառավարության 2021 թվականի
A3: -ի N -Ն որոշման
A4: «ՀԱՅԱՍՏԱՆԻ ՀԱՆՐԱՊԵՏՈՒԹՅԱՆ 2021 ԹՎԱԿԱՆԻ ՊԵՏԱԿԱՆ ԲՅՈՒՋԵԻ ՄԱՍԻՆ» ՕՐԵՆՔԻ N 1 ՀԱՎԵԼՎԱԾԻ N 3 ԱՂՅՈՒՍԱԿՈՒՄ ԿԱՏԱՐՎՈՂ ՓՈՓՈԽՈՒԹՅՈՒՆՆԵՐԸ ԵՎ ԼՐԱՑՈՒՄՆԵՐԸ
G5: (հազ. դրամ)
A6: Ծրագրային դասիչ | C6: Բյուջետային գլխավոր կարգադրիչների, ծրագրերի, միջոցառումների և ուղղությունների անվանումները | D6: Ցուցանիշների փոփոխությունը (ավելացումները նշված են դրական նշանով, իսկ նվազեցումները՝ փակագծերում)
D7: Ընդամենը, | E7: այդ թվում՝
A8: Ծրագիր | B8: Միջոցառում | E8: Կառուցման աշխատանքներ | F8: Վերակառուցման, վերանորոգման և վերականգնման աշխատանքներ | G8: Նախագծահե- տազոտական, գեոդեզիա- քարտեզագրա- կան աշխա- տանքներ | H8: Ոչ ֆինանսական այլ ակտիվների ձեռքբերում
C9: ԸՆԴԱՄԵՆԸ | D9: =SUM(E9:H9) -> -4810 | E9: =E11 -> -20808.7 | F9: =F11 -> 0 | G9: =G11 -> 0 | H9: =H11 -> 15998.7
C10: այդ թվում՝
C11: ՀՀ ՏԱՐԱԾՔԱՅԻՆ ԿԱՌԱՎԱՐՄԱՆ ԵՎ ԵՆԹԱԿԱՌՈՒՑՎԱԾՔՆԵՐԻ ՆԱԽԱՐԱՐՈՒԹՅՈՒՆ | D11: =SUM(E11:H11) -> -4810 | E11: =E13+E14 -> -20808.7 | F11: =F13+F14 -> 0 | G11: =G13+G14 -> 0 | H11: =H13+H14 -> 15998.7
C12: այդ թվում`
A13: 1004 | B13: 31007 | C13: Ջրային տնտեսության հիդրոտեխնիկական սարքավորումների տեղադրման աշխատանքներ | D13: =SUM(E13:H13) -> -20808.7 | E13: ='1'!D24 -> -20808.7
A14: 1109 | B14: 31001 | C14: Ջրային կոմիտեի տեխնիկական հագեցվածության բարելավում | D14: =SUM(E14:H14) -> 15998.7 | H14: ='1'!D37 -> 15998.7

Sheet 3
G1: Հավելված N3
A2: ՀՀ կառավարության 2021 թվականի
A3: -ի N -Ն որոշման
A4: ՀԱՅԱՍՏԱՆԻ ՀԱՆՐԱՊԵՏՈՒԹՅԱՆ ԿԱՌԱՎԱՐՈՒԹՅԱՆ 2020 ԹՎԱԿԱՆԻ ԴԵԿՏԵՄԲԵՐԻ 30-Ի N 2215-Ն ՈՐՈՇՄԱՆ N 3 ԵՎ N 4 ՀԱՎԵԼՎԱԾՆԵՐՈՒՄ ԿԱՏԱՐՎՈՂ ՓՈՓՈԽՈՒԹՅՈՒՆՆԵՐԸ ԵՎ ԼՐԱՑՈՒՄՆԵՐԸ
G6: (հազ. դրամ)
A7: Գործառական դասիչը | D7: Ծրագրային դասիչը | F7: Բյուջետային ծախսերի գործառական դասակարգման բաժինների, խմբերի և դասերի, բյուջետային ծրագրերի միջոցառումների, բյուջետային հատկացումների գլխավոր կարգադրիչների անվանումները | G7: Ցուցանիշների փոփոխությունը (ավելացումները նշված են դրական նշանով, իսկ նվազեցումները՝ փակագծերում)
G8: Տարի
A9: Բաժին | B9: Խումբ | C9: Դաս | D9: Ծրագիր | E9: Միջոցառում
F10: ԸՆԴԱՄԵՆԸ ԾԱԽՍԵՐ | G10: =G12+G58+G39 -> 0
F11: այդ թվում`
A12: 04 | F12: ՏՆՏԵՍԱԿԱՆ ՀԱՐԱԲԵՐՈՒԹՅՈՒՆՆԵՐ | G12: =G14 -> -15998.7
F13: այդ թվում`
B14: 02 | F14: Գյուղատնտեսություն, անտառային տնտեսություն, ձկնորսություն և որսորդություն | G14: =G16 -> -15998.7
F15: այդ թվում`
C16: 04 | F16: Ոռոգում | G16: =G18 -> -15998.7
F17: այդ թվում`
F18: ՀՀ տարածքային կառավարման և ենթակառուցվածքների նախարարություն | G18: =G20 -> -15998.7
F19: այդ թվում`
D20: 1004 | F20: Ոռոգման համակարգի առողջացում | G20: =G30+G22 -> -15998.7
F21: այդ թվում`
E22: 12003 | F22: Աջակցություն ոռոգման համակարգերի հիմնանորոգմանը | G22: =G24 -> 4810
F23: այդ թվում` ըստ կատարողների
F24: ՀՀ տարածքային կառավարման և ենթակառուցվածքների նախարարության ջրային կոմիտե | G24: =G26 -> 4810
F25: այդ թվում` բյուջետային ծախսերի տնտեսագիտական դասակարգման հոդվածներ
F26: ԸՆԴԱՄԵՆԸ ԾԱԽՍԵՐ | G26: =G27 -> 4810
F27: ԸՆԹԱՑԻԿ ԾԱԽՍԵՐ | G27: =G28 -> 4810
F28: ԴՐԱՄԱՇՆՈՐՀՆԵՐ | G28: =G29 -> 4810
F29: - Այլ կապիտալ դրամաշնորհներ | G29: ='1'!D18 -> 4810
E30: 31007 | F30: Ջրային տնտեսության հիդրոտեխնիկական սարքավորումների տեղադրման աշխատանքներ | G30: =G32 -> -20808.7
F31: այդ թվում` ըստ կատարողների
F32: ՀՀ տարածքային կառավարման և ենթակառուցվածքների նախարարության ջրային կոմիտե | G32: =G34 -> -20808.7
F33: այդ թվում` բյուջետային ծախսերի տնտեսագիտական դասակարգման հոդվածներ
F34: ԸՆԴԱՄԵՆԸ ԾԱԽՍԵՐ | G34: =G35 -> -20808.7
F35: ՈՉ ՖԻՆԱՆՍԱԿԱՆ ԱԿՏԻՎՆԵՐԻ ԳԾՈՎ ԾԱԽՍԵՐ | G35: =G36 -> -20808.7
F36: ՀԻՄՆԱԿԱՆ ՄԻՋՈՑՆԵՐ | G36: =G37 -> -20808.7
F37: ՇԵՆՔԵՐ ԵՎ ՇԻՆՈՒԹՅՈՒՆՆԵՐ | G37: =G38 -> -20808.7
F38: - Շենքերի և շինությունների շինարարություն | G38: ='1'!D24 -> -20808.7
A39: 06 | F39: ԲՆԱԿԱՐԱՆԱՅԻՆ ՇԻՆԱՐԱՐՈՒԹՅՈՒՆ ԵՎ ԿՈՄՈՒՆԱԼ ԾԱՌԱՅՈՒԹՅՈՒՆՆԵՐ | G39: =G41 -> 15998.7
F40: այդ թվում`
B41: 03 | F41: Ջրամատակարարում | G41: =G43 -> 15998.7
...

Sheet 4
A1: Հավելված N 4
A2: ՀՀ կառավարության 2021 թվականի
A3: -ի N -Ն որոշման
A4: ՀԱՅԱՍՏԱՆԻ ՀԱՆՐԱՊԵՏՈՒԹՅԱՆ ԿԱՌԱՎԱՐՈՒԹՅԱՆ 2020 ԹՎԱԿԱՆԻ ԴԵԿՏԵՄԲԵՐԻ 30-Ի N 2215-Ն ՈՐՈՇՄԱՆ N 5 ՀԱՎԵԼՎԱԾԻ N 2 ԱՂՅՈՒՍԱԿՈՒՄ ԿԱՏԱՐՎՈՂ ՓՈՓՈԽՈՒԹՅՈՒՆՆԵՐԸ ԵՎ ԼՐԱՑՈՒՄՆԵՐԸ
D5: (հազ. դրամ)
A6: Ծրագրային դասիչ | C6: Բյուջետային գլխավոր կարգադրիչների, ծրագրերի, միջոցառումների, միջոցառումները կատարող պետական մարմինների և ուղղությունների անվանումները | D6: Ցուցանիշների փոփոխությունը (ավելացումները նշված են դրական նշանով, իսկ նվազեցումները` փակագծերում)
D7: Տարի
A8: Ծրագիր | B8: Միջոցառում
C9: ԸՆԴԱՄԵՆԸ | D9: =D11 -> -4810
C10: այդ թվում՝
C11: ՀՀ ՏԱՐԱԾՔԱՅԻՆ ԿԱՌԱՎԱՐՄԱՆ ԵՎ ԵՆԹԱԿԱՌՈՒՑՎԱԾՔՆԵՐԻ ՆԱԽԱՐԱՐՈՒԹՅՈՒՆ | D11: =D13+D16 -> -4810
C12: այդ թվում`
A13: 1004 | B13: 31007 | C13: ='2'!C13 -> Ջրային տնտեսության հիդրոտեխնիկական սարքավորումների տեղադրման աշխատանքներ | D13: =D15 -> -20808.7
C14: այդ թվում` ըստ կատարողների
C15: ՀՀ տարածքային կառավարման և ենթակառուցվածքների նախարարության ջրային կոմիտե | D15: ='2'!E13 -> -20808.7
A16: 1109 | B16: 31001 | C16: Ջրային կոմիտեի տեխնիկական հագեցվածության բարելավում | D16: =D18 -> 15998.7
C17: այդ թվում` ըստ կատարողների
C18: ՀՀ տարածքային կառավարման և ենթակառուցվածքների նախարարության ջրային կոմիտե | D18: ='2'!H14 -> 15998.7

Sheet 5
A1: Հավելված N 5
A2: ՀՀ կառավարության 2021 թվականի
A3: -ի N -Ն որոշման
A5: ՀԱՅԱՍՏԱՆԻ ՀԱՆՐԱՊԵՏՈՒԹՅԱՆ ԿԱՌԱՎԱՐՈՒԹՅԱՆ 2020 ԹՎԱԿԱՆԻ ԴԵԿՏԵՄԲԵՐԻ 30-Ի N 2215-Ն ՈՐՈՇՄԱՆ N 5 ՀԱՎԵԼՎԱԾԻ N 8 ԱՂՅՈՒՍԱԿՈՒՄ ԿԱՏԱՐՎՈՂ ՓՈՓՈԽՈՒԹՅՈՒՆՆԵՐԸ ԵՎ ԼՐԱՑՈՒՄՆԵՐԸ
H7: (հազ. դրամ)
B8: Ծրագրային դասիչը | D8: Բյուջետային հատկացումների գլխավոր կարգադրիչների, ծրագրերի, միջոցառումների, ծախսային ուղղությունների անվանումները | G8: Միջոցառումները կատարող պետական մարմինների և դրամաշնորհ ստացող տնտեսվարող սուբյեկտների անվանումները | H8: Տարի
B9: Ծրագիր | C9: Միջոցառում | H9: Ցուցանիշների փոփոխությունը (ավելացումները նշված են դրական նշանով)
D10: ԸՆԴԱՄԵՆԸ | H10: =H11 -> 4810
B11: ՀՀ տարածքային կառավարման և ենթակառուցվածքների նախարարություն | H11: =H12 -> 4810
B12: 1004 | D12: Ոռոգման համակարգի առողջացում | H12: =H13 -> 4810
C13: 12003 | D13: Աջակցություն ոռոգման համակարգերի հիմնանորոգմանը | G13: ՀՀ տարածքային կառավարման և ենթակառուցվածքների նախարարության ջրային կոմիտե | H13: =H15 -> 4810
E14: այդ թվում՝ ըստ ուղղությունների
G15: «Տավուշ» ՋՕԸ, այդ թվում | H15: =SUM(H16) -> 4810
G16: «Զեյթուն» N1 ջ/կայանի ճնշումային խողովակաշարի նորոգում | H16: 4810

Sheet 6-1
C1: Հավելված N 6
C2: ՀՀ կառավարության 2021 թվականի
C3: -ի N -Ն որոշման
C4: Աղյուսակ 1
A5: ՀԱՅԱՍՏԱՆԻ ՀԱՆՐԱՊԵՏՈՒԹՅԱՆ ԿԱՌԱՎԱՐՈՒԹՅԱՆ 2020 ԹՎԱԿԱՆԻ ԴԵԿՏԵՄԲԵՐԻ 30-Ի N 2215-Ն ՈՐՈՇՄԱՆ N 9 ՀԱՎԵԼՎԱԾԻ N 9.8 ԵՎ N 9.47 ԱՂՅՈՒՍԱԿՆԵՐՈՒՄ ԿԱՏԱՐՎՈՂ ՓՈՓՈԽՈՒԹՅՈՒՆՆԵՐԸ ԵՎ ԼՐԱՑՈՒՄՆԵՐԸ
C7: Աղյուսակ 9.8
A8: ՀՀ տարածքային կառավարման և ենթակառուցվածքների նախարարություն
A10: ՄԱՍ 2. ՊԵՏԱԿԱՆ ՄԱՐՄՆԻ ԳԾՈՎ ԱՐԴՅՈՒՆՔԱՅԻՆ (ԿԱՏԱՐՈՂԱԿԱՆ) ՑՈՒՑԱՆԻՇՆԵՐԸ
A11: Ծրագրի դասիչը | B11: Ծրագրի անվանումը
A12: 1004 | B12: Ոռոգման համակարգի առողջացում
A13: Ծրագրի միջոցառումները
A15: Ծրագրի դասիչը` | B15: 1004 | C15: Ցուցանիշների փոփոխությունը (ավելացումները նշված են դրական նշանով)
A17: Միջոցառման դասիչը` | B17: 12003 | C17: Տարի
A18: Միջոցառման անվանումը` | B18: Աջակցություն ոռոգման համակարգերի հիմնանորոգմանը
A19: Նկարագրությունը` | B19: Աջակցություն ոռոգման համակարգերի հիմնանորոգման նպատակով իրականացվող միջոցառումներին
A20: Միջոցառման տեսակը` | B20: Տրանսֆերտների տրամադրում
A21: Ակտիվն օգտագործող կազմակերպության(ների) անվանում(ները)՛ | B21: «ՋՕԸ»- եր
A22: Արդյունքի չափորոշիչներ
A23: Դ-700 մմ ճնշումային խողովակաշարի փոխարինում նորով, գծմ | C23: 41
A24: Միջոցառման վրա կատարվող ծախսը (հազար դրամ) | C24: ='1'!D18 -> 4810
A29: Ծրագրի դասիչը` | B29: 1004 | C29: Ցուցանիշների փոփոխությունը (նվազեցումները նշված են փակագծերում)
A30: Միջոցառման դասիչը` | B30: 31007 | C30: Տարի
A31: Միջոցառման անվանումը` | B31: Ջրային տնտեսության հիդրոտեխնիկական սարքավորումների տեղադրման աշխատանքներ
A32: Նկարագրությունը` | B32: Ոռոգման համակարգերի ջրանցքների բաժանարար կետերը SCADA համակարգով հագեցած ջրաչափական սարքավորումներով կահավորում
A33: Միջոցառման տեսակը` | B33: Պետական մարմինների կողմից օգտագործվող ոչ ֆինանսական ակտիվների հետ գործառնություններ
A34: Միջոցառումն իրականացնողի անվանումը | B34: ՀՀ ՏԿԵՆ Ջրային կոմիտե
A35: Արդյունքի չափորոշիչներ
A36: Ջրաչափական սարքավորումների քանակը, հատ | C36: -77
A37: Միջոցառման վրա կատարվող ծախսը (հազար դրամ) | C37: ='1'!D24 -> -20808.7
A39: Ծրագրի դասիչը | B39: Ծրագրի անվանումը
A40: 1109 | B40: Ջրային տնտեսության ոլորտում ծրագրերի համակարգում և մոնիտորինգ
A41: Ծրագրի միջոցառումները
A42: Ծրագրի դասիչը` | B42: 1109 | C42: Ցուցանիշների փոփոխությունը (ավելացումները նշված են դրական նշանով)
A43: Միջոցառման դասիչը` | B43: 31001 | C43: Տարի
A44: Միջոցառման անվանումը` | B44: Ջրային կոմիտեի տեխնիկական հագեցվածության բարելավում
A45: Նկարագրությունը` | B45: Ջրային կոմիտեի համար համակարգչային տեխնիկայի և գրասենյակային գույքի ձեռքբերում
A46: Միջոցառման տեսակը` | B46: Պետական մարմինների կողմից օգտագործվող ոչ ֆինանսական ակտիվների հետ գործառնություններ
A47: Միջոցառումն իրականացնողի անվանումը | B47: ՀՀ ՏԿԵՆ Ջրային կոմիտե
A48: Արդյունքի չափորոշիչներ
A49: Համակարգիչ, հատ | C49: 35
...

Sheet 6-2
C2: Աղյուսակ 2
A3: ՀԱՅԱՍՏԱՆԻ ՀԱՆՐԱՊԵՏՈՒԹՅԱՆ ԿԱՌԱՎԱՐՈՒԹՅԱՆ 2020 ԹՎԱԿԱՆԻ ԴԵԿՏԵՄԲԵՐԻ 30-Ի N 2215-Ն ՈՐՈՇՄԱՆ N 9.1 ՀԱՎԵԼՎԱԾԻ N 9.1.26 ԵՎ N 9.1.58 ԱՂՅՈՒՍԱԿՆԵՐՈՒՄ ԿԱՏԱՐՎՈՂ ՓՈՓՈԽՈՒԹՅՈՒՆՆԵՐԸ ԵՎ ԼՐԱՑՈՒՄՆԵՐԸ
C4: Աղյուսակ 9.1.26
A5: ՀՀ տարածքային կառավարման և ենթակառուցվածքների նախարարության ջրային կոմիտե
A8: ՄԱՍ 1. ՊԵՏԱԿԱՆ ՄԱՐՄՆԻ ԳԾՈՎ ԱՐԴՅՈՒՆՔԱՅԻՆ (ԿԱՏԱՐՈՂԱԿԱՆ) ՑՈՒՑԱՆԻՇՆԵՐԸ
A9: Ծրագրի դասիչը | B9: Ծրագրի անվանումը
A10: 1004 | B10: Ոռոգման համակարգի առողջացում
A11: Ծրագրի միջոցառումները
A13: Ծրագրի դասիչը` | B13: 1004 | C13: Ցուցանիշների փոփոխությունը (ավելացումները նշված են դրական նշանով)
A15: Միջոցառման դասիչը` | B15: 12003 | C15: Տարի
A16: Միջոցառման անվանումը` | B16: Աջակցություն ոռոգման համակարգերի հիմնանորոգմանը
A17: Նկարագրությունը` | B17: Աջակցություն ոռոգման համակարգերի հիմնանորոգման նպատակով իրականացվող միջոցառումներին
A18: Միջոցառման տեսակը` | B18: Տրանսֆերտների տրամադրում
A19: Ակտիվն օգտագործող կազմակերպության(ների) անվանում(ները)՛ | B19: «ՋՕԸ»- եր
A20: Արդյունքի չափորոշիչներ
A21: Դ-700 մմ ճնշումային խողովակաշարի փոխարինում նորով, գծմ | C21: 41
A22: Միջոցառման վրա կատարվող ծախսը (հազար դրամ) | C22: ='6-1'!C24 -> 4810
A25: Ծրագրի դասիչը` | B25: 1004 | C25: Ցուցանիշների փոփոխությունը (նվազեցումները նշված են փակագծերում)
A26: Միջոցառման դասիչը` | B26: 31007 | C26: Տարի
A27: Միջոցառման անվանումը` | B27: Ջրային տնտեսության հիդրոտեխնիկական սարքավորումների տեղադրման աշխատանքներ
A28: Նկարագրությունը` | B28: Ոռոգման համակարգերի ջրանցքների բաժանարար կետերը SCADA համակարգով հագեցած ջրաչափական սարքավորումներով կահավորում
A29: Միջոցառման տեսակը` | B29: Պետական մարմինների կողմից օգտագործվող ոչ ֆինանսական ակտիվների հետ գործառնություններ
A30: Միջոցառումն իրականացնողի անվանումը | B30: ՀՀ ՏԿԵՆ Ջրային կոմիտե
A31: Արդյունքի չափորոշիչներ
A32: Ջրաչափական սարքավորումների քանակը, հատ | C32: -77
A33: Միջոցառման վրա կատարվող ծախսը (հազար դրամ) | C33: ='6-1'!C37 -> -20808.7
A35: Ծրագրի դասիչը | B35: Ծրագրի անվանումը
A36: 1109 | B36: Ջրային տնտեսության ոլորտում ծրագրերի համակարգում և մոնիտորինգ
A37: Ծրագրի միջոցառումները
A38: Ծրագրի դասիչը` | B38: 1109 | C38: Ցուցանիշների փոփոխությունը (ավելացումները նշված են դրական նշանով)
A39: Միջոցառման դասիչը` | B39: 31001 | C39: Տարի
A40: Միջոցառման անվանումը` | B40: Ջրային կոմիտեի տեխնիկական հագեցվածության բարելավում
A41: Նկարագրությունը` | B41: Ջրային կոմիտեի համար համակարգչային տեխնիկայի և գրասենյակային գույքի ձեռքբերում
A42: Միջոցառման տեսակը` | B42: Պետական մարմինների կողմից օգտագործվող ոչ ֆինանսական ակտիվների հետ գործառնություններ
A43: Միջոցառումն իրականացնողի անվանումը | B43: ՀՀ ՏԿԵՆ Ջրային կոմիտե
A44: Արդյունքի չափորոշիչներ
A45: Համակարգիչ, հատ | C45: 35
A46: Մոնիտոր, հատ | C46: 35
A47: Ստեղնաշար, հատ | C47: 35
A48: Մկնիկ, հատ | C48: 35
...

Sheet 7
A2: Հավելված N 7
A3: ՀՀ կառավարության 2021 թվականի
A4: -ի N -Ն որոշման
A6: ՀԱՅԱՍՏԱՆԻ ՀԱՆՐԱՊԵՏՈՒԹՅԱՆ ԿԱՌԱՎԱՐՈՒԹՅԱՆ 2020 ԹՎԱԿԱՆԻ ԴԵԿՏԵՄԲԵՐԻ 30-Ի N 2215-Ն ՈՐՈՇՄԱՆ N 10 ՀԱՎԵԼՎԱԾՈՒՄ ԿԱՏԱՐՎՈՂ ՓՈՓՈԽՈՒԹՅՈՒՆՆԵՐԸ ԵՎ ԼՐԱՑՈՒՄՆԵՐԸ
A8: Կոդը | B8: Անվանումը | C8: Գնման ձևը | D8: Չափի միավորը | E8: Միավորի գինը | F8: Ցուցանիշների փոփոխությունը (ավելացումները նշված են դրական նշանով, իսկ նվազեցումները՝ փակագծերում)
F9: քանակը | G9: գումարը (հազ. դրամ)
A10: ՀՀ տարածքային կառավարման և ենթակառուցվածքների նախարարության ջրային կոմիտե | G10: =G12+G17 -> -4810
A11: Բաժին N 04 | B11: Խումբ N 02 | C11: Դաս N 04 | D11: Ոռոգում
A12: 1004 31007 | B12: Ջրային տնտեսության հիդրոտեխնիկական սարքավորումների տեղադրման աշխատանքներ | G12: =G13 -> -20808.7
B13: ՄԱՍ II ԱՇԽԱՏԱՆՔՆԵՐ | G13: =G14 -> -20808.7
A14: 45241152/1 | B14: շինարւարական աշխատանքներ | C14: ԲՄ | D14: դրամ | G14: -20808.7
A15: Բաժին N 06 | B15: Խումբ N 03 | C15: Դաս N 01 | D15: Ջրամատակարարում
B16: ՄԱՍ I ԱՊՐԱՆՔՆԵՐ | G16: =SUM(G18:G19) -> 15998.7
A17: 1109 31001 | B17: Ջրային կոմիտեի տեխնիկական հագեցվածության բարելավում | G17: =SUM(G18:G19) -> 15998.7
A18: 30211190/501 | B18: անձնական համակարգիչներ | C18: ԷԱՃ | D18: հատ | E18: 479760 | F18: 20 | G18: =E18*F18/1000 -> 9595.2
A19: 30211190/502 | B19: անձնական համակարգիչներ | C19: ԷԱՃ | D19: հատ | E19: 426900 | F19: 15 | G19: =E19*F19/1000 -> 6403.5

Sheet 8
A1: Հավելված N 8
A2: ՀՀ կառավարության 2021 թվականի
A3: -ի N -Ն որոշման
A4: ՀԱՅԱՍՏԱՆԻ ՀԱՆՐԱՊԵՏՈՒԹՅԱՆ ԿԱՌԱՎԱՐՈՒԹՅԱՆ ՖՈՆԴԻՑ ՀԱՏԿԱՑՈՒՄՆԵՐԸ
D6: (հազ. դրամ)
A7: Ծրագրային դասիչը | C7: Բյուջետային ծախսերի գործառական դասակարգման բաժինների, խմբերի և դասերի, բյուջետային ծրագրերի միջոցառումների, բյուջետային հատկացումների գլխավոր կարգադրիչների անվանումները | D7: Ցուցանիշների փոփոխությունը (ավելացումները նշված են դրական նշանով, իսկ նվազեցումները` փակագծերում)
A9: Ծրագիր | B9: Միջոցա ռում | D9: Տարի
C10: ԸՆԴԱՄԵՆԸ | D10: =D12+D24 -> 0
C11: այդ թվում`
C12: ՀՀ կառավարություն | D12: =D14 -> -20808.7
C13: այդ թվում`
A14: 1139 | C14: ՀՀ կառավարության պահուստային ֆոնդ | D14: =D16 -> -20808.7
C15: այդ թվում`
B16: 11001 | C16: ՀՀ կառավարության պահուստային ֆոնդ | D16: =D18 -> -20808.7
C17: այդ թվում` ըստ կատարողների
C18: ՀՀ կառավարություն | D18: =D23 -> -20808.7
C19: այդ թվում` բյուջետային ծախսերի տնտեսագիտական դասակարգման հոդվածներ | D19: =D20 -> -20808.7
C20: ԸՆԴԱՄԵՆԸ ԾԱԽՍԵՐ | D20: =D21 -> -20808.7
C21: ԸՆԹԱՑԻԿ ԾԱԽՍԵՐ | D21: =D22 -> -20808.7
C22: ԱՅԼ ԾԱԽՍԵՐ | D22: =D23 -> -20808.7
C23: Պահուստային միջոցներ | D23: ='1'!D57 -> -20808.7
C24: ՀՀ ՏԱՐԱԾՔԱՅԻՆ ԿԱՌԱՎԱՐՄԱՆ ԵՎ ԵՆԹԱԿԱՌՈՒՑՎԱԾՔՆԵՐԻ ՆԱԽԱՐԱՐՈՒԹՅՈՒՆ | D24: =D26+D36 -> 20808.7
C25: այդ թվում՝
A26: 1004 | C26: Ոռոգման համակարգի առողջացում | D26: =D28 -> 4810
C27: այդ թվում`
B28: 12003 | C28: Աջակցություն ոռոգման համակարգերի հիմնանորոգմանը | D28: =D30 -> 4810
C29: այդ թվում` ըստ կատարողների
C30: ՀՀ տարածքային կառավարման և ենթակառուցվածքների նախարարության ջրային կոմիտե | D30: =D32 -> 4810
C31: այդ թվում` բյուջետային ծախսերի տնտեսագիտական դասակարգման հոդվածներ
C32: ԸՆԴԱՄԵՆԸ ԾԱԽՍԵՐ | D32: =D33 -> 4810
C33: ԸՆԹԱՑԻԿ ԾԱԽՍԵՐ | D33: =D34 -> 4810
C34: ԴՐԱՄԱՇՆՈՐՀՆԵՐ | D34: =D35 -> 4810
C35: - Այլ կապիտալ դրամաշնորհներ | D35: ='1'!D18 -> 4810
A36: 1109 | C36: Ջրային տնտեսության ոլորտում ծրագրերի համակարգում և մոնիտորինգ | D36: =D38 -> 15998.7
C37: այդ թվում`
B38: 31001 | C38: Ջրային կոմիտեի տեխնիկական հագեցվածության բարելավում | D38: =D40 -> 15998.7
C39: այդ թվում` ըստ կատարողների
C40: ՀՀ տարածքային կառավարման և ենթակառուցվածքների նախարարության ջրային կոմիտե | D40: =D42 -> 15998.7
C41: այդ թվում` բյուջետային ծախսերի տնտեսագիտական դասակարգման հոդվածներ
C42: ԸՆԴԱՄԵՆԸ ԾԱԽՍԵՐ | D42: =D43 -> 15998.7
...
