Workbook
Name AgencyCode: #REF!
Name AgencyCode: #REF!
Name AgencyName: #REF!
Name AgencyName: #REF!
Name Functional1: #REF!
Name Functional1: #REF!
Name hav: #REF!
Name havelvac: #REF!
Name havelvac: #REF!
Name PANature: #REF!
Name PANature: #REF!
Name PAType: #REF!
Name PAType: #REF!
Name Performance2: #REF!
Name Performance2: #REF!
Name PerformanceType: #REF!
Name PerformanceType: #REF!
Name հավ: #REF!

Sheet 1
C1: Հավելված N 1
C2: ՀՀ կառավարության 2021 թվականի
C3: ______________ ի ___Ն որոշման
A5: «ՀԱՅԱUՏԱՆԻ ՀԱՆՐԱՊԵՏՈՒԹՅԱՆ 2021 ԹՎԱԿԱՆԻ ՊԵՏԱԿԱՆ ԲՅՈՒՋԵԻ ՄԱUԻՆ» ՀԱՅԱUՏԱՆԻ ՀԱՆՐԱՊԵՏՈՒԹՅԱՆ OՐԵՆՔԻ N 1 ՀԱՎԵԼՎԱԾԻ N 2 ԱՂՅՈՒՍԱԿՈՒՄ ԿԱՏԱՐՎՈՂ ՎԵՐԱԲԱՇԽՈՒՄԸ ԵՎ ՀԱՅԱՍՏԱՆԻ ՀԱՆՐԱՊԵՏՈՒԹՅԱՆ ԿԱՌԱՎԱՐՈՒԹՅԱՆ 2020 ԹՎԱԿԱՆԻ ԴԵԿՏԵՄԲԵՐԻ 30-Ի N 2215-Ն ՈՐՈՇՄԱՆ N 5 ՀԱՎԵԼՎԱԾԻ N 1 ԱՂՅՈՒՍԱԿՈՒՄ ԿԱՏԱՐՎՈՂ ՓՈՓՈԽՈՒԹՅՈՒՆՆԵՐԸ
C6: (հազար դրամներով)
A7: Ծրագրային դասիչը | C7: Բյուջետային հատկացումների գլխավոր կարգադրիչների, ծրագրերի և միջոցառումների անվանումները | D7: Ցուցանիշների փոփոխությունը (ավելացումները նշված են դրական նշանով, իսկ նվազեցումները՝ փակագծերում)
D8: Տարի
A9: Ծրագիր | B9: Միջոցառում
C10: Ընդամենը | D10: =+D11+D25 -> 0
C11: ՀՀ արտակարգ իրավիճակների նախարարություն | D11: =+D13 -> 237862.43
C12: Ծրագրի անվանումը՝
A13: 1028 | C13: Տեխնիկական անվտանգության կանոնակարգում | D13: =+D19 -> 237862.43
C14: Ծրագրի նպատակը՝
C15: Արտադրական վտանգավոր օբյեկտների շահագործմամբ պայմանավորված տեխնածին վթարների և դրանց հետևանքով հասարակությանը և տնտեսությանը պատճառվող վնասների ռիսկերի նվազեցում
C16: Վերջնական արդյունքի նկարագրությունը՝
C17: Տեխնածին վթարների կանխարգելում՝ տեխնածին վթարներից մահացու կամ ծանր ելքերով դեպքերի կրճատում
A18: Ծրագրի միջոցառումներ
B19: 11002 | C19: Միջոցառման անվանումը՝ | D19: 237862.43
C20: Նաիրիտ գործարան ՓԲԸ-ի անվտանգության ապահովում
C21: Միջոցառման նկարագրությունը՝
C22: «Նաիրիտ գործարան» ՓԲԸ-ի տեխնոլոգիական համակարգերում, տարողություններում և սարքավորումներում առկա քիմիական նյութերի և սարքավորումների անվտանգ պահպանություն
C23: Միջոցառման տեսակը
C24: Ծառայությունների մատուցում
B25: ՀՀ կառավարություն | D25: =+D26 -> -237862.43
A26: 1139 | C26: Ծրագրի անվանումը` | D26: =D33 -> -237862.43
C27: ՀՀ կառավարության պահուստային ֆոնդ
C28: Ծրագրի նպատակը`
C29: Պետական բյուջեում չկանխատեսված՝ ինչպես նաեւ բյուջետային երաշխիքների ապահովման ծախսերի ֆինանսավորման ապահովում
C30: Վերջնական արդյունքի նկարագրությունը`
C31: Պահուստային ֆոնդի կառավարման արդյունավետության և թափանցիկության ապահովում
C32: Ծրագրի միջոցառումներ
B33: 11001 | C33: Միջոցառման անվանումը` | D33: =-D19 -> -237862.43
C34: ՀՀ կառավարության պահուստային ֆոնդ
C35: Միջոցառման նկարագրությունը`
C36: ՀՀ պետական բյուջեում նախատեսված ելքերի լրացուցիչ ֆինանսավորման՝ պետական բյուջեում չկանխատեսված ելքերի, ինչպես նաև բյուջետային երաշխիքների ապահովման ելքերի ֆինանսավորման ապահովում
C37: Միջոցառման տեսակը
C38: Ծառայությունների մատուցում
A40: ՀԱՅԱՍՏԱՆԻ ՀԱՆՐԱՊԵՏՈՒԹՅԱՆ ՎԱՐՉԱՊԵՏԻ ԱՇԽԱՏԱԿԱԶՄԻ
A41: ՂԵԿԱՎԱՐ Ա. ՀԱՐՈՒԹՅՈՒՆՅԱՆ

Sheet 2
G1: Հավելված N2
D2: ՀՀ կառավարության 2021 թվականի
D3: ______________ ի ___Ն որոշման
A5: ՀԱՅԱՍՏԱՆԻ ՀԱՆՐԱՊԵՏՈՒԹՅԱՆ ԿԱՌԱՎԱՐՈՒԹՅԱՆ 2020 ԹՎԱԿԱՆԻ ԴԵԿՏԵՄԲԵՐԻ30-Ի N 2215-Ն ՈՐՈՇՄԱՆ N 3 ԵՎ N 4 ՀԱՎԵԼՎԱԾՆԵՐՈՒՄ ԿԱՏԱՐՎՈՂ ՓՈՓՈԽՈՒԹՅՈՒՆՆԵՐԸ ԵՎ ԼՐԱՑՈՒՄԸ
G6: հազ. դրամ
A7: Գործառական դասիչը | D7: Ծրագրային դասիչը | F7: Բյուջետային ծախսերի գործառական դասակարգման բաժինների, խմբերի և դասերի, բյուջետային ծրագրերի միջոցառումների, բյուջետային հատկացումների գլխավոր կարգադրիչների անվանումները | G7: Ցուցանիշների փոփոխությունը (ավելացումները նշված են դրական նշանով, իսկ նվազեցումները՝ փակագծերում)
G8: Տարի
A9: Բաժին | B9: Խումբ | C9: Դաս | D9: Ծրագիր | E9: Միջոցառում
F10: ԸՆԴԱՄԵՆԸ ԾԱԽՍԵՐ | G10: =+G11+G30 -> 0
F11: ՀՀ արտակարգ իրավիճակների նախարարություն | G11: =+G13 -> 237862.43
F12: այդ թվում`
A13: 04 | F13: ՏՆՏԵՍԱԿԱՆ ՀԱՐԱԲԵՐՈՒԹՅՈՒՆՆԵՐ | G13: =+G15 -> 237862.43
F14: այդ թվում`
B15: 08 | F15: Տնտեսական հարաբերությունների գծով հետազոտական և նախագծային աշխատանքներ | G15: =+G17 -> 237862.43
F16: այդ թվում`
C17: 01 | F17: Ընդհանուր բնույթի տնտեսական, առևտրային և աշխատանքի հարցերի գծով հետազոտական և նախագծային աշխատանքներ | G17: =+G19 -> 237862.43
F18: այդ թվում`
D19: 1028 | F19: Տեխնիկական անվտանգության կանոնակարգում | G19: =+G21 -> 237862.43
F20: այդ թվում`
E21: 11002 | F21: Նաիրիտ գործարան ՓԲԸ-ի անվտանգության ապահովում | G21: =+G23 -> 237862.43
F22: այդ թվում` ըստ կատարողների
F23: ՀՀ արտակարգ իրավիճակների նախարարություն | G23: =+G25 -> 237862.43
F24: այդ թվում` բյուջետային ծախսերի տնտեսագիտական դասակարգման հոդվածներ
F25: ԸՆԴԱՄԵՆԸ ԾԱԽՍԵՐ | G25: =+G26 -> 237862.43
F26: ԸՆԹԱՑԻԿ ԾԱԽՍԵՐ | G26: =+G27 -> 237862.43
F27: ԴՐԱՄԱՇՆՈՐՀՆԵՐ | G27: =+G28 -> 237862.43
F28: Ընթացիկ դրամաշնորհներ պետական հատվածի այլ մակարդակներին | G28: =+G29 -> 237862.43
F29: - Ընթացիկ դրամաշնորհներ պետական և համայնքային ոչ առևտրային կազմակերպություններին | G29: =+'1'!D11 -> 237862.43
A30: 11 | F30: ՀԻՄՆԱԿԱՆ ԲԱԺԻՆՆԵՐԻՆ ՉԴԱՍՎՈՂ ՊԱՀՈՒՍՏԱՅԻՆ ՖՈՆԴԵՐ | G30: =G32 -> -237862.43
F31: այդ թվում`
B32: 01 | F32: ՀՀ կառավարության և համայնքների պահուստային ֆոնդ | G32: =G34 -> -237862.43
F33: այդ թվում`
C34: 01 | F34: ՀՀ կառավարության պահուստային ֆոնդ | G34: =+G36 -> -237862.43
F35: ՀՀ կառավարություն
D36: 1139 | E36: 11001 | F36: ՀՀ կառավարության պահուստային ֆոնդ | G36: =G38 -> -237862.43
F37: այդ թվում` ըստ կատարողների
F38: ՀՀ կառավարություն | G38: =G40 -> -237862.43
F39: այդ թվում` բյուջետային ծախսերի տնտեսագիտական դասակարգման հոդվածներ
F40: ԸՆԴԱՄԵՆԸ ԾԱԽՍԵՐ | G40: =G41 -> -237862.43
F41: ԸՆԹԱՑԻԿ ԾԱԽՍԵՐ | G41: =G42 -> -237862.43
...

Sheet 3
B1: Հավելված N 3
B2: ՀՀ կառավարության 2021 թվականի
B3: ______________ ի ___Ն որոշման
A4: ՀԱՅԱՍՏԱՆԻ ՀԱՆՐԱՊԵՏՈՒԹՅԱՆ ԿԱՌԱՎԱՐՈՒԹՅԱՆ 2020ԹՎԱԿԱՆԻ ԴԵԿՏԵՄԲԵՐԻ 30-Ի ԹԻՎ 2215-Ն ՈՐՈՇՄԱՆ N9 ՀԱՎԵԼՎԱԾԻNN 9.19 ԵՎ 9.47 ԱՂՅՈՒՍԱԿՆԵՐՈՒՄ ԿԱՏԱՐՎՈՂ ՓՈՓՈԽՈՒԹՅՈՒՆՆԵՐԸ
A6: ՀՀ արտակարգ իրավիճակների նախարարություն
A8: ՄԱՍ 2. ՊԵՏԱԿԱՆ ՄԱՐՄՆԻ ԳԾՈՎ ԱՐԴՅՈՒՆՔԱՅԻՆ (ԿԱՏԱՐՈՂԱԿԱՆ) ՑՈՒՑԱՆԻՇՆԵՐԸ
A9: Ծրագրի դասիչը | B9: Ծրագրի անվանումը
A10: 1028 | B10: Տեխնիկական անվտանգության կանոնակարգում
A11: Ծրագրի միջոցառումները
A13: Ծրագրի դասիչը՝ | B13: 1028 | C13: Ցուցանիշների փոփոխությունը (ավելացումները նշված են դրական նշանով)
A14: Միջոցառման դասիչը՝ | B14: 11002 | C14: Տարի
A15: Միջոցառման անվանումը՝ | B15: Նաիրիտ գործարան ՓԲԸ-ի անվտանգության ապահովում
A16: Նկարագրությունը՝ | B16: Նաիրիտ գործարան ՓԲԸ-ի տեխնոլոգիական համակարգերում, տարողություններում և սարքավորումներում առկա քիմիական նյութերի և սարքավորումների անվտանգ պահպանություն
A17: Միջոցառման տեսակը՝ | B17: Ծառայությունների մատուցում
A18: Միջոցառումն իրականացնողի անվանումը | B18: Մասնագիտացված կազմակերպություններ
B19: Արդյունքի չափորոշիչներ
A20: Միջոցառման վրա կատարվող ծախսը (հազար դրամ) | C20: =+'2'!G29 -> 237862.43
B22: ՀՀ կառավարություն
A23: ՄԱՍ 2. ՊԵՏԱԿԱՆ ՄԱՐՄՆԻ ԳԾՈՎ ԱՐԴՅՈՒՆՔԱՅԻՆ (ԿԱՏԱՐՈՂԱԿԱՆ) ՑՈՒՑԱՆԻՇՆԵՐԸ
A25: Ծրագրի դասիչը | B25: Ծրագրի անվանումը
A26: 1139 | B26: ՀՀ կառավարության պահուստային ֆոնդ
A28: Ծրագրի միջոցառումները
A30: Ծրագրի դասիչը՝ | B30: 1139 | C30: Ցուցանիշների փոփոխությունը (նվազեցումները նշված են փակագծերում)
A31: Միջոցառման դասիչը՝ | B31: 11001 | C31: Տարի
A32: Միջոցառման անվանումը՝ | B32: ՀՀ կառավարության պահուստային ֆոնդ
A33: Նկարագրությունը՝ | B33: ՀՀ պետական բյուջեում նախատեսված ելքերի լրացուցիչ ֆինանսավորման՝ պետական բյուջեում չկանխատեսված ելքերի, ինչպես նաև բյուջետային երաշխիքների ապահովման ելքերի ֆինանսավորման ապահովում
A34: Միջոցառման տեսակը՝ | B34: Ծառայությունների մատուցում
B35: Արդյունքի չափորոշիչներ
A36: Միջոցառման վրա կատարվող ծախսը (հազար դրամ) | C36: =+'2'!G43 -> -237862.43
A38: ՀԱՅԱՍՏԱՆԻ ՀԱՆՐԱՊԵՏՈՒԹՅԱՆ ՎԱՐՉԱՊԵՏԻ ԱՇԽԱՏԱԿԱԶՄԻ
A39: ՂԵԿԱՎԱՐ Ա. ՀԱՐՈՒԹՅՈՒՆՅԱՆ

Sheet 4
B1: Հավելված N 4
B2: ՀՀ կառավարության 2021 թվականի
B3: ______________ ի ___Ն որոշման
A5: ՀԱՅԱՍՏԱՆԻ ՀԱՆՐԱՊԵՏՈՒԹՅԱՆ ԿԱՌԱՎԱՐՈՒԹՅԱՆ 2020ԹՎԱԿԱՆԻ ԴԵԿՏԵՄԲԵՐԻ 30-Ի ԹԻՎ 2215-Ն ՈՐՈՇՄԱՆ N9 ՀԱՎԵԼՎԱԾԻ NN 9.1.19 ԵՎ 9.1.58 ԱՂՅՈՒՍԱՆԵՐՈՒՄ ԿԱՏԱՐՎՈՂ ՓՈՓՈԽՈՒԹՅՈՒՆՆԵՐԸ
A6: ՀՀ արտակարգ իրավիճակների նախարարություն
A7: ՄԱՍ 1. ՊԵՏԱԿԱՆ ՄԱՐՄՆԻ ԳԾՈՎ ԱՐԴՅՈՒՆՔԱՅԻՆ (ԿԱՏԱՐՈՂԱԿԱՆ) ՑՈՒՑԱՆԻՇՆԵՐԸ
A10: Ծրագրի դասիչը | B10: Ծրագրի անվանումը
A11: 1028 | B11: Տեխնիկական անվտանգության կանոնակարգում
A12: Ծրագրի միջոցառումները
A14: Ծրագրի դասիչը՝ | B14: 1028 | C14: Ցուցանիշների փոփոխությունը (ավելացումները նշված են դրական նշանով)
A15: Միջոցառման դասիչը՝ | B15: 11002 | C15: Տարի
A16: Միջոցառման անվանումը՝ | B16: «Նաիրիտ գործարան» ՓԲԸ-ի անվտանգության ապահովում
A17: Նկարագրությունը՝ | B17: Նաիրիտ գործարան ՓԲԸ-ի տեխնոլոգիական համակարգերում, տարողություններում և սարքավորումներում առկա քիմիական նյութերի և սարքավորումների անվտանգ պահպանություն
A18: Միջոցառման տեսակը՝ | B18: Ծառայությունների մատուցում
A19: Միջոցառումն իրականացնողի անվանումը | B19: Մասնագիտացված կազմակերպություններ
B20: Արդյունքի չափորոշիչներ
A21: Միջոցառման վրա կատարվող ծախսը (հազար դրամ) | C21: =+'3'!C20 -> 237862.43
A23: ՀՀ կառավարություն
A24: ՄԱՍ 1. ՊԵՏԱԿԱՆ ՄԱՐՄՆԻ ԳԾՈՎ ԱՐԴՅՈՒՆՔԱՅԻՆ (ԿԱՏԱՐՈՂԱԿԱՆ) ՑՈՒՑԱՆԻՇՆԵՐԸ
A26: Ծրագրի դասիչը | B26: Ծրագրի անվանումը
A27: 1139 | B27: ՀՀ կառավարության պահուստային ֆոնդ
A29: Ծրագրի միջոցառումները
A31: Ծրագրի դասիչը՝ | B31: 1139 | C31: Ցուցանիշների փոփոխությունը (նվազեցումները նշված են փակագծերում)
A32: Միջոցառման դասիչը՝ | B32: 11001 | C32: Տարի
A33: Միջոցառման անվանումը՝ | B33: ՀՀ կառավարության պահուստային ֆոնդ
A34: Նկարագրությունը՝ | B34: ՀՀ պետական բյուջեում նախատեսված ելքերի լրացուցիչ ֆինանսավորման՝ պետական բյուջեում չկանխատեսված ելքերի, ինչպես նաև բյուջետային երաշխիքների ապահովման ելքերի ֆինանսավորման ապահովում
A35: Միջոցառման տեսակը՝ | B35: Ծառայությունների մատուցում
B36: Արդյունքի չափորոշիչներ
A37: Միջոցառման վրա կատարվող ծախսը (հազար դրամ) | C37: =+'3'!C36 -> -237862.43
A42: ՀԱՅԱՍՏԱՆԻ ՀԱՆՐԱՊԵՏՈՒԹՅԱՆ ՎԱՐՉԱՊԵՏԻ ԱՇԽԱՏԱԿԱԶՄԻ
A43: ՂԵԿԱՎԱՐ Ա. ՀԱՐՈՒԹՅՈՒՆՅԱՆ

Sheet 5
G1: Հավելված N 5
D2: ՀՀ կառավարության 2021 թվականի
D3: ______________ ի ___Ն որոշման
A5: ՀԱՅԱՍՏԱՆԻ ՀԱՆՐԱՊԵՏՈՒԹՅԱՆ ԿԱՌԱՎԱՐՈՒԹՅԱՆ 2020 ԹՎԱԿԱՆԻ ԴԵԿՏԵՄԲԵՐԻ 30-Ի N 2215-Ն ՈՐՈՇՄԱՆ N 5 ՀԱՎԵԼՎԱԾԻ N 7 ԱՂՅՈՒՍԱԿՈՒՄ ԿԱՏԱՐՎՈՂ ՓՈՓՈԽՈՒԹՅՈՒՆՆԵՐԸ ԵՎ ԼՐԱՑՈՒՄԸ
F7: (հազար դրամներով)
A8: Ծրագրային դասիչ | C8: Բյուջետային հատկացումների գլխավոր կարգադրիչների, ծրագրերի, միջոցառումների, ծախսային ուղղությունների անվանումները | F8: Միջոցառումները կատարող պետական մարմինների և դրամաշնորհ ստացող տնտեսվարող սուբյեկտների անվանումները | G8: Ցուցանիշների փոփոխությունը (ավելացումները նշված են դրական նշանով)
A9: Ծրագիր | B9: Միջոցառում
A10: 1 | B10: 2 | C10: 3 | F10: 4 | G10: 5
A11: ՀՀ արտակարգ իրավիճակների նախարարություն | G11: =+G12 -> 237862.43
A12: 1028 | B12: Տեխնիկական անվտանգության կանոնակարգում | G12: =+G13 -> 237862.43
B13: 11002 | C13: Տեխնիկական անվտանգության կանոնակարգման ծառայություններ | F13: ՀՀ արտակարգ իրավիճակների նախարարություն | G13: =+G14 -> 237862.43
F14: «Տեխնիկական անվտանգության ազգային կենտրոն» ՊՈԱԿ | G14: =+'[1]5'!C21 -> 237862.43
A16: ՀԱՅԱՍՏԱՆԻ ՀԱՆՐԱՊԵՏՈՒԹՅԱՆ ՎԱՐՉԱՊԵՏԻ ԱՇԽԱՏԱԿԱԶՄԻ
A17: ՂԵԿԱՎԱՐ Ա. ՀԱՐՈՒԹՅՈՒՆՅԱՆ
