Workbook
Name _tab10: #REF!
Name _tab10: #REF!
Name _tab11: #REF!
Name _tab11: #REF!
Name _tab12: #REF!
Name _tab12: #REF!
Name _tab13: #REF!
Name _tab13: #REF!
Name _tab14: #REF!
Name _tab14: #REF!
Name _tab15: #REF!
Name _tab15: #REF!
Name _tab16: #REF!
Name _tab16: #REF!
Name _tab17: #REF!
Name _tab17: #REF!
Name _tab18: #REF!
Name _tab18: #REF!
Name _tab19: #REF!
Name _tab19: #REF!
Name _tab20: #REF!
Name _tab20: #REF!
Name _tab21: #REF!
Name _tab21: #REF!
Name _tab22: #REF!
Name _tab22: #REF!
Name _tab23: #REF!
Name _tab23: #REF!
Name _tab24: #REF!
Name _tab24: #REF!
Name _tab5: #REF!
Name _tab5: #REF!
Name _tab6: #REF!
Name _tab6: #REF!
Name _tab7: #REF!
Name _tab7: #REF!
Name _tab8: #REF!
Name _tab8: #REF!
Name _tab9: #REF!
Name _tab9: #REF!
Name AgencyCode: #REF!
Name AgencyCode: #REF!
Name AgencyName: #REF!
Name AgencyName: #REF!
Name Functional1: #REF!
Name Functional1: #REF!
Name PANature: #REF!
Name par_count: #REF!,#REF!,#REF!,#REF!,#REF!,#REF!,#REF!,#REF!,#REF!,#REF!,#REF!,#REF!,#REF!,#REF!,#REF!
Name par_count: #REF!,#REF!,#REF!,#REF!,#REF!,#REF!,#REF!,#REF!,#REF!,#REF!,#REF!,#REF!,#REF!,#REF!,#REF!
Name par_qual: #REF!,#REF!,#REF!,#REF!,#REF!
Name par_qual: #REF!,#REF!,#REF!,#REF!,#REF!
Name par_time: #REF!,#REF!,#REF!,#REF!
Name par_time: #REF!,#REF!,#REF!,#REF!
Name par2.12s: #REF!
Name par2.12s: #REF!
Name par2.4s: #REF!,#REF!,#REF!,#REF!,#REF!,#REF!,#REF!,#REF!,#REF!,#REF!,#REF!,#REF!,#REF!,#REF!,#REF!,#REF!
Name par2.4s: #REF!,#REF!,#REF!,#REF!,#REF!,#REF!,#REF!,#REF!,#REF!,#REF!,#REF!,#REF!,#REF!,#REF!,#REF!,#REF!
Name par2.5s: #REF!,#REF!
Name par2.5s: #REF!,#REF!
Name par2.6s: #REF!,#REF!,#REF!,#REF!

Sheet 1
D1: Հավելված N1
D2: ՀՀ կառավարության 2021 թվականի
D3: ______________ ի N ___Ն որոշման
A6: «ՀԱՅԱUՏԱՆԻ ՀԱՆՐԱՊԵՏՈՒԹՅԱՆ 2021 ԹՎԱԿԱՆԻ ՊԵՏԱԿԱՆ ԲՅՈՒՋԵԻ ՄԱUԻՆ» OՐԵՆՔԻ N 1 ՀԱՎԵԼՎԱԾԻ N 2 ԱՂՅՈՒՍԱԿՈՒՄ ԿԱՏԱՐՎՈՂ ՎԵՐԱԲԱՇԽՈՒՄԸ ԵՎ ՀԱՅԱՍՏԱՆԻ ՀԱՆՐԱՊԵՏՈՒԹՅԱՆ ԿԱՌԱՎԱՐՈՒԹՅԱՆ 2020 ԹՎԱԿԱՆԻ ԴԵԿՏԵՄԲԵՐԻ 30-Ի N 2215-Ն ՈՐՈՇՄԱՆ N 5 ՀԱՎԵԼՎԱԾԻ N 1 ԱՂՅՈՒՍԱԿՈՒՄ ԿԱՏԱՐՎՈՂ ՓՈՓՈԽՈՒԹՅՈՒՆԸ ԵՎ ԼՐԱՑՈՒՄԸ
D7: հազար դրամ
A8: Ծրագրային դասիչը | C8: Բյուջետային հատկացումների գլխավոր կարգադրիչների, ծրագրերի և միջոցառումների անվանումները | D8: Ցուցանիշների փոփոխությունը (ավելացումները նշված են դրական նշանով, իսկ նվազեցումները` փակագծերում)
A9: Ծրագիր | B9: Միջոցառում | D9: Տարի
C10: ԸՆԴԱՄԵՆԸ | D10: =-E10 -> 0
C11: ՀՀ տարածքային կառավարման և ենթակառուցվածքների նախարարություն | D11: =+D12+D56+D75+D88+D101 -> 0
A12: 1157 | C12: Ծրագրի անվանումը` | D12: =+D20+D26+D32+D39+D45+D50 -> -352542.9
C13: Քաղաքային զարգացում
C14: Ծրագրի նպատակը`
C15: Քաղաքային ենթակառուցվածքների զարգացում
C16: Վերջնական արդյունքի նկարագրությունը`
C17: Քաղաքային ենթակառուցվածքների արդիականացում և բարելավում
A18: Ծրագրի միջոցառումներ
B19: 12003 | C19: Միջոցառման անվանումը`
C20: Արևելյան եվրոպայի էներգախնայողության և բնապահպանական գործընկերության ֆոնդի աջակցությամբ իրականացվող Երևանի քաղաքային լուսավորության դրամաշնորհային ծրագրի կատարման ապահովում | D20: =-10173 -> -10173
C21: Միջոցառման նկարագրությունը`
C22: ՀՀ համայնքներին քաղաքային լուսավորության ենթակառուցվածքի բարելավման համար տրամադրվող աջակցություն և ծառայություն
C23: Միջոցառման տեսակը
C24: Տրանսֆերտների տրամադրում
B25: 12006 | C25: Միջոցառման անվանումը`
C26: Եվրոպական ներդրումային բանկի աջակցությամբ իրականացվող Երևանի էներգաարդյունավետության ծրագրին պետական աջակցություն | D26: =-50000+11013.6 -> -38986.4
C27: Միջոցառման նկարագրությունը`
C28: Ծրագրի շրջանակներում հանրային շենքերում իրականացվող էներգաարդյունավետության և էներգախնայողության աշխատանքներ
C29: Միջոցառման տեսակը
C30: Տրանսֆերտների տրամադրում
B31: 12014 | C31: Միջոցառման անվանումը`
C32: Եվրոպական միության հարևանության ներդրումային բանկի աջակցությամբ իրականացվող Երևանի մետրոպոլիտենի վերակառուցման երկրորդ դրամաշնորհային ծրագիր | D32: -11637.9
C33: Միջոցառման նկարագրությունը`
C34: Երևանի մետրոպոլիտենի վերակառուցում
C35: Միջոցառման տեսակը
C36: Տրանսֆերտների տրամադրում
C37: ՀՀ տարածքային կառավարման և ենթակառուցվածքների նախարարություն
B38: 12018 | C38: Միջոցառման անվանումը`
C39: Վերակառուցման և զարգացման եվրոպական բանկի աջակցությամբ իրականացվող Գյումրու քաղաքային ճանապարհների դրամաշնորհային ծրագիր (Տրանշ Ա, Բ, Գ) | D39: -206252.8
C40: Միջոցառման նկարագրությունը`
C41: Գյումրու փողոցային լուսավորության արդիականացում՛ փողոցային լուսավորության այլ ավտոմատ կառավարման համակարգի տեղադրում
C42: Միջոցառման տեսակը
...

Sheet 2
D1: Հավելված N 2
D2: ՀՀ կառավարության 2021 թվականի
D3: -------------- ի N --- -Ն որոշման
A5: «ՀԱՅԱՍՏԱՆԻ ՀԱՆՐԱՊԵՏՈՒԹՅԱՆ 2021 ԹՎԱԿԱՆԻ ՊԵՏԱԿԱՆ ԲՅՈՒՋԵԻ ՄԱՍԻՆ» ՕՐԵՆՔԻ N 1 ՀԱՎԵԼՎԱԾԻ N 7 ԱՂՅՈՒՍԱԿՈՒՄ ԵՎ ՀԱՅԱՍՏԱՆԻ ՀԱՆՐԱՊԵՏՈՒԹՅԱՆ ԿԱՌԱՎԱՐՈՒԹՅԱՆ 2020 ԹՎԱԿԱՆԻ ԴԵԿՏԵՄԲԵՐԻ 30-Ի N 2215-Ն ՈՐՈՇՄԱՆ N 5 ՀԱՎԵԼՎԱԾԻ N 6 ԱՂՅՈՒՍԱԿՈՒՄ ԿԱՏԱՐՎՈՂ ԼՐԱՑՈՒՄՆԵՐԸ
D6: հազար դրամ
A7: Ծրագրային դասիչը | C7: Բյուջետային հատկացումների գլխավոր կարգադրիչների, ծրագրերի, միջոցառումների և միջոցառումները կատարող պետական մարմինների անվանումները | D7: Ցուցանիշների փոփոխությունը (ավելացումները նշված են դրական նշանով, իսկ նվազեցումները` փակագծերում) | H7: \
A8: Ծրագիր | B8: Միջոցառում | D8: Տարի
C9: ԸՆԴԱՄԵՆԸ | D9: =D11 -> 399401.7
C10: այդ թվում
A11: Կապիտալ սուբվենցիաներ համայնքներին | D11: =D13 -> 399401.7
A12: այդ թվում` | D12: 0
A13: ՀՀ տարածքային կառավարման և ենթակառուցվածքների նախարարություն | D13: =D15+D53 -> 399401.7
A14: այդ թվում`
A15: 1212 | B15: Տարածքային զարգացում | D15: =D17 -> 438388.1
C16: այդ թվում`
B17: 12007 | C17: ՀՀ մարզերին սուբվենցիաների տրամադրում՝ ենթակառուցվածքների զարգացման նպատակով | D17: =D19 -> 438388.1
C18: այդ թվում` ըստ կատարողների
C19: ՀՀ կառավարություն | D19: =(D26+D33+D39+D45+D50+D20) -> 438388.1
C20: ՀՀ Արագածոտնի մարզպետարան | D20: =D22+D23+D24+D25 -> 48682.9
C21: այդ թվում` ըստ ուղղությունների
C22: Մելիքգյուղ համայնքի խմելու ջրի ջրագծի հիմնանորոգում | D22: 13338.8
C23: Օհանավան համայնքի ներհամայնքային փողոցների ասֆալտբետոնե ծածկույթի իրականացում և ասֆալտբետոնե ծածկույթի կապիտալ նորոգում | D23: 15481.6
C24: Ներքին Բազմաբերդ համայնքի ջրամատակարարման ներտնտեսային ճյուղի արտաքին կոյուղագծի վերակառուցում | D24: 6127.7
C25: Շամիրամ համայնքի 5-րդ փողոցի 2-րդ նրբ․,4-րդ փողոցի 1-ին նրբ․ և 1-ին փակուղի, 3-րդ փողոցի 1-ին նրբ․, 2-րդ փողոցի 2-րդ նրբ․, 1-ին փող․, 1-ին փող․ 3-րդ և 6-րդ նրբ․ ասֆալտապատում | D25: 13734.8
C26: ՀՀ Արմավիրի մարզպետարան | D26: 70721.7
C27: այդ թվում` ըստ ուղղությունների
C28: Հացիկ համայնքի 16-րդ փողոի 4-րդ նրբանցքի թիվ 2 բազմաբնակարան շենքի տանիքի վերանորոգում | D28: 2292.8
C29: Պտղունք համայնքի Արաբո, Այգեստան, Եսայի Յաղուբյան փողոցների գազիֆիկացում | D29: 8088
C30: Ջրաշեն համայնքի 1-ին փողոցի կենտրոնական ճանապարհի մայթերի կառուցում | D30: 4363.6
C31: Արգավանդ համայնքի ոռոգման մայր ջրանցքի 1-ին փողոցի ԼՌ-60վաքերով ճյուղի 575մ հատվածի վերակառուցման շինարարակն աշխատանքներ հիմնանորոգում | D31: 9115.4
C32: Զարթոնք համայնքի մանկապարտեզի կառուցում | D32: 46861.9
C33: ՀՀ Գեղարքունիքի մարզպետարան | D33: =D35+D36+D37+D38 -> 53768.6
C34: այդ թվում` ըստ ուղղությունների
C35: Սեմյոնովկա համայնքի նախկին մշակույթի տան տանիքի վերանորոգում | D35: 6136.3
C36: Վարդենիկ համայնքի թիվ 11,33 և35 փողոցների խմելու ջրագծերի վերանորոգման աշխատանքներ | D36: 7037.5
C37: Գեղհովիտ համայնքի փողոցների ասֆալտապատում | D37: 28219.4
C38: Վարդաձոր համայնքի , 10-րդ, 16-րդ, 26-րդ, 28-րդ, 37-րդ, 41-րդ, 3-րդ, 19-րդ և 23-րդ փողոցների գիշերայի լուսավորության ցանցի կառուցում | D38: 12375.4
C39: ՀՀ Լոռու մարզպետարան | D39: =D41+D42+D43+D44 -> 97828.1
C40: այդ թվում` ըստ ուղղությունների
C41: Լեռնանցք համայնքի ոռոգման համակարգի վերակառուցում | D41: 13574.3
...

Sheet 3
G1: Հավելված N 3
G2: ՀՀ կառավարության 2021 թվականի
G3: ________ N ____-Ն որոշման
A6: ՀԱՅԱՍՏԱՆԻ ՀԱՆՐԱՊԵՏՈՒԹՅԱՆ ԿԱՌԱՎԱՐՈՒԹՅԱՆ 2020 ԹՎԱԿԱՆԻ ԴԵԿՏԵՄԲԵՐԻ 30-Ի N 2215-Ն ՈՐՈՇՄԱՆ N 3 ԵՎ N 4 ՀԱՎԵԼՎԱԾՆԵՐՈՒՄ ԿԱՏԱՐՎՈՂ ՓՈՓՈԽՈՒԹՅՈՒՆՆԵՐԸ ԵՎ ԼՐԱՑՈՒՄՆԵՐԸ
G7: հազար դրամ
A8: Գործառական դասիչը | D8: Ծրագրային դասիչը | F8: Բյուջետային ծախսերի գործառական դասակարգման բաժինների, խմբերի և դասերի, բյուջետային հատկացումների գլխավոր կարգադրիչների, ծրագրերի, միջոցառումների և միջոցառումները կատարող պետական մարմինների անվանումները | G8: Ցուցանիշների փոփոխությունը (ավելացումները նշված են դրական նշանով, իսկ նվազեցումները` փակագծերում)
A9: Բաժին | B9: Խումբ | C9: Դաս | D9: Ծրագիր | E9: Միջոցառում | G9: Տարի
F10: ԸՆԴԱՄԵՆԸ ԾԱԽՍԵՐ | G10: =+G12+G66+G183+G158 -> 0
F11: այդ թվում`
A12: 01 | F12: ԸՆԴՀԱՆՈՒՐ ԲՆՈՒՅԹԻ ՀԱՆՐԱՅԻՆ ԾԱՌԱՅՈՒԹՅՈՒՆՆԵՐ | G12: =G14 -> 438388.1
F13: այդ թվում`
B14: 08 | F14: Կառավարության տարբեր մակարդակների միջև իրականացվող ընդհանուր բնույթի տրանսֆերտներ | G14: =G16 -> 438388.1
F15: այդ թվում`
C16: 01 | F16: Կառավարության տարբեր մակարդակների միջև իրականացվող ընդհանուր բնույթի տրանսֆերտներ | G16: =G20 -> 438388.1
F17: այդ թվում`
F18: ՀՀ տարածքային կառավարման և ենթակառուցվածքների նախարարություն | G18: =+G20 -> 438388.1
F19: այդ թվում`
D20: 1212 | F20: Տարածքային զարգացում | G20: =G22 -> 438388.1
F21: այդ թվում`
E22: 12007 | F22: ՀՀ մարզերին սուբվենցիաների տրամադրում՝ ենթակառուցվածքների զարգացման նպատակով | G22: =G24+G31+G38+G45+G52+G59 -> 438388.1
F23: այդ թվում` ըստ կատարողների
F24: ՀՀ Արագածոտնի մարզպետարան | G24: =+G26 -> 48682.9
F25: այդ թվում` բյուջետային ծախսերի տնտեսագիտական դասակարգման հոդվածներ
F26: ԸՆԴԱՄԵՆԸ ԾԱԽՍԵՐ | G26: =G27 -> 48682.9
F27: ԸՆԹԱՑԻԿ ԾԱԽՍԵՐ | G27: =G28 -> 48682.9
F28: ԴՐԱՄԱՇՆՈՐՀՆԵՐ | G28: =G29 -> 48682.9
F29: Կապիտալ դրամաշնորհներ պետական հատվածի այլ մակարդակներին | G29: =G30 -> 48682.9
F30: - Կապիտալ սուբվենցիաներ համայնքներին | G30: ='[1]2'!D20 -> 48682.9
F31: ՀՀ Արմավիրի մարզպետարան | G31: ='[1]2'!D26 -> 70721.7
F32: այդ թվում` բյուջետային ծախսերի տնտեսագիտական դասակարգման հոդվածներ
F33: ԸՆԴԱՄԵՆԸ ԾԱԽՍԵՐ | G33: =G34 -> 70721.7
F34: ԸՆԹԱՑԻԿ ԾԱԽՍԵՐ | G34: =G35 -> 70721.7
F35: ԴՐԱՄԱՇՆՈՐՀՆԵՐ | G35: =G36 -> 70721.7
F36: Կապիտալ դրամաշնորհներ պետական հատվածի այլ մակարդակներին | G36: =G37 -> 70721.7
F37: - Կապիտալ սուբվենցիաներ համայնքներին | G37: ='[1]2'!D26 -> 70721.7
F38: ՀՀ Գեղարքունիքի մարզպետարան | G38: ='[1]2'!D33 -> 53768.6
F39: այդ թվում` բյուջետային ծախսերի տնտեսագիտական դասակարգման հոդվածներ
F40: ԸՆԴԱՄԵՆԸ ԾԱԽՍԵՐ | G40: =+G41 -> 53768.6
F41: ԸՆԹԱՑԻԿ ԾԱԽՍԵՐ | G41: =+G42 -> 53768.6
F42: ԴՐԱՄԱՇՆՈՐՀՆԵՐ | G42: =+G43 -> 53768.6
...

Sheet 4
F1: Հավելված N 4
F2: ՀՀ կառավարության 2021 թվականի
F3: -------------- ի N ---- -Ն որոշման
A5: «ՀԱՅԱՍՏԱՆԻ ՀԱՆՐԱՊԵՏՈՒԹՅԱՆ 2021 ԹՎԱԿԱՆԻ ՊԵՏԱԿԱՆ ԲՅՈՒՋԵԻ ՄԱՍԻՆ» ՀԱՅԱՍՏԱՆԻ ՀԱՆՐԱՊԵՏՈՒԹՅԱՆ ՕՐԵՆՔԻ N 1 ՀԱՎԵԼՎԱԾԻ N 5 ԱՂՅՈՒՍԱԿՈՒՄ ԵՎ ՀԱՅԱՍՏԱՆԻ ՀԱՆՐԱՊԵՏՈՒԹՅԱՆ ԿԱՌԱՎԱՐՈՒԹՅԱՆ 2020 ԹՎԱԿԱՆԻ ԴԵԿՏԵՄԲԵՐԻ 30-Ի N 2215-Ն ՈՐՈՇՄԱՆ N 5 ՀԱՎԵԼՎԱԾԻ N 4 ԱՂՅՈՒՍԱԿՈՒՄ ԿԱՏԱՐՎՈՂ ՓՈՓՈԽՈՒԹՅՈՒՆՆԵՐԸ
A6: Ծրագրային դասիչ | C6: Բյուջետային գլխավոր կարգադրիչների, ծրագրերի և միջոցառումների անվանումները | D6: Ցուցանիշների փոփոխությունը (նվազեցումները նշված են փակագծերում)
D7: Տարի
D8: Ընդամենը | E8: այդ թվում
A9: Ծրագիր | B9: Միջոցառում | E9: Դրամաշնոր- հային միջոցներ | F9: Համաֆինան_x000D_- սավորում
C10: ԸՆԴԱՄԵՆԸ այդ թվում | D10: =E10+F10 -> -310098.9 | E10: =E13 -> 0 | F10: =F12 -> -310098.9
C11: - ԸՆԹԱՑԻԿ ԾԱԽՍԵՐ | D11: - | E11: - | F11: -
C12: - ՈՉ ՖԻՆԱՆՍԱԿԱՆ ԱԿՏԻՎՆԵՐԻ ԳԾՈՎ ԾԱԽՍԵՐ | D12: =E12+F12 -> -310098.9 | E12: =E13 -> 0 | F12: =F13 -> -310098.9
C13: ՀՀ ՏԱՐԱԾՔԱՅԻՆ ԿԱՌԱՎԱՐՄԱՆ ԵՎ ԵՆԹԱԿԱՌՈՒՑՎԱԾՔՆԵՐԻ ՆԱԽԱՐԱՐՈՒԹՅՈՒՆ | D13: =E13+F13 -> -310098.9 | E13: =E14 -> 0 | F13: =F14+F41+F55 -> -310098.9
A14: 1157 | C14: Քաղաքային զարգացում | D14: =E14+F14 -> -239077.3 | E14: =SUM('[3]5'!E21:E21) -> 0 | F14: =F16+F22+F28+F35 -> -239077.3
C15: այդ թվում`
B16: 12003 | C16: Արևելյան եվրոպայի էներգախնայողության և բնապահպանական գործընկերության ֆոնդի_x000D_ աջակցությամբ իրականացվող Երևանի քաղաքային լուսավորության դրամաշնորհային ծրագրի կատարման ապահովում | D16: ='1'!D20 -> -10173 | E16: 0 | F16: =+F18 -> -10173
C17: այդ թվում` ըստ կատարողների
C18: ՀՀ տարածքային կառավարման և ենթակառուցվածքների նախարարություն | D18: =D16 -> -10173 | E18: 0 | F18: =F21 -> -10173
C19: այդ թվում` բյուջետային ծախսերի տնտեսագիտական դասակարգման հոդվածներ
C20: ՈՉ ՖԻՆԱՆՍԱԿԱՆ ԱԿՏԻՎՆԵՐԻ ԳԾՈՎ ԾԱԽՍԵՐ | D20: =+E20+F20 -> -10173 | E20: 0 | F20: -10173
C21: - Շենքերի և շինությունների շինարարություն | D21: =D18 -> -10173 | E21: 0 | F21: =D21 -> -10173
B22: 12014 | C22: Եվրոպական միության հարևանության ներդրումային բանկի աջակցությամբ իրականացվող Երևանի մետրոպոլիտենի վերակառուցման երկրորդ դրամաշնորհային ծրագիր | D22: ='1'!D32 -> -11637.9 | E22: 0 | F22: =F24 -> -11637.9
C23: այդ թվում` ըստ կատարողների
C24: ՀՀ տարածքային կառավարման և ենթակառուցվածքների նախարարություն | D24: =D22 -> -11637.9 | E24: 0 | F24: =F27 -> -11637.9
C25: այդ թվում` բյուջետային ծախսերի տնտեսագիտական դասակարգման հոդվածներ
C26: ՈՉ ՖԻՆԱՆՍԱԿԱՆ ԱԿՏԻՎՆԵՐԻ ԳԾՈՎ ԾԱԽՍԵՐ | D26: =+E26+F26 -> -11637.9 | E26: 0 | F26: =+F27 -> -11637.9
C27: - Շենքերի և շինությունների շինարարություն | D27: =D24 -> -11637.9 | E27: 0 | F27: =D27 -> -11637.9
B28: 12018 | C28: Վերակառուցման և զարգացման եվրոպական բանկի աջակցությամբ իրականացվող Գյումրու քաղաքային ճանապարհների դրամաշնորհային ծրագիր (Տրանշ Ա, Բ, Գ) | D28: =E28+F28 -> -206252.8 | E28: =E32 -> 0 | F28: =F32 -> -206252.8
C29: այդ թվում` ըստ կատարողների
C30: ՀՀ տարածքային կառավարման և ենթակառուցվածքների նախարարություն | D30: =E30+F30 -> -206252.8 | E30: =E28 -> 0 | F30: =F28 -> -206252.8
C31: այդ թվում` բյուջետային ծախսերի տնտեսագիտական դասակարգման հոդվածներ
C32: ՈՉ ՖԻՆԱՆՍԱԿԱՆ ԱԿՏԻՎՆԵՐԻ ԳԾՈՎ ԾԱԽՍԵՐ | D32: =E32+F32 -> -206252.8 | E32: 0 | F32: =+F33+F34 -> -206252.8
C33: - Շենքերի և շինությունների շինարարություն | D33: =E33+F33 -> -72284.8 | E33: 0 | F33: -72284.8
C34: -Այլ մեքենաներ և սարքավորումներ | D34: =E34+F34 -> -133968 | E34: 0 | F34: -133968
B35: 12022 | C35: Վերակառուցման և զարգացման վրոպական բանկի աջակցությամբ իրականացվող Գյումրու քաղաքային ճանապարհների վերանորոգման ծրագրի շրջանակներում նախագծա-նախահաշվային աշխատանքների իրականացում | D35: =E35+F35 -> -11013.6 | E35: 0 | F35: -11013.6
C36: այդ թվում` ըստ կատարողների | E36: 0
C37: ՀՀ տարածքային կառավարման և ենթակառուցվածքների նախարարություն | D37: =E37+F37 -> -11013.6 | E37: 0 | F37: -11013.6
C38: այդ թվում` բյուջետային ծախսերի տնտեսագիտական դասակարգման հոդվածներ | E38: 0
C39: ՈՉ ՖԻՆԱՆՍԱԿԱՆ ԱԿՏԻՎՆԵՐԻ ԳԾՈՎ ԾԱԽՍԵՐ | D39: =E39+F39 -> -11013.6 | E39: 0 | F39: -11013.6
C40: - Նախագծահետազոտական ծախսեր | D40: =E40+F40 -> -11013.6 | E40: 0 | F40: -11013.6
A41: 1040 | C41: Կոշտ թափոնների կառավարում | D41: =SUM(E41:F41) -> -45021.6 | E41: =E49+E43+E55+E61+E67 -> 0 | F41: =F43+F49 -> -45021.6
...

Sheet 5
F1: Հավելված N 5
F2: ՀՀ կառավարության 2021 թվականի
F3: -------------- ի N ---- -Ն որոշման
A5: «ՀԱՅԱՍՏԱՆԻ ՀԱՆՐԱՊԵՏՈՒԹՅԱՆ 2021 ԹՎԱԿԱՆԻ ՊԵՏԱԿԱՆ ԲՅՈՒՋԵԻ ՄԱՍԻՆ» ՀԱՅԱՍՏԱՆԻ ՀԱՆՐԱՊԵՏՈՒԹՅԱՆ ՕՐԵՆՔԻ N 1 ՀԱՎԵԼՎԱԾԻ N 5 ԱՂՅՈՒՍԱԿՈՒՄ ԵՎ ՀԱՅԱՍՏԱՆԻ ՀԱՆՐԱՊԵՏՈՒԹՅԱՆ ԿԱՌԱՎԱՐՈՒԹՅԱՆ 2020 ԹՎԱԿԱՆԻ ԴԵԿՏԵՄԲԵՐԻ 30-Ի N 2215-Ն ՈՐՈՇՄԱՆ N 5 ՀԱՎԵԼՎԱԾԻ N 3 ԱՂՅՈՒՍԱԿՈՒՄ ԿԱՏԱՐՎՈՂ ՓՈՓՈԽՈՒԹՅՈՒՆՆԵՐԸ
A6: Ծրագրային դասիչը | C6: Բյուջետային հատկացումների գլխավոր կարգադրիչների, ծրագրերի, միջոցառումների և միջոցառումները կատարող պետական մարմինների անվանումները | D6: տարի
A7: Ծրագիր | B7: Միջո ց_x000D_առում | D7: Ընդամենը | E7: այդ թվում
E8: Վարկային միջոցներ | F8: Համաֆինան սավորում
C9: ԸՆԴԱՄԵՆԸ_x000D_ այդ թվում` | D9: =E9+F9 -> -89302.8 | E9: =+E13 -> 0 | F9: =F10 -> -89302.8
C10: - ԸՆԹԱՑԻԿ ԾԱԽՍԵՐ | D10: =E10+F10 -> -89302.8 | E10: =+E14 -> 0 | F10: =F11 -> -89302.8
C11: - ՈՉ ՖԻՆԱՆՍԱԿԱՆ ԱԿՏԻՎՆԵՐԻ ԳԾՈՎ ԾԱԽՍԵՐ | D11: =E11+F11 -> -89302.8 | E11: =+E15 -> 0 | F11: =F12 -> -89302.8
C12: ՀՀ ՎԱՐՉԱՊԵՏԻ ԱՇԽԱՏԱԿԱԶՄ_x000D_ այդ թվում` | D12: =E12+F12 -> -89302.8 | E12: =+E16 -> 0 | F12: =F13+F22 -> -89302.8
A13: 1157 | C13: Քաղաքային զարգացում | D13: =SUM(E13:F13) -> -74479.2 | E13: =+E17 -> 0 | F13: =F15 -> -74479.2
C14: այդ թվում` | E14: =+E18 -> 0
B15: 12021 | C15: Ասիական զարգացման բանկի աջակցությամբ իրականացվող քաղաքային ենթակառուցվածքների և քաղաքի կայուն զարգացման ներդրումային երկրորդ ծրագրի շրջանակներում ճանապարհային շինարարություն | D15: =+E15+F15 -> -74479.2 | E15: =+E19 -> 0 | F15: =+F19 -> -74479.2
C16: այդ թվում` ըստ կատարողների | E16: =+E20 -> 0
C17: ՀՀ տարածքային կառավարման և ենթակառուցվածքների նախարարություն | D17: =+E17+F17 -> -74479.2 | E17: =+E21 -> 0 | F17: =+F15 -> -74479.2
C18: այդ թվում` բյուջետային ծախսերի տնտեսագիտական դասակարգման հոդվածներ | E18: =+E22 -> 0
C19: ՈՉ ՖԻՆԱՆՍԱԿԱՆ ԱԿՏԻՎՆԵՐԻ ԳԾՈՎ ԾԱԽՍԵՐ | D19: =+E19+F19 -> -74479.2 | E19: =+E23 -> 0 | F19: =+F20 -> -74479.2
C20: - Շենքերի և շինությունների շինարարություն | D20: =+E20+F20 -> -74479.2 | E20: =+E24 -> 0 | F20: ='1'!D45 -> -74479.2
A22: 1004 | C22: Ոռոգման համակարգի առողջացում | D22: =E22+F22 -> -14823.6 | E22: =+E26 -> 0 | F22: =F24 -> -14823.6
C23: այդ թվում` | E23: =+E27 -> 0
B24: 31005 | C24: Եվրասիական զարգացման բանկի աջակցությամբ իրականացվող ոռոգման համակարգերի զարգացման ծրագրի շրջանակներում ջրային տնտեսության ենթակառուցվածքների հիմնանորոգում | D24: =+E24+F24 -> -14823.6 | E24: =+E28 -> 0 | F24: =+F28 -> -14823.6
C25: այդ թվում` ըստ կատարողների | E25: =+E29 -> 0
C26: ՀՀ տարածքային կառավարման և ենթակառուցվածքների նախարարության ջրային կոմիտե | D26: =+E26+F26 -> -14823.6 | E26: =+E30 -> 0 | F26: =+F24 -> -14823.6
C27: այդ թվում` բյուջետային ծախսերի տնտեսագիտական դասակարգման հոդվածներ | E27: =+E31 -> 0
C28: ՈՉ ՖԻՆԱՆՍԱԿԱՆ ԱԿՏԻՎՆԵՐԻ ԳԾՈՎ ԾԱԽՍԵՐ | D28: =+E28+F28 -> -14823.6 | E28: =+E32 -> 0 | F28: =F29 -> -14823.6
C29: - Շենքերի և շինությունների շինարարություն | D29: =+E29+F29 -> -14823.6 | E29: =+E33 -> 0 | F29: ='1'!D83 -> -14823.6

Sheet 6
C1: Հավելված N6
C2: ՀՀ կառավարության 2021թ
C3: ---------ի N ----------- որոշման
A6: ՀԱՅԱՍՏԱՆԻ ՀԱՆՐԱՊԵՏՈՒԹՅԱՆ ԿԱՌԱՎԱՐՈՒԹՅԱՆ 2020 ԹՎԱԿԱՆԻ ԴԵԿՏԵՄԲԵՐԻ 30-Ի N 2215-Ն ՈՐՈՇՄԱՆ N 9 ՀԱՎԵԼՎԱԾԻ N 9.8 ԱՂՅՈՒՍԱԿՈՒՄ ԿԱՏԱՐՎՈՂ ՓՈՓՈԽՈՒԹՅՈՒՆՆԵՐԸ
B8: ՀՀ տարածքային կառավարման և ենթակառուցվածքների նախարարություն
A9: ՄԱՍ2. ՊԵՏԱԿԱՆ ՄԱՐՄՆԻ ԳԾՈՎ ԱՐԴՅՈՒՆՔԱՅԻՆ (ԿԱՏԱՐՈՂԱԿԱՆ) ՑՈՒՑԱՆԻՇՆԵՐԸ
A11: Ծրագրի դասիչը | B11: Ծրագրի անվանումը
A12: 1212 | B12: Տարածքային զարգացում
A14: Ծրագրի միջոցառումները
A16: Ծրագրի դասիչը` | B16: 1212 | C16: Ցուցանիշների փոփոխությունը (ավելացումները նշված են դրական նշանով)
A17: Միջոցառման դասիչը` | B17: 12007 | C17: Տարի
A18: Միջոցառման անվանումը` | B18: ՀՀ մարզերին սուբվենցիաների տրամադրում՛ ենթակառուցվածքների զարգացման նպատակով_x000D_
A19: Նկարագրությունը` | B19: ՀՀ մարզերին սուբվենցիաների տրամադրում՛ ենթակառուցվածքների զարգացման նպատակով
A20: Միջոցառման տեսակը` | B20: Տրանսֆերտների տրամադրում
A21: Միջոցառումն իրականացնողի անվանումը | B21: ՀՀ համայնքներ
A22: Արդյունքի չափորոշիչներ
A23: Համայնքների թիվ | C23: 20
A24: Միջոցառման վրա կատարվող ծախսը (հազար դրամ) | C24: =-C39-C51-C70-C87-C98-C108-C126-C141-C156-C172 -> 438388.1
A26: Ծրագրի դասիչը | B26: Ծրագրի անվանումը
A27: 1157 | B27: Քաղաքային զարգացում
A29: Ծրագրի միջոցառումները
A31: Ծրագրի դասիչը` | B31: 1157 | C31: Ցուցանիշների փոփոխությունը (նվազեցումները նշված են փակագծերում)
A32: Միջոցառման դասիչը` | B32: 12003 | C32: Տարի
A33: Միջոցառման անվանումը` | B33: Արևելյան եվրոպայի էներգախնայողության և բնապահպանական գործընկերության ֆոնդի աջակցությամբ իրականացվող Երևանի քաղաքային լուսավորության դրամաշնորհային ծրագրի կատարման ապահովում
A34: Նկարագրությունը` | B34: ՀՀ համայնքներին քաղաքային լուսավորության ենթակառուցվածքի բարելավման համար տրամադրվող աջակցություն և ծառայություն
A35: Միջոցառման տեսակը` | B35: Տրանսֆերտների տրամադրում
A36: Շահառուների ընտրության չափանիշները | B36: ՀՀ բնակչություն
A37: Արդյունքի չափորոշիչներ
A38: Երևան քաղաքի 28 փողոցների արտաքին լուսավորության ցանցի արդիականացում (LED տիպի լուսատուների տեղադրում, մալուխների ստորգետնյա անցկացում, հենասյուների վերանորոգում և փոխարինում), ավտոմատ կառավարման համակարգի ստեղծում, տոկոս | C38: 0
A39: Միջոցառման վրա կատարվող ծախսը (հազար դրամ) | C39: -10173
A41: Ծրագրի դասիչը` | B41: 1157 | C41: Ցուցանիշների փոփոխությունը (նվազեցումները նշված են փակագծերում)
A42: Միջոցառման դասիչը` | B42: 12006 | C42: Տարի
A43: Միջոցառման անվանումը` | B43: Եվրոպական ներդրումային բանկի աջակցությամբ իրականացվող Երևանի էներգաարդյունավետության ծրագրին պետական աջակցություն
A44: Նկարագրությունը` | B44: Ծրագրի շրջանակներում հանրային շենքերում իրականացվող էներգաարդյունավետության և էներգախնայողության աշխատանքներ
A45: Միջոցառման տեսակը` | B45: Տրանսֆերտների տրամադրում
A46: Միջոցառումն իրականացնողի անվանումը՛ | B46: Երևան համայնք
A47: Արդյունքի չափորոշիչներ
A48: Հիմնանորոգում, սեյսմիկ ամրացում, Էներգաարդյունավետության միջոցառումների իրականացում Երևանի ենթակայության գործող մանկապարտեզներում /համաֆինանսավորում/, հատ | C48: 0
A49: էներգաարդյունավետության միջոցառումների իրականացում Երևանի ենթակայության գործող մանկապարտեզներում, հատ | C49: 0
A50: Մանկապարտեզ հաճախող երեխաների համար անհրաժեշտ պայմանների ստեղծում, երեխա թիվ | C50: 0
...

Sheet 7
C1: Հավելված N 7
C2: ՀՀ կառավարության 2021 թվականի
C3: -------------- ի N ---- -Ն որոշման
A5: ՀԱՅԱՍՏԱՆԻ ՀԱՆՐԱՊԵՏՈՒԹՅԱՆ ԿԱՌԱՎԱՐՈՒԹՅԱՆ 2020 ԹՎԱԿԱՆԻ ԴԵԿՏԵՄԲԵՐԻ 30-Ի N 2215-Ն ՈՐՈՇՄԱՆ N 9.1 ՀԱՎԵԼՎԱԾԻ N 9.1.8 ԱՂՅՈՒՍԱԿՈՒՄ ԿԱՏԱՐՎՈՂ ԼՐԱՑՈՒՄԸ
A6: ՀՀ տարածքային կառավարման և ենթակառուցվածքների նախարարություն
A8: ՄԱՍ 1. ՊԵՏԱԿԱՆ ՄԱՐՄՆԻ ԳԾՈՎ ԱՐԴՅՈՒՆՔԱՅԻՆ (ԿԱՏԱՐՈՂԱԿԱՆ) ՑՈՒՑԱՆԻՇՆԵՐԸ
A10: Ծրագրի դասիչը | B10: Ծրագրի անվանումը
A11: 1157 | B11: Քաղաքային զարգացում
A13: Ծրագրի միջոցառումները
A15: Ծրագրի դասիչը` | B15: 1157 | C15: Ցուցանիշների փոփոխությունը (նվազեցումները նշված են փակագծերում)
A16: Միջոցառման դասիչը` | B16: 12003 | C16: Տարի
A17: Միջոցառման անվանումը` | B17: Արևելյան եվրոպայի էներգախնայողության և բնապահպանական գործընկերության ֆոնդի աջակցությամբ իրականացվող Երևանի քաղաքային լուսավորության դրամաշնորհային ծրագրի կատարման ապահովում
A18: Նկարագրությունը` | B18: ՀՀ համայնքներին քաղաքային լուսավորության ենթակառուցվածքի բարելավման համար տրամադրվող աջակցություն և ծառայություն
A19: Միջոցառման տեսակը` | B19: Տրանսֆերտների տրամադրում
A20: Շահառուների ընտրության չափանիշները | B20: ՀՀ բնակչություն
A21: Արդյունքի չափորոշիչներ
A22: Երևան քաղաքի 28 փողոցների արտաքին լուսավորության ցանցի արդիականացում (LED տիպի լուսատուների տեղադրում, մալուխների ստորգետնյա անցկացում, հենասյուների վերանորոգում և փոխարինում), ավտոմատ կառավարման համակարգի ստեղծում, տոկոս | C22: 0
A23: Միջոցառման վրա կատարվող ծախսը (հազար դրամ) | C23: -10173
A25: Ծրագրի դասիչը` | B25: 1157 | C25: Ցուցանիշների փոփոխությունը (նվազեցումները նշված են փակագծերում)
A26: Միջոցառման դասիչը` | B26: 12006 | C26: Տարի
A27: Միջոցառման անվանումը` | B27: Եվրոպական ներդրումային բանկի աջակցությամբ իրականացվող Երևանի էներգաարդյունավետության ծրագրին պետական աջակցություն
A28: Նկարագրությունը` | B28: Ծրագրի շրջանակներում հանրային շենքերում իրականացվող էներգաարդյունավետության և էներգախնայողության աշխատանքներ
A29: Միջոցառման տեսակը` | B29: Տրանսֆերտների տրամադրում
A30: Միջոցառումն իրականացնողի անվանումը՛ | B30: Երևան համայնք
A31: Արդյունքի չափորոշիչներ
A32: Հիմնանորոգում, սեյսմիկ ամրացում, Էներգաարդյունավետության միջոցառումների իրականացում Երևանի ենթակայության գործող մանկապարտեզներում /համաֆինանսավորում/, հատ | C32: 0
A33: էներգաարդյունավետության միջոցառումների իրականացում Երևանի ենթակայության գործող մանկապարտեզներում, հատ | C33: 0
A34: Մանկապարտեզ հաճախող երեխաների համար անհրաժեշտ պայմանների ստեղծում, երեխա թիվ | C34: 0
A35: Միջոցառման վրա կատարվող ծախսը (հազար դրամ) | C35: -38986.4
A37: Ծրագրի դասիչը` | B37: 1157 | C37: Ցուցանիշների փոփոխությունը (նվազեցումները նշված են փակագծերում)
A38: Միջոցառման դասիչը` | B38: 12014 | C38: Տարի
A39: Միջոցառման անվանումը` | B39: Եվրոպական միության հարևանության ներդրումային բանկի աջակցությամբ իրականացվող Երևանի մետրոպոլիտենի վերակառուցման երկրորդ դրամաշնորհային ծրագիր
A40: Նկարագրությունը` | B40: Երևանի մետրոպոլիտենի վերակառուցում
A41: Միջոցառման տեսակը` | B41: Տրանսֆերտների տրամադրում
A42: Շահառուների ընտրության չափանիշները | B42: Մետրոպոլիտենից օգտվող ՀՀ բնակչություն
A43: Արդյունքի չափորոշիչներ
A44: Դրենաժային թունելի երկարացում, որից՛ | C44: 0
A45: Հորատման աշխատանքներ, մ | C45: 0
A46: Տորկրեդ բետոնացման աշխատանքներ, մ | C46: 0
A47: Մետաղական կառուցվածքների տեղադրման աշխատանքներ, մ | C47: 0
...
