Workbook
Name AgencyCode: #REF!
Name AgencyCode: #REF!
Name AgencyCode: #REF!
Name AgencyCode: #REF!
Name AgencyName: #REF!
Name AgencyName: #REF!
Name AgencyName: #REF!
Name AgencyName: #REF!
Name Functional1: #REF!
Name Functional1: #REF!
Name Functional1: #REF!
Name Functional1: #REF!
Name PANature: #REF!
Name PANature: #REF!
Name PANature: #REF!
Name PANature: #REF!
Name PAType: #REF!
Name PAType: #REF!
Name PAType: #REF!
Name PAType: #REF!
Name Performance2: #REF!
Name Performance2: #REF!
Name Performance2: #REF!
Name Performance2: #REF!
Name PerformanceType: #REF!
Name PerformanceType: #REF!
Name PerformanceType: #REF!
Name PerformanceType: #REF!

Sheet 1
B2: Հավելված N 1
B3: ՀՀ կառավարության 2021 թվականի
B4: ------------------------ -ի N ---------- որոշման
A7: «ՀԱՅԱՍՏԱՆԻ ՀԱՆՐԱՊԵՏՈՒԹՅԱՆ 2021 ԹՎԱԿԱՆԻ ՊԵՏԱԿԱՆ ԲՅՈՒՋԵԻ ՄԱՍԻՆ» ՀԱՅԱՍՏԱՆԻ ՀԱՆՐԱՊԵՏՈՒԹՅԱՆ ՕՐԵՆՔԻ 2-ՐԴ ՀՈԴՎԱԾԻ ԱՂՅՈՒՍԱԿՈՒՄ ԿԱՏԱՐՎՈՂ ՓՈՓՈԽՈՒԹՅՈՒՆՆԵՐԸ
B9: հազար դրամներով
B10: Ցուցանիշների փոփոխությունը ( նվազեցումները նշված են փակագծերում)
A11: Եկամուտների գծով | B11: =+'2'!B11 -> -3934456.4
A12: Ծախսերի գծով | B12: =B11+B13 -> -6504456.4
A13: Դեֆիցիտը (պակասուրդը) | B13: ='3'!B9 -> -2570000

Sheet 2
A1: Հավելված N 2
A2: ՀՀ կառավարության 2021 թվականի
A3: --------------------- -ի N ---------- որոշման
A6: «ՀԱՅԱՍՏԱՆԻ ՀԱՆՐԱՊԵՏՈՒԹՅԱՆ 2021 ԹՎԱԿԱՆԻ ՊԵՏԱԿԱՆ ԲՅՈՒՋԵԻ ՄԱՍԻՆ» ՀԱՅԱՍՏԱՆԻ ՀԱՆՐԱՊԵՏՈՒԹՅԱՆ ՕՐԵՆՔԻ 6-ՐԴ ՀՈԴՎԱԾԻ ԱՂՅՈՒՍԱԿՈՒՄ ԵՎ ՀԱՅԱՍՏԱՆԻ ՀԱՆՐԱՊԵՏՈՒԹՅԱՆ ԿԱՌԱՎԱՐՈՒԹՅԱՆ 2020 ԹՎԱԿԱՆԻ ԴԵԿՏԵՄԲԵՐԻ 30-Ի N 2215-Ն ՈՐՈՇՄԱՆ N 2 ՀԱՎԵԼՎԱԾՈՒՄ ԿԱՏԱՐՎՈՂ ՓՈՓՈԽՈՒԹՅՈՒՆՆԵՐԸ
B8: հազ.դրամ
A9: Պետական բյուջեի եկամուտները | B9: Ցուցանիշների փոփոխությունը ( նվազեցումները նշված են փակագծերում)
B10: Տարի
A11: Ընդամենը | B11: =+B13+B14 -> -3934456.4
A12: այդ թվում
A13: Պաշտոնական դրամաշնորհներ | B13: =+'8.'!E11 -> -2234456.4
A14: Այլ եկամուտներ | B14: -1700000
C15: ='3'!C9 -> 0

Sheet 3
A1: Հավելված N 3
A2: ՀՀ կառավարության 2021 թվականի
A3: --------------------- -ի N ---------- որոշման
A5: «ՀԱՅԱՍՏԱՆԻ ՀԱՆՐԱՊԵՏՈՒԹՅԱՆ 2021 ԹՎԱԿԱՆԻ ՊԵՏԱԿԱՆ ԲՅՈՒՋԵԻ ՄԱՍԻՆ» ՕՐԵՆՔԻ N 3 ՀԱՎԵԼՎԱԾԻ N 1 ԱՂՅՈՒՍԱԿՈՒՄ ԵՎ ՀԱՅԱՍՏԱՆԻ ՀԱՆՐԱՊԵՏՈՒԹՅԱՆ ԿԱՌԱՎԱՐՈՒԹՅԱՆ 2020 ԹՎԱԿԱՆԻ ԴԵԿՏԵՄԲԵՐԻ 30-Ի N 2215-Ն ՈՐՈՇՄԱՆ N1 ՀԱՎԵԼՎԱԾԻ N1 ԱՂՅՈՒՍԱԿՈՒՄ ԿԱՏԱՐՎՈՂ ՓՈՓՈԽՈՒԹՅՈՒՆՆԵՐԸ
B6: հազար դրամ
A7: Պետական բյուջեի դեֆիցիտի ֆինանսավորման աղբյուրներն ու դրանց տարրերի անվանումները | B7: Ցուցանիշների փոփոխությունը (ավելացումները նշված են դրական նշանով, իսկ նվազեցումները նշված են փակագծերում)
B8: Տարի
A9: ԸՆԴԱՄԵՆԸ | B9: =+B11+B20 -> -2570000
A10: այդ թվում՝
A11: Ա.Ներքին աղբյուրներ-ընդամենը | B11: =+B13 -> 1240829.2
A12: այդ թվում՝
A13: 2. Ֆինանսական զուտ ակտիվներ | B13: =+B15+B16+B17 -> 1240829.2
A14: այդ թվում՝
A15: 2.3. Ելքերի ֆինանսավորմանն ուղղվող ՀՀ 2020 թվականի պետական բյուջեի տարեսկզբի ազատ մնացորդի միջոցներ | B15: =+'3-2'!F11 -> -293938.9
A16: 2.4. Վարկերի և փոխատվությունների տրամադրում | B16: =+-'3-2'!D11 -> 1534768.1
A17: 2.6.Այլ | B17: =+B18+B19 -> 0
A18: կայունացման դեպոզիտային հաշվի համալրում
A19: կայունացման դեպոզիտային հաշվից օգտագործում
A20: Բ. Արտաքին աղբյուրներ - ընդամենը | B20: =B22+B34 -> -3810829.2
A21: այդ թվում
A22: 1. Փոխառու զուտ միջոցներ | B22: =B24+B28+B30 -> -3810829.2
A23: այդ թվում՝
A24: 1.1. Վարկերի և փոխատվությունների ստացում | B24: =+B26+B27 -> -3810829.2
A25: որից`
A26: նպատակային վարկերի գծով | B26: =+'3-2'!E11+'7.'!E11 -> -3810829.2
A27: բյուջետային աջակցության վարկերի գծով
A28: 1.2. Ստացված վարկերի և փոխատվությունների մարում | B28: =B29 -> 0
A29: ՀՀ ֆինանսների նախարարություն
A30: 1.3. Արժեթղթերի (բացառությամբ բաժնետոմսերի և կապիտալում այլ մասնակցության) թողարկումից և տեղաբաշխումից զուտ մուտքեր | B30: =+B31 -> 0
A31: ՀՀ ֆինանսների նախարարություն | B31: =+B33 -> 0
A32: որից`
A33: արտարժութային պետական պարտատոմսերի տեղաբաշխումից մուտք
A34: 2.Ֆինանսական զուտ ակտիվներ | B34: =B36+B40+B43 -> 0
A35: այդ թվում՝
A36: 2.1.Վարկերի և փոխատվությունների տրամադրում | B36: =B39 -> 0
A37: ՀՀ ֆինանսների նախարարություն | B37: =B36 -> 0
A38: որից`
A39: Միջպետական վարկ Արցախի Հանրապետությանը
A40: 2.2. Տրամադրված վարկերի և փոխատվությունների վերադարձից մուտքեր | B40: =B42 -> 0
A41: որից`
A42: Վրաստանից
A43: 2.3 Բաժնետոմսերի և կապիտալում այլ մասնակցության ձեռքբերում | B43: =B46 -> 0
A44: ՀՀ ֆինանսների նախարարություն | B44: =B43 -> 0
A45: որից`
A46: Միջազգային ֆինանսական կազմակերպությունների կապիտալում մասնակցության գծով ստանձնած պարտավորությունների կատարում

Sheet 3-1
E1: Հավելված N 3
E2: Աղյուսակ 1
E3: ՀՀ կառավարության 2021 թվականի
E4: ______________ ի ___Ն որոշման
B5: «ՀԱՅԱՍՏԱՆԻ ՀԱՆՐԱՊԵՏՈՒԹՅԱՆ 2021 ԹՎԱԿԱՆԻ ՊԵՏԱԿԱՆ ԲՅՈՒՋԵԻ ՄԱՍԻՆ» ՕՐԵՆՔԻ N 3 ՀԱՎԵԼՎԱԾԻ N 1.1 ԱՂՅՈՒՍԱԿՈՒՄ ԵՎ ՀԱՅԱՍՏԱՆԻ ՀԱՆՐԱՊԵՏՈՒԹՅԱՆ ԿԱՌԱՎԱՐՈՒԹՅԱՆ 2020 ԹՎԱԿԱՆԻ ԴԵԿՏԵՄԲԵՐԻ 30-Ի N 2215-Ն ՈՐՈՇՄԱՆ N1 ՀԱՎԵԼՎԱԾԻ N2 ԱՂՅՈՒՍԱԿՈՒՄ ԿԱՏԱՐՎՈՂ ՓՈՓՈԽՈՒԹՅՈՒՆՆԵՐԸ
B8: Ծրագրային դասիչ | D8: Բյուջետային գլխավոր կարգադրիչների, ծրագրերի և միջոցառումների անվանումները | E8: Ցուցանիշների փոփոխությունը ( նվազեցումները նշված են փակագծերում)
B9: Ծրագիր | C9: Միջոցառում
E10: Տարի
D11: ԸՆԴԱՄԵՆԸ այդ թվում | E11: =+E13+E21+E33 -> -1534768.1
D12: ՀՀ տարածքային կառավարման և ենթակառուցվածքների նախարարություն
B13: 1040 | D13: Ծրագրի անվանումը՝ Կոշտ թափոնների կառավարում | E13: =+E17 -> -134754
D14: Ծրագրի նպատակը՝ Կենցաղային թափոնների արդյունավետ կառավարում սոցիալական և բնապահպանական խնդիրների լուծում
D15: Վերջնական արդյունքի նկարագրությունը՝ Կենցաղային թափոնների արդյունավետ կառավարում
B16: Ֆինանսական ակտիվների կառավարման միջոցառումներ
C17: 42001 | D17: Միջոցառման անվանումը՝ Վերակառուցման և զարգացման եվրոպական բանկի աջակցությամբ իրականացվող Կոտայքի և Գեղարքունիքի մարզերի կոշտ թափոնների կառավարման ծրագրի շրջանակներում ենթավարկի տրամադրում «Կոտայքի և Գեղարքունիքի Կոշտ կենցաղային թափոնների կառավարում» ՍՊԸ-ին | E17: =+'3-2'!D15 -> -134754
D18: Միջոցառման նկարագրությունը՝ Կոշտ թափոննրի կառավարման համակարգի բարելավում և նոր աղբավայրի ստեղծում
D19: Միջոցառման տեսակը՝
D20: Վարկերի տրամադրում
B21: 1157 | D21: Ծրագրի անվանումը՝ Քաղաքային զարգացում | E21: =+E25+E29 -> -995004.6
D22: Ծրագրի նպատակը՝ Քաղաքային ենթակառուցվածքների զարգացում
D23: Վերջնական արդյունքի նկարագրությունը՝ Քաղաքային ենթակառուցվածքների արդիականացում և բարելավում
B24: Ֆինանսական ակտիվների կառավարման միջոցառումներ
C25: 42001 | D25: Միջոցառման անվանումը՝ Վերակառուցման և զարգացման եվրոպական բանկի աջակցությամբ իրականացվող Երևանի քաղաքային լուսավորության ծրագրի շրջանակներում ենթավարկի տրամադրում «Երքաղլույս» ՓԲԸ-ին | E25: =+'3-2'!D18 -> -409461.7
D26: Միջոցառման նկարագրությունը՝ ՀՀ համայնքներին քաղաքային լուսավորության ենթակառուցվածքի բարելավման համար տրամադրվող աջակցություն և ծառայություն
D27: Միջոցառման տեսակը՝
D28: Վարկերի տրամադրում
C29: 42003 | D29: Միջոցառման անվանումը՝ Եվրոպական ներդրումային բանկի աջակցությամբ իրականացվող Երևանի մետրոպոլիտենի վերակառուցման երկրորդ ծրագրի շրջանակներում ենթավարկի տրամադրում «Երևանի մետրոպոլիտեն» ՓԲԸ-ին | E29: =+'3-2'!D19 -> -585542.9
D30: Միջոցառման նկարագրությունը՝ Երևանի մետրոպոլիտենի վերակառուցում
D31: Միջոցառման տեսակը՝
D32: Վարկերի տրամադրում
B33: 1167 | D33: Ծրագրի անվանումը՝ Էլեկտրաէներգետիկ համակարգի զարգացման ծրագիր | E33: =+E37+E41 -> -405009.5
D34: Ծրագրի նպատակը՝ Նպաստել էլեկտրաէներգետիկ համակարգի հուսալիության բարձրացմանը և էլեկտրաէներգիայի անխափան մատակարարման ապահովմանը
D35: Վերջնական արդյունքի նկարագրությունը՝ Հուսալի և անվտանգ էլեկտրամատակարարման ապահովում
B36: Ֆինանսական ակտիվների կառավարման միջոցառումներ
C37: 42003 | D37: Միջոցառման անվանումը՝ Վերակառուցման և զարգացման միջազգային բանկի աջակցությամբ իրականացվող էլեկտրամատակարարման հուսալիության ծրագրի լրացուցիչ ֆինանսավորման ծրագրի շրջանակներում ենթավարկի տրամադրում «Բարձրավոլտ էլեկտրացանցեր» ՓԲԸ-ին | E37: =+'3-2'!D22 -> -291292.3
D38: Միջոցառման նկարագրությունը՝ Էլեկտրամատակարարման հուսալիության ծրագրի լրացուցիչ ֆինանսավորման ծրագրի շրջանակներում «Հաղթանակ» 220կՎ, «Չարենցավան-3», «Վանաձոր-1» 110կՎ, «Զովունի» 220կՎ ենթակայանների ֆիզիկապես և բարոյապես մաշված սարքավորումների փոխարինում
D39: Միջոցառման տեսակը՝
D40: Վարկերի տրամադրում
C41: 42005 | D41: Միջոցառման անվանումը՝ Վերակառուցման և զարգացման միջազգային բանկի աջակցությամբ իրականացվող «Աշնակ» և «Արարատ» ենթակայանների վերակառուցման ծրագրի շրջանակներում ենթավարկի տրամադրում «Բարձրավոլտ էլեկտրացանցեր» ՓԲԸ- ին | E41: =+'3-2'!D23 -> -113717.2
D42: Միջոցառման նկարագրությունը՝ Էլեկտրահաղորդման ցանցի բարելավման ծրագրի շրջանակներում 30 և ավելի տարիներ շահագործման մեջ գտնվող 220 կՎ «Աշնակ» և 40 և ավելի տարիներ շահագործման մեջ գտնվող 220 կՎ «Արարատ-2» ենթակայանների վերակառուցում
D43: Միջոցառման տեսակը՝
D44: Վարկերի տրամադրում

Sheet 3-2
F1: Հավելված N 3
F2: Աղյուսակ 2
F3: ՀՀ կառավարության 2021 թվականի
F4: ______________ ի ___Ն որոշման
A5: «ՀԱՅԱՍՏԱՆԻ ՀԱՆՐԱՊԵՏՈՒԹՅԱՆ 2021 ԹՎԱԿԱՆԻ ՊԵՏԱԿԱՆ ԲՅՈՒՋԵԻ ՄԱՍԻՆ» ՕՐԵՆՔԻ N 3 ՀԱՎԵԼՎԱԾԻ N 1.1.1 ԱՂՅՈՒՍԱԿՈՒՄ ԵՎ ՀԱՅԱՍՏԱՆԻ ՀԱՆՐԱՊԵՏՈՒԹՅԱՆ ԿԱՌԱՎԱՐՈՒԹՅԱՆ 2020 ԹՎԱԿԱՆԻ ԴԵԿՏԵՄԲԵՐԻ 30-Ի N 2215-Ն ՈՐՈՇՄԱՆ N1 ՀԱՎԵԼՎԱԾԻ N3 ԱՂՅՈՒՍԱԿՈՒՄ ԿԱՏԱՐՎՈՂ ՓՈՓՈԽՈՒԹՅՈՒՆՆԵՐԸ
E6: հազար դրամ
A7: Ծրագրային դասիչ | C7: Բյուջետային գլխավոր կարգադրիչների, ծրագրերի և միջոցառումների անվանումները | D7: Ցուցանիշների փոփոխությունը ( նվազեցումները նշված են փակագծերում)
D8: Տարի
D9: Ընդամենը | E9: այդ թվում
A10: Ծրագիր | B10: Միջոցառում | E10: Վարկային միջոցներ | F10: Համաֆինան սավորում
C11: ԸՆԴԱՄԵՆԸ այդ թվում | D11: =+E11+F11 -> -1534768.1 | E11: =+E12 -> -1240829.2 | F11: =+F12 -> -293938.9
C12: ՀՀ ՏԱՐԱԾՔԱՅԻՆ ԿԱՌԱՎԱՐՄԱՆ ԵՎ ԵՆԹԱԿԱՌՈՒՑՎԱԾՔՆԵՐԻ ՆԱԽԱՐԱՐՈՒԹՅՈՒՆ | D12: =+D13+D16+D20 -> -1534768.1 | E12: =+E13+E16+E20 -> -1240829.2 | F12: =+F13+F16+F20 -> -293938.9
A13: 1040 | C13: Կոշտ թափոնների կառավարում | D13: =+D15 -> -134754 | E13: =+E15 -> -110357 | F13: =+F15 -> -24397
C14: այդ թվում`
B15: 42001 | C15: Վերակառուցման և զարգացման եվրոպական բանկի աջակցությամբ իրականացվող Կոտայքի և Գեղարքունիքի մարզերի կոշտ թափոնների կառավարման ծրագրի շրջանակներում ենթավարկի տրամադրում «Կոտայքի և Գեղարքունիքի Կոշտ կենցաղային թափոնների կառավարում» ՍՊԸ-ին | D15: =+E15+F15 -> -134754 | E15: -110357 | F15: -24397
A16: 1157 | C16: Քաղաքային զարգացում | D16: =+D18+D19 -> -995004.6 | E16: =+E18+E19 -> -825829.6 | F16: =+F18+F19 -> -169175
C17: այդ թվում`
B18: 42001 | C18: Վերակառուցման և զարգացման եվրոպական բանկի աջակցությամբ իրականացվող Երևանի քաղաքային լուսավորության ծրագրի շրջանակներում ենթավարկի տրամադրում «Երքաղլույս» ՓԲԸ-ին | D18: =+E18+F18 -> -409461.7 | E18: -357395.3 | F18: -52066.4
B19: 42003 | C19: Եվրոպական ներդրումային բանկի աջակցությամբ իրականացվող Երևանի մետրոպոլիտենի վերակառուցման երկրորդ ծրագրի շրջանակներում ենթավարկի տրամադրում «Երևանի մետրոպոլիտեն» ՓԲԸ-ին | D19: =+E19+F19 -> -585542.9 | E19: -468434.3 | F19: -117108.6
A20: 1167 | C20: Էլեկտրաէներգետիկ համակարգի զարգացման ծրագիր | D20: =+D22+D23 -> -405009.5 | E20: =+E22+E23 -> -304642.6 | F20: =+F22+F23 -> -100366.9
C21: այդ թվում`
B22: 42003 | C22: Վերակառուցման և զարգացման միջազգային բանկի աջակցությամբ իրականացվող էլեկտրամատակարարման հուսալիության ծրագրի լրացուցիչ ֆինանսավորման ծրագրի շրջանակներում ենթավարկի տրամադրում «Բարձրավոլտ էլեկտրացանցեր» ՓԲԸ-ին | D22: =+E22+F22 -> -291292.3 | E22: -213110.7 | F22: -78181.6
B23: 42005 | C23: Վերակառուցման և զարգացման միջազգային բանկի աջակցությամբ իրականացվող «Աշնակ»_x000D_ և «Արարատ» ենթակայանների վերակառուցման ծրագրի շրջանակներում ենթավարկի տրամադրում «Բարձրավոլտ էլեկտրացանցեր» ՓԲԸ- ին | D23: =+E23+F23 -> -113717.2 | E23: -91531.9 | F23: -22185.3

Sheet 3-3
C1: Հավելված N 3
C2: Աղյուսակ 3
C3: ՀՀ կառավարության 2021 թվականի
C4: ______________ ի ___Ն որոշման
A5: ՀԱՅԱՍՏԱՆԻ ՀԱՆՐԱՊԵՏՈՒԹՅԱՆ ԿԱՌԱՎԱՐՈՒԹՅԱՆ 2020 ԹՎԱԿԱՆԻ ԴԵԿՏԵՄԲԵՐԻ 30-Ի N 2215-Ն ՈՐՈՇՄԱՆ N1 ՀԱՎԵԼՎԱԾԻ N5 ԱՂՅՈՒՍԱԿՈՒՄ ԿԱՏԱՐՎՈՂ ՓՈՓՈԽՈՒԹՅՈՒՆՆԵՐԸ
A7: ՄԱՍ 2. ՊԵՏԱԿԱՆ ՄԱՐՄՆԻ ԳԾՈՎ ԱՐԴՅՈՒՆՔԱՅԻՆ (ԿԱՏԱՐՈՂԱԿԱՆ) ՑՈՒՑԱՆԻՇՆԵՐԸ
A9: Ծրագրի դասիչը | B9: Ծրագրի անվանումը
A10: 1167 | B10: Էլեկտրաէներգետիկ համակարգի զարգացման ծրագիր
A11: Ծրագրի միջոցառումները
A13: Ծրագրի դասիչը՝ | B13: 1167 | C13: Ցուցանիշների փոփոխությունը (ավելացումները նշված են դրական նշանով, իսկ նվազեցումները նշված են փակագծերում)
A14: Միջոցառման դասիչը՝ | B14: 42003 | C14: Տարի
A15: Միջոցառման անվանումը՝ | B15: Վերակառուցման և զարգացման միջազգային բանկի աջակցությամբ իրականացվող էլեկտրամատակարարման հուսալիության ծրագրի լրացուցիչ ֆինանսավորման ծրագրի շրջանակներում ենթավարկի տրամադրում «Բարձրավոլտ էլեկտրացանցեր» ՓԲԸ-ին
A16: Նկարագրությունը՝ | B16: Էլեկտրամատակարարման հուսալիության ծրագրի լրացուցիչ ֆինանսավորման ծրագրի շրջանակներում նախատեսվում է փոխարինել 30 և ավելի տարիներ շահագործման մեջ գտնվող «Հաղթանակ» 220 կՎ, «Չարենցավան-3», «Վանաձոր-1» 110 կՎ ենթակայանների և 40 և ավելի և տարիներ շահագործման մեջ գտվող «Զովունի» 220 կՎ ենթակայանի ֆիզիկապես և բարոյապես մաշված սարքավորումները
A17: Միջոցառման տեսակը՝ | B17: Վարկերի տրամադրում
A18: Միջոցառումն իրականացնողի անվանումը՝ | B18: Մասնագիտացված միավոր
B19: Արդյունքի չափորոշիչներ
A20: Քանակական | B20: Տրամադրվող ենթավարկերի քանակ, հատ
A21: Քանակական | B21: Վերակառուցվող ենթակայանների քանակ, հատ
A22: Քանակական | B22: Ենթակայանների սարքավորումների խափանումների տարեկան քանակ, հատ | C22: 0
A23: Քանակական | B23: Տարածքում անջատումների միջին տարեկան հաճախականություն, հոսանքազրկումների քանակը/բաժանորդների թվին
A24: Միջոցառման վրա կատարվող ծախսը (հազար դրամ) | C24: =+'3-2'!D22 -> -291292.3
A26: Ծրագրի դասիչը՝ | B26: 1167
A27: Միջոցառման դասիչը՝ | B27: 42005 | C27: Տարի
A28: Միջոցառման անվանումը՝ | B28: Վերակառուցման և զարգացման միջազգային բանկի աջակցությամբ իրականացվող «Աշնակ» և «Արարատ» ենթակայանների վերակառուցման ծրագրի շրջանակներում ենթավարկի տրամադրում «Բարձրավոլտ էլեկտրացանցեր» ՓԲԸ- ին
A29: Նկարագրությունը՝ | B29: Էլեկտրահաղորդման ցանցի բարելավման ծրագրի շրջանակներում նախատեսվում է վերակառուցել 30 և ավելի տարիներ շահագործման մեջ գտնվող 220 կՎ «Աշնակ» ենթակայանը և 40 և ավելի տարիներ շահագործման մեջ գտնվող 220 կՎ «Արարատ-2» ենթակայանը
A30: Միջոցառման տեսակը՝ | B30: Վարկերի տրամադրում
A31: Միջոցառումն իրականացնողի անվանումը՝ | B31: «Բարձրավոլտ էլեկտրացանցեր» ՓԲԸ
B32: Արդյունքի չափորոշիչներ
A33: Քանակական | B33: Տրամադրվող ենթավարկերի քանակ, հատ
A34: Քանակական | B34: Վերակառուցվող ենթակայանների քանակ, հատ
A35: Քանակական | B35: Ենթակայանների սարքավորումների խափանումների տարեկան քանակ, հատ
A36: Քանակական | B36: Տարածքում անջատումների միջին տարեկան հաճախականություն, հոսանքազրկումների քանակը/բաժանորդների թվին
A37: Միջոցառման վրա կատարվող ծախսը (հազար դրամ) | C37: =+'3-2'!D23 -> -113717.2
A38: Ծրագրի դասիչը | B38: Ծրագրի անվանումը
A39: 1040 | B39: Կոշտ թափոնների կառավարում
A40: Ծրագրի միջոցառումները
A41: Ծրագրի դասիչը՝ | B41: 1040
A42: Միջոցառման դասիչը՝ | B42: 42001 | C42: Տարի
A43: Միջոցառման անվանումը՝ | B43: Վերակառուցման և զարգացման եվրոպական բանկի աջակցությամբ իրականացվող «Կոտայքի և Գեղարքունիքի մարզերի կոշտ թափոնների կառավարման» ծրագիր
A44: Նկարագրությունը՝ | B44: Կոշտ թափոննրի կառավարման համակարգի բարելավում և նոր աղբավայրի ստեղծում_x000D_
A45: Միջոցառման տեսակը՝ | B45: Վարկերի տրամադրում
A46: Միջոցառումն իրականացնողի անվանումը՝ | B46: Մասնագիտացված միավոր
B47: Արդյունքի չափորոշիչներ
A48: Քանակական | B48: Ծրագրում ընդգրկված համայնքների թիվը, հատ
A49: Քանակական | B49: Ստեղծվող աղբավայրերի թիվ, հատ
A50: Քանակական | B50: Վերաբեռնման կայանի կառուցում, հատ
A51: Քանակական | B51: Երկու մարզերում շահագործվող աղբանոցների թվի կրճատում, տոկոս
A52: Միջոցառման վրա կատարվող ծախսը (հազար դրամ) | C52: =+'3-2'!D15 -> -134754
A53: 1157 | B53: Քաղաքային զարգացում
A54: Ծրագրի միջոցառումները
A55: Ծրագրի դասիչը՝ | B55: 1157
A56: Միջոցառման դասիչը՝ | B56: 42001 | C56: Տարի
A57: Միջոցառման անվանումը՝ | B57: Վերակառուցման և զարգացման եվրոպական բանկի աջակցությամբ իրականացվող Երևանի քաղաքային լուսավորության ծրագրի կատարման ապահովում
A58: Նկարագրությունը՝ | B58: Երևանի քաղաքային լուսավորության ապահովում համար վարկերի տրամադրում
A59: Միջոցառման տեսակը՝ | B59: Վարկերի տրամադրում
A60: Միջոցառումն իրականացնողի անվանումը՝ | B60: Մասնագիտացված միավոր
B61: Արդյունքի չափորոշիչներ
A62: Քանակական | B62: Երևան քաղաքի թվով 28 փողոցների արտաքին լուսավորության ցանցի արդիականացման աշխատանքներ, ներառյալ էներգախնայող լուսադիոդային (LED) տիպի լուսատուների տեղադրում, մալուխների ստորգետնյա անցկացում, հենասյուների վերանորոգում և փոխարինում , ավտոմատ կառավարման համակարգի ստեղծում, տոկոս | C62: -30
A63: Միջոցառման վրա կատարվող ծախսը (հազար դրամ) | C63: =+'3-2'!D18 -> -409461.7
A65: Ծրագրի դասիչը՝ | B65: 1157
A66: Միջոցառման դասիչը՝ | B66: 42003 | C66: Տարի
A67: Միջոցառման անվանումը՝ | B67: Եվրոպական ներդրումային բանկի աջակցությամբ իրականացվող Երևանի մետրոպոլիտենի վերակառուցման երկրորդ ծրագիր
A68: Նկարագրությունը՝ | B68: Երևանի մետրոպոլիտենի վերակառուցում
A69: Միջոցառման տեսակը՝ | B69: Վարկերի տրամադրում
A70: Միջոցառումն իրականացնողի անվանումը՝ | B70: Մասնագիտացված միավոր
B71: Արդյունքի չափորոշիչներ
A72: Քանակական | B72: Հորատման աշխատանքներ, մ
A73: Քանակական | B73: Տորկրեդ բետոնացման աշխատանքներ,մ
A74: Քանակական | B74: Մետաղական կառուցվածքների տեղադրման աշխատանքներ, մ
A75: Քանակական | B75: Նորոգման աշխատանքներ մետրոյի թունելներում, որից
A76: Քանակական | B76: Դատարկ տեղերի լցոնում՝ ըստ անհրաժեշտության, քմ
A77: Քանակական | B77: Հակակոռոզիոն աշխատանքների իրականացում, խմ
A78: Քանակական | B78: Ստորգետնյա ջրերի հոսքի կրճատում 2016թ․ համեմատ, տոկոս
A79: Քանակական | B79: Պոմպակայանների անջատման հետևանքով էլեկտրաէներգիայի խնայհողություն, կվտ/ժ, 2016թ․ համեմատ
A80: Միջոցառման վրա կատարվող ծախսը (հազար դրամ) | C80: =+'3-2'!D19 -> -585542.9

Sheet 4
D1: Հավելված N 4
D2: ՀՀ կառավարության 2021 թվականի
D3: ______________ ի ___Ն որոշման
A5: «ՀԱՅԱՍՏԱՆԻ ՀԱՆՐԱՊԵՏՈՒԹՅԱՆ 2021 ԹՎԱԿԱՆԻ ՊԵՏԱԿԱՆ ԲՅՈՒՋԵԻ ՄԱՍԻՆ» ՕՐԵՆՔԻ N 1 ՀԱՎԵԼՎԱԾԻ N 2 ԱՂՅՈՒՍԱԿՈՒՄ ԵՎ ՀԱՅԱՍՏԱՆԻ ՀԱՆՐԱՊԵՏՈՒԹՅԱՆ ԿԱՌԱՎԱՐՈՒԹՅԱՆ 2020 ԹՎԱԿԱՆԻ ԴԵԿՏԵՄԲԵՐԻ 30-Ի N 2215-Ն ՈՐՈՇՄԱՆ N 5 ՀԱՎԵԼՎԱԾԻ N 1 ԱՂՅՈՒՍԱԿՈՒՄ ԿԱՏԱՐՎՈՂ ՓՈՓՈԽՈՒԹՅՈՒՆՆԵՐԸ
D7: հազ.դրամ
A8: Ծրագրային դասիչը | C8: Բյուջետային գլխավոր կարգադրիչների, ծրագրերի և միջոցառումների անվանումները | D8: Ցուցանիշների փոփոխությունը (ավելացումները նշված են դրական նշանով, իսկ նվազեցումները նշված են փակագծերում)
A9: Ծրագրային դասիչը | C9: Բյուջետային գլխավոր կարգադրիչների, ծրագրերի և միջոցառումների անվանումները | D9: Տարի
C10: ԸՆԴԱՄԵՆԸ | D10: -6504456.4
C11: ՀՀ Ազգային ժողով | D11: -16085.1
A12: 1024 | C12: Ծրագրի անվանումը` | D12: -16085.1
C13: ՀՀ Ազգային ժողովի լիազորությունների իրականացման ապահովում
C14: Ծրագրի նպատակը`
C15: Օրենսդրական դաշտի ձևավորում և կատարելագործում
C16: Վերջնական արդյունքի նկարագրությունը`
C17: Արդյունավետ օրենսդրական դաշտի ապահովում
A18: Ծրագրի միջոցառումներ
B19: 31001 | C19: Միջոցառման անվանումը` | D19: -13781
C20: Ազգային ժողովի տեխնիկական հագեցվածության բարելավում
C21: Միջոցառման նկարագրությունը`
C22: Ազգային ժողովի աշխատակազմի աշխատանքային պայմանների բարելավման համար վարչական սարքավորումների ձեռքբերում
C23: Միջոցառման տեսակը
C24: Պետական մարմինների կողմից օգտագործվող ոչ ֆինանսական ակտիվների հետ գործառնություններ
B25: 31003 | C25: Միջոցառման անվանումը` | D25: -2304.1
C26: ՀՀ Ազգային ժողովի շենքային պայմանների բարելավում
C27: Միջոցառման նկարագրությունը`
C28: ՀՀ Ազգային ժողովի շենք-շինությունների կապիտալ վերանորոգում և նախագծանախահաշվային փաստաթղթերի ձեռքբերում
C29: Միջոցառման տեսակը
C30: Պետական մարմինների կողմից օգտագործվող ոչ ֆինանսական ակտիվների հետ գործառնություններ
C31: ՀՀ վարչապետի աշխատակազմ | D31: -3578114.2
A32: 1018 | C32: Ծրագրի անվանումը` | D32: -610000
C33: Պետական հատվածի արդիականացման ծրագիր
C34: Ծրագրի նպատակը`
C35: Հանրային ֆինանսական հաշվետվությունների որակի և ընտրված էլեկտրոնային կառավարման կատարելագործված ծառայությունների հասանելիության բարելավում
C36: Վերջնական արդյունքի նկարագրությունը`
C37: Հանրային ֆինանսների կառավարման տեղեկատվական համակարգերի բարելավում, ծառայությունների մատուցման էլեկտրոնային կառավարման լուծումների իրագործում, հանրային հատվածի արդիականացման և կառավարման բարեփոխումների ընդգրկուն ընթացքի ապահովում:
A38: Ծրագրի միջոցառումներ
B39: 11001 | C39: Միջոցառման անվանումը` | D39: -110000
C40: Համաշխարհային բանկի աջակցությամբ իրականացվող Պետական հատվածի արդիականացման երրորդ ծրագիր
C41: Միջոցառման նկարագրությունը`
C42: ՀՀ հանրային հատվածի ֆինանսական կառավարման բարեփոխումների մշակման և իրականացման խորհրդատվական ծառայությունների ձեռքբերում
C43: Միջոցառման տեսակը
C44: Ծառայությունների մատուցում
B45: 32001 | C45: Միջոցառման անվանումը` | D45: -500000
C46: Համաշխարհային բանկի աջակցությամբ իրականացվող Պետական հատվածի արդիականացման երրորդ ծրագրի շրջանակներում էլեկտրոնային կառավարման համակարգերի և սարքավորումների ձեռքբերում
C47: Միջոցառման նկարագրությունը`
C48: ՀԲ-ի աջակցությամբ իրականացվող Պետական հատվածի արդիականացման երրորդ ծրագրի շրջանակներում էլեկտրոնային կառավարման համակարգերի և սարքավորումների ձեռքբերում
C49: Միջոցառման տեսակը
C50: Այլ պետական կազմակերպությունների կողմից օգտագործվող ոչ ֆինանսական ակտիվների հետ գործառնություններ
A51: 1033 | C51: Ծրագրի անվանումը` | D51: -8628
C52: Աջակցություն քաղաքական կուսակցություններին, հասարակական կազմակերպություններին և արհմիություններին
C53: Ծրագրի նպատակը`
C54: Քաղաքացիական հասարակության զարգացում
C55: Վերջնական արդյունքի նկարագրությունը`
C56: Քաղաքացիական հասարակության կառույցների և նրանց կարողությունների զարգացում, տնտեսական և քաղաքական կյանքում ՔՀԿ-ների ընդգրկվածության և մասնակցության աճ
A57: Ծրագրի միջոցառումներ
B58: 11002 | C58: Միջոցառման անվանումը` | D58: -8628
C59: Պետական կառավարման գործընթացներին քաղաքացիական հասարակության մասնակցության ապահովում
C60: Միջոցառման նկարագրությունը`
C61: Հանրային խորհրդի բնականոն գործունեության ապահովում
C62: Միջոցառման տեսակը
C63: Ծառայությունների մատուցում
A64: 1132 | C64: Ծրագրի անվանումը` | D64: -15000
C65: Քաղաքացիական ծառայողների վերապատրաստում
C66: Ծրագրի նպատակը`
C67: Քաղաքացիական ծառայողների աշխատանքի արդյունավետության բարելավում
C68: Վերջնական արդյունքի նկարագրությունը`
C69: Քաղաքացիական ծառայության ոլորտում անկախ, արհեստավարժ և բարոյական բարձր հատկանիշներով օժտված կադրերի ապահովումը
A70: Ծրագրի միջոցառումներ
B71: 11001 | C71: Միջոցառման անվանումը` | D71: -15000
C72: ՀՀ քաղաքացիական ծառայողների վերապատրաստման ծառայություններ
C73: Միջոցառման նկարագրությունը`
C74: Քաղաքացիական ծառայողների մասնագիտական գիտելիքների և աշխատանքային ունակությունների հետևողական վերապատրաստման և ուսուցման ծառայություններ
C75: Միջոցառման տեսակը
C76: Ծառայությունների մատուցում
A77: 1136 | C77: Ծրագրի անվանումը` | D77: -2479874.9
C78: ՀՀ Վարչապետի լիազորությունների իրականացման ապահովում
C79: Ծրագրի նպատակը`
C80: Աջակցել կառավարության, վարչապետի և փոխվարչապետերի գործունեությանը
C81: Վերջնական արդյունքի նկարագրությունը`
C82: ՀՀ կառավարության և վարչապետի որոշումների ու հանձնարարականների կատարման վերահսկողության ապահովում
A83: Ծրագրի միջոցառումներ
B84: 11001 | C84: Միջոցառման անվանումը` | D84: -2874.9
C85: Ծառայությունների, ծրագրերի համակարգում
C86: Միջոցառման նկարագրությունը`
C87: Աջակցություն ՀՀ կառավարությանը` քաղաքականության և ծրագրերի մշակման և իրականացման գործընթացում, վերահսկողության կատարման գործընթացում
C88: Միջոցառման տեսակը
C89: Ծառայությունների մատուցում
B90: 11011 | C90: Միջոցառման անվանումը` | D90: -380000
C91: Համաշխարհային բանկի աջակցությամբ իրականացվող առևտրի և ենթակառուցվածքների զարգացման ծրագիր
C92: Միջոցառման նկարագրությունը`
C93: Համաշխարհային բանկի աջակցությամբ իրականացվող առևտրի և ենթակառուցվածքների զարգացման ծրագիր
C94: Միջոցառման տեսակը
C95: Ծառայությունների մատուցում
B96: 31002 | C96: Միջոցառման անվանումը` | D96: -10000
C97: ՀՀ վարչապետի աշխատակազմի տեխնիկական հագեցվածության բարելավում
C98: Միջոցառման նկարագրությունը`
C99: ՀՀ վարչապետի աշխատակազմի աշխատանքային պայմանների բարելավման նպատակով վարչական սարքավորումների ձեռքբերում
C100: Միջոցառման տեսակը
C101: Պետական մարմինների կողմից օգտագործվող ոչ ֆինանսական ակտիվների հետ գործառնություններ
B102: 31003 | C102: Միջոցառման անվանումը` | D102: -1387000
...

Sheet 5
D1: Հավելված N 5
D2: ՀՀ կառավարության 2021 թվականի
D3: ______________ ի ___Ն որոշման
A5: ՀԱՅԱՍՏԱՆԻ ՀԱՆՐԱՊԵՏՈՒԹՅԱՆ ԿԱՌԱՎԱՐՈՒԹՅԱՆ 2020 ԹՎԱԿԱՆԻ ԴԵԿՏԵՄԲԵՐԻ 30-Ի N 2215-Ն ՈՐՈՇՄԱՆ N 3 ՀԱՎԵԼՎԱԾՈՒՄ ԿԱՏԱՐՎՈՂ ՓՈՓՈԽՈՒԹՅՈՒՆՆԵՐԸ
D6: հազ.դրամ
A7: Ծրագրային դասիչը | C7: Բյուջետային գլխավոր կարգադրիչների, ծրագրերի և միջոցառումների, վերջիններս կատարող պետական կառավարման մարմինների և բյուջետային ծախսերի տնտեսագիտական դասակարգման հոդվածների անվանումները | D7: Ցուցանիշների փոփոխությունը (ավելացումները նշված են դրական նշանով, իսկ նվազեցումները նշված են փակագծերում) Տարի
A8: Ծրագիր | B8: Միջոց առում
A9: Ծրագրային դասիչը | C9: Բյուջետային գլխավոր կարգադրիչների, ծրագրերի և միջոցառումների, վերջիններս կատարող պետական կառավարման մարմինների և բյուջետային ծախսերի տնտեսագիտական դասակարգման հոդվածների անվանումները | D9: Տարի
A10: Ծրագիր | B10: Միջոց առում
C11: ԸՆԴԱՄԵՆԸ | D11: -6504456.4
C12: այդ թվում`
C13: ՀՀ Ազգային ժողով | D13: -16085.1
C14: այդ թվում`
A15: 1024 | C15: ՀՀ Ազգային ժողովի լիազորությունների իրականացման ապահովում | D15: -16085.1
C16: այդ թվում`
B17: 31001 | C17: Ազգային ժողովի տեխնիկական հագեցվածության բարելավում | D17: -13781
C18: այդ թվում` ըստ կատարողների
C19: ՀՀ Ազգային ժողով | D19: -13781
C20: այդ թվում` բյուջետային ծախսերի տնտեսագիտական դասակարգման հոդվածներ
C21: ԸՆԴԱՄԵՆԸ ԾԱԽՍԵՐ | D21: -13781
C22: ՈՉ ՖԻՆԱՆՍԱԿԱՆ ԱԿՏԻՎՆԵՐԻ ԳԾՈՎ ԾԱԽՍԵՐ | D22: -13781
C23: ՀԻՄՆԱԿԱՆ ՄԻՋՈՑՆԵՐ | D23: -13781
C24: ՄԵՔԵՆԱՆԵՐ ԵՎ ՍԱՐՔԱՎՈՐՈՒՄՆԵՐ | D24: -13781
C25: - Վարչական սարքավորումներ | D25: -13781
B26: 31003 | C26: ՀՀ Ազգային ժողովի շենքային պայմանների բարելավում | D26: -2304.1
C27: այդ թվում` ըստ կատարողների
C28: ՀՀ քաղաքաշինության կոմիտե | D28: -2304.1
C29: այդ թվում` բյուջետային ծախսերի տնտեսագիտական դասակարգման հոդվածներ
C30: ԸՆԴԱՄԵՆԸ ԾԱԽՍԵՐ | D30: -2304.1
C31: ՈՉ ՖԻՆԱՆՍԱԿԱՆ ԱԿՏԻՎՆԵՐԻ ԳԾՈՎ ԾԱԽՍԵՐ | D31: -2304.1
C32: ՀԻՄՆԱԿԱՆ ՄԻՋՈՑՆԵՐ | D32: -2304.1
C33: ՇԵՆՔԵՐ ԵՎ ՇԻՆՈՒԹՅՈՒՆՆԵՐ | D33: -2304.1
C34: - Շենքերի և շինությունների կապիտալ վերանորոգում | D34: -2304.1
C35: ՀՀ վարչապետի աշխատակազմ | D35: -3578114.2
C36: այդ թվում`
A37: 1018 | C37: Պետական հատվածի արդիականացման ծրագիր | D37: -610000
C38: այդ թվում`
B39: 11001 | C39: Համաշխարհային բանկի աջակցությամբ իրականացվող Պետական հատվածի արդիականացման երրորդ ծրագիր | D39: -110000
C40: այդ թվում` ըստ կատարողների
C41: ՀՀ վարչապետի աշխատակազմ | D41: -110000
C42: այդ թվում` բյուջետային ծախսերի տնտեսագիտական դասակարգման հոդվածներ
C43: ԸՆԴԱՄԵՆԸ ԾԱԽՍԵՐ | D43: -110000
C44: ԸՆԹԱՑԻԿ ԾԱԽՍԵՐ | D44: -110000
C45: ԱՅԼ ԾԱԽՍԵՐ | D45: -110000
C46: Այլ ծախսեր | D46: -110000
B47: 32001 | C47: Համաշխարհային բանկի աջակցությամբ իրականացվող Պետական հատվածի արդիականացման երրորդ ծրագրի շրջանակներում էլեկտրոնային կառավարման համակարգերի և սարքավորումների ձեռքբերում | D47: -500000
C48: այդ թվում` ըստ կատարողների
C49: ՀՀ վարչապետի աշխատակազմ | D49: -500000
C50: այդ թվում` բյուջետային ծախսերի տնտեսագիտական դասակարգման հոդվածներ
C51: ԸՆԴԱՄԵՆԸ ԾԱԽՍԵՐ | D51: -500000
C52: ՈՉ ՖԻՆԱՆՍԱԿԱՆ ԱԿՏԻՎՆԵՐԻ ԳԾՈՎ ԾԱԽՍԵՐ | D52: -500000
C53: ՀԻՄՆԱԿԱՆ ՄԻՋՈՑՆԵՐ | D53: -500000
C54: ՄԵՔԵՆԱՆԵՐ ԵՎ ՍԱՐՔԱՎՈՐՈՒՄՆԵՐ | D54: -500000
C55: - Այլ մեքենաներ և սարքավորումներ | D55: -500000
A56: 1033 | C56: Աջակցություն քաղաքական կուսակցություններին, հասարակական կազմակերպություններին և արհմիություններին | D56: -8628
C57: այդ թվում`
B58: 11002 | C58: Պետական կառավարման գործընթացներին քաղաքացիական հասարակության մասնակցության ապահովում | D58: -8628
C59: այդ թվում` ըստ կատարողների
C60: ՀՀ վարչապետի աշխատակազմ | D60: -8628
C61: այդ թվում` բյուջետային ծախսերի տնտեսագիտական դասակարգման հոդվածներ
C62: ԸՆԴԱՄԵՆԸ ԾԱԽՍԵՐ | D62: -8628
C63: ԸՆԹԱՑԻԿ ԾԱԽՍԵՐ | D63: -8628
C64: ԾԱՌԱՅՈՒԹՅՈՒՆՆԵՐԻ ԵՎ ԱՊՐԱՆՔՆԵՐԻ ՁԵՌՔԲԵՐՈՒՄ | D64: -8628
C65: Շարունակական ծախսեր | D65: -1120
C66: - Կապի ծառայություններ | D66: -120
C67: - Գույքի և սարքավորումների վարձակալություն | D67: -1000
C68: Ծառայողական գործուղումների գծով ծախսեր | D68: -7328
C69: - Ներքին գործուղումներ | D69: -1000
C70: - Արտասահմանյան գործուղումների գծով ծախսեր | D70: -6328
C71: Պայմանագրային այլ ծառայությունների ձեռքբերում | D71: -180
C72: - Համակարգչային ծառայություններ | D72: -30
C73: - Տեղեկատվական ծառայություններ | D73: -150
A74: 1132 | C74: Քաղաքացիական ծառայողների վերապատրաստում | D74: -15000
C75: այդ թվում`
B76: 11001 | C76: ՀՀ քաղաքացիական ծառայողների վերապատրաստման ծառայություններ | D76: -15000
C77: այդ թվում` ըստ կատարողների
C78: ՀՀ վարչապետի աշխատակազմ | D78: -15000
C79: այդ թվում` բյուջետային ծախսերի տնտեսագիտական դասակարգման հոդվածներ
C80: ԸՆԴԱՄԵՆԸ ԾԱԽՍԵՐ | D80: -15000
C81: ԸՆԹԱՑԻԿ ԾԱԽՍԵՐ | D81: -15000
C82: ԾԱՌԱՅՈՒԹՅՈՒՆՆԵՐԻ ԵՎ ԱՊՐԱՆՔՆԵՐԻ ՁԵՌՔԲԵՐՈՒՄ | D82: -15000
C83: Պայմանագրային այլ ծառայությունների ձեռքբերում | D83: -15000
C84: - Ընդհանուր բնույթի այլ ծառայություններ | D84: -15000
A85: 1136 | C85: ՀՀ Վարչապետի լիազորությունների իրականացման ապահովում | D85: -2479874.9
C86: այդ թվում`
B87: 11001 | C87: Ծառայությունների, ծրագրերի համակարգում | D87: -2874.9
C88: այդ թվում` ըստ կատարողների
C89: ՀՀ վարչապետի աշխատակազմ | D89: -2874.9
C90: այդ թվում` բյուջետային ծախսերի տնտեսագիտական դասակարգման հոդվածներ
C91: ԸՆԴԱՄԵՆԸ ԾԱԽՍԵՐ | D91: -2874.9
C92: ԸՆԹԱՑԻԿ ԾԱԽՍԵՐ | D92: -2874.9
C93: ԾԱՌԱՅՈՒԹՅՈՒՆՆԵՐԻ ԵՎ ԱՊՐԱՆՔՆԵՐԻ ՁԵՌՔԲԵՐՈՒՄ | D93: -2874.9
C94: Պայմանագրային այլ ծառայությունների ձեռքբերում | D94: -2141.3
C95: - Համակարգչային ծառայություններ | D95: -600
C96: - Տեղեկատվական ծառայություններ | D96: -1276.3
C97: - Ընդհանուր բնույթի այլ ծառայություններ | D97: -265
C98: Ընթացիկ նորոգում և պահպանում (ծառայություններ և նյութեր) | D98: -212
C99: - Մեքենաների և սարքավորումների ընթացիկ նորոգում և պահպանում | D99: -212
C100: Նյութեր (Ապրանքներ) | D100: -521.6
C101: - Գրասենյակային նյութեր և հագուստ | D101: -9
...

Sheet 6.
G1: Հավելված N 6
G2: ՀՀ կառավարության 2021 թվականի
G3: ______________ ի ___Ն որոշման
A5: ՀԱՅԱՍՏԱՆԻ ՀԱՆՐԱՊԵՏՈՒԹՅԱՆ ԿԱՌԱՎԱՐՈՒԹՅԱՆ 2020 ԹՎԱԿԱՆԻ ԴԵԿՏԵՄԲԵՐԻ 30-Ի N 2215-Ն ՈՐՈՇՄԱՆ N 4 ՀԱՎԵԼՎԱԾՈՒՄ ԿԱՏԱՐՎՈՂ ՓՈՓՈԽՈՒԹՅՈՒՆՆԵՐԸ
G6: հազ.դրամ
A7: Գործառական դասիչը | D7: Ծրագրային դասիչը | F7: Բյուջետային ծախսերի գործառական դասակարգման բաժինների, խմբերի և դասերի, ֆինանսավորվող ծրագրերի միջոցառումների և վերջիններս իրականացնող բյուջետային գլխավոր կարգադրիչների անվանումները | G7: Ցուցանիշների փոփոխությունը (ավելացումները նշված են դրական նշանով, իսկ նվազեցումները նշված են փակագծերում)
A8: Բաժին | B8: Խումբ | C8: Դաս | D8: Ծրագիր | E8: Միջոցա ռում
G9: Տարի
F10: ԸՆԴԱՄԵՆԸ ԾԱԽՍԵՐ | G10: ='5'!D11 -> -6504456.4
F11: այդ թվում`
A12: 01 | F12: ԸՆԴՀԱՆՈՒՐ ԲՆՈՒՅԹԻ ՀԱՆՐԱՅԻՆ ԾԱՌԱՅՈՒԹՅՈՒՆՆԵՐ | G12: -9401166.6
F13: այդ թվում`
B14: 01 | F14: Օրենսդիր և գործադիր մարմիններ, պետական կառավարում, ֆինանսական և հարկաբյուջետային հարաբերություններ, արտաքին հարաբերություններ | G14: -853910.6
F15: այդ թվում`
C16: 01 | F16: Օրենսդիր և գործադիր մարմիններ, պետական կառավարում | G16: -82661.9
F17: այդ թվում`
D18: 1009 | E18: 11001 | F18: ՀՀ Արարատի մարզպետարանի կողմից տարածքային պետական կառավարման ապահովում | G18: -6000
F19: այդ թվում`
F20: ՀՀ Արարատի մարզպետարան | G20: -6000
D21: 1024 | E21: 31001 | F21: Ազգային ժողովի տեխնիկական հագեցվածության բարելավում | G21: -13781
F22: այդ թվում`
F23: ՀՀ Ազգային ժողով | G23: -13781
D24: 1024 | E24: 31003 | F24: ՀՀ Ազգային ժողովի շենքային պայմանների բարելավում | G24: -2304.1
F25: այդ թվում`
F26: ՀՀ Ազգային ժողով | G26: -2304.1
D27: 1030 | E27: 11001 | F27: ՀՀ Լոռու մարզպետարանի կողմից տարածքային պետական կառավարման ապահովում | G27: -250
F28: այդ թվում`
F29: ՀՀ Լոռու մարզպետարան | G29: -250
D30: 1033 | E30: 11002 | F30: Պետական կառավարման գործընթացներին քաղաքացիական հասարակության մասնակցության ապահովում | G30: -8628
F31: այդ թվում`
F32: ՀՀ վարչապետի աշխատակազմ | G32: -8628
D33: 1055 | E33: 11001 | F33: ՀՀ Տավուշի մարզպետարանի կողմից տարածքային պետական կառավարման ապահովում | G33: -2241.2
F34: այդ թվում`
F35: ՀՀ Տավուշի մարզպետարան | G35: -2241.2
D36: 1057 | E36: 11001 | F36: Արդարադատության ոլորտում քաղաքականության, խորհրդատվության, մոնիտորինգի, գնման և աջակցության իրականացում | G36: -3677
F37: այդ թվում`
F38: ՀՀ արդարադատության նախարարություն | G38: -3677
D39: 1136 | E39: 11001 | F39: Ծառայությունների, ծրագրերի համակարգում | G39: -2874.9
F40: այդ թվում`
F41: ՀՀ վարչապետի աշխատակազմ | G41: -2874.9
D42: 1136 | E42: 31002 | F42: ՀՀ վարչապետի աշխատակազմի տեխնիկական հագեցվածության բարելավում | G42: -10000
F43: այդ թվում`
F44: ՀՀ վարչապետի աշխատակազմ | G44: -10000
D45: 1213 | E45: 11001 | F45: Առողջապահության ոլորտում վերահսկողության ծառայություններ | G45: -8057.2
F46: այդ թվում`
F47: ՀՀ վարչապետի աշխատակազմ | G47: -8057.2
D48: 1213 | E48: 11002 | F48: Բնապահպանության ոլորտում վերահսկողության ծառայություններ | G48: -10000.5
F49: այդ թվում`
F50: ՀՀ վարչապետի աշխատակազմ | G50: -10000.5
D51: 1213 | E51: 11003 | F51: Կրթության ոլորտում վերահսկողության ծառայություններ | G51: -1124.4
F52: այդ թվում`
F53: ՀՀ վարչապետի աշխատակազմ | G53: -1124.4
D54: 1213 | E54: 11004 | F54: Շուկայի վերահսկողության ծառայություններ | G54: -928
F55: այդ թվում`
F56: ՀՀ վարչապետի աշխատակազմ | G56: -928
D57: 1213 | E57: 11007 | F57: Սննդամթերքի անվտանգության բնագավառում վերահսկողության իրականացման ծառայություններ | G57: -195.7
F58: այդ թվում`
F59: ՀՀ վարչապետի աշխատակազմ | G59: -195.7
D60: 1213 | E60: 31002 | F60: Կրթության տեսչական մարմնի կարողությունների զարգացում և տեխնիկական հագեցվածության ապահովում | G60: -5475.6
F61: այդ թվում`
F62: ՀՀ վարչապետի աշխատակազմ | G62: -5475.6
D63: 1213 | E63: 31003 | F63: Շուկայի վերահսկողության տեսչական մարմնի կարողությունների զարգացում և տեխնիկական հագեցվածության ապահովում | G63: -965.3
F64: այդ թվում`
F65: ՀՀ վարչապետի աշխատակազմ | G65: -965.3
D66: 1213 | E66: 31004 | F66: Քաղաքաշինության, տեխնիկական և հրդեհային անվտանգության տեսչական մարմնի կարողությունների զարգացում և տեխնիկական հագեցվածության ապահովում | G66: -5311
F67: այդ թվում`
F68: ՀՀ վարչապետի աշխատակազմ | G68: -5311
D69: 1213 | E69: 31006 | F69: Սննդամթերքի անվտանգության տեսչական մարմնի տեխնիկական հագեցվածության բարելավում | G69: -848
F70: այդ թվում`
F71: ՀՀ վարչապետի աշխատակազմ | G71: -848
C72: 02 | F72: Ֆինանսական և հարկաբյուջետային հարաբերություններ | G72: -552248.7
F73: այդ թվում`
D74: 1023 | E74: 11001 | F74: Հարկային և մաքսային ծառայություններ | G74: -312181.4
F75: այդ թվում`
F76: ՀՀ պետական եկամուտների կոմիտե | G76: -312181.4
D77: 1023 | E77: 31001 | F77: ՀՀ պետական եկամուտների կոմիտեի տեխնիկական հագեցվածության բարելավում | G77: -201067.3
F78: այդ թվում`
F79: ՀՀ պետական եկամուտների կոմիտե | G79: -201067.3
D80: 1023 | E80: 31004 | F80: ՀՀ պետական եկամուտների կոմիտեի շենքային պայմանների բարելավում | G80: -39000
F81: այդ թվում`
F82: ՀՀ պետական եկամուտների կոմիտե | G82: -39000
C83: 03 | F83: Արտաքին հարաբերություններ | G83: -219000
F84: այդ թվում`
D85: 1061 | E85: 11001 | F85: Կառավարության արտաքին քաղաքականության մշակում և իրագործման ապահովում | G85: -50000
F86: այդ թվում`
F87: ՀՀ արտաքին գործերի նախարարություն | G87: -50000
D88: 1108 | E88: 11003 | F88: ՀՀ միջազգային վարկանիշի տրամադրում | G88: -11000
F89: այդ թվում`
F90: ՀՀ ֆինանսների նախարարություն | G90: -11000
D91: 1128 | E91: 11001 | F91: Օտարերկրյա պետություններում և միջազգային կազմակերպություններում հավատարմագրված ՀՀ դիվանագիտական ծառայության մարմինների գործունեության իրականացում | G91: -150000
F92: այդ թվում`
F93: ՀՀ արտաքին գործերի նախարարություն | G93: -150000
D94: 1178 | E94: 11001 | F94: Հայաստանի Հանրապետությունում և օտարերկրյա պետություններում արարողակարգային միջոցառումների իրականացում | G94: -8000
F95: այդ թվում`
F96: ՀՀ արտաքին գործերի նախարարություն | G96: -8000
D97: 1185 | E97: 11001 | F97: Արտասահմանյան պատվիրակությունների ընդունելություններ | G97: 85000
F98: այդ թվում`
F99: ՀՀ կառավարություն | G99: 85000
D100: 1185 | E100: 11002 | F100: Արտասահմանյան պաշտոնական գործուղումներ | G100: -85000
F101: այդ թվում`
...

Sheet 7.
F1: Հավելված N 7
F2: ՀՀ կառավարության 2021 թվականի
F3: ______________N______-Ն որոշման
A5: «ՀԱՅԱՍՏԱՆԻ ՀԱՆՐԱՊԵՏՈՒԹՅԱՆ 2021 ԹՎԱԿԱՆԻ ՊԵՏԱԿԱՆ ԲՅՈՒՋԵԻ ՄԱՍԻՆ» ՕՐԵՆՔԻ N 1 ՀԱՎԵԼՎԱԾԻ N 4 ԱՂՅՈՒՍԱԿՈՒՄ ԵՎ ՀԱՅԱՍՏԱՆԻ ՀԱՆՐԱՊԵՏՈՒԹՅԱՆ ԿԱՌԱՎԱՐՈՒԹՅԱՆ 2020 ԹՎԱԿԱՆԻ ԴԵԿՏԵՄԲԵՐԻ 30-Ի N 2215-Ն ՈՐՈՇՄԱՆ N 5 ՀԱՎԵԼՎԱԾԻ N 3 ԱՂՅՈՒՍԱԿՈՒՄ ԿԱՏԱՐՎՈՂ ՓՈՓՈԽՈՒԹՅՈՒՆՆԵՐԸ
F6: հազար դրամներով
A7: Ծրագրային դասիչը | C7: Բյուջետային հատկացումների գլխավոր կարգադրիչների, ծրագրերի, միջոցառումների և միջոցառումները կատարող պետական մարմինների անվանումները | D7: Ցուցանիշների փոփոխությունը (ավելացումները նշված են դրական նշանով, իսկ նվազեցումները նշված են փակագծերում)
D8: Տարի
A9: Ծրագիր | B9: Միջոց_x000D_ առում | D9: Ընդամենը | E9: այդ թվում
E10: վարկային միջոցներ | F10: Համաֆինանս ավորում
C11: ԸՆԴԱՄԵՆԸ_x000D_ այդ թվում` | D11: =+E11+F11 -> -3477000 | E11: =+E12+E13 -> -2570000 | F11: =+F12+F13 -> -907000
C12: - ԸՆԹԱՑԻԿ ԾԱԽՍԵՐ | D12: =+E12+F12 -> -490000 | E12: =+E21+E35 -> -400000 | F12: =+F21+F35 -> -90000
C13: - ՈՉ ՖԻՆԱՆՍԱԿԱՆ ԱԿՏԻՎՆԵՐԻ ԳԾՈՎ ԾԱԽՍԵՐ | D13: =+E13+F13 -> -2987000 | E13: =E27+E42+E48+E57 -> -2170000 | F13: =F27+F42+F48+F57 -> -817000
C14: ՀՀ ՎԱՐՉԱՊԵՏԻ ԱՇԽԱՏԱԿԱԶՄ այդ թվում` | D14: =+E14+F14 -> -3077000 | E14: =+E15+E29 -> -2250000 | F14: =+F15+F29 -> -827000
A15: 1018 | C15: Պետական հատվածի արդիականացման ծրագիր | D15: =+E15+F15 -> -610000 | E15: =+E17+E23 -> -250000 | F15: =+F17+F23 -> -360000
C16: այդ թվում`
B17: 11001 | C17: Համաշխարհային բանկի աջակցությամբ իրականացվող Պետական հատվածի արդիականացման երրորդ ծրագիր | D17: =E17+F17 -> -110000 | E17: =E19 -> -50000 | F17: =F19 -> -60000
C18: այդ թվում` ըստ կատարողների
C19: ՀՀ վարչապետի աշխատակազմ | D19: =E19+F19 -> -110000 | E19: =E21 -> -50000 | F19: =F21 -> -60000
C20: այդ թվում` բյուջետային ծախսերի տնտեսագիտական դասակարգման հոդվածներ
C21: ԸՆԹԱՑԻԿ ԾԱԽՍԵՐ | D21: =E21+F21 -> -110000 | E21: =E22 -> -50000 | F21: =F22 -> -60000
C22: - Այլ ծախսեր | D22: =E22+F22 -> -110000 | E22: -50000 | F22: -60000
B23: 32001 | C23: Համաշխարհային բանկի աջակցությամբ իրականացվող Պետական հատվածի արդիականացման երրորդ ծրագրի շրջանակներում էլեկտրոնային կառավարման համակարգերի և սարքավորումների ձեռքբերում | D23: =+E23+F23 -> -500000 | E23: =+E27 -> -200000 | F23: =+F27 -> -300000
C24: այդ թվում` ըստ կատարողների
C25: ՀՀ վարչապետի աշխատակազմ | D25: =+D23 -> -500000 | E25: =+E23 -> -200000 | F25: =+F23 -> -300000
C26: այդ թվում` բյուջետային ծախսերի տնտեսագիտական դասակարգման հոդվածներ
C27: ՈՉ ՖԻՆԱՆՍԱԿԱՆ ԱԿՏԻՎՆԵՐԻ ԳԾՈՎ ԾԱԽՍԵՐ | D27: =+E27+F27 -> -500000 | E27: =+E28 -> -200000 | F27: =+F28 -> -300000
C28: - Այլ մեքենաներ և սարքավորումներ | D28: =+E28+F28 -> -500000 | E28: -200000 | F28: -300000
A29: 1136 | C29: ՀՀ Վարչապետի լիազորությունների իրականացման ապահովում | D29: =+E29+F29 -> -2467000 | E29: =+E31+E38+E44 -> -2000000 | F29: =+F31+F38+F44 -> -467000
C30: այդ թվում`
B31: 11011 | C31: Համաշխարհային բանկի աջակցությամբ իրականացվող առևտրի և ենթակառուցվածքների զարգացման ծրագիր | D31: =E31+F31 -> -380000 | E31: =E33 -> -350000 | F31: =F33 -> -30000
C32: այդ թվում` ըստ կատարողների
C33: ՀՀ վարչապետի աշխատակազմ | D33: =E33+F33 -> -380000 | E33: =E35 -> -350000 | F33: =F35 -> -30000
C34: այդ թվում` բյուջետային ծախսերի տնտեսագիտական դասակարգման հոդվածներ
C35: ԸՆԹԱՑԻԿ ԾԱԽՍԵՐ | D35: =E35+F35 -> -380000 | E35: =+E36+E37 -> -350000 | F35: =+F36+F37 -> -30000
C36: - Սուբսիդիաներ ոչ պետական ոչ ֆինանսական կազմակերպություններին | D36: =E36+F36 -> -200000 | E36: -200000 | F36: 0
C37: - Այլ ծախսեր | D37: =E37+F37 -> -180000 | E37: -150000 | F37: -30000
B38: 31003 | C38: Համաշխարհային բանկի աջակցությամբ իրականացվող առևտրի և ենթակառուցվածքների զարգացման ծրագրի շրջանակներում շենքերի և շինությունների շինարարություն և հիմնանորոգում | D38: =+E38+F38 -> -1387000 | E38: =+E42 -> -1100000 | F38: =+F42 -> -287000
C39: այդ թվում` ըստ կատարողների
C40: ՀՀ վարչապետի աշխատակազմ | D40: =+D38 -> -1387000 | E40: =+E38 -> -1100000 | F40: =+F38 -> -287000
C41: այդ թվում` բյուջետային ծախսերի տնտեսագիտական դասակարգման հոդվածներ
C42: ՈՉ ՖԻՆԱՆՍԱԿԱՆ ԱԿՏԻՎՆԵՐԻ ԳԾՈՎ ԾԱԽՍԵՐ | D42: =+E42+F42 -> -1387000 | E42: =+E43 -> -1100000 | F42: =+F43 -> -287000
C43: - Շենքերի և շինությունների շինարարություն | D43: =+E43+F43 -> -1387000 | E43: -1100000 | F43: -287000
B44: 31004 | C44: Համաշխարհային բանկի աջակցությամբ իրականացվող առևտրի և ենթակառուցվածքների զարգացման ծրագրի շրջանակներում սարքավորումների ձեռքբերում | D44: =+E44+F44 -> -700000 | E44: =+E48 -> -550000 | F44: =+F48 -> -150000
C45: այդ թվում` ըստ կատարողների
C46: ՀՀ վարչապետի աշխատակազմ | D46: =+D44 -> -700000 | E46: =+E44 -> -550000 | F46: =+F44 -> -150000
C47: այդ թվում` բյուջետային ծախսերի տնտեսագիտական դասակարգման հոդվածներ
C48: ՈՉ ՖԻՆԱՆՍԱԿԱՆ ԱԿՏԻՎՆԵՐԻ ԳԾՈՎ ԾԱԽՍԵՐ | D48: =+E48+F48 -> -700000 | E48: =+E49 -> -550000 | F48: =+F49 -> -150000
C49: - Այլ մեքենաներ և սարքավորումներ | D49: =+E49+F49 -> -700000 | E49: -550000 | F49: -150000
C50: ՀՀ ԱՌՈՂՋԱՊԱՀՈՒԹՅԱՆ ՆԱԽԱՐԱՐՈՒԹՅՈՒՆ_x000D_ այդ թվում` | D50: =+E50+F50 -> -400000 | E50: =+E51 -> -320000 | F50: =+F51 -> -80000
A51: 1053 | C51: Առողջապահության համակարգի արդիականացման և արդյունավետության բարձրացման ծրագիր | D51: =+E51+F51 -> -400000 | E51: =+E53+E74 -> -320000 | F51: =+F53+F74 -> -80000
C52: այդ թվում`
B53: 32002 | C53: Համաշխարհային բանկի աջակցությամբ իրականացվող Ոչ վարակիչ հիվանդությունների կանխարգելման և վերահսկման ծրագրի շրջանակներում շենքային պայմանների բարելավում | D53: =+E53+F53 -> -400000 | E53: =+E57 -> -320000 | F53: =+F57 -> -80000
C54: այդ թվում` ըստ կատարողների
C55: ՀՀ առողջապահության նախարարություն | D55: =+D53 -> -400000 | E55: =+E53 -> -320000 | F55: =+F53 -> -80000
C56: այդ թվում` բյուջետային ծախսերի տնտեսագիտական դասակարգման հոդվածներ
C57: ՈՉ ՖԻՆԱՆՍԱԿԱՆ ԱԿՏԻՎՆԵՐԻ ԳԾՈՎ ԾԱԽՍԵՐ | D57: =+E57+F57 -> -400000 | E57: =+E58 -> -320000 | F57: =+F58 -> -80000
C58: - Շենքերի և շինությունների շինարարություն | D58: =+E58+F58 -> -400000 | E58: -320000 | F58: -80000

Sheet 8.
F1: Հավելված N 8
F2: ՀՀ կառավարության 2021 թվականի
F3: ______________N______-Ն որոշման
A5: «ՀԱՅԱՍՏԱՆԻ ՀԱՆՐԱՊԵՏՈՒԹՅԱՆ 2021 ԹՎԱԿԱՆԻ ՊԵՏԱԿԱՆ ԲՅՈՒՋԵԻ ՄԱՍԻՆ» ՕՐԵՆՔԻ N 1 ՀԱՎԵԼՎԱԾԻ N 5 ԱՂՅՈՒՍԱԿՈՒՄ ԵՎ ՀԱՅԱՍՏԱՆԻ ՀԱՆՐԱՊԵՏՈՒԹՅԱՆ ԿԱՌԱՎԱՐՈՒԹՅԱՆ 2020 ԹՎԱԿԱՆԻ ԴԵԿՏԵՄԲԵՐԻ 30-Ի N 2215-Ն ՈՐՈՇՄԱՆ N 5 ՀԱՎԵԼՎԱԾԻ N 4 ԱՂՅՈՒՍԱԿՈՒՄ ԿԱՏԱՐՎՈՂ ՓՈՓՈԽՈՒԹՅՈՒՆՆԵՐԸ
F6: հազար դրամներով
A7: Ծրագրային դասիչը | C7: Բյուջետային հատկացումների գլխավոր կարգադրիչների, ծրագրերի, միջոցառումների և միջոցառումները կատարող պետական մարմինների անվանումները | D7: Ցուցանիշների փոփոխությունը (ավելացումները նշված են դրական նշանով, իսկ նվազեցումները նշված են փակագծերում)
D8: Տարի
A9: Ծրագիր | B9: Միջոց_x000D_ առում | D9: Ընդամենը | E9: այդ թվում
E10: Դրամաշնոր_x000D_ հային միջոցներ | F10: Համաֆինանս ավորում
C11: ԸՆԴԱՄԵՆԸ_x000D_ այդ թվում` | D11: =+E11+F11 -> -2277494.4 | E11: =+E12+E13 -> -2234456.4 | F11: =+F12+F13 -> -43038
C12: - ԸՆԹԱՑԻԿ ԾԱԽՍԵՐ | D12: =+E12+F12 -> -440450.9 | E12: =+E21+E29+E35+E89+E107+E116+E69 -> -400450.9 | F12: =+F21+F29+F35+F89+F107+F116+F69 -> -40000
C13: - ՈՉ ՖԻՆԱՆՍԱԿԱՆ ԱԿՏԻՎՆԵՐԻ ԳԾՈՎ ԾԱԽՍԵՐ | D13: =+E13+F13 -> -1837043.5 | E13: =+E41+E48+E56+E62+E81+E95+E101+E125+E131+E74 -> -1834005.5 | F13: =+F41+F48+F56+F62+F81+F95+F101+F125+F131+F74 -> -3038
C14: ՀՀ ՏԱՐԱԾՔԱՅԻՆ ԿԱՌԱՎԱՐՄԱՆ ԵՎ ԵՆԹԱԿԱՌՈՒՑՎԱԾՔՆԵՐԻ ՆԱԽԱՐԱՐՈՒԹՅՈՒՆ_x000D_ այդ թվում` | D14: =+E14+F14 -> -2225440.1 | E14: =+E15+E23+E50+E83 -> -2225440.1 | F14: =+F15+F23+F50+F83 -> 0 | J14: =+F15+F23+F50+F83 -> 0
A15: 1004 | C15: Ոռոգման համակարգի առողջացում | D15: =+E15+F15 -> -14773.2 | E15: =+E17 -> -14773.2 | F15: =F17+F23+F29 -> 0
C16: այդ թվում`
B17: 12001 | C17: 12001 Զարգացման ֆրանսիական գործակալության աջակցությամբ իրականացվող ոռոգման ոլորտի ֆինանսական կայունության և ոռոգման կառավարման կարողությունների բարելավման դրամաշնորհային ծրագրի խորհրդատվություն և կառավարում | D17: =E17+F17 -> -14773.2 | E17: =E19 -> -14773.2 | F17: =F19 -> 0
C18: այդ թվում` ըստ կատարողների
C19: ՀՀ տարածքային կառավարման և ենթակառուցվածքների նախարարության ջրային կոմիտե | D19: =E19+F19 -> -14773.2 | E19: =E21 -> -14773.2 | F19: =F21 -> 0
C20: այդ թվում` բյուջետային ծախսերի տնտեսագիտական դասակարգման հոդվածներ
C21: ԸՆԹԱՑԻԿ ԾԱԽՍԵՐ | D21: =E21+F21 -> -14773.2 | E21: =E22 -> -14773.2 | F21: =F22 -> 0
C22: - Այլ ծախսեր | D22: =E22+F22 -> -14773.2 | E22: -14773.2
A23: 1072 | C23: Ջրամատակարարաման և ջրահեռացման բարելավում | D23: =D37+D44+D31+D25 -> -233031.2 | E23: =E37+E44+E31+E25 -> -233031.2 | F23: =F37+F44+F31+F25 -> 0
C24: այդ թվում`
B25: 11003 | C25: Վերակառուցման և զարգացման եվրոպական բանկի աջակցությամբ իրականացվող Երևանի ջրամատակարարման բարելավման դրամաշնորհային ծրագիր | D25: =E25+F25 -> -34862.2 | E25: =E27 -> -34862.2 | F25: =F27 -> 0
C26: այդ թվում` ըստ կատարողների
C27: ՀՀ տարածքային կառավարման և ենթակառուցվածքների նախարարության ջրային կոմիտե | D27: =E27+F27 -> -34862.2 | E27: =E29 -> -34862.2 | F27: =F29 -> 0
C28: այդ թվում` բյուջետային ծախսերի տնտեսագիտական դասակարգման հոդվածներ
C29: ԸՆԹԱՑԻԿ ԾԱԽՍԵՐ | D29: =E29+F29 -> -34862.2 | E29: =E30 -> -34862.2 | F29: =F30 -> 0
C30: - Այլ ծախսեր | D30: =E30+F30 -> -34862.2 | E30: -34862.2 | F30: 0
B31: 11004 | C31: Եվրոպական միության հարևանության ներդրումային ծրագրի աջակցությամբ իրականացվող_x000D_ Երևանի ջրամատակարարման բարելավման դրամաշնորհային ծրագիր | D31: =E31+F31 -> -11855.9 | E31: =E33 -> -11855.9 | F31: =F33 -> 0
C32: այդ թվում` ըստ կատարողների
C33: ՀՀ տարածքային կառավարման և ենթակառուցվածքների նախարարության ջրային կոմիտե | D33: =E33+F33 -> -11855.9 | E33: =E35 -> -11855.9 | F33: =F35 -> 0
C34: այդ թվում` բյուջետային ծախսերի տնտեսագիտական դասակարգման հոդվածներ
C35: ԸՆԹԱՑԻԿ ԾԱԽՍԵՐ | D35: =E35+F35 -> -11855.9 | E35: =E36 -> -11855.9 | F35: =F36 -> 0
C36: - Այլ ծախսեր | D36: =E36+F36 -> -11855.9 | E36: -11855.9 | F36: 0
B37: 12001 | C37: Գերմանիայի զարգացման և Եվրոպական միության հարևանության ներդրումային բանկի_x000D_ աջակցությամբ իրականացվող ջրամատակարարման և ջրահեռացման ենթակառուցվածքների_x000D_ դրամաշնորհային ծրագիր` երրորդ փուլ | D37: =E37+F37 -> -150571 | E37: =E41 -> -150571 | F37: =F41 -> 0
C38: այդ թվում` ըստ կատարողների
C39: ՀՀ տարածքային կառավարման և ենթակառուցվածքների նախարարության ջրային կոմիտե | D39: =E39+F39 -> -150571 | E39: =E37 -> -150571 | F39: =F37 -> 0
C40: այդ թվում` բյուջետային ծախսերի տնտեսագիտական դասակարգման հոդվածներ
C41: ՈՉ ՖԻՆԱՆՍԱԿԱՆ ԱԿՏԻՎՆԵՐԻ ԳԾՈՎ ԾԱԽՍԵՐ | D41: =E41+F41 -> -150571 | E41: =+E42+E43 -> -150571 | F41: =+F42+F43 -> 0
C42: - Շենքերի և շինությունների շինարարություն | D42: =E42+F42 -> 0 | E42: 0 | F42: 0
C43: - Նախագծահետազոտական ծախսեր | D43: =E43+F43 -> -150571 | E43: -150571 | F43: 0
B44: 31004 | C44: Եվրոպական միության հարևանության ներդրումային ծրագրի աջակցությամբ իրականացվող_x000D_ Երևանի ջրամատակարարման բարելավման դրամաշնորհային ծրագրի շրջանակներում Ջրամատակարարման և ջրահեռացման ենթակառուցվածքների հիմնանորոգում | D44: =E44+F44 -> -35742.1 | E44: =E48 -> -35742.1 | F44: =F48 -> 0
C45: այդ թվում` ըստ կատարողների
C46: ՀՀ տարածքային կառավարման և ենթակառուցվածքների նախարարության ջրային կոմիտե | D46: =E46+F46 -> -35742.1 | E46: =E44 -> -35742.1 | F46: =F44 -> 0
C47: այդ թվում` բյուջետային ծախսերի տնտեսագիտական դասակարգման հոդվածներ
C48: ՈՉ ՖԻՆԱՆՍԱԿԱՆ ԱԿՏԻՎՆԵՐԻ ԳԾՈՎ ԾԱԽՍԵՐ | D48: =E48+F48 -> -35742.1 | E48: =+E49 -> -35742.1 | F48: =+F49 -> 0
C49: - Շենքերի և շինությունների կապիտալ վերանորոգում | D49: =E49+F49 -> -35742.1 | E49: -35742.1
A50: 1157 | C50: Քաղաքային զարգացում | D50: =+E50+F50 -> -1350389.5 | E50: =+E52+E58+E77+E64+E70 -> -1350389.5 | F50: =+F52+F58+F77 -> 0
C51: այդ թվում`
B52: 12003 | C52: Արևելյան եվրոպայի էներգախնայողության և բնապահպանական գործընկերության ֆոնդի_x000D_ աջակցությամբ իրականացվող Երևանի քաղաքային լուսավորության դրամաշնորհային ծրագրի կատարման ապահովում | D52: =E52+F52 -> -250070.2 | E52: =+E56 -> -250070.2 | F52: =F54 -> 0
C53: այդ թվում` ըստ կատարողների
C54: ՀՀ տարածքային կառավարման և ենթակառուցվածքների նախարարություն | D54: =E54+F54 -> -250070.2 | E54: =E56 -> -250070.2 | F54: =F56 -> 0
C55: այդ թվում` բյուջետային ծախսերի տնտեսագիտական դասակարգման հոդվածներ
C56: ՈՉ ՖԻՆԱՆՍԱԿԱՆ ԱԿՏԻՎՆԵՐԻ ԳԾՈՎ ԾԱԽՍԵՐ | D56: =E56+F56 -> -250070.2 | E56: =E57 -> -250070.2 | F56: =F57 -> 0
C57: - Շենքերի և շինությունների շինարարություն | D57: =E57+F57 -> -250070.2 | E57: -250070.2
B58: 12014 | C58: Եվրոպական միության հարևանության ներդրումային բանկի աջակցությամբ իրականացվող Երևանի մետրոպոլիտենի վերակառուցման երկրորդ դրամաշնորհային ծրագիր | D58: =E58+F58 -> -251251.7 | E58: =E60 -> -251251.7 | F58: =F60 -> 0
C59: այդ թվում` ըստ կատարողների
C60: ՀՀ տարածքային կառավարման և ենթակառուցվածքների նախարարություն | D60: =E60+F60 -> -251251.7 | E60: =E62 -> -251251.7 | F60: =F62 -> 0
C61: այդ թվում` բյուջետային ծախսերի տնտեսագիտական դասակարգման հոդվածներ
C62: ՈՉ ՖԻՆԱՆՍԱԿԱՆ ԱԿՏԻՎՆԵՐԻ ԳԾՈՎ ԾԱԽՍԵՐ | D62: =E62+F62 -> -251251.7 | E62: =E63 -> -251251.7 | F62: =F63 -> 0
C63: - Շենքերի և շինությունների շինարարություն | D63: =E63+F63 -> -251251.7 | E63: -251251.7
B64: 12016 | C64: Վերակառուցման և զարգացման եվրոպական բանկի աջակցությամբ իրականացվող Գյումրու քաղաքային ճանապարհների տեխնիկական համագործակցության դրամաշնորհային ծրագիր | D64: =E64+F64 -> -49700 | E64: =E66 -> -49700 | F64: =F66 -> 0
C65: այդ թվում` ըստ կատարողների
C66: ՀՀ տարածքային կառավարման և ենթակառուցվածքների նախարարություն | D66: =E66+F66 -> -49700 | E66: =E68 -> -49700 | F66: =F68 -> 0
C67: այդ թվում` բյուջետային ծախսերի տնտեսագիտական դասակարգման հոդվածներ
C68: ԸՆԹԱՑԻԿ ԾԱԽՍԵՐ | D68: =E68+F68 -> -49700 | E68: =E69 -> -49700 | F68: =F69 -> 0
C69: - Այլ ծախսեր | D69: =E69+F69 -> -49700 | E69: -49700
B70: 12018 | C70: Վերակառուցման և զարգացման եվրոպական բանկի աջակցությամբ իրականացվող Գյումրու քաղաքային ճանապարհների դրամաշնորհային ծրագիր (Տրանշ Ա, Բ, Գ) | D70: =E70+F70 -> -744300 | E70: =E72 -> -744300 | F70: =F72 -> 0
C71: այդ թվում` ըստ կատարողների
C72: ՀՀ տարածքային կառավարման և ենթակառուցվածքների նախարարություն | D72: =E72+F72 -> -744300 | E72: =E74 -> -744300 | F72: =F74 -> 0
C73: այդ թվում` բյուջետային ծախսերի տնտեսագիտական դասակարգման հոդվածներ
C74: ՈՉ ՖԻՆԱՆՍԱԿԱՆ ԱԿՏԻՎՆԵՐԻ ԳԾՈՎ ԾԱԽՍԵՐ | D74: =E74+F74 -> -744300 | E74: =+E75+E76 -> -744300 | F74: =+F75+F76 -> 0
C75: - Շենքերի և շինությունների շինարարություն | D75: =E75+F75 -> -114900 | E75: -114900
C76: -Այլ մեքենաներ և սարքավորումներ | D76: =E76+F76 -> -629400 | E76: -629400
B77: 12022 | C77: Վերակառուցման և զարգացման վրոպական բանկի աջակցությամբ իրականացվող Գյումրու քաղաքային ճանապարհների վերանորոգման ծրագրի շրջանակներում նախագծա-նախահաշվային աշխատանքների իրականացում | D77: =E77+F77 -> -55067.6 | E77: =E79 -> -55067.6 | F77: =F79 -> 0
C78: այդ թվում` ըստ կատարողների
C79: ՀՀ տարածքային կառավարման և ենթակառուցվածքների նախարարություն | D79: =E79+F79 -> -55067.6 | E79: =E81 -> -55067.6 | F79: =F81 -> 0
C80: այդ թվում` բյուջետային ծախսերի տնտեսագիտական դասակարգման հոդվածներ
C81: ՈՉ ՖԻՆԱՆՍԱԿԱՆ ԱԿՏԻՎՆԵՐԻ ԳԾՈՎ ԾԱԽՍԵՐ | D81: =E81+F81 -> -55067.6 | E81: =E82 -> -55067.6 | F81: =F82 -> 0
C82: - Նախագծահետազոտական ծախսեր | D82: =E82+F82 -> -55067.6 | E82: -55067.6
A83: 1040 | C83: Կոշտ թափոնների կառավարում | D83: =D91+D85+D97+D103 -> -627246.2 | E83: =E91+E85+E97+E103 -> -627246.2 | F83: =F91+F85+F97+F103 -> 0
C84: այդ թվում`
B85: 12001 | C85: Վերակառուցման և զարգացման եվրոպական բանկի աջակցությամբ իրականացվող «Երևանի կոշտ թափոնների կառավարման» դրամաշնորհային ծրագիր | D85: =E85+F85 -> -202514.6 | E85: =E87 -> -202514.6 | F85: =F87 -> 0
C86: այդ թվում` ըստ կատարողների
C87: ՀՀ տարածքային կառավարման և ենթակառուցվածքների նախարարություն | D87: =E87+F87 -> -202514.6 | E87: =E89 -> -202514.6 | F87: =F89 -> 0
C88: այդ թվում` բյուջետային ծախսերի տնտեսագիտական դասակարգման հոդվածներ
C89: ԸՆԹԱՑԻԿ ԾԱԽՍԵՐ | D89: =E89+F89 -> -202514.6 | E89: =E90 -> -202514.6 | F89: =F90 -> 0
C90: - Այլ ծախսեր | D90: =E90+F90 -> -202514.6 | E90: -202514.6
B91: 32004 | C91: Վերակառուցման և զարգացման եվրոպական բանկի աջակցությամբ իրականացվող «Կոտայքի և_x000D_ Գեղարքունիքի մարզի կոշտ թափոնների կառավարման» դրամաշնորհային ծրագիր | D91: =E91+F91 -> -110357 | E91: =E93 -> -110357 | F91: =F93 -> 0
C92: այդ թվում` ըստ կատարողների
C93: ՀՀ տարածքային կառավարման և ենթակառուցվածքների նախարարություն | D93: =E93+F93 -> -110357 | E93: =E95 -> -110357 | F93: =F95 -> 0
C94: այդ թվում` բյուջետային ծախսերի տնտեսագիտական դասակարգման հոդվածներ
C95: ՈՉ ՖԻՆԱՆՍԱԿԱՆ ԱԿՏԻՎՆԵՐԻ ԳԾՈՎ ԾԱԽՍԵՐ | D95: =E95+F95 -> -110357 | E95: =E96 -> -110357 | F95: =F96 -> 0
C96: - Շենքերի և շինությունների շինարարություն | D96: =E96+F96 -> -110357 | E96: -110357
B97: 32006 | C97: Եվրոպական միության հարևանության ներդրումային գործիքի աջակցությամբ իրականացվող_x000D_ «Երևանի կոշտ թափոնների կառավարման» դրամաշնորհային ծրագիր | D97: =E97+F97 -> -227629.6 | E97: =E99 -> -227629.6 | F97: =F99 -> 0
C98: այդ թվում` ըստ կատարողների
C99: ՀՀ տարածքային կառավարման և ենթակառուցվածքների նախարարություն | D99: =E99+F99 -> -227629.6 | E99: =E101 -> -227629.6 | F99: =F101 -> 0
C100: այդ թվում` բյուջետային ծախսերի տնտեսագիտական դասակարգման հոդվածներ
C101: ՈՉ ՖԻՆԱՆՍԱԿԱՆ ԱԿՏԻՎՆԵՐԻ ԳԾՈՎ ԾԱԽՍԵՐ | D101: =E101+F101 -> -227629.6 | E101: =E102 -> -227629.6 | F101: =F102 -> 0
...

Sheet 9.
H1: Հավելված N 9
F2: ՀՀ կառավարության 2021 թվականի
F3: ______________ ի ___Ն որոշման
A5: «ՀԱՅԱUՏԱՆԻ ՀԱՆՐԱՊԵՏՈՒԹՅԱՆ 2021 ԹՎԱԿԱՆԻ ՊԵՏԱԿԱՆ ԲՅՈՒՋԵԻ ՄԱUԻՆ» ՀԱՅԱUՏԱՆԻ ՀԱՆՐԱՊԵՏՈՒԹՅԱՆ OՐԵՆՔԻ N 1 ՀԱՎԵԼՎԱԾԻ N 3 ԱՂՅՈՒՍԱԿՈՒՄ ԿԱՏԱՐՎՈՂ ՓՈՓՈԽՈՒԹՅՈՒՆՆԵՐԸ
G6: հազար դրամներով
A7: Ծրագրային դասիչ | C7: Բյուջետային գլխավոր կարգադրիչների, ծրագրերի, միջոցառումների և ուղղությունների անվանումները | D7: Ընդամենը | E7: այդ թվում
B8: Միջոցառում | E8: Կառուցման աշխատանքներ | F8: Վերակառուցման, վերանորոգման և վերականգնման աշխատանքներ | G8: Նախագծահե- տազոտական, գեոդեզիա- քարտեզագրա- կան աշխա- տանքներ | H8: Ոչ ֆինանսական այլ ակտիվների ձեռքբերում
C9: ԸՆԴԱՄԵՆԸ | D9: =D11+D18+D26+D35+D41+D46+D49+D56+D60 -> -1973177.3 | E9: =E11+E18+E26+E35+E41+E46+E49+E56+E60 -> -1230522.5 | F9: =F11+F18+F26+F35+F41+F46+F49+F56+F60 -> -433466.1 | G9: =G11+G18+G26+G35+G41+G46+G49+G56+G60 -> -5955.3 | H9: =H11+H18+H26+H35+H41+H46+H49+H56+H60 -> -303233.4
C10: այդ թվում՝
C11: ՀՀ ԱԶԳԱՅԻՆ ԺՈՂՈՎ | D11: =D13+D14 -> -16085.1 | E11: =E13+E14 -> 0 | F11: =F13+F14 -> -2304.1 | G11: =G13+G14 -> 0 | H11: =H13+H14 -> -13781
C12: այդ թվում`
A13: 1024 | B13: 31001 | C13: ՀՀ Ազգային ժողովի տեխնիկական հագեցվածության բարելավում | D13: =SUM(E13:H13) -> -13781 | H13: -13781
A14: 1024 | B14: 31003 | C14: ՀՀ Ազգային ժողովի շենքային պայմանների բարելավում | D14: -2304.1 | E14: 0 | F14: -2304.1 | G14: 0 | H14: 0
C15: այդ թվում`
C16: ՀՀ ԱԺ շենք-շինությունների ջեռուցման համակարգի կապիտալ վերանորոգման աշխատանքներ | D16: -2304.1 | F16: -2304.1
C18: ՀՀ ՎԱՐՉԱՊԵՏԻ ԱՇԽԱՏԱԿԱԶՄ | D18: =D23+D20+D21+D22+D24 -> -22599.9 | E18: =E23+E20+E21+E22+E24 -> 0 | F18: =F23+F20+F21+F22+F24 -> 0 | G18: =G23+G20+G21+G22+G24 -> 0 | H18: =H23+H20+H21+H22+H24 -> -22599.9
C19: այդ թվում`
A20: 1136 | B20: 31002 | C20: ՀՀ վարչապետի աշխատակազմի տեխնիկական հագեցվածության բարելավում | D20: -10000 | H20: -10000
A21: 1213 | B21: 31002 | C21: Կրթության տեսչական մարմնի կարողությունների զարգացում և տեխնիկական հագեցվածության ապահովում | D21: -5475.6 | H21: -5475.6
A22: 1213 | B22: 31003 | C22: Շուկայի վերահսկողության տեսչական մարմնի կարողությունների զարգացում և տեխնիկական հագեցվածության ապահովում | D22: -965.3 | H22: -965.3
A23: 1213 | B23: 31004 | C23: Քաղաքաշինության, տեխնիկական և հրդեհային անվտանգության տեսչական մարմնի կարողությունների զարգացում և տեխնիկական հագեցվածության ապահովում | D23: -5311 | H23: -5311
A24: 1213 | B24: 31006 | C24: Սննդամթերքի անվտանգության տեսչական մարմնի տեխնիկական հագեցվածության բարելավում | D24: -848 | H24: -848
C26: ՀՀ ԱՐԴԱՐԱԴԱՏՈՒԹՅԱՆ ՆԱԽԱՐԱՐՈՒԹՅՈՒՆ | D26: =D28+D31 -> -487905.4 | E26: =E28+E31 -> -216287 | F26: =F28+F31 -> -269558.4 | G26: =G28+G31 -> -2060 | H26: =H28+H31 -> 0
C27: այդ թվում`
A28: 1228 | B28: 31001 | C28: Հակակոռուպցիոն կոմիտեի շենքային պայմանների ապահովում | D28: =+D30 -> -217667 | E28: =E30 -> -216287 | F28: =F30 -> 0 | G28: =G30 -> -1380 | H28: =H30 -> 0
C29: այդ թվում՝
C30: Աջափնյակ վարչական շրջանի «Սպանդարյան» կայարանի երկաթգծին հարակից 15 հեկտար մակերեսով հողատարածքում Հակակոռուպցիոն կոմիտեի գործունեության համար անհրաժեշտ շենքային պայմանների ապահովում | D30: =SUM(E30:H30) -> -217667 | E30: -216287 | G30: -1380
A31: 1228 | B31: 31002 | C31: Հակակոռուպցիոն դատարանի շենքային պայմանների ապահովում | D31: =D33 -> -270238.4 | F31: =F33 -> -269558.4 | G31: =G33 -> -680 | H31: =H33 -> 0
C32: այդ թվում՝
C33: Երևանի Աջափնյակ համայնքի Արա Սարգսյան 5/1 հասցեում տեղակայված շենքի հիմնանորոգում | D33: =SUM(E33:H33) -> -270238.4 | F33: -269558.4 | G33: -680
C35: ՀՀ ՏԱՐԱԾՔԱՅԻՆ ԿԱՌԱՎԱՐՄԱՆ ԵՎ ԵՆԹԱԿԱՌՈՒՑՎԱԾՔՆԵՐԻ ՆԱԽԱՐԱՐՈՒԹՅՈՒՆ | D35: =D37 -> -3895.3 | E35: =E37 -> 0 | F35: =F37 -> 0 | G35: =G37 -> -3895.3 | H35: =H37 -> 0
C36: այդ թվում`
A37: 1212 | B37: 21002 | C37: ՀՀ համայնքներում բազմաբնակարան շենքերի տեխնիկական վիճակի բարելավում | D37: =SUM(E37:H37) -> -3895.3 | E37: =E39 -> 0 | F37: =F39 -> 0 | G37: =G39 -> -3895.3 | H37: =H39 -> 0
C38: այդ թվում`
C39: ՀՀ Շիրակի մարզի Գյումրի քաղաքի Տիգրան Մեծ N 5 շենքի անբավարար տեխնիկական վիճակում գտնվող թվով 3 մուտքերի ուժեղացման-վերականգնման (ամրացման) նախագծանախահաշվային փաստաթղթերի ձեռքբերում | D39: =SUM(E39:H39) -> -3895.3 | G39: -3895.3
C41: ՀՀ ՊԵՏԱԿԱՆ ԵԿԱՄՈՒՏՆԵՐԻ ԿՈՄԻՏԵ | D41: =D43+D44 -> -240067.3 | E41: =E43+E44 -> 0 | F41: =F43+F44 -> -39000 | G41: =G43+G44 -> 0 | H41: =H43+H44 -> -201067.3
C42: այդ թվում`
A43: 1023 | B43: 31001 | C43: ՀՀ պետական եկամուտների կոմիտեի տեխնիկական հագեցվածության բարելավում | D43: =SUM(E43:H43) -> -201067.3 | H43: -201067.3
A44: 1023 | B44: 31004 | C44: ՀՀ պետական եկամուտների կոմիտեի շենքային պայմանների բարելավում | D44: -39000 | E44: 0 | F44: -39000 | G44: 0 | H44: 0
C45: ՀՀ ՊԵԿ-ի Հարավային մաքսատուն-վարչության տարածքում վերանորոգման աշխատանքներ | D45: -39000 | F45: -39000
C46: ՀՀ ԱԶԳԱՅԻՆ ԱՆՎՏԱՆԳՈՒԹՅԱՆ ԾԱՌԱՅՈՒԹՅՈՒՆ | D46: =D48 -> -885000 | E46: =E48 -> -885000 | F46: =F48 -> 0 | G46: =G48 -> 0 | H46: =H48 -> 0
C47: այդ թվում`
A48: 1138 | B48: 31002 | C48: Ազգային անվտանգության համակարգի շենքային ապահովվածության բարելավում | D48: =SUM(E48:G48) -> -885000 | E48: -885000
C49: ՀՀ ՈՍՏԻԿԱՆՈՒԹՅՈՒՆ | D49: =D51+D52+D53+D54 -> -65471.8 | E49: =E51+E52+E53+E54 -> 0 | F49: =F51+F52+F53+F54 -> 0 | G49: =G51+G52+G53+G54 -> 0 | H49: =H51+H52+H53+H54 -> -65471.8
C50: այդ թվում`
A51: 1158 | B51: 31001 | C51: ՀՀ ոստիկանության կարիքի բավարարում | D51: =SUM(E51:H51) -> -24115.8 | H51: -24115.8
A52: 1158 | B52: 31002 | C52: Պետական պահպանության ծառայություններ մատուցող ՀՀ ոստիկանության ստորաբաժանումների կարիքի բավարարում_x000D_ | D52: =SUM(E52:H52) -> -988 | E52: 0 | F52: 0 | G52: 0 | H52: -988
A53: 1158 | B53: 31003 | C53: ՀՀ ոստիկանության <<Ճանապարհային ոստիկանություն>> ծառայության կարիքի բավարարում_x000D_ | D53: =SUM(E53:H53) -> -25883.3 | E53: 0 | F53: 0 | G53: 0 | H53: -25883.3
A54: 1158 | B54: 31004 | C54: ՀՀ ոստիկանության անձնագրային և վիզաների վարչության տեխնիկական կարիքի բավարարում | D54: =SUM(E54:H54) -> -14484.7 | E54: 0 | F54: 0 | G54: 0 | H54: -14484.7
C56: ՄԱՐԴՈՒ ԻՐԱՎՈՒՆՔՆԵՐԻ ՊԱՇՏՊԱՆԻ ԱՇԽԱՏԱԿԱԶՄ | D56: =D58 -> -313.4 | E56: =E58 -> 0 | F56: =F58 -> 0 | G56: =G58 -> 0 | H56: =H58 -> -313.4
C57: այդ թվում`
A58: 1060 | B58: 31001 | C58: ՀՀ մարդու իրավունքների պաշտպանի աշխատակազմի տեխնիկական հագեցվածության բարելավում | D58: =SUM(E58:H58) -> -313.4 | H58: -313.4
C60: ՀՀ ԱՌՈՂՋԱՊԱՀՈՒԹՅԱՆ ՆԱԽԱՐԱՐՈՒԹՅՈՒՆ | D60: =D62 -> -251839.1 | E60: =E62 -> -129235.5 | F60: =F62 -> -122603.6 | G60: =G62 -> 0 | H60: =H62 -> 0
C61: այդ թվում`
A62: 1126 | B62: 31003 | C62: Առողջապահական կազմակերպությունների կառուցում, վերակառուցում | D62: =SUM(E62:H62) -> -251839.1 | E62: =E63+E65+E67 -> -129235.5 | F62: =F63+F65+F67 -> -122603.6 | G62: =G63+G65+G67 -> 0 | H62: =H63+H65+H67 -> 0
C63: ՀՀ Սյունիքի մարզ | D63: =SUM(E63:H63) -> -8499.5 | E63: 0 | F63: -8499.5 | G63: 0 | H63: 0
C64: ՀՀ Սյունիքի մարզի Սիսիանի բժշկական կենտրոնի վերակառուցում | D64: -8499.5 | E64: 0 | F64: -8499.5 | G64: 0 | H64: 0
C65: ՀՀ Կոտայքի մարզ | D65: =D66 -> -114104.1 | E65: 0 | F65: =F66 -> -114104.1 | G65: 0 | H65: 0
C66: ՀՀ Կոտայքի մարզի Չարենցավանի բժշկական կենտորնի մասնակի վերանորոգման աշխատանքներ | D66: =E66+F66+G66+H66 -> -114104.1 | E66: 0 | F66: -114104.1 | G66: 0 | H66: 0
C67: ՀՀ Արագածոտնի մարզ | D67: =D68 -> -129235.5 | E67: =E68 -> -129235.5 | F67: 0 | G67: 0 | H67: 0
C68: ՀՀ Արագածոտնի մարզի Ծաղկահովիտի առողջության կենտրոնի կառուցում | D68: =E68+F68+G68+H68 -> -129235.5 | E68: -129235.5 | F68: 0 | G68: 0 | H68: 0

Sheet 10.
D2: Հավելված N 10
C3: ՀՀ կառավարության 2021 թվականի
C4: ______________ ի ___Ն որոշման
A6: ՀԱՅԱՍՏԱՆԻ ՀԱՆՐԱՊԵՏՈՒԹՅԱՆ ԿԱՌԱՎԱՐՈՒԹՅԱՆ 2020 ԹՎԱԿԱՆԻ ԴԵԿՏԵՄԲԵՐԻ 30-Ի N 2215-Ն ՈՐՈՇՄԱՆ N 5 ՀԱՎԵԼՎԱԾԻ N 2 ԱՂՅՈՒՍԱԿՈՒՄ ԿԱՏԱՐՎՈՂ ՓՈՓՈԽՈՒԹՅՈՒՆՆԵՐԸ
D8: հազար դրամներով
A10: Ծրագրային դասիչ | C10: Բյուջետային գլխավոր կարգադրիչների, ծրագրերի, միջոցառումների և ուղղությունների անվանումները | D10: Ցուցանիշների փոփոխությունը (ավելացումները նշված են դրական նշանով, իսկ նվազեցումները նշված են փակագծերում)
B11: Միջոցառում | D11: Տարի
C12: ԸՆԴԱՄԵՆԸ | D12: =D15+D26+D44+D57+D65+D76+D82+D98+D104 -> -1973177.3
C13: այդ թվում՝
C15: ՀՀ ԱԶԳԱՅԻՆ ԺՈՂՈՎ | D15: =D17+D20 -> -16085.1
C16: այդ թվում`
A17: 1024 | B17: 31001 | C17: Ազգային ժողովի տեխնիկական հագեցվածության բարելավում | D17: =+D19 -> -13781
C18: այդ թվում` ըստ կատարողների
C19: ՀՀ Ազգային ժողով | D19: -13781
A20: 1024 | B20: 31003 | C20: ՀՀ Ազգային ժողովի շենքային պայմանների բարելավում | D20: -2304.1
C21: այդ թվում` ըստ կատարողների
C22: ՀՀ քաղաքաշինության կոմիտե | D22: -2304.1
C23: այդ թվում` ըստ ուղղությունների
C24: ՀՀ ԱԺ շենք-շինությունների ջեռուցման համակարգի կապիտալ վերանորոգման աշխատանքներ | D24: -2304.1
C26: ՀՀ ՎԱՐՉԱՊԵՏԻ ԱՇԽԱՏԱԿԱԶՄ | D26: =+D28+D31+D34++D40+D37 -> -22599.9
C27: այդ թվում`
A28: 1136 | B28: 31002 | C28: ՀՀ Վարչապետի լիազորությունների իրականացման ապահովում | D28: -10000
C29: այդ թվում` ըստ կատարողների
C30: ՀՀ վարչապետի աշխատակազմ | D30: -10000
A31: 1213 | B31: 31002 | C31: Կրթության տեսչական մարմնի կարողությունների զարգացում և տեխնիկական հագեցվածության ապահովում | D31: -5475.6
C32: այդ թվում` ըստ կատարողների
C33: ՀՀ վարչապետի աշխատակազմ | D33: -5475.6
A34: 1213 | B34: 31003 | C34: Շուկայի վերահսկողության տեսչական մարմնի կարողությունների զարգացում և տեխնիկական հագեցվածության ապահովում | D34: -965.3
C35: այդ թվում` ըստ կատարողների
C36: ՀՀ վարչապետի աշխատակազմ | D36: -965.3
A37: 1213 | B37: 31004 | C37: Քաղաքաշինության, տեխնիկական և հրդեհային անվտանգության տեսչական մարմնի կարողությունների զարգացում և տեխնիկական հագեցվածության ապահովում | D37: -5311
C38: այդ թվում` ըստ կատարողների
C39: ՀՀ վարչապետի աշխատակազմ | D39: -5311
A40: 1213 | B40: 31006 | C40: Սննդամթերքի անվտանգության տեսչական մարմնի տեխնիկական հագեցվածության բարելավում | D40: -848
C41: այդ թվում` ըստ կատարողների
C42: ՀՀ վարչապետի աշխատակազմ | D42: -848
C44: ՀՀ ԱՐԴԱՐԱԴԱՏՈՒԹՅԱՆ ՆԱԽԱՐԱՐՈՒԹՅՈՒՆ | D44: =D46+D51 -> -487905.4
C45: այդ թվում`
A46: 1228 | B46: 31001 | C46: Հակակոռուպցիոն կոմիտեի շենքային պայմանների ապահովում | D46: =D48 -> -217667
C47: այդ թվում` ըստ կատարողների
C48: ՀՀ քաղաքաշինության կոմիտե | D48: =D50 -> -217667
C49: այդ թվում` ըստ ուղղությունների
C50: Աջափնյակ վարչական շրջանի «Սպանդարյան» կայարանի երկաթգծին հարակից 15 հեկտար մակերեսով հողատարածքում Հակակոռուպցիոն կոմիտեի գործունեության համար անհրաժեշտ շենքային պայմանների ապահովում | D50: ='9.'!D30 -> -217667
A51: 1228 | B51: 31002 | C51: Հակակոռուպցիոն դատարանի շենքային պայմանների ապահովում | D51: =D53 -> -270238.4
C52: այդ թվում` ըստ կատարողների
C53: ՀՀ քաղաքաշինության կոմիտե | D53: =D55 -> -270238.4
C54: այդ թվում` ըստ ուղղությունների
C55: Երևանի Աջափնյակ համայնքի Արա Սարգսյան 5/1 հասցեում տեղակայված շենքի հիմնանորոգում | D55: ='9.'!D33 -> -270238.4
C57: ՀՀ ՏԱՐԱԾՔԱՅԻՆ ԿԱՌԱՎԱՐՄԱՆ ԵՎ ԵՆԹԱԿԱՌՈՒՑՎԱԾՔՆԵՐԻ ՆԱԽԱՐԱՐՈՒԹՅՈՒՆ | D57: =D59 -> -3895.3
C58: այդ թվում`
A59: 1212 | B59: 21002 | C59: ՀՀ համայնքներում բազմաբնակարան շենքերի տեխնիկական վիճակի բարելավում | D59: =D61 -> -3895.3
C60: այդ թվում` ըստ կատարողների
C61: ՀՀ քաղաքաշինության կոմիտե | D61: =D63 -> -3895.3
C62: այդ թվում` ըստ ուղղությունների
C63: ՀՀ Շիրակի մարզի Գյումրի քաղաքի Տիգրան Մեծ N 5 շենքի անբավարար տեխնիկական վիճակում գտնվող թվով 3 մուտքերի ուժեղացման-վերականգնման (ամրացման) նախագծանախահաշվային փաստաթղթերի ձեռքբերում | D63: ='9.'!D39 -> -3895.3
C65: ՀՀ ՊԵՏԱԿԱՆ ԵԿԱՄՈՒՏՆԵՐԻ ԿՈՄԻՏԵ | D65: =D67+D70 -> -240067.3
C66: այդ թվում`
A67: 1023 | B67: 31001 | C67: ՀՀ պետական եկամուտների կոմիտեի տեխնիկական հագեցվածության բարելավում | D67: -201067.3
C68: այդ թվում` ըստ կատարողների
C69: ՀՀ պետական եկամուտների կոմիտե | D69: -201067.3
A70: 1023 | B70: 31004 | C70: ՀՀ պետական եկամուտների կոմիտեի շենքային պայմանների բարելավում | D70: -39000
C71: այդ թվում` ըստ կատարողների
C72: ՀՀ պետական եկամուտների կոմիտե | D72: -39000
C73: այդ թվում` ըստ ուղղությունների
C74: ՀՀ ՊԵԿ-ի Հարավային մաքսատուն-վարչության տարածքում վերանորոգման աշխատանքներ | D74: -39000
C76: ՀՀ ԱԶԳԱՅԻՆ ԱՆՎՏԱՆԳՈՒԹՅԱՆ ԾԱՌԱՅՈՒԹՅՈՒՆ | D76: =D78 -> -885000
C77: այդ թվում`
A78: 1138 | B78: 31002 | C78: Ազգային անվտանգության համակարգի շենքային ապահովվածության բարելավում | D78: -885000
C79: այդ թվում` ըստ կատարողների
C80: Ազգային անվտանգության ծառայություն | D80: =+D78 -> -885000
C82: ՀՀ ՈՍՏԻԿԱՆՈՒԹՅՈՒՆ | D82: =D84+D88+D91+D94 -> -65471.8
C83: այդ թվում`
A84: 1158 | B84: 31001 | C84: ՀՀ ոստիկանության կարիքի բավարարում | D84: -24115.8
C85: այդ թվում` ըստ կատարողների
C86: ՀՀ ոստիկանության
A88: 1158 | B88: 31002 | C88: Պետական պահպանության ծառայություններ մատուցող ՀՀ ոստիկանության ստորաբաժանումների կարիքի բավարարում_x000D_ | D88: -988
C89: այդ թվում` ըստ կատարողների
C90: ՀՀ ոստիկանության | D90: =+D88 -> -988
A91: 1158 | B91: 31003 | C91: ՀՀ ոստիկանության <<Ճանապարհային ոստիկանություն>> ծառայության կարիքի բավարարում_x000D_ | D91: -25883.3
C92: այդ թվում` ըստ կատարողների
C93: ՀՀ ոստիկանության | D93: =+D91 -> -25883.3
A94: 1158 | B94: 31004 | C94: ՀՀ ոստիկանության անձնագրային և վիզաների վարչության տեխնիկական կարիքի բավարարում | D94: -14484.7
C95: այդ թվում` ըստ կատարողների
C96: ՀՀ ոստիկանության | D96: =+D94 -> -14484.7
C98: ՄԱՐԴՈՒ ԻՐԱՎՈՒՆՔՆԵՐԻ ՊԱՇՏՊԱՆԻ ԱՇԽԱՏԱԿԱԶՄ | D98: =+D100 -> -313.4
C99: այդ թվում`
A100: 1060 | B100: 31001 | C100: ՀՀ մարդու իրավունքների պաշտպանի աշխատակազմի տեխնիկական հագեցվածության բարելավում | D100: -313.4
C101: այդ թվում` ըստ կատարողների
C102: ՀՀ մարդու իրավունքների պաշտպանի աշխատակազմ | D102: 3915
C104: ՀՀ ԱՌՈՂՋԱՊԱՀՈՒԹՅԱՆ ՆԱԽԱՐԱՐՈՒԹՅՈՒՆ | D104: -251839.1
C105: այդ թվում`
A106: 1126 | B106: 31003 | C106: Առողջապահական կազմակերպությունների կառուցում, վերակառուցում | D106: =D108+D112 -> -251839.1
C107: այդ թվում` ըստ կատարողների
C108: ՀՀ առողջապահության նախարարություն | D108: -8499.5
C109: այդ թվում` ըստ ուղղությունների
C110: ՀՀ Սյունիքի մարզ | D110: -8499.5
C111: ՀՀ Սյունիքի մարզի Սիսիանի բժշկական կենտրոնի վերակառուցում | D111: -8499.5
C112: ՀՀ քաղաքաշինության կոմիտե | D112: =D114+D116 -> -243339.6
C113: այդ թվում` ըստ ուղղությունների
C114: ՀՀ Կոտայքի մարզ | D114: -114104.1
...

Sheet 11.
D2: Հավելված N 11
A3: «ՀԱՅԱՍՏԱՆԻ ՀԱՆՐԱՊԵՏՈՒԹՅԱՆ 2021 ԹՎԱԿԱՆԻ ՊԵՏԱԿԱՆ ԲՅՈՒՋԵԻ ՄԱՍԻՆ» ՕՐԵՆՔԻ N 1 ՀԱՎԵԼՎԱԾԻ N 7 ԱՂՅՈՒՍԱԿՈՒՄ ԵՎ ՀԱՅԱՍՏԱՆԻ ՀԱՆՐԱՊԵՏՈՒԹՅԱՆ ԿԱՌԱՎԱՐՈՒԹՅԱՆ 2020 ԹՎԱԿԱՆԻ ԴԵԿՏԵՄԲԵՐԻ 30-Ի N 2215-Ն ՈՐՈՇՄԱՆ N 5 ՀԱՎԵԼՎԱԾԻ N 6 ԱՂՅՈՒՍԱԿՈՒՄ ԿԱՏԱՐՎՈՂ ՓՈՓՈԽՈՒԹՅՈՒՆԸ
D4: հազար դրամներով
A5: Ծրագրային դասիչը | C5: Հատկացումների տրամադրման նպատակները և բյուջետային գլխավոր կարգադրիչների, ծրագրերի, միջոցառումների և կատարող պետական մարմնի անվանումները | D5: Ցուցանիշների փոփոխությունը ( նվազեցումները նշված են փակագծերում)
A6: Ծրագիր | B6: Միջոցառում
D7: տարի
C8: Ընդամենը | D8: =+D10 -> -29173
A9: այդ թվում`
A10: Կապիտալ սուբվենցիաներ համայնքներին | D10: =D12 -> -29173
A11: այդ թվում`
A12: ՀՀ շրջակա միջավայրի նախարարություն | D12: =+D13 -> -29173
A13: 1133 | C13: Բնապահպանական ծրագրերի իրականացում համայնքներում | D13: =+D15 -> -29173
C14: այդ թվում`
B15: 12001 | C15: Բնապահպանական սուբվենցիաներ համայնքներին | D15: =+D17 -> -29173
C16: այդ թվում` ըստ կատարողների
C17: ՀՀ շրջակա միջավայրի նախարարություն | D17: -29173

Sheet 12.
E1: Հավելված N 12
A2: «ՀԱՅԱՍՏԱՆԻ ՀԱՆՐԱՊԵՏՈՒԹՅԱՆ 2021 ԹՎԱԿԱՆԻ ՊԵՏԱԿԱՆ ԲՅՈՒՋԵԻ ՄԱՍԻՆ» ՕՐԵՆՔԻ N 7 ՀԱՎԵԼՎԱԾՈՒՄ ԵՎ ՀԱՅԱՍՏԱՆԻ ՀԱՆՐԱՊԵՏՈՒԹՅԱՆ ԿԱՌԱՎԱՐՈՒԹՅԱՆ 2020 ԹՎԱԿԱՆԻ ԴԵԿՏԵՄԲԵՐԻ 30-Ի N 2215-Ն ՈՐՈՇՄԱՆ N 5 ՀԱՎԵԼՎԱԾԻ N 10 ԱՂՅՈՒՍԱԿՈՒՄ ԿԱՏԱՐՎՈՂ ՓՈՓՈԽՈՒԹՅՈՒՆԸ
E4: հազար դրամներով
A5: NN | B5: Համայնքի անվանումը | C5: Ընդամենը, | D5: Ցուցանիշների փոփոխությունը (նվազեցումները նշված են փակագծերում)
D6: այդ թվում` ըստ բյուջետային ծախսերի տնտեսագիտական դասակարգման հոդվածների
D7: Ընթացիկ սուբվենցիաներ համայնքներին | E7: Կապիտալ սուբվենցիաներ համայնքներին
B8: 1 | C8: 2 | D8: 3 | E8: 4
B9: ԸՆԴԱՄԵՆԸ | C9: =C11 -> -29173 | D9: =D11 -> 0 | E9: =E11 -> -29173
B10: այդ թվում`
A11: 1 | B11: ՀՀ ԼՈՌՈՒ ՄԱՐԶ | C11: =C13 -> -29173 | D11: =D13 -> 0 | E11: =E13 -> -29173
B12: այդ թվում`
A13: 1.1 | B13: Ալավերդի համայնք | C13: =D13+E13 -> -29173 | D13: =D15 -> 0 | E13: =E15 -> -29173
B14: այդ թվում`
B15: Ալավերդի համայնքի շրջակա միջավայրի պահպանման և բնակչության առողջության վերականգնման ծրագիր | C15: =D15+E15 -> -29173 | E15: -29173

Sheet 13.
G1: Հավելված N 13
B2: ՀՀ կառավարության 2021 թվականի -ի N -Ն որոշման
A4: ՀԱՅԱՍՏԱՆԻ ՀԱՆՐԱՊԵՏՈՒԹՅԱՆ ԿԱՌԱՎԱՐՈՒԹՅԱՆ 2020 ԹՎԱԿԱՆԻ ԴԵԿՏԵՄԲԵՐԻ 30-Ի N 2215-Ն ՈՐՈՇՄԱՆ N 5 ՀԱՎԵԼՎԱԾԻ N 7 ԱՂՅՈՒՍԱԿՈՒՄ ԿԱՏԱՐՎՈՂ ԼՐԱՑՈՒՄՆԵՐԸ
G5: հազ․ դրամ
A6: Ծրագրային դասիչ | C6: Բյուջետային հատկացումների գլխավոր կարգադրիչների, ծրագրերի, միջոցառումների, ծախսային ուղղությունների անվանումները | F6: Միջոցառումները կատարող պետական մարմինների և դրամաշնորհ ստացող տնտեսվարող սուբյեկտների անվանումները | G6: Ցուցանիշների փոփոխությունը (նվազեցումները նշված են բացասական նշանով)
A7: Ծրագիր | B7: Միջոցառում
A8: 1 | B8: 2 | C8: 3 | F8: 4 | G8: 5
B9: ՀՀ վարչապետի աշխատակազմ | G9: -135000
A10: 1221 | B10: Տոների և հիշատակի օրերի ծրագիր | G10: -135000
B11: 11001 | C11: Հայաստանի Հանրապետության անկախության հռչակման տարեդարձին նվիրված միջոցառումներ | F11: ՀՀ վարչապետի աշխատակազմ | G11: -115000
F12: Մրցույթով ընտրված կազմակերպություն | G12: -115000
B13: 11002 | C13: Քաղաքացու օրվան նվիրված միջոցառումներ | F13: ՀՀ վարչապետի աշխատակազմ | G13: -20000
F14: Մրցույթով ընտրված կազմակերպություն | G14: 0
A15: ՀՀ աշխատանքի և սոցիալական հարցերի նախարարություն | G15: -31309.1
A16: 1032 | B16: Խնամքի ծառայություններ 18 տարեկանից բարձր տարիքի անձանց | G16: -27000
B17: 11002 | C17: Տարեցներին և հաշմանդամություն ունեցող անձանց տնային պայմաններում խնամքի ծառայություններ | F17: ՀՀ աշխատանքի և սոցիալական հարցերի նախարարություն | G17: -25844.7
F18: Մրցույթով ընտրված կազմակերպություն | G18: -25844.7
B19: 11004 | C19: Տարեցների և հաշմանդամություն ունեցող 18 տարին լրացած անձանց շուրջօրյա խնամքի ծառայություններ Լոռու մարզում | F19: ՀՀ աշխատանքի և սոցիալական հարցերի նախարարություն | G19: -1155.3
F20: Մրցույթով ընտրված կազմակերպություն | G20: -1155.3
A21: 1141 | B21: Ընտանիքներին, կանանց և երեխաներին աջակցություն | G21: -4309.1
B22: 11016 | C22: Ընտանեկան բռնության ենթարկված անձանց աջակցության կենտրոնների ծառայություններ | F22: ՀՀ աշխատանքի և սոցիալական հարցերի նախարարություն | G22: -4309.1
F23: Մրցույթով ընտրված կազմակերպություն | G23: -4309.1
A24: ՀՀ բարձր տեխնոլոգիական արդյունաբերության նախարարություն | G24: =+G25 -> 92000
A25: 1043 | B25: Բարձր տեխնոլոգիական արդյունաբերության էկոհամակարգի և շուկայի զարգացման ծրագիր | G25: =+G26 -> 92000
B26: 11004 | C26: Մասնագետների պատրաստման ԲՈՒՀ-մասնավոր հատված համագործակցություն | F26: ՀՀ բարձր տեխնոլոգիական արդյունաբերության նախարարություն | G26: =+G27 -> 92000
F27: Մասնագիտացված կազմակերպություն | G27: 92000

Sheet 14.
A1: Հավելված N 14
A2: ՀՀ կառավարության 2021 թվականի -ի N -Ն որոշման
A3: «ՀԱՅԱՍՏԱՆԻ ՀԱՆՐԱՊԵՏՈՒԹՅԱՆ 2021 ԹՎԱԿԱՆԻ ՊԵՏԱԿԱՆ ԲՅՈՒՋԵԻ ՄԱՍԻՆ» ՀԱՅԱՍՏԱՆԻ ՀԱՆՐԱՊԵՏՈՒԹՅԱՆ ՕՐԵՆՔԻ N 1 ՀԱՎԵԼՎԱԾԻ N 8 ԱՂՅՈՒՍԱԿՈՒՄ ԿԱՏԱՐՎՈՂ ՓՈՓՈԽՈՒԹՅՈՒՆՆԵՐԸ
E4: հազար դրամ
A5: Ծրագրային դասիչը | C5: Ծրագրերի և միջոցառումների անվանումները | D5: Պետական մարմինների անվանումները | E5: Ցուցանիշների փոփոխությունը (նվազեցումները նշված են բացասական նշանով)
A6: Ծրագիր | B6: Միջոցառում | E6: Գումար
C7: ԸՆԴԱՄԵՆԸ | E7: =SUM(E8) -> -123544.1
A8: 1212 | C8: Տարածքային զարգացում | E8: =+E9 -> -123544.1
B9: 12003 | C9: Պետական աջակցություն սահմանամերձ համայնքներին | D9: Տարածքային կառավարման և ենթակառուցվածքների նախարարություն | E9: =+E11+E12+E13+E10 -> -123544.1
D10: Տարածքային կառավարման և ենթակառուցվածքների նախարարության ջրային կոմիտե | E10: -544.1
D11: ՀՀ Գեղարքունիքի մարզպետարան | E11: -49000
D12: ՀՀ Սյունիքի մարզպետարան | E12: -65000
D13: ՀՀ Տավուշի մարզպետարան | E13: -9000

Sheet 15.
G1: Հավելված 15
B2: ՀՀ կառավարության 2021 թվականի -ի N -Ն որոշման
A4: ՀԱՅԱՍՏԱՆԻ ՀԱՆՐԱՊԵՏՈՒԹՅԱՆ ԿԱՌԱՎԱՐՈՒԹՅԱՆ 2020 ԹՎԱԿԱՆԻ ԴԵԿՏԵՄԲԵՐԻ 30-Ի N 2215-Ն ՈՐՈՇՄԱՆ N 5 ՀԱՎԵԼՎԱԾԻ N 8 ԱՂՅՈՒՍԱԿՈՒՄ ԿԱՏԱՐՎՈՂ ԼՐԱՑՈՒՄՆԵՐԸ
G5: հազ․ դրամ
A6: Ծրագրային դասիչ | C6: Բյուջետային հատկացումների գլխավոր կարգադրիչների, ծրագրերի, միջոցառումների, ծախսային ուղղությունների և միջոցները ստացող իրավաբանական անձ հանդիսացող սուբյեկտների անվանումները | F6: Միջոցառումները կատարող պետական մարմինների և տնտեսվարող սուբյեկտների անվանումները | G6: Ցուցանիշների փոփոխությունը (նվազեցումները նշված են բացասական նշանով)
A7: Ծրագիր | B7: Միջոցառում
A8: 1 | B8: 2 | C8: 3 | F8: 4 | G8: 5
A9: Ընդամենը | G9: =SUM(G11) -> -544.1
A10: Տարածքային կառավարման և ենթակառուցվածքների նախարարություն | G10: =SUM(G12) -> -544.1
A11: 1212 | C11: Տարածքային զարգացում | G11: =SUM(G12) -> -544.1
B12: 12003 | C12: Պետական աջակցություն սահմանամերձ համայնքներին | F12: ՀՀ տարածքային կառավարման և ենթակառուցվածքների նախարարության ջրային կոմիտե | G12: =+G13 -> -544.1
C13: այդ թվում՝ ըստ տնտեսվարող սուբյեկտների | G13: -544.1
F14: «Արարատ» ՋՕԸ «Եղեգնաձոր» ՋՕԸ «Տավուշ» ՋՕԸ «Գեղարքունիք» ՋՕԸ «Սյունիք» ՋՕԸ

Sheet 16
D2: Հավելված N 16
A5: ՀԱՅԱՍՏԱՆԻ ՀԱՆՐԱՊԵՏՈՒԹՅԱՆ ԿԱՌԱՎԱՐՈՒԹՅԱՆ 2020 ԹՎԱԿԱՆԻ ԴԵԿՏԵՄԲԵՐԻ 30-Ի N 2215-Ն ՈՐՈՇՄԱՆ
A6: N 6 ՀԱՎԵԼՎԱԾՈՒՄ ԿԱՏԱՐՎՈՂ ՓՈՓՈԽՈՒԹՅՈՒՆՆԵՐԸ
D8: (հազ. դրամ)
A9: NN | B9: Եկամտատեսակը | C9: Գանձման համար պատասխանատու պետական կառավարման մարմինը (մարմինները) | D9: Ցուցանիշների փոփոխությունը(ավելացումները նշված են դրական նշանով)
A10: ը/կ
D11: տարի
A12: Այլ եկամուտներ, ընդամենը | D12: =+D14 -> -1700000
A13: այդ թվում՝
A14: 2 | B14: Տոկոսավճարներ և շահաբաժիններ | D14: =+D15 -> -1700000
A15: 2.1 | B15: Բանկերում և այլ ֆինանսավարկային հաստատություններում բյուջեի ժամանակավոր ազատ միջոցների տեղաբաշխումից և դեպոզիտներից ստացվող տոկոսավճարներ | C15: ՀՀ ֆինանսների նախարարություն | D15: ='2'!B14 -> -1700000 | V15: d

Sheet 17
C1: Հավելված N 17
C2: ՀՀ կառավարության 2021 թվականի
C3: ______________ ի ___Ն որոշման
A4: ՀԱՅԱՍՏԱՆԻ ՀԱՆՐԱՊԵՏՈՒԹՅԱՆ ԿԱՌԱՎԱՐՈՒԹՅԱՆ 2020 ԹՎԱԿԱՆԻ ԴԵԿՏԵՄԲԵՐԻ 30-Ի N 2215-Ն ՈՐՈՇՄԱՆ N 9 ՀԱՎԵԼՎԱԾԻ ԱՂՅՈՒՍԱԿԵՐՈՒՄ ԿԱՏԱՐՎՈՂ ՓՈՓՈԽՈՒԹՅՈՒՆՆԵՐԸ
C6: Աղյուսակ 9.2
A7: ՀՀ Ազգային ժողով
A8: ՄԱՍ 2. ՊԵՏԱԿԱՆ ՄԱՐՄՆԻ ԳԾՈՎ ԱՐԴՅՈՒՆՔԱՅԻՆ (ԿԱՏԱՐՈՂԱԿԱՆ) ՑՈՒՑԱՆԻՇՆԵՐԸ
C9: Ցուցանիշների փոփոխությունը (ավելավումները նշված են դրական նշանով)
A10: Ծրագրի դասիչը | B10: Ծրագրի անվանումը
A11: 1024 | B11: ՀՀ Ազգային ժողովի լիազորությունների իրականացման ապահովում
A13: Ծրագրի միջոցառումները
A15: Ծրագրի դասիչը` | B15: 1024
A16: Միջոցառման դասիչը` | B16: 31001 | C16: Տարի
A17: Միջոցառման անվանումը` | B17: Ազգային ժողովի տեխնիկական հագեցվածության բարելավում
A18: Նկարագրությունը` | B18: Ազգային ժողովի աշխատակազմի աշխատանքային պայմանների բարելավման համար վարչական սարքավորումների ձեռքբերում
A19: Միջոցառման տեսակը` | B19: Պետական մարմինների կողմից օգտագործվող ոչ ֆինանսական ակտիվների հետ գործառնություններ
A20: Ակտիվն օգտագործող կազմակերպության անվանումը | B20: ՀՀ Ազգային ժողով
A21: Արդյունքի չափորոշիչներ
A22: Գրասենյակային գույքի միավորի քանակ, հատ, լրակազմ | C22: -118
A23: Միջոցառման վրա կատարվող ծախսը (հազար դրամ) | C23: -13781
A25: Ծրագրի դասիչը` | B25: 1024
A26: Միջոցառման դասիչը` | B26: 31003 | C26: Տարի
A27: Միջոցառման անվանումը` | B27: ՀՀ Ազգային ժողովի շենքային պայմանների բարելավում
A28: Նկարագրությունը` | B28: ՀՀ Ազգային ժողովի շենք-շինությունների կապիտալ վերանորոգում և նախագծանախահաշվային փաստաթղթերի ձեռքբերում
A29: Միջոցառման տեսակը` | B29: Պետական մարմինների կողմից օգտագործվող ոչ ֆինանսական ակտիվների հետ գործառնություններ
A30: Ակտիվն օգտագործող կազմակերպության անունը | B30: ՀՀ Ազգային ժողով
A31: Արդյունքի չափորոշիչներ
A32: Միջոցառման վրա կատարվող ծախսը (հազար դրամ) | C32: -2304.1
C36: Աղյուսակ 9.3
A37: ՀՀ վարչապետի աշխատակազմ
A38: ՄԱՍ 2. ՊԵՏԱԿԱՆ ՄԱՐՄՆԻ ԳԾՈՎ ԱՐԴՅՈՒՆՔԱՅԻՆ (ԿԱՏԱՐՈՂԱԿԱՆ) ՑՈՒՑԱՆԻՇՆԵՐԸ
A40: Ծրագրի դասիչը | B40: Ծրագրի անվանումը
A41: 1018 | B41: Պետական հատվածի արդիականացման ծրագիր
A43: Ծրագրի միջոցառումները
A45: Ծրագրի դասիչը` | B45: 1018
A46: Միջոցառման դասիչը` | B46: 11001 | C46: Տարի
A47: Միջոցառման անվանումը` | B47: Համաշխարհային բանկի աջակցությամբ իրականացվող Պետական հատվածի արդիականացման երրորդ ծրագիր
A48: Նկարագրությունը` | B48: ՀՀ հանրային հատվածի ֆինանսական կառավարման բարեփոխումների մշակման և իրականացման խորհրդատվական ծառայությունների ձեռքբերում
A49: Միջոցառման տեսակը` | B49: Ծառայությունների մատուցում
A50: Ծառայությունը մատուցող կազմակերպություն(ների) անվանում(ներ)ը՛ | B50: Մասնագիտացված միավոր
A51: Արդյունքի չափորոշիչներ
A52: Հարկադիր կատարումն ապահովող ծառայության ծրագրային ապահովման վերջնական տարբերակի մշակում , հատ | C52: -1
A53: Հարկադիր կատարումն ապահովող ծառայության ծրագրային համակարգի վերջնական մասնագրի մշակում , հատ | C53: 1
A54: Միջոցառման վրա կատարված ծախսը (հազար դրամ) | C54: -110000
A56: Ծրագրի դասիչը` | B56: 1018
A57: Միջոցառման դասիչը` | B57: 32001 | C57: Տարի
A58: Միջոցառման անվանումը` | B58: Համաշխարհային բանկի աջակցությամբ իրականացվող Պետական հատվածի արդիականացման երրորդ ծրագրի շրջանակներում էլեկտրոնային կառավարման համակարգերի և սարքավորումների ձեռքբերում
A59: Նկարագրությունը` | B59: ՀԲ-ի աջակցությամբ իրականացվող Պետական հատվածի արդիականացման երրորդ ծրագրի շրջանակներում էլեկտրոնային կառավարման համակարգերի և սարքավորումների ձեռքբերում
A60: Միջոցառման տեսակը` | B60: Այլ պետական կազմակերպությունների կողմից օգտագործվող ոչ ֆինանսական ակտիվների հետ գործառնություններ
A61: Ակտիվն օգտագործող կազմակերպության անվանումը՛ | B61: ՀՀ հանրային հատվածի կազմակերպություններ
A62: Արդյունքի չափորոշիչներ
A63: Հ ոստիկանության օպերատիվ կառավարման էլեկտրոնային համակարգի ներդրում, հատ | C63: -1
A64: Փաստաթղթերի ստուգման համար (e-verify) և անձնական էլ.կաբինետ (e-cabinet) Էլ. hարթակի ներդրում, հատ | C64: -1
A65: Ոստիկանության մարզային պարեկապահակային ծառայություն իրականացնող ոստիկաններին GPS-ներով ապահովում, հատ | C65: -1150
A66: Միասնական ծանուցումների համար (e-notification) էլ. hարթակի ներդրում, հատ | C66: -1
A67: Միջոցառման վրա կատարված ծախսը (հազար դրամ) | C67: -500000
A69: Ծրագրի դասիչը | B69: Ծրագրի անվանումը
A70: 1132 | B70: Քաղաքացիական ծառայողների վերապատրաստում
A72: Ծրագրի միջոցառումները
A73: Ծրագրի դասիչը` | B73: 1132 | C73: Ցուցանիշների փոփոխությունները (Նվազեցումները նշված են փակագծերում)
A74: Միջոցառման դասիչը` | B74: 11001 | C74: Տարի
A75: Միջոցառման անվանումը` | B75: ՀՀ քաղաքացիական ծառայողների վերապատրաստման ծառայություններ
A76: Նկարագրությունը` | B76: Քաղաքացիական ծառայողների մասնագիտական գիտելիքների և աշխատանքային ունակությունների հետևողական վերապատրաստման և ուսուցման ծառայություններ
A77: Միջոցառման տեսակը` | B77: Ծառայությունների մատուցում
A78: Ծառայությունը մատուցող կազմակերպության(ների) անվանում(ներ)ը? | B78: «Գնումների մասին» ՀՀ օրենքի համաձայն ընտրված կազմակերպություն
A79: Արդյունքի չափորոշիչներ
A80: Վերապատրաստվող քաղաքացիական ծառայողների թիվ, մարդ
A81: Վերապատրաստման ծրագրերի թիվ, հատ
A82: Հեռավար ուսուցման մոդուլների քանակը
A83: Վերապատրաստվող աշխատակիցների շրջանակում կանանց և տղամարդկանց հարաբերակցություն, տոկոս
A84: Միջոցառման վրա կատարվող ծախսը (հազար դրամ) | C84: -15000
A86: Ծրագրի դասիչը | B86: Ծրագրի անվանումը
A87: 1033 | B87: Աջակցություն քաղաքական կուսակցություններին, հասարակական կազմակերպություններին և արհմիություններին
A89: Ծրագրի միջոցառումները
A90: Ծրագրի դասիչը` | B90: 1033
A91: Միջոցառման դասիչը` | B91: 11002 | C91: Տարի
A92: Միջոցառման անվանումը` | B92: Պետական կառավարման գործընթացներին քաղաքացիական հասարակության մասնակցության ապահովում
A93: Նկարագրությունը` | B93: Հանրային խորհրդի բնականոն գործունեության ապահովում
A94: Միջոցառման տեսակը` | B94: Ծառայությունների մատուցում
A95: Միջոցառումն իրականացնողի անվանումը | B95: ՀՀ վարչապետի աշխատակազմ
A96: Արդյունքի չափորոշիչներ
A97: Միջոցառման վրա կատարվող ծախսը (հազար դրամ) | C97: -8628
A99: Ծրագրի դասիչը | B99: Ծրագրի անվանումը
A100: 1136 | B100: ՀՀ Վարչապետի լիազորությունների իրականացման ապահովում
A102: Ծրագրի միջոցառումները
A103: Ծրագրի դասիչը` | B103: 1136
A104: Միջոցառման դասիչը` | B104: 11001 | C104: Տարի
A105: Միջոցառման անվանումը` | B105: Ծառայությունների, ծրագրերի համակարգում
A106: Նկարագրությունը` | B106: Աջակցություն ՀՀ կառավարությանը` քաղաքականության և ծրագրերի մշակման և իրականացման գործընթացում, վերահսկողության կատարման գործընթացում
A107: Միջոցառման տեսակը` | B107: Ծառայությունների մատուցում
A108: Միջոցառումն իրականացնողի անվանումը | B108: ՀՀ վարչապետի աշխատակազմ
A109: Արդյունքի չափորոշիչներ
A110: Միջոցառման վրա կատարվող ծախսը (հազար դրամ) | C110: =+'[1]5'!G46 -> -2141.3
A112: Ծրագրի դասիչը` | B112: 1136
A113: Միջոցառման դասիչը` | B113: 11011 | C113: Տարի
A114: Միջոցառման անվանումը` | B114: Համաշխարհային բանկի աջակցությամբ իրականացվող առևտրի և ենթակառուցվածքների զարգացման ծրագիր
A115: Նկարագրությունը` | B115: Համաշխարհային բանկի աջակցությամբ իրականացվող առևտրի և ենթակառուցվածքների զարգացման ծրագիր
A116: Միջոցառման տեսակը` | B116: Ծառայությունների մատուցում
A117: Միջոցառումն իրականացնողի անվանումը՛ | B117: Մասնագիտացված միավոր
A118: Արդյունքի չափորոշիչներ
...

Sheet 18
C1: Հավելված N 18
C2: ՀՀ կառավարության 2021 թվականի
C3: ______________ ի ___Ն որոշման
A4: ՀԱՅԱՍՏԱՆԻ ՀԱՆՐԱՊԵՏՈՒԹՅԱՆ ԿԱՌԱՎԱՐՈՒԹՅԱՆ 2020 ԹՎԱԿԱՆԻ ԴԵԿՏԵՄԲԵՐԻ 30-Ի N 2215-Ն ՈՐՈՇՄԱՆ N 9.1 ՀԱՎԵԼՎԱԾԻ ԱՂՅՈՒՍԱԿՆԵՐՈՒՄ ԿԱՏԱՐՎՈՂ ՓՈՓՈԽՈՒԹՅՈՒՆՆԵՐԸ
C7: Աղյուսակ 9.1.1
A8: ՀՀ Ազգային ժողով
A9: ՄԱՍ 1. ՊԵՏԱԿԱՆ ՄԱՐՄՆԻ ԳԾՈՎ ԱՐԴՅՈՒՆՔԱՅԻՆ (ԿԱՏԱՐՈՂԱԿԱՆ) ՑՈՒՑԱՆԻՇՆԵՐԸ
C10: Ցուցանիշների փոփոխությունը (ավելավումները նշված են դրական նշանով)
A11: Ծրագրի դասիչը | B11: Ծրագրի անվանումը
A12: 1024 | B12: ՀՀ Ազգային ժողովի լիազորությունների իրականացման ապահովում
C13: =+C24+C195+C204+C239+C272+C343+C522+C541+C556+C773+C791+C834+C853+C948+C967+C979+C1028+C1167+C1186+C1207+C1226+C1362+C1397+C1431 -> -814152.98
A14: Ծրագրի միջոցառումները
A16: Ծրագրի դասիչը` | B16: 1024
A17: Միջոցառման դասիչը` | B17: 31001 | C17: Տարի
A18: Միջոցառման անվանումը` | B18: Ազգային ժողովի տեխնիկական հագեցվածության բարելավում
A19: Նկարագրությունը` | B19: Ազգային ժողովի աշխատակազմի աշխատանքային պայմանների բարելավման համար վարչական սարքավորումների ձեռքբերում
A20: Միջոցառման տեսակը` | B20: Պետական մարմինների կողմից օգտագործվող ոչ ֆինանսական ակտիվների հետ գործառնություններ
A21: Ակտիվն օգտագործող կազմակերպության անվանումը | B21: ՀՀ Ազգային ժողով
A22: Արդյունքի չափորոշիչներ
A23: Գրասենյակային գույքի միավորի քանակ, հատ, լրակազմ | C23: -118
A24: Միջոցառման վրա կատարվող ծախսը (հազար դրամ) | C24: -13781 | D24: 0
C27: Աղյուսակ 9.1.3
A28: ՀՀ վարչապետի աշխատակազմ
A29: ՄԱՍ 1. ՊԵՏԱԿԱՆ ՄԱՐՄՆԻ ԳԾՈՎ ԱՐԴՅՈՒՆՔԱՅԻՆ (ԿԱՏԱՐՈՂԱԿԱՆ) ՑՈՒՑԱՆԻՇՆԵՐԸ
A31: Ծրագրի դասիչը | B31: Ծրագրի անվանումը
A32: 1018 | B32: Պետական հատվածի արդիականացման ծրագիր
A34: Ծրագրի միջոցառումները
A36: Ծրագրի դասիչը` | B36: 1018
A37: Միջոցառման դասիչը` | B37: 11001 | C37: Տարի
A38: Միջոցառման անվանումը` | B38: Համաշխարհային բանկի աջակցությամբ իրականացվող Պետական հատվածի արդիականացման երրորդ ծրագիր
A39: Նկարագրությունը` | B39: ՀՀ հանրային հատվածի ֆինանսական կառավարման բարեփոխումների մշակման և իրականացման խորհրդատվական ծառայությունների ձեռքբերում
A40: Միջոցառման տեսակը` | B40: Ծառայությունների մատուցում
A41: Ծառայությունը մատուցող կազմակերպություն(ների) անվանում(ներ)ը՛ | B41: Մասնագիտացված միավոր
A42: Արդյունքի չափորոշիչներ
A43: Հարկադիր կատարումն ապահովող ծառայության ծրագրային ապահովման վերջնական տարբերակի մշակում , հատ | C43: -1
A44: Հարկադիր կատարումն ապահովող ծառայության ծրագրային համակարգի վերջնական մասնագրի մշակում , հատ | C44: 1
A45: Միջոցառման վրա կատարված ծախսը (հազար դրամ) | C45: -110000
A47: Ծրագրի դասիչը` | B47: 1018
A48: Միջոցառման դասիչը` | B48: 32001 | C48: Տարի
A49: Միջոցառման անվանումը` | B49: Համաշխարհային բանկի աջակցությամբ իրականացվող Պետական հատվածի արդիականացման երրորդ ծրագրի շրջանակներում էլեկտրոնային կառավարման համակարգերի և սարքավորումների ձեռքբերում
A50: Նկարագրությունը` | B50: ՀԲ-ի աջակցությամբ իրականացվող Պետական հատվածի արդիականացման երրորդ ծրագրի շրջանակներում էլեկտրոնային կառավարման համակարգերի և սարքավորումների ձեռքբերում
A51: Միջոցառման տեսակը` | B51: Այլ պետական կազմակերպությունների կողմից օգտագործվող ոչ ֆինանսական ակտիվների հետ գործառնություններ
A52: Ակտիվն օգտագործող կազմակերպության անվանումը՛ | B52: ՀՀ հանրային հատվածի կազմակերպություններ
A53: Արդյունքի չափորոշիչներ
A54: Հ ոստիկանության օպերատիվ կառավարման էլեկտրոնային համակարգի ներդրում, հատ | C54: -1
A55: Փաստաթղթերի ստուգման համար (e-verify) և անձնական էլ.կաբինետ (e-cabinet) Էլ. hարթակի ներդրում, հատ | C55: -1
A56: Ոստիկանության մարզային պարեկապահակային ծառայություն իրականացնող ոստիկաններին GPS-ներով ապահովում, հատ | C56: -1150
A57: Միասնական ծանուցումների համար (e-notification) էլ. hարթակի ներդրում, հատ | C57: -1
A58: Միջոցառման վրա կատարված ծախսը (հազար դրամ) | C58: -500000 | D58: 0
A60: Ծրագրի դասիչը | B60: Ծրագրի անվանումը
A61: 1132 | B61: Քաղաքացիական ծառայողների վերապատրաստում
A63: Ծրագրի միջոցառումները
A64: Ծրագրի դասիչը` | B64: 1132 | C64: Ցուցանիշների փոփոխությունները (Նվազեցումները նշված են փակագծերում)
A65: Միջոցառման դասիչը` | B65: 11001 | C65: Տարի
A66: Միջոցառման անվանումը` | B66: ՀՀ քաղաքացիական ծառայողների վերապատրաստման ծառայություններ
A67: Նկարագրությունը` | B67: Քաղաքացիական ծառայողների մասնագիտական գիտելիքների և աշխատանքային ունակությունների հետևողական վերապատրաստման և ուսուցման ծառայություններ
A68: Միջոցառման տեսակը` | B68: Ծառայությունների մատուցում
A69: Ծառայությունը մատուցող կազմակերպության(ների) անվանում(ներ)ը? | B69: «Գնումների մասին» ՀՀ օրենքի համաձայն ընտրված կազմակերպություն
A70: Արդյունքի չափորոշիչներ
A71: Վերապատրաստվող քաղաքացիական ծառայողների թիվ, մարդ
A72: Վերապատրաստման ծրագրերի թիվ, հատ
A73: Հեռավար ուսուցման մոդուլների քանակը
A74: Վերապատրաստվող աշխատակիցների շրջանակում կանանց և տղամարդկանց հարաբերակցություն, տոկոս
A75: Միջոցառման վրա կատարվող ծախսը (հազար դրամ) | C75: -15000
A77: Ծրագրի դասիչը | B77: Ծրագրի անվանումը
A78: 1033 | B78: Աջակցություն քաղաքական կուսակցություններին, հասարակական կազմակերպություններին և արհմիություններին
A80: Ծրագրի միջոցառումները
A81: Ծրագրի դասիչը` | B81: 1033
A82: Միջոցառման դասիչը` | B82: 11002 | C82: Տարի
A83: Միջոցառման անվանումը` | B83: Պետական կառավարման գործընթացներին քաղաքացիական հասարակության մասնակցության ապահովում
A84: Նկարագրությունը` | B84: Հանրային խորհրդի բնականոն գործունեության ապահովում
A85: Միջոցառման տեսակը` | B85: Ծառայությունների մատուցում
A86: Միջոցառումն իրականացնողի անվանումը | B86: ՀՀ վարչապետի աշխատակազմ
A87: Արդյունքի չափորոշիչներ
A88: Միջոցառման վրա կատարվող ծախսը (հազար դրամ) | C88: -8628
A90: Ծրագրի դասիչը | B90: Ծրագրի անվանումը
A91: 1136 | B91: ՀՀ Վարչապետի լիազորությունների իրականացման ապահովում
A93: Ծրագրի միջոցառումները
A95: Ծրագրի դասիչը` | B95: 1136
A96: Միջոցառման դասիչը` | B96: 11001 | C96: Տարի
A97: Միջոցառման անվանումը` | B97: Ծառայությունների, ծրագրերի համակարգում
A98: Նկարագրությունը` | B98: Աջակցություն ՀՀ կառավարությանը` քաղաքականության և ծրագրերի մշակման և իրականացման գործընթացում, վերահսկողության կատարման գործընթացում
A99: Միջոցառման տեսակը` | B99: Ծառայությունների մատուցում
A100: Միջոցառումն իրականացնողի անվանումը | B100: ՀՀ վարչապետի աշխատակազմ
A101: Արդյունքի չափորոշիչներ
A102: Միջոցառման վրա կատարվող ծախսը (հազար դրամ) | C102: =+'[1]5'!G39 -> -2874.902
A104: Ծրագրի դասիչը` | B104: 1136
A105: Միջոցառման դասիչը` | B105: 11011 | C105: Տարի
A106: Միջոցառման անվանումը` | B106: Համաշխարհային բանկի աջակցությամբ իրականացվող առևտրի և ենթակառուցվածքների զարգացման ծրագիր
A107: Նկարագրությունը` | B107: Համաշխարհային բանկի աջակցությամբ իրականացվող առևտրի և ենթակառուցվածքների զարգացման ծրագիր
A108: Միջոցառման տեսակը` | B108: Ծառայությունների մատուցում
A109: Միջոցառումն իրականացնողի անվանումը՛ | B109: Մասնագիտացված միավոր
A110: Արդյունքի չափորոշիչներ
A111: Հաստատված ՊՄԳ նախաձեռնությունների հայեցակարգերի թիվ (հատ) | C111: -1
A112: Միջոցառման վրա կատարված ծախսը (հազար դրամ) | C112: -380000
A114: Ծրագրի դասիչը` | B114: 1136
A115: Միջոցառման դասիչը` | B115: 31002 | C115: Տարի
A116: Միջոցառման անվանումը` | B116: ՀՀ վարչապետի աշխատակազմի տեխնիկական հագեցվածության բարելավում
A117: Նկարագրությունը` | B117: ՀՀ վարչապետի աշխատակազմի աշխատանքային պայմանների բարելավման նպատակով վարչական սարքավորումների ձեռքբերում
A118: Միջոցառման տեսակը` | B118: Ծառայությունների մատուցում
...
