Workbook
Name _tab10: #REF!
Name _tab10: #REF!
Name _tab11: #REF!
Name _tab11: #REF!
Name _tab12: #REF!
Name _tab12: #REF!
Name _tab13: #REF!
Name _tab13: #REF!
Name _tab14: #REF!
Name _tab14: #REF!
Name _tab15: #REF!
Name _tab15: #REF!
Name _tab16: #REF!
Name _tab16: #REF!
Name _tab17: #REF!
Name _tab17: #REF!
Name _tab18: #REF!
Name _tab18: #REF!
Name _tab19: #REF!
Name _tab19: #REF!
Name _tab20: #REF!
Name _tab20: #REF!
Name _tab21: #REF!
Name _tab21: #REF!
Name _tab22: #REF!
Name _tab22: #REF!
Name _tab23: #REF!
Name _tab23: #REF!
Name _tab24: #REF!
Name _tab24: #REF!
Name _tab5: #REF!
Name _tab5: #REF!
Name _tab6: #REF!
Name _tab6: #REF!
Name _tab7: #REF!
Name _tab7: #REF!
Name _tab8: #REF!
Name _tab8: #REF!
Name _tab9: #REF!
Name _tab9: #REF!
Name AgencyCode: #REF!
Name AgencyCode: #REF!
Name AgencyCode: #REF!
Name AgencyName: #REF!
Name AgencyName: #REF!
Name AgencyName: #REF!
Name Functional1: #REF!
Name Functional1: #REF!
Name Functional1: #REF!
Name PANature: #REF!
Name PANature: #REF!
Name PANature: #REF!
Name par_count: #REF!,#REF!,#REF!,#REF!,#REF!,#REF!,#REF!,#REF!,#REF!,#REF!,#REF!,#REF!,#REF!,#REF!,#REF!
Name par_count: #REF!,#REF!,#REF!,#REF!,#REF!,#REF!,#REF!,#REF!,#REF!,#REF!,#REF!,#REF!,#REF!,#REF!,#REF!
Name par_qual: #REF!,#REF!,#REF!,#REF!,#REF!
Name par_qual: #REF!,#REF!,#REF!,#REF!,#REF!
Name par_time: #REF!,#REF!,#REF!,#REF!
Name par_time: #REF!,#REF!,#REF!,#REF!
Name par2.12s: #REF!
Name par2.12s: #REF!

Sheet 1
D1: Հավելված N1
D2: ՀՀ կառավարության 2021 թվականի
D3: ______________ ի N ___Ն որոշման
A6: «ՀԱՅԱUՏԱՆԻ ՀԱՆՐԱՊԵՏՈՒԹՅԱՆ 2021 ԹՎԱԿԱՆԻ ՊԵՏԱԿԱՆ ԲՅՈՒՋԵԻ ՄԱUԻՆ» OՐԵՆՔԻ N 1 ՀԱՎԵԼՎԱԾԻ N 2 ԱՂՅՈՒՍԱԿՈՒՄ ԿԱՏԱՐՎՈՂ ՎԵՐԱԲԱՇԽՈՒՄԸ, ՀԱՅԱՍՏԱՆԻ ՀԱՆՐԱՊԵՏՈՒԹՅԱՆ ԿԱՌԱՎԱՐՈՒԹՅԱՆ 2020 ԹՎԱԿԱՆԻ ԴԵԿՏԵՄԲԵՐԻ 30-Ի N 2215-Ն ՈՐՈՇՄԱՆ N 5 ՀԱՎԵԼՎԱԾԻ N 1 ԱՂՅՈՒՍԱԿՈՒՄ ԿԱՏԱՐՎՈՂ ՓՈՓՈԽՈՒԹՅՈՒՆՆԵՐԸ ԵՎ ԼՐԱՑՈՒՄԸ
D7: հազար դրամ
A8: Ծրագրային դասիչը | C8: Բյուջետային հատկացումների գլխավոր կարգադրիչների, ծրագրերի և միջոցառումների անվանումները | D8: Ցուցանիշների փոփոխությունը (ավելացումները նշված են դրական նշանով, իսկ նվազեցումները` փակագծերում)
A9: Ծրագիր | B9: Միջոցառում | D9: Տարի
C10: ԸՆԴԱՄԵՆԸ | D10: =-D11 -> 0
C11: ՀՀ տարածքային կառավարման և ենթակառուցվածքների նախարարություն | D11: =-D12-D26 -> 0
A12: 1049 | C12: Ծրագրի անվանումը` | D12: =+D20 -> -885095.9
C13: Ճանապարհային ցանցի բարելավում
C14: Ծրագրի նպատակը`
C15: Ճանապարհային ցանցի բարելավում և անվտանգ երթևեկության ապահովում
C16: Վերջնական արդյունքի նկարագրությունը`
C17: Ճանապարհների ծածկի որակի և փոխադրումների արդյունավետության բարելավում՝ ճանապարհների վիճակով պայմանավորված պատահարների նվազում
A18: Ծրագրի միջոցառումներ
B19: 21001 | C19: Միջոցառման անվանումը`
C20: Պետական նշանակության ավտոճանապարհների հիմնանորոգում | D20: =-D26 -> -885095.9
C21: Միջոցառման նկարագրությունը`
C22: Միջպետական, հանրապետական և մարզային նշանակության ավտոճոնապարհների քայքայված ծածկի վերանորոգում, մաշված ծածկի փոխարինում
C23: Միջոցառման տեսակը
C24: Հանրության կողմից անմիջականորեն օգտագործվող ակտիվների հետ կապված միջոցառումներ
A25: 1212 | C25: Ծրագրի անվանումը`
C26: Տարածքային զարգացում | D26: ='3'!D9 -> 885095.9
C27: Ծրագրի նպատակը`
C28: Տարածքային համաչափ զարգացման խթանում
C29: Վերջնական արդյունքի նկարագրությունը`
C30: ՀՀ համայնքների կառավարման արդյունավետության բարձրացում և տնտեսական գործունեության խթանում
A31: Ծրագրի միջոցառումներ
B32: 12007 | C32: Միջոցառման անվանումը`
C33: ՀՀ մարզերին սուբվենցիաների տրամադրում՛ ենթակառուցվածքների զարգացման նպատակով | D33: =D26 -> 885095.9
C34: Միջոցառման նկարագրությունը`
C35: ՀՀ մարզերին սուբվենցիաների տրամադրում՛ ենթակառուցվածքների զարգացման նպատակով
C36: Միջոցառման տեսակը
C37: Տրանսֆերտների տրամադրում

Sheet 2
H1: Հավելված N2
H2: ՀՀ կառավարության 2021 թվականի
H3: ______________ ի ___Ն որոշման
A4: «ՀԱՅԱՍՏԱՆԻ ՀԱՆՐԱՊԵՏՈՒԹՅԱՆ 2021 ԹՎԱԿԱՆԻ ՊԵՏԱԿԱՆ ԲՅՈՒՋԵԻ ՄԱՍԻՆ» ՕՐԵՆՔԻ N 1 ՀԱՎԵԼՎԱԾԻ N 3 ԱՂՅՈՒՍԱԿՈՒՄ ԿԱՏԱՐՎՈՂ ՓՈՓՈԽՈՒԹՅՈՒՆՆԵՐԸ ԵՎ ԼՐԱՑՈՒՄՆԵՐԸ
G5: հազ. դրամ
A6: Ծրագրային դասիչ | C6: Բյուջետային գլխավոր կարգադրիչների, ծրագրերի, միջոցառումների և ուղղությունների անվանումները | D6: Ցուցանիշների փոփոխությունը (ավելացումները նշված են դրական նշանով, իսկ նվազեցումները` փակագծերում)
D7: Ընդամենը, | E7: այդ թվում՝
A8: Ծրագիր | B8: Միջոցառում | E8: Կառուցման աշխատանքներ | F8: Վերակառուցման, վերանորոգման և վերականգնման աշխատանքներ | G8: Նախագծահե- տազոտական, գեոդեզիա- քարտեզագրա- կան աշխա- տանքներ | H8: Ոչ ֆինանսական այլ ակտիվների ձեռքբերում
C9: ԸՆԴԱՄԵՆԸ | D9: =+E9+F9+G9+H9 -> -885095.9 | E9: =E11 -> 0 | F9: =F11 -> -885095.9 | G9: =G11 -> 0 | H9: =H11 -> 0
C10: այդ թվում՝
C11: ՀՀ ՏԱՐԱԾՔԱՅԻՆ ԿԱՌԱՎԱՐՄԱՆ ԵՎ ԵՆԹԱԿԱՌՈՒՑՎԱԾՔՆԵՐԻ ՆԱԽԱՐԱՐՈՒԹՅՈՒՆ | D11: =+E11+F11+G11+H11 -> -885095.9 | E11: =+E13+E20 -> 0 | F11: =+F13+F20 -> -885095.9 | G11: =+G13+G20 -> 0 | H11: =+H13+H20 -> 0
C12: այդ թվում`
A13: 1049 | B13: 21001 | C13: Պետական նշանակության ավտոճանապարհների հիմնանորոգում | D13: =+E13+F13+G13+H13 -> -1850967.5 | E13: =+E15+E18 -> 0 | F13: =+F15+F18 -> -1850967.5 | G13: =+G15+G18 -> 0 | H13: =+H15+H18 -> 0
C14: այդ թվում`
B15: 1 | C15: Միջպետական նշանակության ավտոճանապարհներ, այդ թվում | D15: =+E15+F15+G15+H15 -> -991734.9 | E15: =+E16 -> 0 | F15: =+F16 -> -991734.9 | G15: =+G16 -> 0 | H15: =+H16 -> 0
C16: Մ-2, Երևան-Երասխ-Գորիս-Մեղրի-Իրանի սահման միջպետական նշանակության ավտոճանապարհի | D16: =+E16+F16+G16+H16 -> -991734.9 | E16: =SUM(E17:E17) -> 0 | F16: =+F17 -> -991734.9 | G16: =+G17 -> 0 | H16: =SUM(H17:H17) -> 0
C17: կմ150+700 - կմ167+600 հատվածի հիմնանորոգում | D17: =+E17+F17+G17+H17 -> -991734.9 | E17: 0 | F17: =+'[1]3'!D19 -> -991734.9 | G17: 0 | H17: 0
B18: 3 | C18: Մարզային նշանակության ավտոճանապարհներ, այդ թվում | D18: =+E18+F18+G18+H18 -> -859232.6 | E18: =SUM(E19:E19) -> 0 | F18: =SUM(F19:F19) -> -859232.6 | G18: =SUM(G19:G19) -> 0 | H18: =SUM(H19:H19) -> 0
C19: Տ-8-22, /Մ-2/ - Վարդավանք – Խդրանց - Ագարակ ավտոճանապարհի կմ0+000 - կմ13+100 հատվածի հիմնանորոգում | D19: =+E19+F19+G19+H19 -> -859232.6 | E19: 0 | F19: =+'[1]3'!D21 -> -859232.6 | G19: 0 | H19: 0
A20: 1049 | B20: 21001 | C20: Պետական նշանակության ավտոճանապարհների հիմնանորոգում | D20: =+E20+F20+G20+H20 -> 965871.6 | E20: =+E22+E27 -> 0 | F20: =+'[1]3'!D31-'1'!D26 -> 965871.6 | G20: =+G22+G27 -> 0 | H20: =+H22+H27 -> 0

Sheet 3
D1: Հավելված N3
D2: ՀՀ կառավարության 2021 թվականի
D3: -------------- ի N ---- -Ն որոշման
D6: հազար դրամ
A7: Ծրագրային դասիչը | C7: Բյուջետային հատկացումների գլխավոր կարգադրիչների, ծրագրերի, միջոցառումների և միջոցառումները կատարող պետական մարմինների անվանումները | D7: Ցուցանիշների փոփոխությունը (ավելացումները նշված են դրական նշանով, իսկ նվազեցումները` փակագծերում)
A8: Ծրագիր | B8: Միջոցառում | D8: Տարի
C9: ԸՆԴԱՄԵՆԸ | D9: =D19+D28+D37+D45+D56+D66 -> 885095.9
C10: այդ թվում
A11: Կապիտալ սուբվենցիաներ համայնքներին | D11: =D19+D28+D37+D45++D56+D66 -> 885095.9
A12: այդ թվում`
A13: ՀՀ տարածքային կառավարման և ենթակառուցվածքների նախարարություն | D13: =D11 -> 885095.9
A14: այդ թվում`
A15: 1212 | B15: Տարածքային զարգացում | D15: =D13 -> 885095.9
C16: այդ թվում`
B17: 12007 | C17: ՀՀ մարզերին սուբվենցիաների տրամադրում՝ ենթակառուցվածքների զարգացման նպատակով | D17: =D15 -> 885095.9
C18: այդ թվում` ըստ կատարողների
C19: ՀՀ Արարատի մարզպետարան | D19: =D21+D22+D23+D24+D25+D26+D27 -> 69302.7
C20: այդ թվում` ըստ ուղղությունների
C21: Գեղանիստ համայնքի 4-րդ փողոցի ասֆալտապատման աշխատանքներ | D21: 10237.1
C22: Գեղանիստ համայնքի ոռոգման համակարգի կառուցում | D22: 7923.8
C23: Վերին Արտաշատ համայնքում արևային համակարգի տեղադրում | D23: 7512.9
C24: Բաղրամյան համայնքի ոռոգման ցանցի վերակառուցում | D24: 12012
C25: Նոյակերտ համայնքի Գ. Նժդեհ , Տիգրան Մեծ և Գ. Չաուշ փողոցների մասնակի ասֆալտապատում | D25: 10900.8
C26: Ոստան համայնքի ոռոգման ցանցի շուրջ 1000 գծմ. հատվածի բետոնե կիսախողովակների անցկացման աշխատանքներ | D26: 15077.9
C27: Լանջառ համայնքի խմելու ջրի մատակարարման աշխատանքներ | D27: 5638.2
C28: ՀՀ Արմավիրի մարզպետարան | D28: =D30+D31+D32+D33+D34+D35+D36 -> 241383.8
C29: այդ թվում` ըստ ուղղությունների
C30: Արագած համայնքի մշակույթի տան մասնակի վերանորոգում | D30: 2580
C31: Մայիսյան համայնքից դեպի Սարգսի անվան թաղամաս գլխավոր փողոցի ասֆալտբետոնե ծածկույթի հիմնանորոգման աշխատանքներ | D31: 5002.9
C32: Մյասնիկյան համայնքի Մոնթե Մելքոնյան փողոցի ասֆալտապատում | D32: 18377.3
C33: Քարակերտ համայնքի թվով 6 փողոցների ասֆալտապատում | D33: 24966.3
C34: Տանձուտ համայնքի 20-րդ, 24-րդ , 2-րդ, 8-րդ, 5-րդ և 4-րդ փողոցների գազիֆիկացման աշխատանքներ | D34: 9133.7
C35: Գայ համայնքի մանկապարտեզի շենքի կառուցում | D35: 164095
C36: Ջրառատ համայնքում Մեծամորի խճուղու հիմնանորոգում | D36: 17228.6
C37: ՀՀ Գեղարքունիքի մարզպետարան | D37: =D39+D40+D41+D42+D43+D44 -> 256318.7
C38: այդ թվում` ըստ ուղղությունների
C39: Երանոս հանայնքի խմելու ջրամատակարարման արտաքին ցանցի՝ Չռի ձոր , Գերեզմանններ և Սար տանող ճանապարհ կոչվող տարածքներում գործող 2 ներտնտեսային ջրագծերի ու, Համալիր կոչվող տարածքից դեպի 9-րդ փողոցը սնուցող ջրագծի հիմնանորոգման աշխատանքների կատարում» | D39: 9274.1
C40: Ներքին Գետաշեն համայնքի ներհամայնքային փողոցների ասֆալտապատում | D40: 65137.1
C41: Երանոս համայնքի ոռոգման արտաքին ցանցի կառուցում և ջրատար առուների հիմնանորոգում | D41: 20883.9
C42: Հայրավանք համայնքի Կենտրոնական փողոցի վերանորոգում | D42: 6643.3
...

Sheet 4
G1: Հավելված N4
G2: ՀՀ կառավարության 2021 թվականի
G3: ______________ ի N ___Ն որոշման
A5: ՀԱՅԱՍՏԱՆԻ ՀԱՆՐԱՊԵՏՈՒԹՅԱՆ ԿԱՌԱՎԱՐՈՒԹՅԱՆ 2020 ԹՎԱԿԱՆԻ ԴԵԿՏԵՄԲԵՐԻ 30-Ի N2215-Ն ՈՐՈՇՄԱՆ NN 3 և 4 ՀԱՎԵԼՎԱԾՆԵՐՈՒՄ ԿԱՏԱՐՎՈՂ ՓՈՓՈԽՈՒԹՅՈՒՆՆԵՐԸ ԵՎ ԼՐԱՑՈՒՄՆԵՐԸ
G6: հազար դրամ
A7: Գործառական դասիչը | D7: Ծրագրային դասիչը | F7: Բյուջետային հատկացումների գլխավոր կարգադրիչների, ծրագրերի, միջոցառումների և միջոցառումները կատարող պետական մարմինների անվանումները | G7: Ցուցանիշների փոփոխությունները (ավելացումները նշված են դրական նշանով իսկ նվազեցումները` փակագծերում)
A8: բաժին | B8: խումբ | C8: դաս | D8: Ծրագիր | E8: Միջոցառում | G8: տարի
A9: ԸՆԴԱՄԵՆԸ ԾԱԽՍԵՐ | G9: =+G10+G64 -> 0
A10: 01 | F10: ԸՆԴՀԱՆՈՒՐ ԲՆՈՒՅԹԻ ՀԱՆՐԱՅԻՆ ԾԱՌԱՅՈՒԹՅՈՒՆՆԵՐ | G10: =G22+G29+G36+G43+G50+G57 -> 885095.9
F11: այդ թվում՝
B12: 08 | F12: Կառավարության տարբեր մակարդակների միջև իրականացվող ընդհանուր բնույթի տրանսֆերտներ | G12: =G10 -> 885095.9
F13: այդ թվում՝
C14: 01 | F14: Կառավարության տարբեր մակարդակների միջև իրականացվող ընդհանուր բնույթի տրանսֆերտներ | G14: =G12 -> 885095.9
F15: այդ թվում՝
F16: ՀՀ տարածքային կառավարման և ենթակառուցվածքների նախարարություն | G16: =G14 -> 885095.9
F17: այդ թվում՝
D18: 1212 | F18: Տարածքային զարգացում | G18: ='1'!D26 -> 885095.9
F19: այդ թվում`
E20: 12007 | F20: ՀՀ մարզերին սուբվենցիաների տրամադրում՛ ենթակառուցվածքների զարգացման նպատակով_x000D_ | G20: ='1'!D26 -> 885095.9
F21: այդ թվում` ըստ կատարողների
F22: ՀՀ Արարատի մարզպետարան | G22: ='3'!D19 -> 69302.7
F23: այդ թվում` բյուջետային ծախսերի տնտեսագիտական դասակարգման հոդվածներ
F24: ԸՆԴԱՄԵՆԸ ԾԱԽՍԵՐ | G24: =G22 -> 69302.7
F25: ԸՆԹԱՑԻԿ ԾԱԽՍԵՐ | G25: =G22 -> 69302.7
F26: ԴՐԱՄԱՇՆՈՐՀՆԵՐ | G26: =G22 -> 69302.7
F27: Կապիտալ դրամաշնորհներ պետական հատվածի այլ մակարդակներին | G27: =G22 -> 69302.7
F28: - Կապիտալ սուբվենցիաներ համայնքներին | G28: =G27 -> 69302.7
F29: ՀՀ Արմավիրի մարզպետարան | G29: ='3'!D28 -> 241383.8
F30: այդ թվում` բյուջետային ծախսերի տնտեսագիտական դասակարգման հոդվածներ
F31: ԸՆԴԱՄԵՆԸ ԾԱԽՍԵՐ | G31: =G29 -> 241383.8
F32: ԸՆԹԱՑԻԿ ԾԱԽՍԵՐ | G32: =G31 -> 241383.8
F33: ԴՐԱՄԱՇՆՈՐՀՆԵՐ | G33: =G32 -> 241383.8
F34: Կապիտալ դրամաշնորհներ պետական հատվածի այլ մակարդակներին | G34: =G33 -> 241383.8
F35: - Կապիտալ սուբվենցիաներ համայնքներին | G35: =G34 -> 241383.8
F36: ՀՀ Գեղարքունիքի մարզպետարան | G36: ='3'!D37 -> 256318.7
F37: այդ թվում` բյուջետային ծախսերի տնտեսագիտական դասակարգման հոդվածներ
F38: ԸՆԴԱՄԵՆԸ ԾԱԽՍԵՐ | G38: =+G39 -> 256318.7
F39: ԸՆԹԱՑԻԿ ԾԱԽՍԵՐ | G39: =+G40 -> 256318.7
F40: ԴՐԱՄԱՇՆՈՐՀՆԵՐ | G40: =+G41 -> 256318.7
F41: Կապիտալ դրամաշնորհներ պետական հատվածի այլ մակարդակներին | G41: =+G42 -> 256318.7
...

Sheet 5
A1: Հավելված N5
A2: ՀՀ կառավարության 2021 թվականի
A3: ______________ ի ___Ն որոշման
A5: ՀԱՅԱՍՏԱՆԻ ՀԱՆՐԱՊԵՏՈՒԹՅԱՆ ԿԱՌԱՎԱՐՈՒԹՅԱՆ 2020 ԹՎԱԿԱՆԻ ԴԵԿՏԵՄԲԵՐԻ 30-Ի N 2215-Ն ՈՐՈՇՄԱՆ N 5 ՀԱՎԵԼՎԱԾԻ N 2 ԱՂՅՈՒՍԱԿՈՒՄ ԿԱՏԱՐՎՈՂ ՓՈՓՈԽՈՒԹՅՈՒՆՆԵՐԸ ԵՎ ԼՐԱՑՈՒՄՆԵՐԸ
D6: հազ. դրամ
A7: Ծրագրային դասիչ | C7: Բյուջետային գլխավոր կարգադրիչների, ծրագրերի, միջոցառումների և ուղղությունների անվանումները | D7: Ցուցանիշների փոփոխությունը (ավելացումները նշված են դրական նշանով, իսկ նվազեցումները` փակագծերում)
A8: Ծրագիր | B8: Միջոցառում | D8: Տարի
C9: ԸՆԴԱՄԵՆԸ | D9: =D11 -> -885095.9
C10: այդ թվում՝
C11: ՀՀ ՏԱՐԱԾՔԱՅԻՆ ԿԱՌԱՎԱՐՄԱՆ ԵՎ ԵՆԹԱԿԱՌՈՒՑՎԱԾՔՆԵՐԻ ՆԱԽԱՐԱՐՈՒԹՅՈՒՆ | D11: =+D13+D22 -> -885095.9
C12: այդ թվում`
A13: 1049 | B13: 21001 | C13: Պետական նշանակության ավտոճանապարհների հիմնանորոգում | D13: =+D15 -> -1850967.5
C14: այդ թվում` ըստ կատարողների
C15: ՀՀ տարածքային կառավարման և ենթակառուցվածքների նախարարություն | D15: =+D17+D20 -> -1850967.5
C16: այդ թվում՝ ըստ ուղղությունների
B17: 1 | C17: Միջպետական նշանակության ավտոճանապարհներ, այդ թվում | D17: =+D18 -> -991734.9
C18: Մ-2, Երևան-Երասխ-Գորիս-Մեղրի-Իրանի սահման միջպետական նշանակության ավտոճանապարհի | D18: =+D19 -> -991734.9
C19: կմ150+700 - կմ167+600 հատվածի հիմնանորոգում | D19: -991734.9
B20: 3 | C20: Մարզային նշանակության ավտոճանապարհներ, այդ թվում | D20: =SUM(D21:D21) -> -859232.6
C21: Տ-8-22, /Մ-2/ - Վարդավանք – Խդրանց - Ագարակ ավտոճանապարհի կմ0+000 - կմ13+100 հատվածի հիմնանորոգում | D21: -859232.6
A22: 1049 | B22: 21001 | C22: Պետական նշանակության ավտոճանապարհների հիմնանորոգում | D22: =+D24 -> 965871.6
C23: այդ թվում` ըստ կատարողների
C24: ՀՀ կառավարություն | D24: =-D15-'1'!D26 -> 965871.6

Sheet 6
B1: Հավելված 6
B2: ՀՀ կառավարության 2021 թվականի
B3: ______________ ի ___Ն որոշման
A5: ՀԱՅԱՍՏԱՆԻ ՀԱՆՐԱՊԵՏՈՒԹՅԱՆ ԿԱՌԱՎԱՐՈՒԹՅԱՆ 2020 ԹՎԱԿԱՆԻ ԴԵԿՏԵՄԲԵՐԻ 30-Ի ԹԻՎ 2215-Ն ՈՐՈՇՄԱՆ N9 ՀԱՎԵԼՎԱԾԻ 9.8 ԱՂՅՈՒՍԱԿՈՒՄ ԿԱՏԱՐՎՈՂ ՓՈՓՈԽՈՒԹՅՈՒՆՆԵՐԸ
A7: =+'[3]4'!C11 -> ՀՀ տարածքային կառավարման և ենթակառուցվածքների նախարարություն
A9: ՄԱՍ 2. ՊԵՏԱԿԱՆ ՄԱՐՄՆԻ ԳԾՈՎ ԱՐԴՅՈՒՆՔԱՅԻՆ (ԿԱՏԱՐՈՂԱԿԱՆ) ՑՈՒՑԱՆԻՇՆԵՐԸ
A12: Ծրագրի դասիչը | B12: Ծրագրի անվանումը
A13: =+'[3]4'!A13 -> 1212 | B13: =+'[3]1'!C12 -> Տարածքային զարգացում
A15: Ծրագրի միջոցառումները
A17: Ծրագրի դասիչը` | B17: 1212 | C17: Ցուցանիշների փոփոխությունները (ավելացումները նշված են դրական նշանով)
A18: Միջոցառման դասիչը` | B18: 12007 | C18: Տարի
A19: Միջոցառման անվանումը` | B19: ՀՀ մարզերին սուբվենցիաների տրամադրում` ենթակառուցվածքների զարգացման նպատակով_x000D_
A20: Նկարագրությունը` | B20: ՀՀ մարզերին սուբվենցիաների տրամադրում` ենթակառուցվածքների զարգացման նպատակով
A21: Միջոցառման տեսակը` | B21: Տրանսֆերտների տրամադրում
A22: Միջոցառումն իրականացնողի անվանումը | B22: ՀՀ համայնքներ
A23: Արդյունքի չափորոշիչներ
A24: ՀՀ համայնքների թիվ, հատ | C24: 36
A25: Միջոցառման վրա կատարվող ծախսը (հազար դրամ) | C25: =-C39 -> 885095.9
A28: Ծրագրի դասիչը | B28: Ծրագրի անվանումը
A29: 1049 | B29: Ճանապարհային ցանցի բարելավում
A31: Ծրագրի միջոցառումները
A33: Ծրագրի դասիչը` | B33: 1049 | C33: Ցուցանիշների փոփոխությունը (ավելացումները նշված են դրական նշանով, իսկ նվազեցումները` փակագծերում)
A34: Միջոցառման դասիչը` | B34: 21001 | C34: Տարի
A35: Միջոցառման անվանումը` | B35: Պետական նշանակության ավտոճանապարհների հիմնանորոգում
A36: Նկարագրությունը` | B36: Միջպետական՝ հանրապետական և մարզային նշանակության ավտոճանապարհների քայքայված ծածկի վերանորոգում՝ մաշված ծածկի փոխարինում
A37: Միջոցառման տեսակը` | B37: Հանրության կողմից անմիջականորեն օգտագործվող ակտիվների հետ կապված միջոցառումներ
A38: Արդյունքի չափորոշիչներ
A39: Միջոցառման վրա կատարվող ծախսը (հազար դրամ) | C39: =+'5'!D11 -> -885095.9

Sheet 7
C1: Հավելված N 7
C2: ՀՀ կառավարության 2021 թվականի
C3: -------------- ի N ---- -Ն որոշման
A6: ՀԱՅԱՍՏԱՆԻ ՀԱՆՐԱՊԵՏՈՒԹՅԱՆ ԿԱՌԱՎԱՐՈՒԹՅԱՆ 2020 ԹՎԱԿԱՆԻ ԴԵԿՏԵՄԲԵՐԻ 30-Ի N 2215-Ն ՈՐՈՇՄԱՆ N 9.1 ՀԱՎԵԼՎԱԾԻ N 9.1.8 ԱՂՅՈՒՍԱԿՈՒՄ ԿԱՏԱՐՎՈՂ ՓՈՓՈԽՈՒԹՅՈՒՆԸ
A8: ՀՀ ՏԱՐԱԾՔԱՅԻՆ ԿԱՌԱՎԱՐՄԱՆ ԵՎ ԵՆԹԱԿԱՌՈՒՑՎԱԾՔՆԵՐԻ ՆԱԽԱՐԱՐՈՒԹՅՈՒՆ
A9: ՄԱՍ 1. ՊԵՏԱԿԱՆ ՄԱՐՄՆԻ ԳԾՈՎ ԱՐԴՅՈՒՆՔԱՅԻՆ (ԿԱՏԱՐՈՂԱԿԱՆ) ՑՈՒՑԱՆԻՇՆԵՐԸ
A10: Ծրագրի դասիչը | B10: Ծրագրի անվանումը
A11: 1049 | B11: Ճանապարհային ցանցի բարելավում
A13: Ծրագրի միջոցառումները
A15: Ծրագրի դասիչը` | B15: 1049 | C15: Ցուցանիշների փոփոխությունը (նվազեցումները նշված են փակագծերում)
A16: Միջոցառման դասիչը` | B16: 21001 | C16: Տարի
A17: Միջոցառման անվանումը` | B17: Պետական նշանակության ավտոճանապարհների հիմնանորոգում
A18: Նկարագրությունը` | B18: Միջպետական՝ հանրապետական և մարզային նշանակության ավտոճանապարհների քայքայված ծածկի վերանորոգում՝ մաշված ծածկի փոխարինում_x000D_
A19: Միջոցառման տեսակը` | B19: Հանրության կողմից անմիջականորեն օգտագործվող ակտիվների հետ կապված միջոցառումներ
A20: Արդյունքի չափորոշիչներ
A21: Միջոցառման վրա կատարվող ծախսը (հազար դրամ) | C21: =+'5'!D15 -> -1850967.5
A23: ՀԱՅԱՍՏԱՆԻ ՀԱՆՐԱՊԵՏՈՒԹՅԱՆ ԿԱՌԱՎԱՐՈՒԹՅԱՆ 2020 ԹՎԱԿԱՆԻ ԴԵԿՏԵՄԲԵՐԻ 30-Ի № 2215-Ն ՈՐՈՇՄԱՆ № 9.1 ՀԱՎԵԼՎԱԾԻ № 9.1.49 ԱՂՅՈՒՍԱԿՈՒՄ ԿԱՏԱՐՎՈՂ ՓՈՓՈԽՈՒԹՅՈՒՆՆԵՐԸ ԵՎ ԼՐԱՑՈՒՄՆԵՐԸ
A24: ՀՀ Արարատի մարզպետարան
A26: ՄԱՍ 1. ՊԵՏԱԿԱՆ ՄԱՐՄՆԻ ԳԾՈՎ ԱՐԴՅՈՒՆՔԱՅԻՆ (ԿԱՏԱՐՈՂԱԿԱՆ) ՑՈՒՑԱՆԻՇՆԵՐԸ
A27: Ծրագրի դասիչը | B27: Ծրագրի անվանումը
A28: 1212 | B28: Տարածքային զարգացում
A30: Ծրագրի միջոցառումները
A31: Ծրագրի դասիչը` | B31: 1212 | C31: Ցուցանիշների փոփոխությունները (ավելացումները նշված են դրական նշանով)
A32: Միջոցառման դասիչը` | B32: 12007 | C32: Տարի
A33: Միջոցառման անվանումը` | B33: ՀՀ մարզերին սուբվենցիաների տրամադրում` ենթակառուցվածքների զարգացման նպատակով_x000D_
A34: Նկարագրությունը` | B34: ՀՀ մարզերին սուբվենցիաների տրամադրում` ենթակառուցվածքների զարգացման նպատակով
A35: Միջոցառման տեսակը` | B35: Տրանսֆերտների տրամադրում
A36: Միջոցառումն իրականացնողի անվանումը | B36: ՀՀ համայնքներ
B37: Արդյունքի չափորոշիչներ
A38: ՀՀ համայնքների թիվ, հատ | C38: 6
A39: Միջոցառման վրա կատարվող ծախսը (հազար դրամ) | C39: ='3'!D19 -> 69302.7
A41: ՀԱՅԱՍՏԱՆԻ ՀԱՆՐԱՊԵՏՈՒԹՅԱՆ ԿԱՌԱՎԱՐՈՒԹՅԱՆ 2020 ԹՎԱԿԱՆԻ ԴԵԿՏԵՄԲԵՐԻ 30-Ի № 2215-Ն ՈՐՈՇՄԱՆ № 9.1 ՀԱՎԵԼՎԱԾԻ № 9.1.50 ԱՂՅՈՒՍԱԿՈՒՄ ԿԱՏԱՐՎՈՂ ՓՈՓՈԽՈՒԹՅՈՒՆՆԵՐԸ ԵՎ ԼՐԱՑՈՒՄՆԵՐԸ
B42: ՀՀ Արմավիրի մարզպետարան
A44: Ծրագրի դասիչը | B44: Ծրագրի անվանումը
A45: 1212 | B45: Տարածքային զարգացում
A47: Ծրագրի միջոցառումները
A48: Ծրագրի դասիչը` | B48: 1212 | C48: Ցուցանիշների փոփոխությունները (ավելացումները նշված են փակագծերում)
A49: Ծրագրի դասիչը` | B49: 1212 | C49: Ցուցանիշների փոփոխությունները (ավելացումները նշված են դրական նշանով)
A50: Միջոցառման դասիչը` | B50: 12007 | C50: Տարի
A51: Միջոցառման անվանումը` | B51: ՀՀ մարզերին սուբվենցիաների տրամադրում` ենթակառուցվածքների զարգացման նպատակով_x000D_
...

Sheet 8
A1: Հավելված N8
A2: ՀՀ կառավարության 2021 թվականի
A3: ______________ ի N___Ն որոշման
A5: ՀԱՅԱՍՏԱՆԻ ՀԱՆՐԱՊԵՏՈՒԹՅԱՆ ԿԱՌԱՎԱՐՈՒԹՅԱՆ 2020 ԹՎԱԿԱՆԻ ԴԵԿՏԵՄԲԵՐԻ 30-Ի N 2215-Ն ՈՐՈՇՄԱՆ N 10 ՀԱՎԵԼՎԱԾՈՒՄ ԿԱՏԱՐՎՈՂ ՓՈՓՈԽՈՒԹՅՈՒՆՆԵՐԸ
A6: Կոդը | B6: Անվանումը | C6: Գնման ձևը | D6: Չափման միավորը | E6: Միավորի գինը | F6: Ցուցանիշների փոփոխությունը (նվազեցումները նշված են փակագծերում)
F7: Քանակը | G7: Գումարը (հազար դրամով)
A8: ՀՀ տարածքային կառավարման և ենթակառուցվածքների նախարարություն | G8: =+G9 -> -1850967.6
A9: Բաժին N 04 | B9: Խումբ N 05 | C9: Դաս N 01 | D9: Ճանապարհային տրանսպորտ | G9: =+G10 -> -1850967.6
A10: 1049 21001 | B10: Պետական նշանակության ավտոճանապարհների հիմնանորոգում | G10: =+G11 -> -1850967.6
A11: ՄԱՍ II. ԱՇԽԱՏԱՆՔՆԵՐ | G11: =SUM(G12:G13) -> -1850967.6
A12: 45231177/542 | B12: ճանապարհների վերանորոգման աշխատանքներ | C12: ՀԲՄ | D12: դրամ | G12: -991734.92
A13: 45231177/61 | B13: ճանապարհների վերանորոգման աշխատանքներ | C13: ՀՄԱ | D13: դրամ | G13: -859232.66
