Workbook
Name \A: #REF!
Name \A: #REF!
Name \A: #REF!
Name _tab10: #REF!
Name _tab10: #REF!
Name _tab11: #REF!
Name _tab11: #REF!
Name _tab12: #REF!
Name _tab12: #REF!
Name _tab13: #REF!
Name _tab13: #REF!
Name _tab14: #REF!
Name _tab14: #REF!
Name _tab15: #REF!
Name _tab15: #REF!
Name _tab16: #REF!
Name _tab16: #REF!
Name _tab17: #REF!
Name _tab17: #REF!
Name _tab18: #REF!
Name _tab18: #REF!
Name _tab19: #REF!
Name _tab19: #REF!
Name _tab20: #REF!
Name _tab20: #REF!
Name _tab21: #REF!
Name _tab21: #REF!
Name _tab22: #REF!
Name _tab22: #REF!
Name _tab23: #REF!
Name _tab23: #REF!
Name _tab24: #REF!
Name _tab24: #REF!
Name _tab5: #REF!
Name _tab5: #REF!
Name _tab6: #REF!
Name _tab6: #REF!
Name _tab7: #REF!
Name _tab7: #REF!
Name _tab8: #REF!
Name _tab8: #REF!
Name _tab9: #REF!
Name _tab9: #REF!
Name Armata: #REF!
Name Armata: #REF!
Name Armata: #REF!
Name BOP: #REF!
Name BOP: #REF!
Name BOPfoot: #REF!
Name BOPfoot: #REF!
Name DebtCG: '[1]Fis-Debt'!#REF!
Name DebtCG: '[1]Fis-Debt'!#REF!
Name DebtCG: '[1]Fis-Debt'!#REF!
Name DebtGG: #REF!
Name DebtGG: #REF!
Name Hav: #REF!,#REF!
Name MonExo: #REF!
Name MonExo: #REF!
Name MonGrow: [2]BM!#REF!
Name MonGrow: [2]BM!#REF!

Sheet N-1
B1: Հավելված N 1 ՀՀ կառավարության 2021 թվականի ___________ ___-ի N _______ -Ն որոշման
A3: «ՀԱՅԱՍՏԱՆԻ ՀԱՆՐԱՊԵՏՈՒԹՅԱՆ 2021 ԹՎԱԿԱՆԻ ՊԵՏԱԿԱՆ ԲՅՈՒՋԵԻ ՄԱՍԻՆ» ՕՐԵՆՔԻ N 1 ՀԱՎԵԼՎԱԾԻ N 2 ԱՂՅՈՒՍԱԿՈՒՄ ԵՎ ՀԱՅԱՍՏԱՆԻ ՀԱՆՐԱՊԵՏՈՒԹՅԱՆ ԿԱՌԱՎԱՐՈՒԹՅԱՆ 2020 ԹՎԱԿԱՆԻ ԴԵԿՏԵՄԲԵՐԻ 30-Ի N 2215-Ն ՈՐՈՇՄԱՆN 5 ՀԱՎԵԼՎԱԾԻ N 1 ԱՂՅՈՒՍԱԿՈՒՄ ԿԱՏԱՐՎՈՂ ՓՈՓՈԽՈՒԹՅՈՒՆՆԵՐԸ ԵՎ ԼՐԱՑՈՒՄՆԵՐԸ
D4: (հազար դրամներով)
A5: Ծրագրային դասիչը | C5: Բյուջետային հատկացումների գլխավոր կարգադրիչների, ծրագրերի և միջոցառումների անվանումները | D5: Ցուցանիշների փոփոխությունները (Ավելացումները նշված են դրական նշանով,իսկ նվազեցումները՝ փակագծերում)
A6: Ծրագիր | B6: Միջոցառում | D6: Տարի
C7: ԸՆԴԱՄԵՆԸ | D7: =G5 -> 0
C8: ՀՀ կառավարություն | D8: =D9 -> 13957.4
A9: 1139 | C9: Ծրագրի անվանումը` | D9: =D16+D22 -> 13957.4
C10: ՀՀ կառավարության պահուստային ֆոնդ
C11: Ծրագրի նպատակը`
C12: Պետական բյուջեում չկանխատեսված, ինչպես նաեւ բյուջետային երաշխիքների ապահովման ծախսերի ֆինանսավորման ապահովում
C13: Վերջնական արդյունքի նկարագրությունը`
C14: Պահուստային ֆոնդի կառավարման արդյունավետության և թափանցիկության ապահովում
A15: Ծրագրի միջոցառումներ
B16: 11001 | C16: Միջոցառման անվանումը` | D16: =-D35 -> 30085.5
C17: ՀՀ կառավարության պահուստային ֆոնդ
C18: Միջոցառման նկարագրությունը`
C19: ՀՀ պետական բյուջեում նախատեսված ելքերի լրացուցիչ ֆինանսավորման, պետական բյուջեում չկանխատեսված ելքերի, ինչպես նաև բյուջետային երաշխիքների ապահովման ելքերի ֆինանսավորման ապահովում
C20: Միջոցառման տեսակը
C21: Ծառայությունների մատուցում
B22: 11001 | C22: Միջոցառման անվանումը` | D22: =-D16+-D29 -> -16128.1
C23: ՀՀ կառավարության պահուստային ֆոնդ
C24: Միջոցառման նկարագրությունը`
C25: ՀՀ պետական բյուջեում նախատեսված ելքերի լրացուցիչ ֆինանսավորման, պետական բյուջեում չկանխատեսված ելքերի, ինչպես նաև բյուջետային երաշխիքների ապահովման ելքերի ֆինանսավորման ապահովում
C26: Միջոցառման տեսակը
C27: Ծառայությունների մատուցում
C28: ՀՀ շրջակա միջավայրի նախարարություն | D28: =+D29 -> -13957.4
A29: 1071 | C29: Շրջակա միջավայրի ոլորտում պետական քաղաքականության մշակում, ծրագրերի համակարգում և մոնիտորինգ | D29: =D35+D41 -> -13957.4
C30: Ծրագրի նպատակը`
C31: Շրջակա միջավայրի պահպանությանն ուղղված պետական քաղաքականության մշակում և իրականացում
C32: Վերջնական արդյունքի նկարագրությունը`
C33: Շրջակա միջավայրի պահպանությանն ուղղված օրենսդրական դաշտի բարելավում, իրականացվող ծրագրերի ազդեցության և արդյունավետության աճ
A34: Ծրագրի միջոցառումներ
B35: 11001 | C35: Միջոցառման անվանումը` | D35: ='N 4'!G46 -> -30085.5
C36: Շրջակա միջավայրի ոլորտում քաղաքականության մշակում, ծրագրերի համակարգում և մոնիտորինգ
C37: Միջոցառման նկարագրությունը`
C38: Շրջակա միջավայրի պահպանությանն ուղղված օրենսդրական դաշտի բարելավում, իրականացվող ծրագրերի արդյունավետության ապահովում
C39: Միջոցառման տեսակը
C40: Ծառայությունների մատուցում
B41: 31001 | C41: Միջոցառման անվանումը` | D41: ='N 4'!G60 -> 16128.1
...

Sheet N 2
A1: Հավելված 2 ՀՀ կառավարության 2021 թվականի____________ի N _____-Ն որոշման
A3: «ՀԱՅԱՍՏԱՆԻ ՀԱՆՐԱՊԵՏՈՒԹՅԱՆ 2021 ԹՎԱԿԱՆԻ ՊԵՏԱԿԱՆ ԲՅՈՒՋԵԻ ՄԱՍԻՆ» ՀԱՅԱՍՏԱՆԻ ՀԱՆՐԱՊԵՏՈՒԹՅԱՆ ՕՐԵՆՔԻ N 1 ՀԱՎԵԼՎԱԾԻ N 3 ԱՂՅՈՒՍԱԿՈՒՄ ԿԱՏԱՐՎՈՂ ԼՐԱՑՈՒՄԸ
G4: (հազար դրամներով)
A5: Ծրագրային դասիչ | C5: Բյուջետային գլխավոր կարգադրիչների, ծրագրերի, միջոցառումների և ուղղությունների անվանումները | D5: Ընդամենը, | E5: այդ թվում՝
A6: Ծրագիր | B6: Միջոցառում | E6: Կառուցման աշխատանքներ | F6: Վերակառուցման, վերանորոգման և վերականգնման աշխատանքներ | G6: Նախագծահե- տազոտական, գեոդեզիա- քարտեզագրա- կան աշխա- տանքներ | H6: Ոչ ֆինանսական այլ ակտիվների ձեռքբերում
C7: ԸՆԴԱՄԵՆԸ | D7: =E7+F7+G7+H7 -> 16128.1 | E7: =E9 -> 0 | F7: =F9 -> 0 | G7: =G9 -> 0 | H7: =H9 -> 16128.1
C8: այդ թվում՝
C9: ՀՀ ՇՐՋԱԿԱ ՄԻՋԱՎԱՅՐԻ ՆԱԽԱՐԱՐՈՒԹՅՈՒՆ | D9: =E9+F9+G9+H9 -> 16128.1 | E9: 0 | F9: 0 | G9: =G10 -> 0 | H9: =H10 -> 16128.1
A10: 1071 | B10: 31001 | C10: ='N-1'!C42 -> ՀՀ շրջակա միջավայրի նախարարության տեխնիկական կարողությունների ընդլայնում | D10: =SUM(E10:H10) -> 16128.1 | E10: 0 | F10: 0 | G10: ='[4]N 2'!J32 -> 0 | H10: ='N 4'!G68 -> 16128.1

Sheet N 3
A1: Հավելված 3 ՀՀ կառավարության 2021 թվականի____________ի N _____-Ն որոշման
A3: ՀԱՅԱՍՏԱՆԻ ՀԱՆՐԱՊԵՏՈՒԹՅԱՆ ԿԱՌԱՎԱՐՈՒԹՅԱՆ 2020 ԹՎԱԿԱՆԻ ԴԵԿՏԵՄԲԵՐԻ 30-Ի N 2215-Ն ՈՐՈՇՄԱՆ N5 ՀԱՎԵԼՎԱԾԻ N2 ԱՂՅՈՒՍԱԿՈՒՄ ԿԱՏԱՐՎՈՂ ԼՐԱՑՈՒՄԸ
D4: (հազար դրամներով)
A5: Ծրագրային դասիչ | C5: Բյուջետային գլխավոր կարգադրիչների, ծրագրերի, միջոցառումների, միջոցառումները կատարող պետական մարմինների և ուղղությունների անվանումները | D5: Ցուցանիշների փոփոխությունը (ավելացումները նշված են դրական նշանով)
A6: Ծրագիր | B6: Միջոցառում | D6: Տարի
C7: ԸՆԴԱՄԵՆԸ | D7: =D8 -> 16128.1
C8: ՀՀ ՇՐՋԱԿԱ ՄԻՋԱՎԱՅՐԻ ՆԱԽԱՐԱՐՈՒԹՅՈՒՆ | D8: =D10 -> 16128.1
C9: այդ թվում`
A10: 1071 | B10: 31001 | C10: ='N 2'!C10 -> ՀՀ շրջակա միջավայրի նախարարության տեխնիկական կարողությունների ընդլայնում | D10: =D12 -> 16128.1
C11: այդ թվում` ըստ կատարողների
C12: ՀՀ ՇՐՋԱԿԱ ՄԻՋԱՎԱՅՐԻ ՆԱԽԱՐԱՐՈՒԹՅՈՒՆ | D12: ='N 2'!H10 -> 16128.1

Sheet N 4
A1: Հավելված N 4 ՀՀ կառավարության 2021 թվականի ___________ ___-ի N _______ -Ն որոշման
A6: ՀԱՅԱՍՏԱՆԻ ՀԱՆՐԱՊԵՏՈՒԹՅԱՆ ԿԱՌԱՎԱՐՈՒԹՅԱՆ 2020 ԹՎԱԿԱՆԻ ԴԵԿՏԵՄԲԵՐԻ 30-Ի N 2215-Ն ՈՐՈՇՄԱՆ N 3 և N 4 ՀԱՎԵԼՎԱԾՆԵՐՈՒՄ ԿԱՏԱՐՎՈՂ ՓՈՓՈԽՈՒԹՅՈՒՆՆԵՐԸ ԵՎ ԼՐԱՑՈՒՄՆԵՐԸ
G7: (հազար դրամներով)
A8: Գործառական դասիչը | D8: Ծրագրային դասիչը | F8: Բյուջետային ծախսերի գործառական դասակարգման բաժինների, խմբերի և դասերի, բյուջետային ծրագրերի, միջոցառումների բյուջետային հատկացումնեյի գլխավոր կարկադրիչների անվանումները | G8: Ցուցանիշների փոփոխությունը (ավելացումները նշված են դրական նշանով, իսկ նվազեցումները` փակագծերում)
A9: Բաժին | B9: Խումբ | C9: Դաս | D9: Ծրագիր | E9: Միջոցառում | G9: Տարի
F10: ԸՆԴԱՄԵՆԸ | G10: =G11+G37 -> 0
A11: 11 | B11: 1 | C11: 1 | F11: ՀԻՄՆԱԿԱՆ ԲԱԺԻՆՆԵՐԻՆ ՉԴԱՍՎՈՂ ՊԱՀՈՒՍՏԱՅԻՆ ՖՈՆԴԵՐ | G11: =G13 -> 13957.4
F12: այդ թվում`
F13: ՀՀ կառավարության և համայնքների պահուստային ֆոնդ | G13: =G15 -> 13957.4
F14: այդ թվում`
F15: ՀՀ կառավարության պահուստային ֆոնդ | G15: =G17 -> 13957.4
F16: այդ թվում`
F17: ՀՀ կառավարության | G17: =G19 -> 13957.4
F18: այդ թվում`
D19: 1139 | F19: ՀՀ կառավարության պահուստային ֆոնդ | G19: =G21+G29 -> 13957.4
F20: այդ թվում`
E21: 11001 | F21: ՀՀ կառավարության պահուստային ֆոնդ | G21: =G23 -> 30085.5
F22: այդ թվում` ըստ կատարողների
F23: ՀՀ կառավարություն | G23: =G25 -> 30085.5
F24: այդ թվում` բյուջետային ծախսերի տնտեսագիտական դասակարգման հոդվածներ
F25: ԸՆԴԱՄԵՆԸ ԾԱԽՍԵՐ | G25: =G26 -> 30085.5
F26: ԸՆԹԱՑԻԿ ԾԱԽՍԵՐ | G26: =G27 -> 30085.5
F27: ԱՅԼ ԾԱԽՍԵՐ | G27: =G28 -> 30085.5
F28: - Պահուստային միջոցներ | G28: =-G46 -> 30085.5
E29: 11001 | F29: ՀՀ կառավարության պահուստային ֆոնդ | G29: =G31 -> -16128.1
F30: այդ թվում` ըստ կատարողների
F31: ՀՀ կառավարություն | G31: =G33 -> -16128.1
F32: այդ թվում` բյուջետային ծախսերի տնտեսագիտական դասակարգման հոդվածներ
F33: ԸՆԴԱՄԵՆԸ ԾԱԽՍԵՐ | G33: =G34 -> -16128.1
F34: ԸՆԹԱՑԻԿ ԾԱԽՍԵՐ | G34: =G35 -> -16128.1
F35: ԱՅԼ ԾԱԽՍԵՐ | G35: =G36 -> -16128.1
F36: - Պահուստային միջոցներ | G36: -16128.1
A37: 05 | F37: ՇՐՋԱԿԱ ՄԻՋԱՎԱՅՐԻ ՊԱՇՏՊԱՆՈՒԹՅՈՒՆ | G37: =G39 -> -13957.4
F38: այդ թվում`
B39: 06 | F39: Շրջակա միջավայրի պաշտպանություն (այլ դասերին չպատկանող) | G39: =G41 -> -13957.4
F40: այդ թվում`
C41: 01 | F41: Շրջակա միջավայրի պաշտպանություն (այլ դասերին չպատկանող) | G41: =G43 -> -13957.4
F42: այդ թվում`
F43: ՀՀ շրջակա միջավայրի նախարարություն | G43: =G45 -> -13957.4
F44: այդ թվում`
...

Sheet N 5
B1: Հավելված N 5
B2: ՀՀ կառավարության 2021 թվականի
B3: ___________ ___-ի N _______ -Ն որոշման
A5: ՀԱՅԱՍՏԱՆԻ ՀԱՆՐԱՊԵՏՈՒԹՅԱՆ ԿԱՌԱՎԱՐՈՒԹՅԱՆ 2020 ԹՎԱԿԱՆԻ ԴԵԿՏԵՄԲԵՐԻ 30-Ի N 2215-Ն ՈՐՈՇՄԱՆ N 9 ՀԱՎԵԼՎԱԾԻ 9.13 ԵՎ 9.47 ԱՂՅՈՒՍԱԿՆԵՐՈՒՄ ԿԱՏԱՐՎՈՂ ՓՈՓՈԽՈՒԹՅՈՒՆՆԵՐԸ ԵՎ ԼՐԱՑՈՒՄՆԵՐԸ
A6: ՄԱՍ 2. ՊԵՏԱԿԱՆ ՄԱՐՄՆԻ ԳԾՈՎ ԱՐԴՅՈՒՆՔԱՅԻՆ (ԿԱՏԱՐՈՂԱԿԱՆ) ՑՈՒՑԱՆԻՇՆԵՐԸ
A8: ՀՀ շրջակա միջավայրի նախարարություն
A10: Ծրագրի դասիչը | B10: Ծրագրի անվանումը
A11: 1071 | B11: Շրջակա միջավայրի ոլորտում պետական քաղաքականության մշակում, ծրագրերի համակարգում և մոնիտորինգ
A13: Ծրագրի դասիչը` | B13: 1071 | C13: Ցուցանիշների փոփոխությունը (նվազեցումները նշված են փակագծերում)
A14: Միջոցառման դասիչը` | B14: 11001 | C14: Տարի
A15: Միջոցառման անվանումը` | B15: Շրջակա միջավայրի ոլորտում քաղաքականության մշակում, ծրագրերի համակարգում և մոնիտորինգ
A16: Նկարագրությունը` | B16: Շրջակա միջավայրի պահպանությանն ուղղված օրենսդրական դաշտի բարելավում, իրականացվող ծրագրերի արդյունավետության ապահովում
A17: Միջոցառման տեսակը` | B17: Ծառայությունների մատուցում
A18: Ծառայությունը մատուցող կազմակերպության(ների) անվանում(ներ)ը | B18: Շրջակա միջավայրի նախարարություն
A19: Արդյունքի չափորոշիչներ
A20: Միջոցառման վրա կատարվող ծախսը (հազար դրամ) | C20: ='N 4'!G46 -> -30085.5
A22: Ծրագրի դասիչը` | B22: 1071 | C22: Ցուցանիշների փոփոխությունը (ավելացումները նշված են դրական նշանով)
A23: Միջոցառման դասիչը` | B23: 31001 | C23: Տարի
A24: Միջոցառման անվանումը` | B24: ՀՀ շրջակա միջավայրի նախարարության տեխնիկական կարողությունների ընդլայնում
A25: Նկարագրությունը` | B25: Համակարգչային սարքավորումների և գրասենյակային գույքի ձեռքբերում_x000D_
A26: Միջոցառման տեսակը` | B26: Պետական մարմինների կողմից օգտագործվող ոչ ֆինանսական ակտիվների հետ գործառնություններ
A27: Ակտիվն օգտագործող կազմակերպությունների անվանումը | B27: Շրջակա միջավայրի նախարարություն
A28: Արդյունքի չափորոշիչներ
A29: Օդորակիչ քանակ, հատ | C29: 8
A30: Հեռախոսային սարքեր քանակ, հատ | C30: 29
A31: Սեղանի համակարգիչ քանակ, հատ | C31: 17
A32: Համակարգչային մոնիտոր քանակ, հատ | C32: 17
A33: Անխափան սնուցման աղբյուրներ քանակ, հատ | C33: 50
A34: Թուղթ կտրող սարք քանակ, հատ | C34: 2
A35: Բազկաթոռ, շարժական քանակ, հատ | B35: Բազկաթոռ, շարժական | C35: 3
A36: Գունավոր տպիչներ քանակ, հատ | C36: 3
A37: Տպիչ սարք, բազմաֆունկցիոնալ, A4, 18 էջ/րոպե արագության քանակ, հատ | C37: 5
A38: Տեղեկությունների պահպանման կրիչներ քանակ, հատ | C38: 6
A39: Սնուցման մարտկոց | C39: 6
A40: Դյուրակիր համակարգիչներ | C40: 5
A41: Սկաներներ համակարգիչների համար | C41: 2
A42: Ձայնագրող սարքեր | C42: 6
A43: կինոխցիկներ | C43: 1
A44: գրասեղաններ | C44: 20
A45: աթոռ համակարգչային | C45: 30
...

Sheet N 6
B1: Հավելված N 6
B2: ՀՀ կառավարության 2021 թվականի
B3: ___________ ___-ի N _______ -Ն որոշման
A5: ՀԱՅԱՍՏԱՆԻ ՀԱՆՐԱՊԵՏՈՒԹՅԱՆ ԿԱՌԱՎԱՐՈՒԹՅԱՆ 2020 ԹՎԱԿԱՆԻ ԴԵԿՏԵՄԲԵՐԻ 30-Ի N 2215-Ն ՈՐՈՇՄԱՆ N 9.1 ՀԱՎԵԼՎԱԾԻ 9.1.13 ԵՎ 9.1.58 ԱՂՅՈՒՍԱԿՆԵՐՈՒՄ ԿԱՏԱՐՎՈՂ ՓՈՓՈԽՈՒԹՅՈՒՆՆԵՐԸ ԵՎ ԼՐԱՑՈՒՄՆԵՐԸ
A7: ՄԱՍ 1. ՊԵՏԱԿԱՆ ՄԱՐՄՆԻ ԳԾՈՎ ԱՐԴՅՈՒՆՔԱՅԻՆ (ԿԱՏԱՐՈՂԱԿԱՆ) ՑՈՒՑԱՆԻՇՆԵՐԸ
A9: ՀՀ շրջակա միջավայրի նախարարություն
A11: Ծրագրի դասիչը | B11: Ծրագրի անվանումը
A12: 1071 | B12: Շրջակա միջավայրի ոլորտում պետական քաղաքականության մշակում, ծրագրերի համակարգում և մոնիտորինգ
A14: Ծրագրի դասիչը` | B14: 1071 | C14: Ցուցանիշների փոփոխությունը (նվազեցումները նշված են փակագծերում)
A15: Միջոցառման դասիչը` | B15: 11001 | C15: Տարի
A16: Միջոցառման անվանումը` | B16: Շրջակա միջավայրի ոլորտում քաղաքականության մշակում, ծրագրերի համակարգում և մոնիտորինգ
A17: Նկարագրությունը` | B17: Շրջակա միջավայրի պահպանությանն ուղղված օրենսդրական դաշտի բարելավում, իրականացվող ծրագրերի արդյունավետության ապահովում
A18: Միջոցառման տեսակը` | B18: Ծառայությունների մատուցում
A19: Ծառայությունը մատուցող կազմակերպության(ների) անվանում(ներ)ը | B19: Շրջակա միջավայրի նախարարություն
A20: Արդյունքի չափորոշիչներ
A21: Միջոցառման վրա կատարվող ծախսը (հազար դրամ) | C21: ='N 5'!C20 -> -30085.5
A23: Ծրագրի դասիչը` | B23: 1071 | C23: Ցուցանիշների փոփոխությունը (ավելացումները նշված են դրական նշանով)
A24: Միջոցառման դասիչը` | B24: 31001 | C24: Տարի
A25: Միջոցառման անվանումը` | B25: ՀՀ շրջակա միջավայրի նախարարության տեխնիկական կարողությունների ընդլայնում
A26: Նկարագրությունը` | B26: Համակարգչային սարքավորումների և գրասենյակային գույքի ձեռքբերում_x000D_
A27: Միջոցառման տեսակը` | B27: Պետական մարմինների կողմից օգտագործվող ոչ ֆինանսական ակտիվների հետ գործառնություններ
A28: Ակտիվն օգտագործող կազմակերպությունների անվանումը | B28: Շրջակա միջավայրի նախարարություն
A29: Արդյունքի չափորոշիչներ
A30: Օդորակիչ քանակ, հատ | C30: 8
A31: Հեռախոսային սարքեր քանակ, հատ | C31: 29
A32: Սեղանի համակարգիչ քանակ, հատ | C32: 17
A33: Համակարգչային մոնիտոր քանակ, հատ | C33: 17
A34: Անխափան սնուցման աղբյուրներ քանակ, հատ | C34: 50
A35: Թուղթ կտրող սարք քանակ, հատ | C35: 2
A36: Բազկաթոռ, շարժական քանակ, հատ | B36: Բազկաթոռ, շարժական | C36: 3
A37: Գունավոր տպիչներ քանակ, հատ | C37: 3
A38: Տպիչ սարք, բազմաֆունկցիոնալ, A4, 18 էջ/րոպե արագության քանակ, հատ | C38: 5
A39: Տեղեկությունների պահպանման կրիչներ քանակ, հատ | C39: 6
A40: Սնուցման մարտկոց | C40: 6
A41: Դյուրակիր համակարգիչներ | C41: 5
A42: Սկաներներ համակարգիչների համար | C42: 2
A43: Ձայնագրող սարքեր | C43: 6
A44: կինոխցիկներ | C44: 1
A45: գրասեղաններ | C45: 20
A46: աթոռ համակարգչային | C46: 30
...

Sheet N 7 gnum
D1: Հավելված 7 ՀՀ կառավարության 2021 թվականի____________ի N _____-Ն որոշման
A3: ՀԱՅԱՍՏԱՆԻ ՀԱՆՐԱՊԵՏՈՒԹՅԱՆ ԿԱՌԱՎԱՐՈՒԹՅԱՆ 2020 ԹՎԱԿԱՆԻ ԴԵԿՏԵՄԲԵՐԻ 30-Ի N 2215-Ն ՈՐՈՇՄԱՆ N10 ՀԱՎԵԼՎԱԾՈՒՄ ԿԱՏԱՐՎՈՂ ԼՐԱՑՈՒՄՆԵՐԸ
A5: Կոդը | B5: Անվանումը | E5: Գնման ձևը | F5: Չափման միավորը | G5: Ցուցանիշների փոփոխությունը (ավելացումները նշված են դրական նշանով, իսկ նվազեցումները` փակագծերում)
G6: Միավորի գինը | H6: Քանակը | I6: Գումարը (հազար դրամով)
A7: ՀՀ շրջակա միջավայրի նախարարություն | I7: =I8 -> 16128.064
A8: Բաժին N 05 | B8: Խումբ N 06 | C8: Դաս N 01 | D8: ՇՐՋԱԿԱ ՄԻՋԱՎԱՅՐԻ ՊԱՇՏՊԱՆՈՒԹՅՈՒՆ Շրջակա միջավայրի պաշտպանություն (այլ դասերին չպատկանող) | I8: =I9 -> 16128.064
A9: 1071 31001 | B9: ՀՀ շրջակա միջավայրի նախարարության տեխնիկական կարողությունների ընդլայնում | I9: =I10 -> 16128.064
B10: ՄԱՍ I. Ա Պ Ր Ա Ն Ք Ն Ե Ր | I10: =SUM(I11:I92) -> 16128.064
A11: 39714200/501 | B11: Օդորակիչ | E11: ԷԱՃ | F11: հատ | G11: 210000 | H11: 2 | I11: =G11*H11/1000 -> 420
A12: 39714200/502 | B12: Օդորակիչ | E12: ԷԱՃ | F12: հատ | G12: 252000 | H12: 5 | I12: =G12*H12/1000 -> 1260
A13: 39714200/503 | B13: Օդորակիչ | E13: ԷԱՃ | F13: հատ | G13: 312000 | H13: 1 | I13: =G13*H13/1000 -> 312
A14: 32551160/501 | B14: հեռախոսային սարքեր | E14: ԷԱՃ | F14: հատ | G14: 80000 | H14: 3 | I14: =G14*H14/1000 -> 240
A15: 32551160/502 | B15: հեռախոսային սարքեր | E15: ԷԱՃ | F15: հատ | G15: 13100 | H15: 26 | I15: =G15*H15/1000 -> 340.6
A16: 30211220/504 | B16: սեղանի համակարգիչներ | E16: ԷԱՃ | F16: հատ | G16: 280200 | H16: 17 | I16: =G16*H16/1000 -> 4763.4
A17: 30237490/504 | B17: համակարգչային մոնիտոր | E17: ԷԱՃ | F17: հատ | G17: 68200 | H17: 17 | I17: =G17*H17/1000 -> 1159.4
A18: 31151120/504 | B18: անխափան սնուցման աղբյուրներ | E18: ԷԱՃ | F18: հատ | G18: 21000 | H18: 20 | I18: =G18*H18/1000 -> 420
A19: 39241300/501 | B19: թուղթ կտրող սարք | E19: ԷԱՃ | F19: հատ | G19: 150000 | H19: 1 | I19: =G19*H19/1000 -> 150
A20: 39138310/504 | B20: բազկաթոռ, շարժական | E20: ԷԱՃ | F20: հատ | G20: 65000 | H20: 3 | I20: =G20*H20/1000 -> 195
A21: 30232130/502 | B21: գունավոր տպիչներ | E21: ԷԱՃ | F21: հատ | G21: 178500 | H21: 3 | I21: =G21*H21/1000 -> 535.5
A22: 30239110/502 | B22: տպիչ սարք, բազմաֆունկցիոնալ, A4, 18 էջ/րոպե արագության | E22: ԷԱՃ | F22: հատ | G22: 140000 | H22: 5 | I22: =G22*H22/1000 -> 700
A23: 30232480/502 | B23: տեղեկությունների պահպանման կրիչներ | E23: ԷԱՃ | F23: հատ | G23: 21800 | H23: 2 | I23: =G23*H23/1000 -> 43.6
A24: 30237111/501 | B24: սնուցման մարտկոց | E24: ԷԱՃ | F24: հատ | G24: 27000 | H24: 6 | I24: =G24*H24/1000 -> 162
A25: 30211200/501 | B25: դյուրակիր համակարգիչներ | E25: ԷԱՃ | F25: հատ | G25: 399900 | H25: 5 | I25: =G25*H25/1000 -> 1999.5
A26: 30216110/504 | B26: սկաներներ համակարգիչների համար | E26: ԷԱՃ | F26: հատ | G26: 195000 | H26: 2 | I26: =G26*H26/1000 -> 390
A27: 30232480/504 | B27: տեղեկությունների պահպանման կրիչներ | E27: ԷԱՃ | F27: հատ | G27: 82200 | H27: 4 | I27: =G27*H27/1000 -> 328.8
A28: 31151120/507 | B28: անխափան սնուցման աղբյուրներ | E28: ԷԱՃ | F28: հատ | G28: 21000 | H28: 30 | I28: =G28*H28/1000 -> 630
A29: 32331500/501 | B29: ձայնագրող սարքեր | E29: ԷԱՃ | F29: հատ | G29: 19400 | H29: 6 | I29: =G29*H29/1000 -> 116.4
A30: 38651150/501 | B30: կինոխցիկներ | E30: ԷԱՃ | F30: հատ | G30: 489000 | H30: 1 | I30: =G30*H30/1000 -> 489
A31: 39121100/504 | B31: գրասեղաններ | E31: ԷԱՃ | F31: հատ | G31: 48000 | H31: 20 | I31: =G31*H31/1000 -> 960
A32: 39138220/502 | B32: աթոռ համակարգչային | E32: ԷԱՃ | F32: հատ | G32: 26400 | H32: 30 | I32: =G32*H32/1000 -> 792
A33: 39241300/503 | B33: թուղթ կտրող սարք | E33: ԷԱՃ | F33: հատ | G33: 159900 | H33: 1 | I33: =G33*H33/1000 -> 159.9
A34: 39515440/501 | B34: ուղղահայաց շերտավարագույր | E34: ԷԱՃ | F34: քմ | G34: 6000 | H34: 180 | I34: =G34*H34/1000 -> 1080
A35: 30232480/501 | B35: պոլիմերային ինքնակպչուն ժապավեն, 19մմx36մ գրասենյակային, փոքր | E35: ԳՀ | F35: հատ | I35: -2.85
A36: 30121460/8 | B36: տոներային քարտրիջներ | E36: ԳՀ | F36: հատ | I36: -17.4
A37: 30237411/502 | B37: մկնիկ, համակարգչային, լարով | E37: ԳՀ | F37: հատ | I37: -30.75
A38: 30197230/502 | B38: թղթապանակ | E38: ԳՀ | F38: հատ | I38: -0.2
A39: 30192100/501 | B39: ռետին հասարակ | E39: ԳՀ | F39: հատ | I39: -2.25
A40: 30197111/501 | B40: կարիչի մետաղալարե կապեր, փոքր | E40: ԳՀ | F40: տուփ | I40: -2.1
A41: 30121460/511 | B41: տոներային քարտրիջներ | E41: ԳՀ | F41: հատ | I41: -18
A42: 30193110/502 | B42: գրենական պիտույքների դասավորման համարանքներ ― պարագաներ | E42: ԳՀ | F42: հատ | I42: -4.35
...
