Workbook
Name _tab10: #REF!
Name _tab10: #REF!
Name _tab11: #REF!
Name _tab11: #REF!
Name _tab12: #REF!
Name _tab12: #REF!
Name _tab13: #REF!
Name _tab13: #REF!
Name _tab14: #REF!
Name _tab14: #REF!
Name _tab15: #REF!
Name _tab15: #REF!
Name _tab16: #REF!
Name _tab16: #REF!
Name _tab17: #REF!
Name _tab17: #REF!
Name _tab18: #REF!
Name _tab18: #REF!
Name _tab19: #REF!
Name _tab19: #REF!
Name _tab20: #REF!
Name _tab20: #REF!
Name _tab21: #REF!
Name _tab21: #REF!
Name _tab22: #REF!
Name _tab22: #REF!
Name _tab23: #REF!
Name _tab23: #REF!
Name _tab24: #REF!
Name _tab24: #REF!
Name _tab5: #REF!
Name _tab5: #REF!
Name _tab6: #REF!
Name _tab6: #REF!
Name _tab7: #REF!
Name _tab7: #REF!
Name _tab8: #REF!
Name _tab8: #REF!
Name _tab9: #REF!
Name _tab9: #REF!
Name AgencyCode: #REF!
Name AgencyName: #REF!
Name åû: #REF!
Name davit: #REF!
Name Functional1: #REF!
Name ggg: #REF!
Name mas: #REF!
Name mass: #REF!
Name PANature: #REF!
Name par_count: #REF!,#REF!,#REF!,#REF!,#REF!,#REF!,#REF!,#REF!,#REF!,#REF!,#REF!,#REF!,#REF!,#REF!,#REF!
Name par_count: #REF!,#REF!,#REF!,#REF!,#REF!,#REF!,#REF!,#REF!,#REF!,#REF!,#REF!,#REF!,#REF!,#REF!,#REF!
Name par_qual: #REF!,#REF!,#REF!,#REF!,#REF!
Name par_qual: #REF!,#REF!,#REF!,#REF!,#REF!
Name par_time: #REF!,#REF!,#REF!,#REF!
Name par_time: #REF!,#REF!,#REF!,#REF!
Name par2.12s: #REF!
Name par2.12s: #REF!
Name par2.4s: #REF!,#REF!,#REF!,#REF!,#REF!,#REF!,#REF!,#REF!,#REF!,#REF!,#REF!,#REF!,#REF!,#REF!,#REF!,#REF!
Name par2.4s: #REF!,#REF!,#REF!,#REF!,#REF!,#REF!,#REF!,#REF!,#REF!,#REF!,#REF!,#REF!,#REF!,#REF!,#REF!,#REF!
Name par2.5s: #REF!,#REF!

Sheet 1
B1: Հավելված N 1
B2: ՀՀ կառավարության 2021 թվականի
B3: ______________ ի ___Ն որոշման
A4: «ՀԱՅԱՍՏԱՆԻ ՀԱՆՐԱՊԵՏՈՒԹՅԱՆ 2021 ԹՎԱԿԱՆԻ ՊԵՏԱԿԱՆ ԲՅՈՒՋԵԻ ՄԱՍԻՆ» ՀԱՅԱՍՏԱՆԻ ՀԱՆՐԱՊԵՏՈՒԹՅԱՆ ՕՐԵՆՔԻ 2-ՐԴ ՀՈԴՎԱԾԻ ԱՂՅՈՒՍԱԿՈՒՄ ԿԱՏԱՐՎՈՂ ՓՈՓՈԽՈՒԹՅՈՒՆԸ
B6: հազար դրամ
B7: Ցուցանիշների փոփոխությունը (ավելացումները նշված են դրական նշանով)
A8: Եկամուտների գծով | B8: =B9 -> 3377168.2
A9: Ծախսերի գծով | B9: ='3'!D9 -> 3377168.2
A10: Դեֆիցիտը (պակասուրդը) | B10: 0

Sheet 2
B1: Հավելված N 2
B2: ՀՀ կառավարության 2021 թվականի
B3: ______________ ի ___Ն որոշման
A4: «ՀԱՅԱՍՏԱՆԻ ՀԱՆՐԱՊԵՏՈՒԹՅԱՆ 2021 ԹՎԱԿԱՆԻ ՊԵՏԱԿԱՆ ԲՅՈՒՋԵԻ ՄԱՍԻՆ» ՀԱՅԱՍՏԱՆԻ ՀԱՆՐԱՊԵՏՈՒԹՅԱՆ ՕՐԵՆՔԻ 6-ՐԴ ՀՈԴՎԱԾԻ ԱՂՅՈՒՍԱԿՈՒՄ ԵՎ ՀԱՅԱՍՏԱՆԻ ՀԱՆՐԱՊԵՏՈՒԹՅԱՆ ԿԱՌԱՎԱՐՈՒԹՅԱՆ 2020 ԹՎԱԿԱՆԻ ԴԵԿՏԵՄԲԵՐԻ 30-Ի N 2215-Ն ՈՐՈՇՄԱՆ N 2 ՀԱՎԵԼՎԱԾՈՒՄ ԿԱՏԱՐՎՈՂ ՓՈՓՈԽՈՒԹՅՈՒՆԸ
B7: հազար դրամ
A8: Պետական բյուջեի եկամուտները | B8: Ցուցանիշների փոփոխությունը (ավելացումները նշված են դրական նշանով)
B9: տարի
A10: Ընդամենը | B10: =B12 -> 3377168.2
A11: այդ թվում՝
A12: Հարկային եկամուտներ և պետական տուրքեր | B12: ='1'!B9 -> 3377168.2

Sheet 3
D1: Հավելված N 3
D2: ՀՀ կառավարության 2021 թվականի
D3: ______________ ի ___Ն որոշման
A5: ՀԱՅԱՍՏԱՆԻ ՀԱՆՐԱՊԵՏՈՒԹՅԱՆ 2021 ԹՎԱԿԱՆԻ ՊԵՏԱԿԱՆ ԲՅՈՒՋԵԻ ՄԱՍԻՆ» ՕՐԵՆՔԻ N 1 ՀԱՎԵԼՎԱԾԻ N 2 ԱՂՅՈՒՍԱԿՈՒՄ ԿԱՏԱՐՎՈՂ ՎԵՐԱԲԱՇԽՈՒՄԸ ԵՎ ՀԱՅԱՍՏԱՆԻ ՀԱՆՐԱՊԵՏՈՒԹՅԱՆ ԿԱՌԱՎԱՐՈՒԹՅԱՆ 2020 ԹՎԱԿԱՆԻ ԴԵԿՏԵՄԲԵՐԻ 30-Ի N 2215-Ն ՈՐՈՇՄԱՆ N 5 ՀԱՎԵԼՎԱԾԻ N 1 ԱՂՅՈՒՍԱԿՈՒՄ ԿԱՏԱՐՎՈՂ ՓՈՓՈԽՈՒԹՅՈՒՆՆԵՐԸ
D6: հազար դրամ
A7: Ծրագրային դասիչը | C7: Բյուջետային հատկացումների գլխավոր կարգադրիչների, ծրագրերի և միջոցառումների անվանումները | D7: Ցուցանիշների փոփոխությունները ավելացումները նշված են դրական նշանով, իսկ նվազեցումները՝ փակագծերում
A8: Ծրագիր | B8: Միջոցառում | D8: Տարի
C9: ԸՆԴԱՄԵՆԸ | D9: =D10 -> 3377168.2
C10: ՀՀ աշխատանքի և սոցիալական հարցերի նախարարություն | D10: =D11+D24+D49+D62+D75+D88+D101 -> 3377168.2
A11: 1005 | C11: Ծրագրի անվանումը` | D11: =D18 -> 50000
C12: Պարգևավճարներ և պատվովճարներ
C13: Ծրագրի նպատակը`
C14: Պետական հոգածության դրսևորում, առանձին կատեգորիայի քաղաքացիներին և նրանց ընտանիքներին սոցիալական երաշխիքների տրամադրում
C15: Վերջնական արդյունքի նկարագրությունը`
C16: Առանձին կատեգորիայի քաղաքացիներին և նրանց ընտանիքի անդամների սոցիալական պաշտպանվածության մակարդակի բարձրացում
A17: Ծրագրի միջոցառումներ
B18: 12001 | C18: Միջոցառման անվանումը` | D18: 50000
C19: Զինծառայողներին, ՀՄՊ մասնակիցներին, այլ պետություններում մարտական գործողությունների մասնակիցներին, զոհված (մահացած) զինծառայողի ընտանիքի անդամներին, ընտանիքներին տրվող պարգևավճարներ
C20: Միջոցառման նկարագրությունը`
C21: Զինծառայողներին, ՀՄՊ մասնակիցներին, այլ պետություններում մարտական գործողությունների մասնակիցներին, զոհված (մահացած) զինծառայողի ընտանիքի անդամներին, ընտանիքներին, պարգևավճարների տրամադրում
C22: Միջոցառման տեսակը
C23: Տրանսֆերտների տրամադրում
A24: 1068 | C24: Ծրագրի անվանումը` | D24: =D31+D37+D43 -> 2034954
C25: Ժողովրդագրական վիճակի բարելավում
C26: Ծրագրի նպատակը`
C27: Խթանել ժողովրդագրական վիճակի բարելավումը
C28: Վերջնական արդյունքի նկարագրությունը`
C29: Ժողովրդագրական վիճակի բարելավում և բազմազավակության աճ
A30: Ծրագրի միջոցառումներ
B31: 12001 | C31: Միջոցառման անվանումը` | D31: 934954
C32: Մինչև 2 տարեկան երեխայի խնամքի նպաստի տրամադրում
C33: Միջոցառման նկարագրությունը`
C34: Մինչև 2 տարեկան երեխայի խնամքի նպաստի տրամադրում
C35: Միջոցառման տեսակը
C36: Տրանսֆերտների տրամադրում
B37: 12002 | C37: Միջոցառման անվանումը` | D37: 1050000
C38: Երեխայի ծննդյան միանվագ նպաստ
C39: Միջոցառման նկարագրությունը`
C40: Երեխայի ծննդյան կապակցությամբ միանվագ նպաստի տրամադրում
C41: Միջոցառման տեսակը
...

Sheet 4
D1: Հավելված N 4
C2: ՀՀ կառավարության 2021 թվականի
C3: ______________ ի ___Ն որոշման
A5: ՀԱՅԱՍՏԱՆԻ ՀԱՆՐԱՊԵՏՈՒԹՅԱՆ ԿԱՌԱՎԱՐՈՒԹՅԱՆ 2020 ԹՎԱԿԱՆԻ ԴԵԿՏԵՄԲԵՐԻ 30-Ի N 2215-Ն ՈՐՈՇՄԱՆ N 6 ՀԱՎԵԼՎԱԾՈՒՄ ԿԱՏԱՐՎՈՂ ՓՈՓՈԽՈՒԹՅՈՒՆԸ
D6: հազար դրամ
B7: Եկամտատեսակը | C7: Գանձման համար պատասխանատու պետական կառավարման մարմինը (մարմինները) | D7: Ցուցանիշների փոփոխությունը (ավելացումները նշված են դրական նշանով)
D8: Տարի
A9: Պետական տուրք, ընդամենը | D9: =D11 -> 3377168.2
B10: այդ թվում`
A11: 9 | B11: Լիցենզավորման ենթակա գործունեություն իրականացնելու նպատակով լիցենզիաներ, արտոնագրեր (թույլտվություններ) տալու համար | D11: =D13 -> 3377168.2
B12: այդ թվում`
A13: 9.2 | B13: Պղնձի խտահանք և մոլիբդենի խտահանք արտահանելու յուրաքանչյուր մեկ տոննայի համար լիցենզիաներ կամ թույլտվություններ կամ հավաստագրեր տրամադրելու համար | C13: ՀՀ էկոնոմիկայի նախարարություն | D13: ='1'!B9 -> 3377168.2

Sheet 5
G1: Հավելված N 5
F2: ՀՀ կառավարության 2021 թվականի
F3: -----------------ի N -----------Ն որոշման
A5: ՀԱՅԱՍՏԱՆԻ ՀԱՆՐԱՊԵՏՈՒԹՅԱՆ ԿԱՌԱՎԱՐՈՒԹՅԱՆ 2020 ԹՎԱԿԱՆԻ ԴԵԿՏԵՄԲԵՐԻ 30-Ի N 2215-Ն ՈՐՈՇՄԱՆ N 3 և N 4 ՀԱՎԵԼՎԱԾՆԵՐՈՒՄ ԿԱՏԱՐՎՈՂ ՓՈՓՈԽՈՒԹՅՈՒՆՆԵՐԸ
G6: հազար դրամ
A7: Գործառական դասիչը | D7: Ծրագրային դասիչը | F7: Բյուջետային ծախսերի գործառական դասակարգման բաժինների, խմբերի և դասերի, բյուջետային ծրագրերի միջոցառումների, բյուջետային հատկացումների գլխավոր կարգադրիչների անվանումները | G7: Ցուցանիշների փոփոխությունները ավելացումները նշված են դրական նշանով, իսկ նվազեցումները՝ փակագծերում
A8: Բաժինը | B8: Խումբը | C8: Դասը | D8: Ծրագիր | E8: Միջոցառում | G8: Տարի
F9: ԸՆԴԱՄԵՆԸ ԾԱԽՍԵՐ | G9: =G11 -> 3377168.2
F10: այդ թվում`
F11: ՀՀ աշխատանքի և սոցիալական հարցերի նախարարություն | G11: =G12+G29 -> 3377168.2
A12: 06 | F12: ԲՆԱԿԱՐԱՆԱՅԻՆ ՇԻՆԱՐԱՐՈՒԹՅՈՒՆ ԵՎ ԿՈՄՈՒՆԱԼ ԾԱՌԱՅՈՒԹՅՈՒՆՆԵՐ | G12: =G14 -> -404125.8
F13: այդ թվում`
B14: 01 | F14: Բնակարանային շինարարություն | G14: =G16 -> -404125.8
F15: այդ թվում`
C16: 01 | F16: Բնակարանային շինարարություն | G16: =G18 -> -404125.8
F17: այդ թվում`
D18: ='3'!A75 -> 1098 | F18: ='3'!C76 -> Բնակարանային ապահովում | G18: =G20 -> -404125.8
F19: այդ թվում`
E20: ='3'!B82 -> 21001 | F20: Բնակարանային շինարարություն | G20: =G22 -> -404125.8
F21: այդ թվում` ըստ կատարողների
F22: ՀՀ քաղաքաշինության կոմիտե | G22: =G24 -> -404125.8
F23: այդ թվում` բյուջետային ծախսերի տնտեսագիտական դասակարգման հոդվածներ
F24: ԸՆԴԱՄԵՆԸ ԾԱԽՍԵՐ | G24: =G25 -> -404125.8
F25: ՈՉ ՖԻՆԱՆՍԱԿԱՆ ԱԿՏԻՎՆԵՐԻ ԳԾՈՎ ԾԱԽՍԵՐ | G25: =G26 -> -404125.8
F26: ՀԻՄՆԱԿԱՆ ՄԻՋՈՑՆԵՐ | G26: =G27 -> -404125.8
F27: ՇԵՆՔԵՐ ԵՎ ՇԻՆՈՒԹՅՈՒՆՆԵՐ | G27: =G28 -> -404125.8
F28: - Շենքերի և շինությունների շինարարություն | G28: ='3'!D82 -> -404125.8
A29: 10 | F29: ՍՈՑԻԱԼԱԿԱՆ ՊԱՇՏՊԱՆՈՒԹՅՈՒՆ | G29: =G31+G46+G61+G116 -> 3781294
F30: այդ թվում`
B31: 07 | F31: Սոցիալական հատուկ արտոնություններ (այլ դասերին չպատկանող) | G31: =G33 -> 50000
F32: այդ թվում`
C33: 01 | F33: Սոցիալական հատուկ արտոնություններ (այլ դասերին չպատկանող) | G33: =G35 -> 50000
F34: այդ թվում`
D35: 1005 | F35: ='3'!C12 -> Պարգևավճարներ և պատվովճարներ | G35: =G37 -> 50000
F36: այդ թվում`
E37: 12001 | F37: Զինծառայողներին, ՀՄՊ մասնակիցներին, այլ պետություններում մարտական գործողությունների մասնակիցներին, զոհված (մահացած) զինծառայողի ընտանիքի անդամներին, ընտանիքներին տրվող պարգևավճարներ | G37: =G39 -> 50000
F38: այդ թվում` ըստ կատարողների
F39: ՀՀ աշխատանքի և սոցիալական հարցերի նախարարության միասնական սոցիալական ծառայություն | G39: =G41 -> 50000
F40: այդ թվում` բյուջետային ծախսերի տնտեսագիտական դասակարգման հոդվածներ
F41: ԸՆԴԱՄԵՆԸ ԾԱԽՍԵՐ | G41: =G42 -> 50000
...

Sheet 6
D1: Հավելված N 6
C2: ՀՀ կառավարության 2021 թվականի
C3: -----------------ի N -----------Ն որոշման
A5: ՀԱՅԱՍՏԱՆԻ ՀԱՆՐԱՊԵՏՈՒԹՅԱՆ ԿԱՌԱՎԱՐՈՒԹՅԱՆ 2020 ԹՎԱԿԱՆԻ ԴԵԿՏԵՄԲԵՐԻ 30-Ի N 2215-Ն ՈՐՈՇՄԱՆ N 5 ՀԱՎԵԼՎԱԾԻ N 2 ԱՂՅՈՒՍԱԿՈՒՄ ԿԱՏԱՐՎՈՂ ՓՈՓՈԽՈՒԹՅՈՒՆՆԵՐԸ
A7: Ծրագրային դասիչ | C7: Բյուջետային գլխավոր կարգադրիչների, ծրագրերի, միջոցառումների և ուղղությունների անվանումները | D7: Ցուցանիշների փոփոխությունները նվազեցումները նշված են փակագծերում
A8: Ծրագիր | B8: Միջոցառում | D8: Տարի
C9: ԸՆԴԱՄԵՆԸ | D9: =D10 -> -404125.8
C10: ՀՀ աշխատանքի և սոցիալական հարցերի նախարարություն | D10: =D12 -> -404125.8
C11: այդ թվում՝
A12: 1098 | B12: 21001 | C12: Բնակարանային շինարարություն | D12: =D14 -> -404125.8
C13: այդ թվում` ըստ կատարողների
C14: ՀՀ քաղաքաշինության կոմիտե | D14: =D16+D17 -> -404125.8
C15: այդ թվում` ըստ ուղղությունների
C16: Ապարանի Բաղրամյան 43 հասցեում գտնվող վթարային շենքի փոխարեն նոր բնակելի շենքի կառուցում | D16: =-161954.6 -> -161954.6
C17: Սպիտակ քաղաքում նոր բնակելի շենքի կառուցման աշխատանքներ | D17: =-242171.2 -> -242171.2

Sheet 7
C1: Հավելված N 7
C2: ՀՀ կառավարության 2021 թվականի
C3: -----------------ի N -----------Ն որոշման
A4: ՀԱՅԱՍՏԱՆԻ ՀԱՆՐԱՊԵՏՈՒԹՅԱՆ ԿԱՌԱՎԱՐՈՒԹՅԱՆ 2020 ԹՎԱԿԱՆԻ ԴԵԿՏԵՄԲԵՐԻ 30-Ի N 2215-Ն ՈՐՈՇՄԱՆ N 9 ՀԱՎԵԼՎԱԾԻ N 9.1.20 ԱՂՅՈՒՍԱԿՈՒՄ ԿԱՏԱՐՎՈՂ ՓՈՓՈԽՈՒԹՅՈՒՆՆԵՐԸ
A5: ՀԱՅԱՍՏԱՆԻ ՀԱՆՐԱՊԵՏՈՒԹՅԱՆ ԿԱՌԱՎԱՐՈՒԹՅԱՆ 2020 ԹՎԱԿԱՆԻ ԴԵԿՏԵՄԲԵՐԻ 30-Ի N 2215-Ն ՈՐՈՇՄԱՆ N 9 ՀԱՎԵԼՎԱԾԻ N 9.16 ԱՂՅՈՒՍԱԿՆԵՐՈՒՄ ԿԱՏԱՐՎՈՂ ՓՈՓՈԽՈՒԹՅՈՒՆՆԵՐԸ
A6: Հայաստանի Հանրապետության աշխատանքի և սոցիալական հարցերի նախարարություն
A7: ՄԱՍ 2. ՊԵՏԱԿԱՆ ՄԱՐՄՆԻ ԳԾՈՎ ԱՐԴՅՈՒՆՔԱՅԻՆ (ԿԱՏԱՐՈՂԱԿԱՆ) ՑՈՒՑԱՆԻՇՆԵՐԸ
A10: Ծրագրի դասիչը` | B10: Ծրագրի անվանումը`
A11: 1005 | B11: Պարգևավճարներ և պատվովճարներ
A12: Ծրագրի միջոցառումները
A14: Ծրագրի դասիչը` | B14: 1005 | C14: Ցուցանիշների փոփոխությունները ավելացումները նշված են դրական նշանով
A15: Միջոցառման դասիչը` | B15: 12001 | C15: Տարի
A16: Միջոցառման անվանումը` | B16: Զինծառայողներին, ՀՄՊ մասնակիցներին, այլ պետություններում մարտական գործողությունների մասնակիցներին, զոհված (մահացած) զինծառայողի ընտանիքի անդամներին, ընտանիքներին տրվող պարգևավճարներ
A17: Նկարագրությունը` | B17: Զինծառայողներին, ՀՄՊ մասնակիցներին, այլ պետություններում մարտական գործողությունների մասնակիցներին, զոհված (մահացած) զինծառայողի ընտանիքի անդամներին, ընտանիքներին, պարգևավճարների տրամադրում
A18: Միջոցառման տեսակը` | B18: Տրանսֆերտների տրամադրում
A19: Շահառուների ընտրության չափանիշները | B19: ՀՄՊ մասնակիցներ, ՀՄՊ և այլ պետություններում մարտական գործողությունների ընթացքում զոհված զինծառայողների ընտանիքներ
A20: Արդյունքի չափորոշիչներ
A21: Պարգևավճարներ ստացողների թիվ, ընտանիք | C21: 1828
A22: Պարգևավճարների վճարման ամսական հաճախականություն, անգամ | C22: 1
A23: Միջոցառման վրա կատարվող ծախսը (հազար դրամ) | C23: ='3'!D18 -> 50000
A25: Ծրագրի դասիչը` | B25: Ծրագրի անվանումը`
A26: 1068 | B26: Ժողովրդագրական վիճակի բարելավում
A27: Ծրագրի միջոցառումները
A29: Ծրագրի դասիչը` | B29: 1068 | C29: Ցուցանիշների փոփոխությունները ավելացումները նշված են դրական նշանով
A30: Միջոցառման դասիչը` | B30: 12001 | C30: Տարի
A31: Միջոցառման անվանումը` | B31: Մինչև 2 տարեկան երեխայի խնամքի նպաստի տրամադրում
A32: Նկարագրությունը` | B32: Մինչև 2 տարեկան երեխայի խնամքի նպաստի տրամադրում
A33: Միջոցառման տեսակը` | B33: Տրանսֆերտների տրամադրում
A34: Շահառուների ընտրության չափանիշները | B34: Մինչև երեք տարեկան երեխայի խնամքի արձակուրդում գտնվող անձը` մինչև երեխայի 2 տարեկանը լրանալը,գյուղական բնակավայրում բնակվող ծնող? անկախ խնամքի արձակուրդում գտնվելու հանգամանքից? մինչև երեխայի 2 տարեկանը լրանալը
A35: Արդյունքի չափորոշիչներ
A36: Մինչև 2 տարեկան երեխայի խնամքի նպաստ ստացող քաղաքացիների թիվ, մարդ, որից | C36: 2940
A37: գյուղական բնակավայրերում մինչև 2 տարեկան երեխայի խնամքի նպաստ ստացող քաղաքացիների թիվ, մարդ | C37: 0
A38: Միջոցառման վրա կատարվող ծախսը (հազար դրամ) | C38: ='3'!D31 -> 934954
A40: Ծրագրի դասիչը` | B40: 1068 | C40: Ցուցանիշների փոփոխությունները ավելացումները նշված են դրական նշանով
A41: Միջոցառման դասիչը` | B41: 12002 | C41: Տարի
A42: Միջոցառման անվանումը` | B42: Երեխայի ծննդյան միանվագ նպաստ
A43: Նկարագրությունը` | B43: Երեխայի ծննդյան կապակցությամբ միանվագ նպաստի տրամադրում
A44: Միջոցառման տեսակը` | B44: Տրանսֆերտների տրամադրում
A45: Շահառուների ընտրության չափանիշները | B45: ՀՀ-ում հաշվառված նոր ծնված երեխայի ծնող (օրինական ներկայացուցիչ)
A46: Արդյունքի չափորոշիչներ
...

Sheet 8
C1: Հավելված N 8
C2: ՀՀ կառավարության 2021 թվականի
C3: -----------------ի N -----------Ն որոշման
A4: ՀԱՅԱՍՏԱՆԻ ՀԱՆՐԱՊԵՏՈՒԹՅԱՆ ԿԱՌԱՎԱՐՈՒԹՅԱՆ 2020 ԹՎԱԿԱՆԻ ԴԵԿՏԵՄԲԵՐԻ 30-Ի N 2215-Ն ՈՐՈՇՄԱՆ N 9 ՀԱՎԵԼՎԱԾԻ N 9.1.20 ԱՂՅՈՒՍԱԿՈՒՄ ԿԱՏԱՐՎՈՂ ՓՈՓՈԽՈՒԹՅՈՒՆՆԵՐԸ
A5: ՀԱՅԱՍՏԱՆԻ ՀԱՆՐԱՊԵՏՈՒԹՅԱՆ ԿԱՌԱՎԱՐՈՒԹՅԱՆ 2020 ԹՎԱԿԱՆԻ ԴԵԿՏԵՄԲԵՐԻ 30-Ի N 2215-Ն ՈՐՈՇՄԱՆ N 9.1 ՀԱՎԵԼՎԱԾԻ N 9.1.16, N 9.1.20 և 9.1.42 ԱՂՅՈՒՍԱԿՈՒՄ ԿԱՏԱՐՎՈՂ ՓՈՓՈԽՈՒԹՅՈՒՆՆԵՐԸ
A6: ՄԱՍ 1. ՊԵՏԱԿԱՆ ՄԱՐՄՆԻ ԳԾՈՎ ԱՐԴՅՈՒՆՔԱՅԻՆ (ԿԱՏԱՐՈՂԱԿԱՆ) ՑՈՒՑԱՆԻՇՆԵՐԸ
A8: Հայաստանի Հանրապետության աշխատանքի և սոցիալական հարցերի նախարարություն | C8: Աղյուսակ 9.1.16
A10: Ծրագրի դասիչը` | B10: Ծրագրի անվանումը`
A11: 1015 | B11: Սոցիալական փաթեթների ապահովում
A12: Ծրագրի միջոցառումները
A14: Ծրագրի դասիչը` | B14: 1015 | C14: Ցուցանիշների փոփոխությունները նվազեցումները նշված են փակագծերում
A15: Միջոցառման դասիչը` | B15: 12001 | C15: Տարի
A16: Միջոցառման անվանումը` | B16: Պետական հիմնարկների և կազմակերպությունների աշխատողների սոցիալական փաթեթով ապահովում
A17: Նկարագրությունը` | B17: Պետական հիմնարկների և կազմակերպությունների աշխատողների հիպոթեքային վարկի ամսական վճարի, ուսման վճարի և հանգստի ապահովման գծով ծախսերի փոխհատուցում
A18: Միջոցառման տեսակը` | B18: Տրանսֆերտների տրամադրում
A19: Շահառուների ընտրության չափանիշները | B19: Կառավարության 2012թ. դեկտեմբերի 27-ի N 1691-Ն որոշմամբ սահմանված պետական ոլորտի աշխատողներ
A20: Արդյունքի չափորոշիչներ
A21: Պետական հիմնարկների և կազմակերպությունների աշխատակիցների քանակ, մարդ | C21: ='7'!C76 -> -4167
A22: Միջոցառման վրա կատարվող ծախսը (հազար դրամ) | C22: ='3'!D56 -> -280000
A24: Ծրագրի դասիչը` | B24: Ծրագրի անվանումը`
A25: 1068 | B25: Ժողովրդագրական վիճակի բարելավում
A26: Ծրագրի միջոցառումները
A28: Ծրագրի դասիչը` | B28: 1068 | C28: Ցուցանիշների փոփոխությունները ավելացումները նշված են դրական նշանով
A29: Միջոցառման դասիչը` | B29: 12003 | C29: Տարի
A30: Միջոցառման անվանումը` | B30: Երեխա ունեցող ընտանիքների բնակարանային ապահովման աջակցություն
A31: Նկարագրությունը` | B31: Երեխա ունեցող ընտանիքների բնակարանային ապահովման աջակցության տրամադրում
A32: Միջոցառման տեսակը` | B32: Տրանսֆերտների տրամադրում
A33: Շահառուների ընտրության չափանիշները | B33: Երեխա ունեցող ընտանիքներ, ովքեր ցանկանում են ձեռք բերել բնակարան, կանխավճարի ապահովագրության ձեռք բերում երիտասարդ ընտանիքների համար, երեխայի ծննդով պայմանավորված հիփոթեքային վարկ մարող ընտանիքներ
A34: Արդյունքի չափորոշիչներ
A35: Շահառուների թվաքանակ (մարզային բնակավայրերում բնակարան ձեռք բերելու համար միանվագ դրամական աջակցության բաղադրիչ) | C35: =+'7'!C60 -> 36
A36: Շահառուների թվաքանակ (Երիտասարդ ընտանիքների համար կանխավճարի ապահովագրության բաղադրիչ) | C36: =+'7'!C61 -> 51
A37: Շահառուների թվաքանակ (երեխայի ծննդով պայմանավորված` հիփոթեքային վարկ մարող ընտանիքներին դրամական աջակցության բաղադրիչ) | C37: =+'7'!C62 -> 111
A38: Միջոցառման վրա կատարվող ծախսը (հազար դրամ) | C38: ='3'!D43 -> 50000
A40: Հայաստանի Հանրապետության աշխատանքի և սոցիալական հարցերի նախարարության միասնական սոցիալական ծառայություն | C40: Աղյուսակ 9.1.20
A43: Ծրագրի դասիչը` | B43: Ծրագրի անվանումը`
A44: 1005 | B44: Պարգևավճարներ և պատվովճարներ
A45: Ծրագրի միջոցառումները
A47: Ծրագրի դասիչը` | B47: 1005 | C47: Ցուցանիշների փոփոխությունները ավելացումները նշված են դրական նշանով
A48: Միջոցառման դասիչը` | B48: 12001 | C48: Տարի
A49: Միջոցառման անվանումը` | B49: Զինծառայողներին, ՀՄՊ մասնակիցներին, այլ պետություններում մարտական գործողությունների մասնակիցներին, զոհված (մահացած) զինծառայողի ընտանիքի անդամներին, ընտանիքներին տրվող պարգևավճարներ
...

Sheet 9
H1: Հավելված N 9
G2: ՀՀ կառավարության 2021 թվականի
G3: -----------------ի N -----------Ն որոշման
A5: «ՀԱՅԱՍՏԱՆԻ ՀԱՆՐԱՊԵՏՈՒԹՅԱՆ 2021 ԹՎԱԿԱՆԻ ՊԵՏԱԿԱՆ ԲՅՈՒՋԵԻ ՄԱՍԻՆ» ՀԱՅԱՍՏԱՆԻ ՀԱՆՐԱՊԵՏՈՒԹՅԱՆ ՕՐԵՆՔԻ N 1 ՀԱՎԵԼՎԱԾԻ N 3 ԱՂՅՈՒՍԱԿՈՒՄ ԿԱՏԱՐՎՈՂ ՓՈՓՈԽՈՒԹՅՈՒՆՆԵՐԸ
A7: Ծրագրային դասիչ | C7: Բյուջետային գլխավոր կարգադրիչների, ծրագրերի, միջոցառումների և ուղղությունների անվանումները | D7: Ընդամենը | E7: այդ թվում
B8: Միջոցառում | E8: Կառուցման աշխատանքներ | F8: Վերակառուցման, վերանորոգման և վերականգնման աշխատանքներ | G8: Նախագծահե- տազոտական, գեոդեզիա- քարտեզագրա- կան աշխա- տանքներ | H8: Ոչ ֆինանսական այլ ակտիվների ձեռքբերում
C9: ՀՀ ԱՇԽԱՏԱՆՔԻ ԵՎ ՍՈՑԻԱԼԱԿԱՆ ՀԱՐՑԵՐԻ ՆԱԽԱՐԱՐՈՒԹՅՈՒՆ | D9: =SUM(E9:H9) -> -404125.8 | E9: =SUM(E11) -> -404125.8 | F9: =SUM(F11) -> 0 | G9: =SUM(G11) -> 0 | H9: =SUM(H11) -> 0
C10: այդ թվում`
A11: 1098 | B11: 21001 | C11: Բնակարանային շինարարություն | D11: =SUM(E11:H11) -> -404125.8 | E11: ='3'!D82 -> -404125.8 | F11: 0 | G11: 0 | H11: 0

Sheet 10
I1: Հավելված N 10
H2: ՀՀ կառավարության 2021 թվականի
H3: ------------ N ---------- որոշման
A4: ՀԱՅԱՍՏԱՆԻ ՀԱՆՐԱՊԵՏՈՒԹՅԱՆ ԿԱՌԱՎԱՐՈՒԹՅԱՆ 2020 ԹՎԱԿԱՆԻ ԴԵԿՏԵՄԲԵՐԻ 30-Ի ԹԻՎ 2215-Ն ՈՐՈՇՄԱՆ N 10 ՀԱՎԵԼՎԱԾՈՒՄ ԿԱՏԱՐՎՈՂ ԼՐԱՑՈՒՄՆԵՐԸ
A6: Կոդը | B6: Անվանումը | E6: Գնման ձևը | F6: Չափման միավորը | G6: Միավորի գինը | H6: Ցուցանիշների փոփոխությունները նվազեցումները նշված են փակագծերում
H7: Քանակը | I7: Գումարը (հազար դրամով)
A8: ՀՀ քաղաքաշինության կոմիտե | I8: =I9 -> -404125.8
A9: Բաժին N '06 | B9: Խումբ N 01 | C9: Դաս N 01 | D9: ='5'!F18 -> Բնակարանային ապահովում | I9: =I10 -> -404125.8
A10: 1098 21001 | B10: ='5'!F20 -> Բնակարանային շինարարություն | I10: =I11+I14 -> -404125.8
B11: ՄԱՍ II. ԱՇԽԱՏԱՆՔՆԵՐ | I11: =I12+I13 -> -390000
A12: 45221142/1 | B12: ընդհանուր շինարարական աշխատանքներ | E12: ԲՄ | F12: դրամ | I12: -160000
A13: 45221142/4 | B13: շինարարական աշխատանքներ | E13: ՀԲՄ | F13: դրամ | I13: -230000
B14: ՄԱՍ III. ԾԱՌԱՅՈՒԹՅՈՒՆՆԵՐ | I14: =I15+I16+I17 -> -14125.8
A15: 71351540/1 | B15: տեխնիկական հսկողության ծառայություն | E15: ԳՀ | F15: դրամ | I15: -1954.6
A16: 71351540/2 | B16: տեխնիկական հսկողության ծառայություն | E16: ԳՀ | F16: դրամ | I16: -10388.4
A17: 98111140/2 | B17: հեղինակային հսկողության ծառայություն | E17: ՄԱ | F17: դրամ | I17: -1782.8
