Workbook
Name _tab10: #REF!
Name _tab10: #REF!
Name _tab11: #REF!
Name _tab11: #REF!
Name _tab12: #REF!
Name _tab12: #REF!
Name _tab13: #REF!
Name _tab13: #REF!
Name _tab14: #REF!
Name _tab14: #REF!
Name _tab15: #REF!
Name _tab15: #REF!
Name _tab16: #REF!
Name _tab16: #REF!
Name _tab17: #REF!
Name _tab17: #REF!
Name _tab18: #REF!
Name _tab18: #REF!
Name _tab19: #REF!
Name _tab19: #REF!
Name _tab20: #REF!
Name _tab20: #REF!
Name _tab21: #REF!
Name _tab21: #REF!
Name _tab22: #REF!
Name _tab22: #REF!
Name _tab23: #REF!
Name _tab23: #REF!
Name _tab24: #REF!
Name _tab24: #REF!
Name _tab5: #REF!
Name _tab5: #REF!
Name _tab6: #REF!
Name _tab6: #REF!
Name _tab7: #REF!
Name _tab7: #REF!
Name _tab8: #REF!
Name _tab8: #REF!
Name _tab9: #REF!
Name _tab9: #REF!
Name AgencyCode: #REF!
Name AgencyName: #REF!
Name åû: #REF!
Name davit: #REF!
Name Functional1: #REF!
Name ggg: #REF!
Name mas: #REF!
Name mass: #REF!
Name PANature: #REF!
Name par_count: #REF!,#REF!,#REF!,#REF!,#REF!,#REF!,#REF!,#REF!,#REF!,#REF!,#REF!,#REF!,#REF!,#REF!,#REF!
Name par_count: #REF!,#REF!,#REF!,#REF!,#REF!,#REF!,#REF!,#REF!,#REF!,#REF!,#REF!,#REF!,#REF!,#REF!,#REF!
Name par_qual: #REF!,#REF!,#REF!,#REF!,#REF!
Name par_qual: #REF!,#REF!,#REF!,#REF!,#REF!
Name par_time: #REF!,#REF!,#REF!,#REF!
Name par_time: #REF!,#REF!,#REF!,#REF!
Name par2.12s: #REF!
Name par2.12s: #REF!
Name par2.4s: #REF!,#REF!,#REF!,#REF!,#REF!,#REF!,#REF!,#REF!,#REF!,#REF!,#REF!,#REF!,#REF!,#REF!,#REF!,#REF!
Name par2.4s: #REF!,#REF!,#REF!,#REF!,#REF!,#REF!,#REF!,#REF!,#REF!,#REF!,#REF!,#REF!,#REF!,#REF!,#REF!,#REF!
Name par2.5s: #REF!,#REF!

Sheet 1
B1: Հավելված N 1
B2: ՀՀ կառավարության 2021 թվականի
B3: ______________ ի ___Ն որոշման
A4: «ՀԱՅԱՍՏԱՆԻ ՀԱՆՐԱՊԵՏՈՒԹՅԱՆ 2021 ԹՎԱԿԱՆԻ ՊԵՏԱԿԱՆ ԲՅՈՒՋԵԻ ՄԱՍԻՆ» ՀԱՅԱՍՏԱՆԻ ՀԱՆՐԱՊԵՏՈՒԹՅԱՆ ՕՐԵՆՔԻ 2-ՐԴ ՀՈԴՎԱԾԻ ԱՂՅՈՒՍԱԿՈՒՄ ԿԱՏԱՐՎՈՂ ՓՈՓՈԽՈՒԹՅՈՒՆԸ
B6: հազար դրամ
B7: Ցուցանիշների փոփոխությունը (ավելացումները նշված են դրական նշանով)
A8: Եկամուտների գծով | B8: =B9 -> 3377168.2
A9: Ծախսերի գծով | B9: ='3'!D9 -> 3377168.2
A10: Դեֆիցիտը (պակասուրդը) | B10: 0

Sheet 2
B1: Հավելված N 2
B2: ՀՀ կառավարության 2021 թվականի
B3: ______________ ի ___Ն որոշման
A4: «ՀԱՅԱՍՏԱՆԻ ՀԱՆՐԱՊԵՏՈՒԹՅԱՆ 2021 ԹՎԱԿԱՆԻ ՊԵՏԱԿԱՆ ԲՅՈՒՋԵԻ ՄԱՍԻՆ» ՀԱՅԱՍՏԱՆԻ ՀԱՆՐԱՊԵՏՈՒԹՅԱՆ ՕՐԵՆՔԻ 6-ՐԴ ՀՈԴՎԱԾԻ ԱՂՅՈՒՍԱԿՈՒՄ ԵՎ ՀԱՅԱՍՏԱՆԻ ՀԱՆՐԱՊԵՏՈՒԹՅԱՆ ԿԱՌԱՎԱՐՈՒԹՅԱՆ 2020 ԹՎԱԿԱՆԻ ԴԵԿՏԵՄԲԵՐԻ 30-Ի N 2215-Ն ՈՐՈՇՄԱՆ N 2 ՀԱՎԵԼՎԱԾՈՒՄ ԿԱՏԱՐՎՈՂ ՓՈՓՈԽՈՒԹՅՈՒՆԸ
B7: հազար դրամ
A8: Պետական բյուջեի եկամուտները | B8: Ցուցանիշների փոփոխությունը (ավելացումները նշված են դրական նշանով)
B9: տարի
A10: Ընդամենը | B10: =B12 -> 3377168.2
A11: այդ թվում՝
A12: Հարկային եկամուտներ և պետական տուրքեր | B12: ='1'!B9 -> 3377168.2

Sheet 3
D1: Հավելված N 3
D2: ՀՀ կառավարության 2021 թվականի
D3: ______________ ի ___Ն որոշման
A5: ՀԱՅԱՍՏԱՆԻ ՀԱՆՐԱՊԵՏՈՒԹՅԱՆ 2021 ԹՎԱԿԱՆԻ ՊԵՏԱԿԱՆ ԲՅՈՒՋԵԻ ՄԱՍԻՆ» ՕՐԵՆՔԻ N 1 ՀԱՎԵԼՎԱԾԻ N 2 ԱՂՅՈՒՍԱԿՈՒՄ ԿԱՏԱՐՎՈՂ ՎԵՐԱԲԱՇԽՈՒՄԸ ԵՎ ՀԱՅԱՍՏԱՆԻ ՀԱՆՐԱՊԵՏՈՒԹՅԱՆ ԿԱՌԱՎԱՐՈՒԹՅԱՆ 2020 ԹՎԱԿԱՆԻ ԴԵԿՏԵՄԲԵՐԻ 30-Ի N 2215-Ն ՈՐՈՇՄԱՆ N 5 ՀԱՎԵԼՎԱԾԻ N 1 ԱՂՅՈՒՍԱԿՈՒՄ ԿԱՏԱՐՎՈՂ ՓՈՓՈԽՈՒԹՅՈՒՆՆԵՐԸ
D6: հազար դրամ
A7: Ծրագրային դասիչը | C7: Բյուջետային հատկացումների գլխավոր կարգադրիչների, ծրագրերի և միջոցառումների անվանումները | D7: Ցուցանիշների փոփոխությունները ավելացումները նշված են դրական նշանով, իսկ նվազեցումները՝ փակագծերում
A8: Ծրագիր | B8: Միջոցառում | D8: Տարի
C9: ԸՆԴԱՄԵՆԸ | D9: =D10 -> 3377168.2
C10: ՀՀ աշխատանքի և սոցիալական հարցերի նախարարություն | D10: =D11+D24+D49+D62+D75+D88+D101 -> 3377168.2
A11: 1005 | C11: Ծրագրի անվանումը` | D11: =D18 -> 50000
C12: Պարգևավճարներ և պատվովճարներ
C13: Ծրագրի նպատակը`
C14: Պետական հոգածության դրսևորում, առանձին կատեգորիայի քաղաքացիներին և նրանց ընտանիքներին սոցիալական երաշխիքների տրամադրում
C15: Վերջնական արդյունքի նկարագրությունը`
C16: Առանձին կատեգորիայի քաղաքացիներին և նրանց ընտանիքի անդամների սոցիալական պաշտպանվածության մակարդակի բարձրացում
A17: Ծրագրի միջոցառումներ
B18: 12001 | C18: Միջոցառման անվանումը` | D18: 50000
C19: Զինծառայողներին, ՀՄՊ մասնակիցներին, այլ պետություններում մարտական գործողությունների մասնակիցներին, զոհված (մահացած) զինծառայողի ընտանիքի անդամներին, ընտանիքներին տրվող պարգևավճարներ
C20: Միջոցառման նկարագրությունը`
C21: Զինծառայողներին, ՀՄՊ մասնակիցներին, այլ պետություններում մարտական գործողությունների մասնակիցներին, զոհված (մահացած) զինծառայողի ընտանիքի անդամներին, ընտանիքներին, պարգևավճարների տրամադրում
C22: Միջոցառման տեսակը
C23: Տրանսֆերտների տրամադրում
A24: 1068 | C24: Ծրագրի անվանումը` | D24: =D31+D37+D43 -> 2034954
C25: Ժողովրդագրական վիճակի բարելավում
C26: Ծրագրի նպատակը`
C27: Խթանել ժողովրդագրական վիճակի բարելավումը
C28: Վերջնական արդյունքի նկարագրությունը`
C29: Ժողովրդագրական վիճակի բարելավում և բազմազավակության աճ
A30: Ծրագրի միջոցառումներ
B31: 12001 | C31: Միջոցառման անվանումը` | D31: 934954
C32: Մինչև 2 տարեկան երեխայի խնամքի նպաստի տրամադրում
C33: Միջոցառման նկարագրությունը`
C34: Մինչև 2 տարեկան երեխայի խնամքի նպաստի տրամադրում
C35: Միջոցառման տեսակը
C36: Տրանսֆերտների տրամադրում
B37: 12002 | C37: Միջոցառման անվանումը` | D37: 1050000
C38: Երեխայի ծննդյան միանվագ նպաստ
C39: Միջոցառման նկարագրությունը`
C40: Երեխայի ծննդյան կապակցությամբ միանվագ նպաստի տրամադրում
C41: Միջոցառման տեսակը
C42: Տրանսֆերտների տրամադրում
B43: 12003 | C43: Միջոցառման անվանումը` | D43: 50000
C44: Երեխա ունեցող ընտանիքների բնակարանային ապահովման աջակցություն
C45: Միջոցառման նկարագրությունը`
C46: Երեխա ունեցող ընտանիքների բնակարանային ապահովման աջակցության տրամադրում
C47: Միջոցառման տեսակը
C48: Տրանսֆերտների տրամադրում
A49: 1015 | C49: Ծրագրի անվանումը` | D49: =D56 -> -280000
C50: Սոցիալական փաթեթների ապահովում
C51: Ծրագրի նպատակը`
C52: Պետական հիմնարկների և կազմակերպությունների աշխատողների սոցիալական երաշխիքների ապահովում և աշխատանքային մոտիվացիայի բարձրացում
C53: Վերջնական արդյունքի նկարագրությունը`
C54: Պետական մարմինների աշխատակիցների կյանքի որակի բարելավում
A55: Ծրագրի միջոցառումներ
B56: 12001 | C56: Միջոցառման անվանումը` | D56: -280000
C57: Պետական հիմնարկների և կազմակերպությունների աշխատողների սոցիալական փաթեթով ապահովում
C58: Միջոցառման նկարագրությունը`
C59: Պետական հիմնարկների և կազմակերպությունների աշխատողների հիպոթեքային վարկի ամսական վճարի, ուսման վճարի և հանգստի ապահովման գծով ծախսերի փոխհատուցում
C60: Միջոցառման տեսակը
C61: Տրանսֆերտների տրամադրում
C62: Ծրագրի անվանումը` | D62: =D69 -> 700000
A63: 1082 | C63: Սոցիալական աջակցություն անաշխատունակության դեպքում
C64: Ծրագրի նպատակը`
C65: Կորցրած եկամուտների մասնակի փոխհատուցում
C66: Վերջնական արդյունքի նկարագրությունը`
C67: Անաշխատունակության հետևանքով եկամտի կորստի մասնակի փոխհատուցման ապահովում
A68: Ծրագրի միջոցառումներ
B69: 12002 | C69: Միջոցառման անվանումը` | D69: 700000
C70: Մայրության նպաստ
C71: Միջոցառման նկարագրությունը`
C72: Մայրության նպաստի տրամադրում աշխատող և չաշխատող անձանց
C73: Միջոցառման տեսակը
C74: Տրանսֆերտների տրամադրում
A75: 1098 | C75: Ծրագրի անվանումը` | D75: =D82 -> -404125.8
C76: Բնակարանային ապահովում
C77: Ծրագրի նպատակը`
C78: Հանրապետությունում մշտական բնակության վայր չունեցող անօթևան անձանց բնակարանային ապահովմանն աջակցություն
C79: Վերջնական արդյունքի նկարագրությունը`
C80: Հանրապետությունում մշտական բնակության վայր չունեցող անօթևան անձանց բնակարանային ապահովվածության բարելավում
A81: Ծրագրի միջոցառումներ
B82: 21001 | C82: Միջոցառման անվանումը` | D82: =-161954.6-242171.2 -> -404125.8
C83: Բնակարանային շինարարություն
C84: Միջոցառման նկարագրությունը`
C85: Բազմաբնակարան բնակելի շենքերի (մասնաշենքերի) կառուցում, (տեխնիկական և հեղինակային հսկողություն) նախագծահետազոտական փաստաթղթերի ձեռքբերում
C86: Միջոցառման տեսակը
C87: Հանրության կողմից անմիջականորեն օգտագործվող ակտիվների հետ կապված միջոցառումներ
A88: 1102 | C88: Ծրագրի անվանումը` | D88: =D95 -> 100000
C89: Կենսաթոշակային ապահովություն
C90: Ծրագրի նպատակը`
C91: Կենսաթոշակի իրավունքի իրացում
C92: Վերջնական արդյունքի նկարագրությունը`
C93: Կենսաթոշակների նշանակման և վճարման գործընթացի ապահովում
A94: Ծրագրի միջոցառումներ
B95: 12001 | C95: Միջոցառման անվանումը` | D95: 100000
C96: Սպայական անձնակազմի և նրանց ընտանիքների անդամների կենսաթոշակներ
C97: Միջոցառման նկարագրությունը`
C98: Սպայական անձնակազմի զինծառայողներին երկարամյա ծառայության, հաշմանդամության և զինծառայողի մահվան դեպքում նրա ընտանիքի անդամներին կերակրողին կորցնելու դեպքում զինվորական կենսաթոշակների տրամադրում
C99: Միջոցառման տեսակը
C100: Տրանսֆերտների տրամադրում
A101: 1205 | C101: Ծրագրի անվանումը` | D101: =D108+D114 -> 1176340
...

Sheet 4
D1: Հավելված N 4
C2: ՀՀ կառավարության 2021 թվականի
C3: ______________ ի ___Ն որոշման
A5: ՀԱՅԱՍՏԱՆԻ ՀԱՆՐԱՊԵՏՈՒԹՅԱՆ ԿԱՌԱՎԱՐՈՒԹՅԱՆ 2020 ԹՎԱԿԱՆԻ ԴԵԿՏԵՄԲԵՐԻ 30-Ի N 2215-Ն ՈՐՈՇՄԱՆ N 6 ՀԱՎԵԼՎԱԾՈՒՄ ԿԱՏԱՐՎՈՂ ՓՈՓՈԽՈՒԹՅՈՒՆԸ
D6: հազար դրամ
B7: Եկամտատեսակը | C7: Գանձման համար պատասխանատու պետական կառավարման մարմինը (մարմինները) | D7: Ցուցանիշների փոփոխությունը (ավելացումները նշված են դրական նշանով)
D8: Տարի
A9: Պետական տուրք, ընդամենը | D9: =D11 -> 3377168.2
B10: այդ թվում`
A11: 9 | B11: Լիցենզավորման ենթակա գործունեություն իրականացնելու նպատակով լիցենզիաներ, արտոնագրեր (թույլտվություններ) տալու համար | D11: =D13 -> 3377168.2
B12: այդ թվում`
A13: 9.2 | B13: Պղնձի խտահանք և մոլիբդենի խտահանք արտահանելու յուրաքանչյուր մեկ տոննայի համար լիցենզիաներ կամ թույլտվություններ կամ հավաստագրեր տրամադրելու համար | C13: ՀՀ էկոնոմիկայի նախարարություն | D13: ='1'!B9 -> 3377168.2

Sheet 5
G1: Հավելված N 5
F2: ՀՀ կառավարության 2021 թվականի
F3: -----------------ի N -----------Ն որոշման
A5: ՀԱՅԱՍՏԱՆԻ ՀԱՆՐԱՊԵՏՈՒԹՅԱՆ ԿԱՌԱՎԱՐՈՒԹՅԱՆ 2020 ԹՎԱԿԱՆԻ ԴԵԿՏԵՄԲԵՐԻ 30-Ի N 2215-Ն ՈՐՈՇՄԱՆ N 3 և N 4 ՀԱՎԵԼՎԱԾՆԵՐՈՒՄ ԿԱՏԱՐՎՈՂ ՓՈՓՈԽՈՒԹՅՈՒՆՆԵՐԸ
G6: հազար դրամ
A7: Գործառական դասիչը | D7: Ծրագրային դասիչը | F7: Բյուջետային ծախսերի գործառական դասակարգման բաժինների, խմբերի և դասերի, բյուջետային ծրագրերի միջոցառումների, բյուջետային հատկացումների գլխավոր կարգադրիչների անվանումները | G7: Ցուցանիշների փոփոխությունները ավելացումները նշված են դրական նշանով, իսկ նվազեցումները՝ փակագծերում
A8: Բաժինը | B8: Խումբը | C8: Դասը | D8: Ծրագիր | E8: Միջոցառում | G8: Տարի
F9: ԸՆԴԱՄԵՆԸ ԾԱԽՍԵՐ | G9: =G11 -> 3377168.2
F10: այդ թվում`
F11: ՀՀ աշխատանքի և սոցիալական հարցերի նախարարություն | G11: =G12+G29 -> 3377168.2
A12: 06 | F12: ԲՆԱԿԱՐԱՆԱՅԻՆ ՇԻՆԱՐԱՐՈՒԹՅՈՒՆ ԵՎ ԿՈՄՈՒՆԱԼ ԾԱՌԱՅՈՒԹՅՈՒՆՆԵՐ | G12: =G14 -> -404125.8
F13: այդ թվում`
B14: 01 | F14: Բնակարանային շինարարություն | G14: =G16 -> -404125.8
F15: այդ թվում`
C16: 01 | F16: Բնակարանային շինարարություն | G16: =G18 -> -404125.8
F17: այդ թվում`
D18: ='3'!A75 -> 1098 | F18: ='3'!C76 -> Բնակարանային ապահովում | G18: =G20 -> -404125.8
F19: այդ թվում`
E20: ='3'!B82 -> 21001 | F20: Բնակարանային շինարարություն | G20: =G22 -> -404125.8
F21: այդ թվում` ըստ կատարողների
F22: ՀՀ քաղաքաշինության կոմիտե | G22: =G24 -> -404125.8
F23: այդ թվում` բյուջետային ծախսերի տնտեսագիտական դասակարգման հոդվածներ
F24: ԸՆԴԱՄԵՆԸ ԾԱԽՍԵՐ | G24: =G25 -> -404125.8
F25: ՈՉ ՖԻՆԱՆՍԱԿԱՆ ԱԿՏԻՎՆԵՐԻ ԳԾՈՎ ԾԱԽՍԵՐ | G25: =G26 -> -404125.8
F26: ՀԻՄՆԱԿԱՆ ՄԻՋՈՑՆԵՐ | G26: =G27 -> -404125.8
F27: ՇԵՆՔԵՐ ԵՎ ՇԻՆՈՒԹՅՈՒՆՆԵՐ | G27: =G28 -> -404125.8
F28: - Շենքերի և շինությունների շինարարություն | G28: ='3'!D82 -> -404125.8
A29: 10 | F29: ՍՈՑԻԱԼԱԿԱՆ ՊԱՇՏՊԱՆՈՒԹՅՈՒՆ | G29: =G31+G46+G61+G116 -> 3781294
F30: այդ թվում`
B31: 07 | F31: Սոցիալական հատուկ արտոնություններ (այլ դասերին չպատկանող) | G31: =G33 -> 50000
F32: այդ թվում`
C33: 01 | F33: Սոցիալական հատուկ արտոնություններ (այլ դասերին չպատկանող) | G33: =G35 -> 50000
F34: այդ թվում`
D35: 1005 | F35: ='3'!C12 -> Պարգևավճարներ և պատվովճարներ | G35: =G37 -> 50000
F36: այդ թվում`
E37: 12001 | F37: Զինծառայողներին, ՀՄՊ մասնակիցներին, այլ պետություններում մարտական գործողությունների մասնակիցներին, զոհված (մահացած) զինծառայողի ընտանիքի անդամներին, ընտանիքներին տրվող պարգևավճարներ | G37: =G39 -> 50000
F38: այդ թվում` ըստ կատարողների
F39: ՀՀ աշխատանքի և սոցիալական հարցերի նախարարության միասնական սոցիալական ծառայություն | G39: =G41 -> 50000
F40: այդ թվում` բյուջետային ծախսերի տնտեսագիտական դասակարգման հոդվածներ
F41: ԸՆԴԱՄԵՆԸ ԾԱԽՍԵՐ | G41: =G42 -> 50000
F42: ԸՆԹԱՑԻԿ ԾԱԽՍԵՐ | G42: =G43 -> 50000
F43: ՍՈՑԻԱԼԱԿԱՆ ՆՊԱՍՏՆԵՐ ԵՎ ԿԵՆՍԱԹՈՇԱԿՆԵՐ | G43: =G44 -> 50000
F44: Սոցիալական օգնության դրամական արտահայտությամբ նպաստներ (բյուջեից) | G44: =G45 -> 50000
F45: - Այլ նպաստներ բյուջեից | G45: ='3'!D18 -> 50000
B46: 09 | F46: Սոցիալական պաշտպանություն (այլ դասերին չպատկանող) | G46: =G48 -> -280000
F47: այդ թվում`
C48: 02 | F48: Սոցիալական պաշտպանությանը տրամադրվող օժանդակ ծառայություններ (այլ դասերին չպատկանող) | G48: =G50 -> -280000
F49: այդ թվում`
D50: 1015 | F50: ='3'!C50 -> Սոցիալական փաթեթների ապահովում | G50: =G52 -> -280000
F51: այդ թվում`
E52: ='3'!B56 -> 12001 | F52: Պետական հիմնարկների և կազմակերպությունների աշխատողների սոցիալական փաթեթով ապահովում | G52: =G54 -> -280000
F53: այդ թվում` ըստ կատարողների
F54: ՀՀ աշխատանքի և սոցիալական հարցերի նախարարություն | G54: =G56 -> -280000
F55: այդ թվում` բյուջետային ծախսերի տնտեսագիտական դասակարգման հոդվածներ
F56: ԸՆԴԱՄԵՆԸ ԾԱԽՍԵՐ | G56: =G57 -> -280000
F57: ԸՆԹԱՑԻԿ ԾԱԽՍԵՐ | G57: =G58 -> -280000
F58: ՍՈՑԻԱԼԱԿԱՆ ՆՊԱՍՏՆԵՐ ԵՎ ԿԵՆՍԱԹՈՇԱԿՆԵՐ | G58: =G59 -> -280000
F59: Սոցիալական օգնության դրամական արտահայտությամբ նպաստներ (բյուջեից) | G59: =G60 -> -280000
F60: - Այլ նպաստներ բյուջեից | G60: ='3'!D56 -> -280000
B61: 04 | F61: Ընտանիքի անդամներ և զավակներ | G61: =G63 -> 2784954
F62: այդ թվում`
C63: 01 | F63: Ընտանիքի անդամներ և զավակներ | G63: =G65+G94+G105 -> 2784954
F64: այդ թվում`
D65: 1068 | F65: ='3'!C25 -> Ժողովրդագրական վիճակի բարելավում | G65: =G67+G76+G85 -> 2034954
F66: այդ թվում`
E67: ='3'!B31 -> 12001 | F67: Մինչև 2 տարեկան երեխայի խնամքի նպաստի տրամադրում | G67: =G69 -> 934954
F68: այդ թվում` ըստ կատարողների
F69: ՀՀ աշխատանքի և սոցիալական հարցերի նախարարության միասնական սոցիալական ծառայություն | G69: =G71 -> 934954
F70: այդ թվում` բյուջետային ծախսերի տնտեսագիտական դասակարգման հոդվածներ
F71: ԸՆԴԱՄԵՆԸ ԾԱԽՍԵՐ | G71: =G72 -> 934954
F72: ԸՆԹԱՑԻԿ ԾԱԽՍԵՐ | G72: =G73 -> 934954
F73: ՍՈՑԻԱԼԱԿԱՆ ՆՊԱՍՏՆԵՐ ԵՎ ԿԵՆՍԱԹՈՇԱԿՆԵՐ | G73: =G74 -> 934954
F74: Սոցիալական օգնության դրամական արտահայտությամբ նպաստներ (բյուջեից) | G74: =G75 -> 934954
F75: - Մայրության նպաստներ բյուջեից | G75: ='3'!D31 -> 934954
E76: ='3'!B37 -> 12002 | F76: Երեխայի ծննդյան միանվագ նպաստ | G76: =G78 -> 1050000
F77: այդ թվում` ըստ կատարողների
F78: ՀՀ աշխատանքի և սոցիալական հարցերի նախարարության միասնական սոցիալական ծառայություն | G78: =G80 -> 1050000
F79: այդ թվում` բյուջետային ծախսերի տնտեսագիտական դասակարգման հոդվածներ
F80: ԸՆԴԱՄԵՆԸ ԾԱԽՍԵՐ | G80: =G81 -> 1050000
F81: ԸՆԹԱՑԻԿ ԾԱԽՍԵՐ | G81: =G82 -> 1050000
F82: ՍՈՑԻԱԼԱԿԱՆ ՆՊԱՍՏՆԵՐ ԵՎ ԿԵՆՍԱԹՈՇԱԿՆԵՐ | G82: =G83 -> 1050000
F83: Սոցիալական օգնության դրամական արտահայտությամբ նպաստներ (բյուջեից) | G83: =G84 -> 1050000
F84: - Երեխաների կամ ընտանեկան նպաստներ բյուջեից | G84: ='3'!D37 -> 1050000
E85: ='3'!B43 -> 12003 | F85: Երեխա ունեցող ընտանիքների բնակարանային ապահովման աջակցություն | G85: =G87 -> 50000
F86: այդ թվում` ըստ կատարողների
F87: ՀՀ աշխատանքի և սոցիալական հարցերի նախարարություն | G87: =G89 -> 50000
F88: այդ թվում` բյուջետային ծախսերի տնտեսագիտական դասակարգման հոդվածներ
F89: ԸՆԴԱՄԵՆԸ ԾԱԽՍԵՐ | G89: =G90 -> 50000
F90: ԸՆԹԱՑԻԿ ԾԱԽՍԵՐ | G90: =G91 -> 50000
F91: ՍՈՑԻԱԼԱԿԱՆ ՆՊԱՍՏՆԵՐ ԵՎ ԿԵՆՍԱԹՈՇԱԿՆԵՐ | G91: =G92 -> 50000
F92: Սոցիալական օգնության դրամական արտահայտությամբ նպաստներ (բյուջեից) | G92: =G93 -> 50000
F93: - Այլ նպաստներ բյուջեից | G93: ='3'!D43 -> 50000
D94: 1082 | F94: Սոցիալական աջակցություն անաշխատունակության դեպքում | G94: =+G95 -> 700000
F95: այդ թվում` | G95: =+G96 -> 700000
E96: 12002 | F96: Մայրության նպաստ | G96: =+G98 -> 700000
F97: այդ թվում` ըստ կատարողների
F98: ՀՀ աշխատանքի և սոցիալական հարցերի նախարարության միասնական սոցիալական ծառայություն | G98: =+G99 -> 700000
F99: այդ թվում` բյուջետային ծախսերի տնտեսագիտական դասակարգման հոդվածներ | G99: =+G100 -> 700000
F100: ԸՆԴԱՄԵՆԸ ԾԱԽՍԵՐ | G100: =+G101 -> 700000
F101: ԸՆԹԱՑԻԿ ԾԱԽՍԵՐ | G101: =+G102 -> 700000
...

Sheet 6
D1: Հավելված N 6
C2: ՀՀ կառավարության 2021 թվականի
C3: -----------------ի N -----------Ն որոշման
A5: ՀԱՅԱՍՏԱՆԻ ՀԱՆՐԱՊԵՏՈՒԹՅԱՆ ԿԱՌԱՎԱՐՈՒԹՅԱՆ 2020 ԹՎԱԿԱՆԻ ԴԵԿՏԵՄԲԵՐԻ 30-Ի N 2215-Ն ՈՐՈՇՄԱՆ N 5 ՀԱՎԵԼՎԱԾԻ N 2 ԱՂՅՈՒՍԱԿՈՒՄ ԿԱՏԱՐՎՈՂ ՓՈՓՈԽՈՒԹՅՈՒՆՆԵՐԸ
A7: Ծրագրային դասիչ | C7: Բյուջետային գլխավոր կարգադրիչների, ծրագրերի, միջոցառումների և ուղղությունների անվանումները | D7: Ցուցանիշների փոփոխությունները նվազեցումները նշված են փակագծերում
A8: Ծրագիր | B8: Միջոցառում | D8: Տարի
C9: ԸՆԴԱՄԵՆԸ | D9: =D10 -> -404125.8
C10: ՀՀ աշխատանքի և սոցիալական հարցերի նախարարություն | D10: =D12 -> -404125.8
C11: այդ թվում՝
A12: 1098 | B12: 21001 | C12: Բնակարանային շինարարություն | D12: =D14 -> -404125.8
C13: այդ թվում` ըստ կատարողների
C14: ՀՀ քաղաքաշինության կոմիտե | D14: =D16+D17 -> -404125.8
C15: այդ թվում` ըստ ուղղությունների
C16: Ապարանի Բաղրամյան 43 հասցեում գտնվող վթարային շենքի փոխարեն նոր բնակելի շենքի կառուցում | D16: =-161954.6 -> -161954.6
C17: Սպիտակ քաղաքում նոր բնակելի շենքի կառուցման աշխատանքներ | D17: =-242171.2 -> -242171.2

Sheet 7
C1: Հավելված N 7
C2: ՀՀ կառավարության 2021 թվականի
C3: -----------------ի N -----------Ն որոշման
A4: ՀԱՅԱՍՏԱՆԻ ՀԱՆՐԱՊԵՏՈՒԹՅԱՆ ԿԱՌԱՎԱՐՈՒԹՅԱՆ 2020 ԹՎԱԿԱՆԻ ԴԵԿՏԵՄԲԵՐԻ 30-Ի N 2215-Ն ՈՐՈՇՄԱՆ N 9 ՀԱՎԵԼՎԱԾԻ N 9.1.20 ԱՂՅՈՒՍԱԿՈՒՄ ԿԱՏԱՐՎՈՂ ՓՈՓՈԽՈՒԹՅՈՒՆՆԵՐԸ
A5: ՀԱՅԱՍՏԱՆԻ ՀԱՆՐԱՊԵՏՈՒԹՅԱՆ ԿԱՌԱՎԱՐՈՒԹՅԱՆ 2020 ԹՎԱԿԱՆԻ ԴԵԿՏԵՄԲԵՐԻ 30-Ի N 2215-Ն ՈՐՈՇՄԱՆ N 9 ՀԱՎԵԼՎԱԾԻ N 9.16 ԱՂՅՈՒՍԱԿՆԵՐՈՒՄ ԿԱՏԱՐՎՈՂ ՓՈՓՈԽՈՒԹՅՈՒՆՆԵՐԸ
A6: Հայաստանի Հանրապետության աշխատանքի և սոցիալական հարցերի նախարարություն
A7: ՄԱՍ 2. ՊԵՏԱԿԱՆ ՄԱՐՄՆԻ ԳԾՈՎ ԱՐԴՅՈՒՆՔԱՅԻՆ (ԿԱՏԱՐՈՂԱԿԱՆ) ՑՈՒՑԱՆԻՇՆԵՐԸ
A10: Ծրագրի դասիչը` | B10: Ծրագրի անվանումը`
A11: 1005 | B11: Պարգևավճարներ և պատվովճարներ
A12: Ծրագրի միջոցառումները
A14: Ծրագրի դասիչը` | B14: 1005 | C14: Ցուցանիշների փոփոխությունները ավելացումները նշված են դրական նշանով
A15: Միջոցառման դասիչը` | B15: 12001 | C15: Տարի
A16: Միջոցառման անվանումը` | B16: Զինծառայողներին, ՀՄՊ մասնակիցներին, այլ պետություններում մարտական գործողությունների մասնակիցներին, զոհված (մահացած) զինծառայողի ընտանիքի անդամներին, ընտանիքներին տրվող պարգևավճարներ
A17: Նկարագրությունը` | B17: Զինծառայողներին, ՀՄՊ մասնակիցներին, այլ պետություններում մարտական գործողությունների մասնակիցներին, զոհված (մահացած) զինծառայողի ընտանիքի անդամներին, ընտանիքներին, պարգևավճարների տրամադրում
A18: Միջոցառման տեսակը` | B18: Տրանսֆերտների տրամադրում
A19: Շահառուների ընտրության չափանիշները | B19: ՀՄՊ մասնակիցներ, ՀՄՊ և այլ պետություններում մարտական գործողությունների ընթացքում զոհված զինծառայողների ընտանիքներ
A20: Արդյունքի չափորոշիչներ
A21: Պարգևավճարներ ստացողների թիվ, ընտանիք | C21: 1828
A22: Պարգևավճարների վճարման ամսական հաճախականություն, անգամ | C22: 1
A23: Միջոցառման վրա կատարվող ծախսը (հազար դրամ) | C23: ='3'!D18 -> 50000
A25: Ծրագրի դասիչը` | B25: Ծրագրի անվանումը`
A26: 1068 | B26: Ժողովրդագրական վիճակի բարելավում
A27: Ծրագրի միջոցառումները
A29: Ծրագրի դասիչը` | B29: 1068 | C29: Ցուցանիշների փոփոխությունները ավելացումները նշված են դրական նշանով
A30: Միջոցառման դասիչը` | B30: 12001 | C30: Տարի
A31: Միջոցառման անվանումը` | B31: Մինչև 2 տարեկան երեխայի խնամքի նպաստի տրամադրում
A32: Նկարագրությունը` | B32: Մինչև 2 տարեկան երեխայի խնամքի նպաստի տրամադրում
A33: Միջոցառման տեսակը` | B33: Տրանսֆերտների տրամադրում
A34: Շահառուների ընտրության չափանիշները | B34: Մինչև երեք տարեկան երեխայի խնամքի արձակուրդում գտնվող անձը` մինչև երեխայի 2 տարեկանը լրանալը,գյուղական բնակավայրում բնակվող ծնող? անկախ խնամքի արձակուրդում գտնվելու հանգամանքից? մինչև երեխայի 2 տարեկանը լրանալը
A35: Արդյունքի չափորոշիչներ
A36: Մինչև 2 տարեկան երեխայի խնամքի նպաստ ստացող քաղաքացիների թիվ, մարդ, որից | C36: 2940
A37: գյուղական բնակավայրերում մինչև 2 տարեկան երեխայի խնամքի նպաստ ստացող քաղաքացիների թիվ, մարդ | C37: 0
A38: Միջոցառման վրա կատարվող ծախսը (հազար դրամ) | C38: ='3'!D31 -> 934954
A40: Ծրագրի դասիչը` | B40: 1068 | C40: Ցուցանիշների փոփոխությունները ավելացումները նշված են դրական նշանով
A41: Միջոցառման դասիչը` | B41: 12002 | C41: Տարի
A42: Միջոցառման անվանումը` | B42: Երեխայի ծննդյան միանվագ նպաստ
A43: Նկարագրությունը` | B43: Երեխայի ծննդյան կապակցությամբ միանվագ նպաստի տրամադրում
A44: Միջոցառման տեսակը` | B44: Տրանսֆերտների տրամադրում
A45: Շահառուների ընտրության չափանիշները | B45: ՀՀ-ում հաշվառված նոր ծնված երեխայի ծնող (օրինական ներկայացուցիչ)
A46: Արդյունքի չափորոշիչներ
A47: շահառու նորածինների թիվ, ադ թվում? | C47: 1519
A48: ընտանիքում առաջին և երկրորդ երեխաների թիվ | C48: 716
A49: ընտանիքում երրորդ և չորրորդ երեխաների թիվ | C49: 739
A50: ընտանիքում հինգ և հաջորդ երեխաների թիվ | C50: 64
A51: Միջոցառման վրա կատարվող ծախսը (հազար դրամ) | C51: ='3'!D37 -> 1050000
A53: Ծրագրի դասիչը` | B53: 1068 | C53: Ցուցանիշների փոփոխությունները ավելացումները նշված են դրական նշանով
A54: Միջոցառման դասիչը` | B54: 12003 | C54: Տարի
A55: Միջոցառման անվանումը` | B55: Երեխա ունեցող ընտանիքների բնակարանային ապահովման աջակցություն
A56: Նկարագրությունը` | B56: Երեխա ունեցող ընտանիքների բնակարանային ապահովման աջակցության տրամադրում
A57: Միջոցառման տեսակը` | B57: Տրանսֆերտների տրամադրում
A58: Շահառուների ընտրության չափանիշները | B58: Երեխա ունեցող ընտանիքներ, ովքեր ցանկանում են ձեռք բերել բնակարան, կանխավճարի ապահովագրության ձեռք բերում երիտասարդ ընտանիքների համար, երեխայի ծննդով պայմանավորված հիփոթեքային վարկ մարող ընտանիքներ
A59: Արդյունքի չափորոշիչներ
A60: Շահառուների թվաքանակ (մարզային բնակավայրերում բնակարան ձեռք բերելու համար միանվագ դրամական աջակցության բաղադրիչ) | C60: 36
A61: Շահառուների թվաքանակ (Երիտասարդ ընտանիքների համար կանխավճարի ապահովագրության բաղադրիչ) | C61: 51
A62: Շահառուների թվաքանակ (երեխայի ծննդով պայմանավորված` հիփոթեքային վարկ մարող ընտանիքներին դրամական աջակցության բաղադրիչ) | C62: 111
A63: Միջոցառման վրա կատարվող ծախսը (հազար դրամ) | C63: ='3'!D43 -> 50000
A65: Ծրագրի դասիչը` | B65: Ծրագրի անվանումը`
A66: 1015 | B66: Սոցիալական փաթեթների ապահովում
A67: Ծրագրի միջոցառումները
A69: Ծրագրի դասիչը` | B69: 1015 | C69: Ցուցանիշների փոփոխությունները նվազեցումները նշված են փակագծերում
A70: Միջոցառման դասիչը` | B70: 12001 | C70: Տարի
A71: Միջոցառման անվանումը` | B71: Պետական հիմնարկների և կազմակերպությունների աշխատողների սոցիալական փաթեթով ապահովում
A72: Նկարագրությունը` | B72: Պետական հիմնարկների և կազմակերպությունների աշխատողների հիպոթեքային վարկի ամսական վճարի, ուսման վճարի և հանգստի ապահովման գծով ծախսերի փոխհատուցում
A73: Միջոցառման տեսակը` | B73: Տրանսֆերտների տրամադրում
A74: Շահառուների ընտրության չափանիշները | B74: Կառավարության 2012թ. դեկտեմբերի 27-ի N 1691-Ն որոշմամբ սահմանված պետական ոլորտի աշխատողներ
A75: Արդյունքի չափորոշիչներ
A76: Պետական հիմնարկների և կազմակերպությունների աշխատակիցների քանակ, մարդ | C76: -4167
A77: Միջոցառման վրա կատարվող ծախսը (հազար դրամ) | C77: ='3'!D56 -> -280000
A80: Ծրագրի դասիչը` | B80: Ծրագրի անվանումը`
A81: 1082 | B81: Սոցիալական աջակցություն անաշխատունակության դեպքում
A82: Ծրագրի միջոցառումները
A85: Ծրագրի դասիչը` | B85: 1082 | C85: Ցուցանիշների փոփոխությունները ավելացումները նշված են դրական նշանով
A86: Միջոցառման դասիչը` | B86: 12002 | C86: Տարի
A87: Միջոցառման անվանումը` | B87: Մայրության նպաստ
A88: Նկարագրությունը` | B88: Մայրության նպաստի տրամադրում աշխատող և չաշխատող անձանց
A89: Միջոցառման տեսակը` | B89: Տրանսֆերտների տրամադրում
A90: Շահառուների ընտրության չափանիշները | B90: Հղիության և ծննդաբերության արձակուրդի իրավունք ունեցող անձինք՝ անկախ աշխատանքային կարգավիճակից
A91: Արդյունքի չափորոշիչներ
A92: Հղիության և ծննդաբերության արձակուրդի օրերի թիվ, օր | C92: 89847
A93: Մայրության նպաստ ստացող աշխատող անձանց թիվ, մարդ | C93: 642
A94: Միջոցառման վրա կատարվող ծախսը (հազար դրամ) | C94: ='3'!D69 -> 700000
A96: Ծրագրի դասիչը` | B96: Ծրագրի անվանումը`
A97: 1098 | B97: Բնակարանային ապահովում
A98: Ծրագրի միջոցառումները
A100: Ծրագրի դասիչը` | B100: 1098 | C100: Ցուցանիշների փոփոխությունները նվազեցումները նշված են փակագծերում
A101: Միջոցառման դասիչը` | B101: 21001 | C101: Տարի
A102: Միջոցառման անվանումը` | B102: Բնակարանային շինարարություն
A103: Նկարագրությունը` | B103: Բազմաբնակարան բնակելի շենքերի (մասնաշենքերի) կառուցում, (տեխնիկական և հեղինակային հսկողություն) նախագծահետազոտական փաստաթղթերի ձեռքբերում
A104: Միջոցառման տեսակը` | B104: Հանրության կողմից անմիջականորեն օգտագործվող ակտիվների հետ կապված միջոցառումներ
B105: Արդյունքի չափորոշիչներ
A106: Արդյունքի չափորոշիչներ
A107: Միջոցառման վրա կատարվող ծախսը (հազար դրամ) | C107: ='3'!D82 -> -404125.8
A110: Ծրագրի դասիչը` | B110: Ծրագրի անվանումը`
A111: 1102 | B111: Կենսաթոշակային ապահովություն
A112: Ծրագրի միջոցառումները
A114: Ծրագրի դասիչը` | B114: 1102 | C114: Ցուցանիշների փոփոխությունները ավելացումները նշված են դրական նշանով
A115: Միջոցառման դասիչը` | B115: 12001 | C115: Տարի
A116: Միջոցառման անվանումը` | B116: Սպայական անձնակազմի և նրանց ընտանիքների անդամների կենսաթոշակներ
A117: Նկարագրությունը` | B117: Սպայական անձնակազմի զինծառայողներին երկարամյա ծառայության, հաշմանդամության և զինծառայողի մահվան դեպքում նրա ընտանիքի անդամներին կերակրողին կորցնելու դեպքում զինվորական կենսաթոշակների տրամադրում
A118: Միջոցառման տեսակը` | B118: Տրանսֆերտների տրամադրում
...

Sheet 8
C1: Հավելված N 8
C2: ՀՀ կառավարության 2021 թվականի
C3: -----------------ի N -----------Ն որոշման
A4: ՀԱՅԱՍՏԱՆԻ ՀԱՆՐԱՊԵՏՈՒԹՅԱՆ ԿԱՌԱՎԱՐՈՒԹՅԱՆ 2020 ԹՎԱԿԱՆԻ ԴԵԿՏԵՄԲԵՐԻ 30-Ի N 2215-Ն ՈՐՈՇՄԱՆ N 9 ՀԱՎԵԼՎԱԾԻ N 9.1.20 ԱՂՅՈՒՍԱԿՈՒՄ ԿԱՏԱՐՎՈՂ ՓՈՓՈԽՈՒԹՅՈՒՆՆԵՐԸ
A5: ՀԱՅԱՍՏԱՆԻ ՀԱՆՐԱՊԵՏՈՒԹՅԱՆ ԿԱՌԱՎԱՐՈՒԹՅԱՆ 2020 ԹՎԱԿԱՆԻ ԴԵԿՏԵՄԲԵՐԻ 30-Ի N 2215-Ն ՈՐՈՇՄԱՆ N 9.1 ՀԱՎԵԼՎԱԾԻ N 9.1.16, N 9.1.20 և 9.1.42 ԱՂՅՈՒՍԱԿՈՒՄ ԿԱՏԱՐՎՈՂ ՓՈՓՈԽՈՒԹՅՈՒՆՆԵՐԸ
A6: ՄԱՍ 1. ՊԵՏԱԿԱՆ ՄԱՐՄՆԻ ԳԾՈՎ ԱՐԴՅՈՒՆՔԱՅԻՆ (ԿԱՏԱՐՈՂԱԿԱՆ) ՑՈՒՑԱՆԻՇՆԵՐԸ
A8: Հայաստանի Հանրապետության աշխատանքի և սոցիալական հարցերի նախարարություն | C8: Աղյուսակ 9.1.16
A10: Ծրագրի դասիչը` | B10: Ծրագրի անվանումը`
A11: 1015 | B11: Սոցիալական փաթեթների ապահովում
A12: Ծրագրի միջոցառումները
A14: Ծրագրի դասիչը` | B14: 1015 | C14: Ցուցանիշների փոփոխությունները նվազեցումները նշված են փակագծերում
A15: Միջոցառման դասիչը` | B15: 12001 | C15: Տարի
A16: Միջոցառման անվանումը` | B16: Պետական հիմնարկների և կազմակերպությունների աշխատողների սոցիալական փաթեթով ապահովում
A17: Նկարագրությունը` | B17: Պետական հիմնարկների և կազմակերպությունների աշխատողների հիպոթեքային վարկի ամսական վճարի, ուսման վճարի և հանգստի ապահովման գծով ծախսերի փոխհատուցում
A18: Միջոցառման տեսակը` | B18: Տրանսֆերտների տրամադրում
A19: Շահառուների ընտրության չափանիշները | B19: Կառավարության 2012թ. դեկտեմբերի 27-ի N 1691-Ն որոշմամբ սահմանված պետական ոլորտի աշխատողներ
A20: Արդյունքի չափորոշիչներ
A21: Պետական հիմնարկների և կազմակերպությունների աշխատակիցների քանակ, մարդ | C21: ='7'!C76 -> -4167
A22: Միջոցառման վրա կատարվող ծախսը (հազար դրամ) | C22: ='3'!D56 -> -280000
A24: Ծրագրի դասիչը` | B24: Ծրագրի անվանումը`
A25: 1068 | B25: Ժողովրդագրական վիճակի բարելավում
A26: Ծրագրի միջոցառումները
A28: Ծրագրի դասիչը` | B28: 1068 | C28: Ցուցանիշների փոփոխությունները ավելացումները նշված են դրական նշանով
A29: Միջոցառման դասիչը` | B29: 12003 | C29: Տարի
A30: Միջոցառման անվանումը` | B30: Երեխա ունեցող ընտանիքների բնակարանային ապահովման աջակցություն
A31: Նկարագրությունը` | B31: Երեխա ունեցող ընտանիքների բնակարանային ապահովման աջակցության տրամադրում
A32: Միջոցառման տեսակը` | B32: Տրանսֆերտների տրամադրում
A33: Շահառուների ընտրության չափանիշները | B33: Երեխա ունեցող ընտանիքներ, ովքեր ցանկանում են ձեռք բերել բնակարան, կանխավճարի ապահովագրության ձեռք բերում երիտասարդ ընտանիքների համար, երեխայի ծննդով պայմանավորված հիփոթեքային վարկ մարող ընտանիքներ
A34: Արդյունքի չափորոշիչներ
A35: Շահառուների թվաքանակ (մարզային բնակավայրերում բնակարան ձեռք բերելու համար միանվագ դրամական աջակցության բաղադրիչ) | C35: =+'7'!C60 -> 36
A36: Շահառուների թվաքանակ (Երիտասարդ ընտանիքների համար կանխավճարի ապահովագրության բաղադրիչ) | C36: =+'7'!C61 -> 51
A37: Շահառուների թվաքանակ (երեխայի ծննդով պայմանավորված` հիփոթեքային վարկ մարող ընտանիքներին դրամական աջակցության բաղադրիչ) | C37: =+'7'!C62 -> 111
A38: Միջոցառման վրա կատարվող ծախսը (հազար դրամ) | C38: ='3'!D43 -> 50000
A40: Հայաստանի Հանրապետության աշխատանքի և սոցիալական հարցերի նախարարության միասնական սոցիալական ծառայություն | C40: Աղյուսակ 9.1.20
A43: Ծրագրի դասիչը` | B43: Ծրագրի անվանումը`
A44: 1005 | B44: Պարգևավճարներ և պատվովճարներ
A45: Ծրագրի միջոցառումները
A47: Ծրագրի դասիչը` | B47: 1005 | C47: Ցուցանիշների փոփոխությունները ավելացումները նշված են դրական նշանով
A48: Միջոցառման դասիչը` | B48: 12001 | C48: Տարի
A49: Միջոցառման անվանումը` | B49: Զինծառայողներին, ՀՄՊ մասնակիցներին, այլ պետություններում մարտական գործողությունների մասնակիցներին, զոհված (մահացած) զինծառայողի ընտանիքի անդամներին, ընտանիքներին տրվող պարգևավճարներ
A50: Նկարագրությունը` | B50: Զինծառայողներին, ՀՄՊ մասնակիցներին, այլ պետություններում մարտական գործողությունների մասնակիցներին, զոհված (մահացած) զինծառայողի ընտանիքի անդամներին, ընտանիքներին, պարգևավճարների տրամադրում
A51: Միջոցառման տեսակը` | B51: Տրանսֆերտների տրամադրում
A52: Շահառուների ընտրության չափանիշները | B52: ՀՄՊ մասնակիցներ, ՀՄՊ և այլ պետություններում մարտական գործողությունների ընթացքում զոհված զինծառայողների ընտանիքներ
A53: Արդյունքի չափորոշիչներ
A54: Պարգևավճարներ ստացողների թիվ, ընտանիք | C54: =+'7'!C21 -> 1828
A55: Պարգևավճարների վճարման ամսական հաճախականություն, անգամ | C55: =+'7'!C22 -> 1
A56: Միջոցառման վրա կատարվող ծախսը (հազար դրամ) | C56: ='3'!D18 -> 50000
A58: Ծրագրի դասիչը` | B58: Ծրագրի անվանումը`
A59: 1068 | B59: Ժողովրդագրական վիճակի բարելավում
A60: Ծրագրի միջոցառումները
A62: Ծրագրի դասիչը` | B62: 1068 | C62: Ցուցանիշների փոփոխությունները ավելացումները նշված են դրական նշանով
A63: Միջոցառման դասիչը` | B63: 12001 | C63: Տարի
A64: Միջոցառման անվանումը` | B64: Մինչև 2 տարեկան երեխայի խնամքի նպաստի տրամադրում
A65: Նկարագրությունը` | B65: Մինչև 2 տարեկան երեխայի խնամքի նպաստի տրամադրում
A66: Միջոցառման տեսակը` | B66: Տրանսֆերտների տրամադրում
A67: Շահառուների ընտրության չափանիշները | B67: Մինչև երեք տարեկան երեխայի խնամքի արձակուրդում գտնվող անձը` մինչև երեխայի 2 տարեկանը լրանալը,գյուղական բնակավայրում բնակվող ծնող? անկախ խնամքի արձակուրդում գտնվելու հանգամանքից? մինչև երեխայի 2 տարեկանը լրանալը
A68: Արդյունքի չափորոշիչներ
A69: Մինչև 2 տարեկան երեխայի խնամքի նպաստ ստացող քաղաքացիների թիվ, մարդ, որից | C69: 2940
A70: գյուղական բնակավայրերում մինչև 2 տարեկան երեխայի խնամքի նպաստ ստացող քաղաքացիների թիվ, մարդ | C70: 0
A71: Միջոցառման վրա կատարվող ծախսը (հազար դրամ) | C71: ='3'!D31 -> 934954
A73: Ծրագրի դասիչը` | B73: 1068 | C73: Ցուցանիշների փոփոխությունները ավելացումները նշված են դրական նշանով
A74: Միջոցառման դասիչը` | B74: 12002 | C74: Տարի
A75: Միջոցառման անվանումը` | B75: Երեխայի ծննդյան միանվագ նպաստ
A76: Նկարագրությունը` | B76: Երեխայի ծննդյան կապակցությամբ միանվագ նպաստի տրամադրում
A77: Միջոցառման տեսակը` | B77: Տրանսֆերտների տրամադրում
A78: Շահառուների ընտրության չափանիշները | B78: ՀՀ-ում հաշվառված նոր ծնված երեխայի ծնող (օրինական ներկայացուցիչ)
A79: Արդյունքի չափորոշիչներ
A80: շահառու նորածինների թիվ, ադ թվում? | C80: 1519
A81: ընտանիքում առաջին և երկրորդ երեխաների թիվ | C81: 716
A82: ընտանիքում երրորդ և չորրորդ երեխաների թիվ | C82: 739
A83: ընտանիքում հինգ և հաջորդ երեխաների թիվ | C83: 64
A84: Միջոցառման վրա կատարվող ծախսը (հազար դրամ) | C84: ='3'!D37 -> 1050000
A89: Ծրագրի դասիչը` | B89: Ծրագրի անվանումը`
A90: 1082 | B90: Սոցիալական աջակցություն անաշխատունակության դեպքում
A91: Ծրագրի միջոցառումները
A94: Ծրագրի դասիչը` | B94: 1082 | C94: Ցուցանիշների փոփոխությունները ավելացումները նշված են դրական նշանով
A95: Միջոցառման դասիչը` | B95: 12002 | C95: Տարի
A96: Միջոցառման անվանումը` | B96: Մայրության նպաստ
A97: Նկարագրությունը` | B97: Մայրության նպաստի տրամադրում աշխատող և չաշխատող անձանց
A98: Միջոցառման տեսակը` | B98: Տրանսֆերտների տրամադրում
A99: Շահառուների ընտրության չափանիշները | B99: Հղիության և ծննդաբերության արձակուրդի իրավունք ունեցող անձինք՝ անկախ աշխատանքային կարգավիճակից
A100: Արդյունքի չափորոշիչներ
A101: Հղիության և ծննդաբերության արձակուրդի օրերի թիվ, օր | C101: 89847
A102: Մայրության նպաստ ստացող աշխատող անձանց թիվ, մարդ | C102: 642
A103: Միջոցառման վրա կատարվող ծախսը (հազար դրամ) | C103: ='3'!D69 -> 700000
A106: Ծրագրի դասիչը` | B106: Ծրագրի անվանումը`
A107: 1102 | B107: Կենսաթոշակային ապահովություն
A108: Ծրագրի միջոցառումները
A110: Ծրագրի դասիչը` | B110: 1102 | C110: Ցուցանիշների փոփոխությունները ավելացումները նշված են դրական նշանով
A111: Միջոցառման դասիչը` | B111: 12001 | C111: Տարի
A112: Միջոցառման անվանումը` | B112: Սպայական անձնակազմի և նրանց ընտանիքների անդամների կենսաթոշակներ
A113: Նկարագրությունը` | B113: Սպայական անձնակազմի զինծառայողներին երկարամյա ծառայության, հաշմանդամության և զինծառայողի մահվան դեպքում նրա ընտանիքի անդամներին կերակրողին կորցնելու դեպքում զինվորական կենսաթոշակների տրամադրում
A114: Միջոցառման տեսակը` | B114: Տրանսֆերտների տրամադրում
A115: Շահառուների ընտրության չափանիշները | B115: Սպայական անձնակազմին և նրանց ընտանիքների անդամներին երկարամյա ծառայության, հաշմանդամության և կերակրողին կորցնելու դեպքում կենսաթոշակների տրամադրում 22.12.2010թ.ՀՕ-243-Ն օրենքի 18-րդ, 20-րդ, 22-րդ հոդվածներով
A116: Արդյունքի չափորոշիչներ
A117: Կենսաթոշակառուների թիվ, մարդ, այդ թվում | C117: 218
A118: երկարամյա ծառայության կենսաթոշակառուների թիվը, մարդ | C118: 0
A119: հաշմանդամության զինվորական կենսաթոշակառուների թիվը, մարդ | C119: 218
A120: զինծառայողի մահվան դեպքում նրա ընտանիքի անդամներին կերակրողին կորցնելու դեպքում զինվորական կենսաթոշակառուների թիվը, մարդ | C120: 0
A121: Միջոցառման վրա կատարվող ծախսը (հազար դրամ) | C121: ='3'!D95 -> 100000
...

Sheet 9
H1: Հավելված N 9
G2: ՀՀ կառավարության 2021 թվականի
G3: -----------------ի N -----------Ն որոշման
A5: «ՀԱՅԱՍՏԱՆԻ ՀԱՆՐԱՊԵՏՈՒԹՅԱՆ 2021 ԹՎԱԿԱՆԻ ՊԵՏԱԿԱՆ ԲՅՈՒՋԵԻ ՄԱՍԻՆ» ՀԱՅԱՍՏԱՆԻ ՀԱՆՐԱՊԵՏՈՒԹՅԱՆ ՕՐԵՆՔԻ N 1 ՀԱՎԵԼՎԱԾԻ N 3 ԱՂՅՈՒՍԱԿՈՒՄ ԿԱՏԱՐՎՈՂ ՓՈՓՈԽՈՒԹՅՈՒՆՆԵՐԸ
A7: Ծրագրային դասիչ | C7: Բյուջետային գլխավոր կարգադրիչների, ծրագրերի, միջոցառումների և ուղղությունների անվանումները | D7: Ընդամենը | E7: այդ թվում
B8: Միջոցառում | E8: Կառուցման աշխատանքներ | F8: Վերակառուցման, վերանորոգման և վերականգնման աշխատանքներ | G8: Նախագծահե- տազոտական, գեոդեզիա- քարտեզագրա- կան աշխա- տանքներ | H8: Ոչ ֆինանսական այլ ակտիվների ձեռքբերում
C9: ՀՀ ԱՇԽԱՏԱՆՔԻ ԵՎ ՍՈՑԻԱԼԱԿԱՆ ՀԱՐՑԵՐԻ ՆԱԽԱՐԱՐՈՒԹՅՈՒՆ | D9: =SUM(E9:H9) -> -404125.8 | E9: =SUM(E11) -> -404125.8 | F9: =SUM(F11) -> 0 | G9: =SUM(G11) -> 0 | H9: =SUM(H11) -> 0
C10: այդ թվում`
A11: 1098 | B11: 21001 | C11: Բնակարանային շինարարություն | D11: =SUM(E11:H11) -> -404125.8 | E11: ='3'!D82 -> -404125.8 | F11: 0 | G11: 0 | H11: 0

Sheet 10
I1: Հավելված N 10
H2: ՀՀ կառավարության 2021 թվականի
H3: ------------ N ---------- որոշման
A4: ՀԱՅԱՍՏԱՆԻ ՀԱՆՐԱՊԵՏՈՒԹՅԱՆ ԿԱՌԱՎԱՐՈՒԹՅԱՆ 2020 ԹՎԱԿԱՆԻ ԴԵԿՏԵՄԲԵՐԻ 30-Ի ԹԻՎ 2215-Ն ՈՐՈՇՄԱՆ N 10 ՀԱՎԵԼՎԱԾՈՒՄ ԿԱՏԱՐՎՈՂ ԼՐԱՑՈՒՄՆԵՐԸ
A6: Կոդը | B6: Անվանումը | E6: Գնման ձևը | F6: Չափման միավորը | G6: Միավորի գինը | H6: Ցուցանիշների փոփոխությունները նվազեցումները նշված են փակագծերում
H7: Քանակը | I7: Գումարը (հազար դրամով)
A8: ՀՀ քաղաքաշինության կոմիտե | I8: =I9 -> -404125.8
A9: Բաժին N '06 | B9: Խումբ N 01 | C9: Դաս N 01 | D9: ='5'!F18 -> Բնակարանային ապահովում | I9: =I10 -> -404125.8
A10: 1098 21001 | B10: ='5'!F20 -> Բնակարանային շինարարություն | I10: =I11+I14 -> -404125.8
B11: ՄԱՍ II. ԱՇԽԱՏԱՆՔՆԵՐ | I11: =I12+I13 -> -390000
A12: 45221142/1 | B12: ընդհանուր շինարարական աշխատանքներ | E12: ԲՄ | F12: դրամ | I12: -160000
A13: 45221142/4 | B13: շինարարական աշխատանքներ | E13: ՀԲՄ | F13: դրամ | I13: -230000
B14: ՄԱՍ III. ԾԱՌԱՅՈՒԹՅՈՒՆՆԵՐ | I14: =I15+I16+I17 -> -14125.8
A15: 71351540/1 | B15: տեխնիկական հսկողության ծառայություն | E15: ԳՀ | F15: դրամ | I15: -1954.6
A16: 71351540/2 | B16: տեխնիկական հսկողության ծառայություն | E16: ԳՀ | F16: դրամ | I16: -10388.4
A17: 98111140/2 | B17: հեղինակային հսկողության ծառայություն | E17: ՄԱ | F17: դրամ | I17: -1782.8
