Workbook

Sheet 1
C1: Հավելված № 1
C2: ՀՀ կառավարության 2021 թվականի
C3: № ------------ -Ն որոշման
A6: «ՀԱՅԱՍՏԱՆԻ ՀԱՆՐԱՊԵՏՈՒԹՅԱՆ 2021 ԹՎԱԿԱՆԻ ՊԵՏԱԿԱՆ ԲՅՈՒՋԵԻ ՄԱՍԻՆ» ՀԱՅԱՍՏԱՆԻ ՀԱՆՐԱՊԵՏՈՒԹՅԱՆ ՕՐԵՆՔԻ 2-ՐԴ ՀՈԴՎԱԾԻ ԱՂՅՈՒՍԱԿՈՒՄ ԿԱՏԱՐՎՈՂ ՓՈՓՈԽՈՒԹՅՈՒՆՆԵՐԸ
B8: հազ. դրամ
B9: Ցուցանիշների փոփոխությունը (նվազեցումները նշված են փակագծերում)
A10: Եկամուտների գծով | B10: =+'2'!B11 -> -491928.1
A11: Ծախսերի գծով | B11: =+'3'!D9 -> -491928.1
A12: Դեֆիցիտը (պակասուրդը) | B12: =+B11-B10 -> 0

Sheet 2
B1: Հավելված № 2
B2: ՀՀ կառավարության 2021 թվականի
B3: № ------------ -Ն որոշման
A6: «ՀԱՅԱՍՏԱՆԻ ՀԱՆՐԱՊԵՏՈՒԹՅԱՆ 2021 ԹՎԱԿԱՆԻ ՊԵՏԱԿԱՆ ԲՅՈՒՋԵԻ ՄԱՍԻՆ» ՀԱՅԱՍՏԱՆԻ ՀԱՆՐԱՊԵՏՈՒԹՅԱՆ ՕՐԵՆՔԻ 6-ՐԴ ՀՈԴՎԱԾԻ ԱՂՅՈՒՍԱԿՈՒՄ ԵՎ ՀԱՅԱՍՏԱՆԻ ՀԱՆՐԱՊԵՏՈՒԹՅԱՆ ԿԱՌԱՎԱՐՈՒԹՅԱՆ 2020 ԹՎԱԿԱՆԻ ԴԵԿՏԵՄԲԵՐԻ 30-Ի N 2215-Ն ՈՐՈՇՄԱՆ N 2 ՀԱՎԵԼՎԱԾՈՒՄ ԿԱՏԱՐՎՈՂ ՓՈՓՈԽՈՒԹՅՈՒՆՆԵՐԸ
B8: հազ. դրամ
A9: Պետական բյուջեի եկամուտները | B9: Ցուցանիշների փոփոխությունը (ավելացումները նշված են դրական նշանով, իսկ նվազեցումները` փակագծերում)
B10: Տարի
A11: Ընդամենը | B11: =+B13 -> -491928.1
A12: այդ թվում
A13: Պաշտոնական դրամաշնորհներ | B13: =+'5'!E12 -> -491928.1

Sheet 3
D1: Հավելված № 3
D2: ՀՀ կառավարության 2021 թվականի
D3: № ------------ -Ն որոշման
A5: «ՀԱՅԱՍՏԱՆԻ ՀԱՆՐԱՊԵՏՈՒԹՅԱՆ 2021 ԹՎԱԿԱՆԻ ՊԵՏԱԿԱՆ ԲՅՈՒՋԵԻ ՄԱՍԻՆ» ՕՐԵՆՔԻ N 1 ՀԱՎԵԼՎԱԾԻ N 2 ԱՂՅՈՒՍԱԿՈՒՄ ԿԱՏԱՐՎՈՂ ՎԵՐԱԲԱՇԽՈՒՄԸ ԵՎ ՀԱՅԱՍՏԱՆԻ ՀԱՆՐԱՊԵՏՈՒԹՅԱՆ ԿԱՌԱՎԱՐՈՒԹՅԱՆ 2020 ԹՎԱԿԱՆԻ ԴԵԿՏԵՄԲԵՐԻ 30-Ի N 2215-Ն ՈՐՈՇՄԱՆ N 5 ՀԱՎԵԼՎԱԾԻ N 1 ԱՂՅՈՒՍԱԿՈՒՄ ԿԱՏԱՐՎՈՂ ՓՈՓՈԽՈՒԹՅՈՒՆՆԵՐԸ
A6: հազար դրամներով
A7: Ծրագրային դասիչը | C7: Բյուջետային հատկացումների գլխավոր կարգադրիչների, ծրագրերի և միջոցառումների անվանումները | D7: Ցուցանիշների փոփոխությունը (ավելացումները նշված են դրական նշանով, իսկ նվազեցումները` փակագծերում)
A8: Ծրագիր | B8: Միջոցառում | D8: Տարի
C9: ԸՆԴԱՄԵՆԸ | D9: =D10+D37 -> -491928.1
C10: ՀՀ ֆինանսների նախարարություն | D10: =D11 -> -614910.2
A11: 1108 | C11: Ծրագրի անվանումը` | D11: =+D18+D24 -> -614910.2
C12: Հանրային ֆինանսների կառավարման բնագավառում պետական քաղաքականության մշակում, ծրագրերի համակարգում և մոնիտորինգ
C13: Ծրագրի նպատակը`
C14: Հարկաբյուջետային քաղաքականության մշակում և իրականացման ապահովում, հանրային ֆինանսների արդյունավետ կառավարում
C15: Վերջնական արդյունքի նկարագրությունը`
C16: Հանրային ֆինանսների ձևավորման, բաշխման և օգտագործման արդյունավետության աճ, ֆինանսական կարգապահության բարելավում
A17: Ծրագրի միջոցառումներ
B18: 11008 | C18: Միջոցառման անվանումը` | D18: =+'5'!D18 -> 164606.6
C19: Ռուսաստանի Դաշնության կողմից Հայաստանի Հանրապետությանն անհատույց ֆինանսական օգնության դրամաշնորհային ծրագրի շրջանակներում խորհրդատվական ծառայությունների ձեռքբերում
C20: Միջոցառման նկարագրությունը`
C21: ՀՀ ֆինանսների նախարարության և ՌԴ ֆինանսների նախարարության միջև` Ռուսաստանի Դաշնության կողմից Հայաստանի Հանրապետությանն անհատույց ֆինանսական օգնության դրամաշնորհային ծրագրի շրջանակներում խորհրդատվական ծառայությունների ձեռքբերում
C22: Միջոցառման տեսակը
C23: Ծառայությունների մատուցում
B24: 32002 | C24: Միջոցառման անվանումը` | D24: =+'5'!D24 -> -779516.8
C25: Ռուսաստանի Դաշնության կողմից Հայաստանի Հանրապետությանն անհատույց ֆինանսական օգնության դրամաշնորհային ծրագիր շրջանակներում ԿՖԿՏՀ ներդրում
C26: Միջոցառման նկարագրությունը`
C27: ՀՀ ֆինանսների նախարարության և ՌԴ ֆինանսների նախարարության միջև` Ռուսաստանի Դաշնության կողմից Հայաստանի Հանրապետությանն անհատույց ֆինանսական օգնության դրամաշնորհային ծրագրի շրջանակներում Կառավարության ֆինանսական կառավարման տեղեկատվական համակարգերի ներդրում
C28: Միջոցառման տեսակը
C29: Այլ պետական կազմակերպությունների կողմից օգտագործվող ոչ ֆինանսական ակտիվների հետ գործառնություններ
C30: ՀՀ կառավարություն | D30: =+D31 -> 122982.1
A31: 1139 | C31: Ծրագրի անվանումը` | D31: =+D37 -> 122982.1
C32: ՀՀ կառավարության պահուստային ֆոնդ
C33: Ծրագրի նպատակը`
C34: Պետական բյուջեում չկանխատեսված, ինչպես նաեւ բյուջետային երաշխիքների ապահովման ծախսերի ֆինանսավորման ապահովում
C35: Վերջնական արդյունքի նկարագրությունը`
C36: Պահուստային ֆոնդի կառավարման արդյունավետության և թափանցիկության ապահովում
B37: 11001 | C37: Միջոցառման անվանումը` | D37: 122982.1
C38: ՀՀ կառավարության պահուստային ֆոնդ
C39: Միջոցառման նկարագրությունը`
C40: ՀՀ պետական բյուջեում նախատեսված ելքերի լրացուցիչ ֆինանսավորման, պետական բյուջեում չկանխատեսված ելքերի, ինչպես նաև բյուջետային երաշխիքների ապահովման ելքերի ֆինանսավորման ապահովում
C41: Միջոցառման տեսակը
...

Sheet 4
G2: Հավելված № 4
G3: ՀՀ կառավարության 2021 թվականի
G4: № ------------ -Ն որոշման
A6: ՀԱՅԱՍՏԱՆԻ ՀԱՆՐԱՊԵՏՈՒԹՅԱՆ ԿԱՌԱՎԱՐՈՒԹՅԱՆ 2020 ԹՎԱԿԱՆԻ ԴԵԿՏԵՄԲԵՐԻ 30-Ի N 2215-Ն ՈՐՈՇՄԱՆ NN 3 և 4 ՀԱՎԵԼՎԱԾՆԵՐՈՒՄ ԿԱՏԱՐՎՈՂ ՓՈՓՈԽՈՒԹՅՈՒՆՆԵՐԸ ԵՎ ԼՐԱՑՈՒՄՆԵՐԸ
G7: հազար դրամներով
A8: Գործառական դասիչը | D8: Ծրագրային դասիչը | F8: Բյուջետային ծախսերի գործառական դասակարգման բաժինների, խմբերի և դասերի, բյուջետային ծրագրերի միջոցառումների, բյուջետային հատկացումների գլխավոր կարգադրիչների անվանումները | G8: Ցուցանիշների փոփոխությունը (ավելացումները նշված են դրական նշանով, իսկ նվազեցումները` փակագծերում)
A9: Բաժին | B9: Խումբ | C9: Դաս | D9: Ծրագիր | E9: Միջոցառում | G9: Տարի
F10: ԸՆԴԱՄԵՆԸ | G10: =+G12+G38 -> -491928.1
F11: այդ թվում`
A12: 01 | F12: ԸՆԴՀԱՆՈՒՐ ԲՆՈՒՅԹԻ ՀԱՆՐԱՅԻՆ ԾԱՌԱՅՈՒԹՅՈՒՆՆԵՐ | G12: =G14 -> -614910.2
F13: այդ թվում`
B14: 06 | F14: Ընդհանուր բնույթի հանրային ծառայություններ (այլ դասերին չպատկանող) | G14: =G16 -> -614910.2
F15: այդ թվում`
C16: 01 | F16: Ընդհանուր բնույթի հանրային ծառայություններ (այլ դասերին չպատկանող) | G16: =G19 -> -614910.2
F17: այդ թվում`
F18: =+'[1]3'!C10 -> ՀՀ ֆինանսների նախարարություն
D19: =+'[1]3'!A11 -> 1108 | F19: =+'[1]3'!C12 -> Հանրային ֆինանսների կառավարման բնագավառում պետական քաղաքականության մշակում, ծրագրերի համակարգում և մոնիտորինգ | G19: =+G21+G29 -> -614910.2
F20: այդ թվում`
E21: 11008 | F21: =+'3'!C19 -> Ռուսաստանի Դաշնության կողմից Հայաստանի Հանրապետությանն անհատույց ֆինանսական օգնության դրամաշնորհային ծրագրի շրջանակներում խորհրդատվական ծառայությունների ձեռքբերում | G21: =G23 -> 164606.6
F22: այդ թվում` ըստ կատարողների
F23: ՀՀ ֆինանսների նախարարություն | G23: =G25 -> 164606.6
F24: այդ թվում` բյուջետային ծախսերի տնտեսագիտական դասակարգման հոդվածներ
F25: ԸՆԴԱՄԵՆԸ ԾԱԽՍԵՐ | G25: =G26 -> 164606.6
F26: ԸՆԹԱՑԻԿ ԾԱԽՍԵՐ | G26: =G27 -> 164606.6
F27: ԱՅԼ ԾԱԽՍԵՐ | G27: =G28 -> 164606.6
F28: -Այլ ծախսեր | G28: =+'5'!D23 -> 164606.6
E29: 32002 | F29: =+'3'!C25 -> Ռուսաստանի Դաշնության կողմից Հայաստանի Հանրապետությանն անհատույց ֆինանսական օգնության դրամաշնորհային ծրագիր շրջանակներում ԿՖԿՏՀ ներդրում | G29: =G31 -> -779516.8
F30: այդ թվում` ըստ կատարողների
F31: ՀՀ ֆինանսների նախարարություն | G31: =G33 -> -779516.8
F32: այդ թվում` բյուջետային ծախսերի տնտեսագիտական դասակարգման հոդվածներ
F33: ԸՆԴԱՄԵՆԸ ԾԱԽՍԵՐ | G33: =+G34 -> -779516.8
F34: ՈՉ ՖԻՆԱՆՍԱԿԱՆ ԱԿՏԻՎՆԵՐԻ ԳԾՈՎ ԾԱԽՍԵՐ | G34: =G35 -> -779516.8
F35: ՀԻՄՆԱԿԱՆ ՄԻՋՈՑՆԵՐ | G35: =+G36 -> -779516.8
F36: ՄԵՔԵՆԱՆԵՐ ԵՎ ՍԱՐՔԱՎՈՐՈՒՄՆԵՐ | G36: =+G37 -> -779516.8
F37: - Այլ մեքենաներ և սարքավորումներ | G37: =+'5'!D29 -> -779516.8
A38: 11 | F38: ՀԻՄՆԱԿԱՆ ԲԱԺԻՆՆԵՐԻՆ ՉԴԱՍՎՈՂ ՊԱՀՈՒՍՏԱՅԻՆ ՖՈՆԴԵՐ | G38: =G40 -> 122982.1
F39: այդ թվում`
B40: 01 | F40: ՀՀ կառավարության և համայնքների պահուստային ֆոնդ | G40: =G42 -> 122982.1
F41: այդ թվում`
C42: 01 | F42: ՀՀ կառավարության պահուստային ֆոնդ | G42: =G44 -> 122982.1
...

Sheet 5
E1: Հավելված № 5
F2: ՀՀ կառավարության 2021 թվականի
F3: № ------------ -Ն որոշման
A6: «ՀԱՅԱՍՏԱՆԻ ՀԱՆՐԱՊԵՏՈՒԹՅԱՆ 2021 ԹՎԱԿԱՆԻ ՊԵՏԱԿԱՆ ԲՅՈՒՋԵԻ ՄԱՍԻՆ» ՕՐԵՆՔԻ N 1 ՀԱՎԵԼՎԱԾԻ N 5 ԱՂՅՈՒՍԱԿՈՒՄ ԿԱՏԱՐՎՈՂ ՎԵՐԱԲԱՇԽՈՒՄԸ ԵՎ ՀԱՅԱՍՏԱՆԻ ՀԱՆՐԱՊԵՏՈՒԹՅԱՆ ԿԱՌԱՎԱՐՈՒԹՅԱՆ 2020 ԹՎԱԿԱՆԻ ԴԵԿՏԵՄԲԵՐԻ 30-Ի N 2215-Ն ՈՐՈՇՄԱՆ N 5 ՀԱՎԵԼՎԱԾԻ N 4 ԱՂՅՈՒՍԱԿՈՒՄ ԿԱՏԱՐՎՈՂ ՓՈՓՈԽՈՒԹՅՈՒՆՆԵՐԸ
E7: հազար դրամներով
A8: Ծրագրի դասիչը | C8: Բյուջետային հատկացումների գլխավոր կարգադրիչների, ծրագրերի, միջոցառումների և միջոցառումները կատարող պետական մարմինների անվանումները | D8: Ցուցանիշների փոփոխությունը (ավելացումները նշված են դրական նշանով, իսկ նվազեցումները` փակագծերում)
D9: Տարի
D10: Ընդամենը | E10: այդ թվում
A11: ծրագիր | B11: միջոցառումը | E11: Դրամաշնորհային միջոցներ | F11: Համաֆինանսավորում
C12: ԸՆԴԱՄԵՆԸ այդ թվում` | D12: =D13+D14 -> -614910.2 | E12: =E13+E14 -> -491928.1 | F12: =F13+F14 -> -122982.1
C13: - ԸՆԹԱՑԻԿ ԾԱԽՍԵՐ | D13: =D22 -> 164606.6 | E13: =E22 -> 131685.3 | F13: =F22 -> 32921.3
C14: - ՈՉ ՖԻՆԱՆՍԱԿԱՆ ԱԿՏԻՎՆԵՐԻ ԳԾՈՎ ԾԱԽՍԵՐ | D14: =+D28 -> -779516.8 | E14: =+E28 -> -623613.4 | F14: =+F28 -> -155903.4
C15: ՀՀ ՖԻՆԱՆՍՆԵՐԻ ՆԱԽԱՐԱՐՈՒԹՅՈՒՆ_x000D_ այդ թվում` | D15: =D16 -> -614910.2 | E15: =E16 -> -491928.1 | F15: =F16 -> -122982.1
A16: ='3'!A11 -> 1108 | C16: ='3'!C12 -> Հանրային ֆինանսների կառավարման բնագավառում պետական քաղաքականության մշակում, ծրագրերի համակարգում և մոնիտորինգ | D16: =D18+D24 -> -614910.2 | E16: =E18+E24 -> -491928.1 | F16: =F18+F24 -> -122982.1
C17: այդ թվում`
B18: ='3'!B18 -> 11008 | C18: ='3'!C19 -> Ռուսաստանի Դաշնության կողմից Հայաստանի Հանրապետությանն անհատույց ֆինանսական օգնության դրամաշնորհային ծրագրի շրջանակներում խորհրդատվական ծառայությունների ձեռքբերում | D18: =D20 -> 164606.6 | E18: =E20 -> 131685.3 | F18: =F20 -> 32921.3
C19: այդ թվում` ըստ կատարողների
C20: ='4'!F23 -> ՀՀ ֆինանսների նախարարություն | D20: =D22 -> 164606.6 | E20: =E22 -> 131685.3 | F20: =F22 -> 32921.3
C21: այդ թվում` բյուջետային ծախսերի տնտեսագիտական դասակարգման հոդվածներ
C22: ԸՆԹԱՑԻԿ ԾԱԽՍԵՐ | D22: =D23 -> 164606.6 | E22: =E23 -> 131685.3 | F22: =F23 -> 32921.3
C23: - Այլ ծախսեր | D23: =E23+F23 -> 164606.6 | E23: 131685.3 | F23: 32921.3
B24: ='3'!B24 -> 32002 | C24: ='3'!C25 -> Ռուսաստանի Դաշնության կողմից Հայաստանի Հանրապետությանն անհատույց ֆինանսական օգնության դրամաշնորհային ծրագիր շրջանակներում ԿՖԿՏՀ ներդրում | D24: =D26 -> -779516.8 | E24: =E26 -> -623613.4 | F24: =F26 -> -155903.4
C25: այդ թվում` ըստ կատարողների
C26: =+'4'!F31 -> ՀՀ ֆինանսների նախարարություն | D26: =D28 -> -779516.8 | E26: =E28 -> -623613.4 | F26: =F28 -> -155903.4
C27: այդ թվում` բյուջետային ծախսերի տնտեսագիտական դասակարգման հոդվածներ
C28: =+'4'!F34 -> ՈՉ ՖԻՆԱՆՍԱԿԱՆ ԱԿՏԻՎՆԵՐԻ ԳԾՈՎ ԾԱԽՍԵՐ | D28: =D29 -> -779516.8 | E28: =E29 -> -623613.4 | F28: =F29 -> -155903.4
C29: - Այլ մեքենաներ և սարքավորումներ | D29: =E29+F29 -> -779516.8 | E29: -623613.4 | F29: -155903.4

Sheet 6
C1: Հավելված № 6
C2: ՀՀ կառավարության 2021 թվականի
C3: № ------------ -Ն որոշման
A5: ՀԱՅԱՍՏԱՆԻ ՀԱՆՐԱՊԵՏՈՒԹՅԱՆ ԿԱՌԱՎԱՐՈՒԹՅԱՆ 2020 ԹՎԱԿԱՆԻ ԴԵԿՏԵՄԲԵՐԻ 30-Ի N 2215-Ն ՈՐՈՇՄԱՆ N 9 ՀԱՎԵԼՎԱԾԻ 9.18 ԵՎ N 9.47 ԱՂՅՈՒՍԱԿՈՒՄ ԿԱՏԱՐՎՈՂ ՓՈՓՈԽՈՒԹՅՈՒՆՆԵՐԸ
C6: Աղյուսակ 9.18
A7: ՀՀ ֆինանսների նախարարություն
A8: ՄԱՍ 2 ՊԵՏԱԿԱՆ ՄԱՐՄՆԻ ԳԾՈՎ ԱՐԴՅՈՒՆՔԱՅԻՆ (ԿԱՏԱՐՈՂԱԿԱՆ) ՑՈՒՑԱՆԻՇՆԵՐԸ
A9: Ծրագրի դասիչը | B9: Ծրագրի անվանումը
A10: 1108 | B10: Հանրային ֆինանսների կառավարման բնագավառում պետական քաղաքականության մշակում, ծրագրերի համակարգում և մոնիտորինգ
A13: Ծրագրի միջոցառումները
A14: Ծրագրի դասիչը` | B14: 1108 | C14: Ցուցանիշների փոփոխությունը (ավելացումները նշված են դրական նշանով, իսկ նվազեցումները` փակագծերում)
A15: Միջոցառման դասիչը` | B15: 11008 | C15: Տարի
A16: Միջոցառման անվանումը` | B16: Ռուսաստանի Դաշնության կողմից Հայաստանի Հանրապետությանն անհատույց ֆինանսական օգնության դրամաշնորհային ծրագրի շրջանակներում խորհրդատվական ծառայությունների ձեռքբերում
A17: Նկարագրությունը` | B17: ՀՀ ֆինանսների նախարարության և ՌԴ ֆինանսների նախարարության միջև` Ռուսաստանի Դաշնության կողմից Հայաստանի Հանրապետությանն անհատույց ֆինանսական օգնության դրամաշնորհային ծրագրի շրջանակներում խորհրդատվական ծառայությունների ձեռքբերում
A18: Միջոցառման տեսակը` | B18: Ծառայությունների մատուցում
A19: Միջոցառումն իրականացնողի անվանումը | B19: Մասնագիտացված միավոր
A20: Արդյունքի չափորոշիչներ
A21: Խորհրդատվական ծառայությունների ձեռքբերման պայմանագիր (քանակ) | C21: 1
A22: Միջոցառման վրա կատարվող ծախսը (հազար դրամ) | C22: =+'5'!D13 -> 164606.6
A24: Ծրագրի միջոցառումները
A25: Ծրագրի դասիչը` | B25: 1108 | C25: Ցուցանիշների փոփոխությունը (ավելացումները նշված են դրական նշանով, իսկ նվազեցումները` փակագծերում)
A26: Միջոցառման դասիչը` | B26: 32002 | C26: Տարի
A27: Միջոցառման անվանումը` | B27: Ռուսաստանի Դաշնության կողմից Հայաստանի Հանրապետությանն անհատույց ֆինանսական օգնության դրամաշնորհային ծրագիր շրջանակներում ԿՖԿՏՀ ներդրում
A28: Նկարագրությունը` | B28: ՀՀ ֆինանսների նախարարության և ՌԴ ֆինանսների նախարարության միջև` Ռուսաստանի Դաշնության կողմից Հայաստանի Հանրապետությանն անհատույց ֆինանսական օգնության դրամաշնորհային ծրագրի շրջանակներում Կառավարության ֆինանսական կառավարման տեղեկատվական համակարգերի ներդրում
A29: Միջոցառման տեսակը` | B29: Այլ պետական կազմակերպությունների կողմից օգտագործվաղ ոչ ֆինանսական ակտիվների հետ գործառնություններ
A30: Ակտիվն օգտագործող կազմակերպության անվանումը | B30: ՀՀ հանրային հատվածի կազմակերպություններ
A31: Արդյունքի չափորոշիչներ
A32: Տեխնիկական առաջադրանքին համապատասխան ներդրված ԿՖԿՏՀ, % | C32: -100
A33: Միջոցառման վրա կատարված ծախսը (հազար դրամ) | C33: =+'5'!D28 -> -779516.8
C34: Աղյուսակ 9.47
A35: ՀՀ կառավարություն
A36: ՄԱՍ 2. ՊԵՏԱԿԱՆ ՄԱՐՄՆԻ ԳԾՈՎ ԱՐԴՅՈՒՆՔԱՅԻՆ (ԿԱՏԱՐՈՂԱԿԱՆ) ՑՈՒՑԱՆԻՇՆԵՐԸ
A37: Ծրագրի դասիչը | B37: Ծրագրի անվանումը
A38: 1139 | B38: ՀՀ կառավարության պահուստային ֆոնդ
A39: Ծրագրի միջոցառումները
A41: Ծրագրի դասիչը` | B41: 1139 | C41: Ցուցանիշների փոփոխությունը (ավելացումները նշված են դրական նշանով, իսկ նվազեցումները` փակագծերում)
A42: Միջոցառման դասիչը` | B42: 11001 | C42: Տարի
A43: Միջոցառման անվանումը` | B43: ՀՀ կառավարության պահուստային ֆոնդ
A44: Նկարագրությունը` | B44: ՀՀ պետական բյուջեում նախատեսված ելքերի լրացուցիչ ֆինանսավորման, պետական բյուջեում չկանխատեսված ելքերի, ինչպես նաև բյուջետային երաշխիքների ապահովման ելքերի ֆինանսավորման ապահովում
A45: Միջոցառման տեսակը` | B45: Ծառայությունների մատուցում
...

Sheet 7
C1: Հավելված № 7
C2: ՀՀ կառավարության 2021 թվականի
C3: № ------------ -Ն որոշման
A5: ՀԱՅԱՍՏԱՆԻ ՀԱՆՐԱՊԵՏՈՒԹՅԱՆ ԿԱՌԱՎԱՐՈՒԹՅԱՆ 2020 ԹՎԱԿԱՆԻ ԴԵԿՏԵՄԲԵՐԻ 30-Ի N 2215-Ն ՈՐՈՇՄԱՆ N 9.1 ՀԱՎԵԼՎԱԾԻ 9.1.18 և 9.1.58 ԱՂՅՈՒՍԱԿՈՒՄ ԿԱՏԱՐՎՈՂ ՓՈՓՈԽՈՒԹՅՈՒՆՆԵՐԸ
C6: Աղյուսակ 9.1,18 ՀԱՅԱՍՏԱՆԻ ՀԱՆՐԱՊԵՏՈՒԹՅԱՆ ԿԱՌԱՎԱՐՈՒԹՅԱՆ 2019 ԹՎԱԿԱՆԻ ԴԵԿՏԵՄԲԵՐԻ 26-Ի N 1919-Ն ՈՐՈՇՄԱՆ N 9 ՀԱՎԵԼՎԱԾԻ 9.9 ԱՂՅՈՒՍԱԿՈՒՄ ԿԱՏԱՐՎՈՂ ՓՈՓՈԽՈՒԹՅՈՒՆՆԵՐԸ ԵՎ ԼՐԱՑՈՒՄԸ _x000D_
A7: ՀՀ ֆինանսների նախարարություն
A8: ՄԱՍ 1. ՊԵՏԱԿԱՆ ՄԱՐՄՆԻ ԳԾՈՎ ԱՐԴՅՈՒՆՔԱՅԻՆ (ԿԱՏԱՐՈՂԱԿԱՆ) ՑՈՒՑԱՆԻՇՆԵՐԸ
A9: Ծրագրի դասիչը | B9: Ծրագրի անվանումը
A10: 1108 | B10: Հանրային ֆինանսների կառավարման բնագավառում պետական քաղաքականության մշակում, ծրագրերի համակարգում և մոնիտորինգ
A12: Ծրագրի միջոցառումները
A14: Ծրագրի դասիչը` | B14: 1108 | C14: Ցուցանիշների փոփոխությունը (ավելացումները նշված են դրական նշանով, իսկ նվազեցումները` փակագծերում)
A15: Միջոցառման դասիչը` | B15: 11008 | C15: Տարի
A16: Միջոցառման անվանումը` | B16: Ռուսաստանի Դաշնության կողմից Հայաստանի Հանրապետությանն անհատույց ֆինանսական օգնության դրամաշնորհային ծրագրի շրջանակներում խորհրդատվական ծառայությունների ձեռքբերում
A17: Նկարագրությունը` | B17: ՀՀ ֆինանսների նախարարության և ՌԴ ֆինանսների նախարարության միջև` Ռուսաստանի Դաշնության կողմից Հայաստանի Հանրապետությանն անհատույց ֆինանսական օգնության դրամաշնորհային ծրագրի շրջանակներում խորհրդատվական ծառայությունների ձեռքբերում
A18: Միջոցառման տեսակը` | B18: Ծառայությունների մատուցում
A19: Միջոցառումն իրականացնողի անվանումը | B19: Մասնագիտացված միավոր
A20: Արդյունքի չափորոշիչներ
A21: Խորհրդատվական ծառայությունների ձեռքբերման պայմանագիր (քանակ) | C21: 1
A22: Միջոցառման վրա կատարվող ծախսը (հազար դրամ) | C22: =+'5'!D13 -> 164606.6
A24: Ծրագրի դասիչը` | B24: 1108 | C24: Ցուցանիշների փոփոխությունը (ավելացումները նշված են դրական նշանով, իսկ նվազեցումները` փակագծերում)
A25: Միջոցառման դասիչը` | B25: 32002 | C25: Տարի
A26: Միջոցառման անվանումը` | B26: Ռուսաստանի Դաշնության կողմից Հայաստանի Հանրապետությանն անհատույց ֆինանսական օգնության դրամաշնորհային ծրագիր շրջանակներում ԿՖԿՏՀ ներդրում
A27: Նկարագրությունը` | B27: ՀՀ ֆինանսների նախարարության և ՌԴ ֆինանսների նախարարության միջև` Ռուսաստանի Դաշնության կողմից Հայաստանի Հանրապետությանն անհատույց ֆինանսական օգնության դրամաշնորհային ծրագրի շրջանակներում Կառավարության ֆինանսական կառավարման տեղեկատվական համակարգերի ներդրում
A28: Միջոցառման տեսակը` | B28: Այլ պետական կազմակերպությունների կողմից օգտագործվաղ ոչ ֆինանսական ակտիվների հետ գործառնություններ
A29: Ակտիվն օգտագործող կազմակերպության անվանումը | B29: ՀՀ հանրային հատվածի կազմակերպություններ
A30: Արդյունքի չափորոշիչներ
A31: Տեխնիկական առաջադրանքին համապատասխան ներդրված ԿՖԿՏՀ, % | C31: -100
A32: Միջոցառման վրա կատարված ծախսը (հազար դրամ) | C32: =+'5'!D29 -> -779516.8
C33: Աղյուսակ 9.1.58
A34: ՀՀ կառավարություն
A35: ՄԱՍ 1. ՊԵՏԱԿԱՆ ՄԱՐՄՆԻ ԳԾՈՎ ԱՐԴՅՈՒՆՔԱՅԻՆ (ԿԱՏԱՐՈՂԱԿԱՆ) ՑՈՒՑԱՆԻՇՆԵՐԸ
A36: Ծրագրի դասիչը | B36: Ծրագրի անվանումը
A37: 1139 | B37: ՀՀ կառավարության պահուստային ֆոնդ
A38: Ծրագրի միջոցառումները
A40: Ծրագրի դասիչը` | B40: 1139 | C40: Ցուցանիշների փոփոխությունը (ավելացումները նշված են դրական նշանով, իսկ նվազեցումները` փակագծերում)
A41: Միջոցառման դասիչը` | B41: 11001 | C41: Տարի
A42: Միջոցառման անվանումը` | B42: ՀՀ կառավարության պահուստային ֆոնդ
A43: Նկարագրությունը` | B43: ՀՀ պետական բյուջեում նախատեսված ելքերի լրացուցիչ ֆինանսավորման, պետական բյուջեում չկանխատեսված ելքերի, ինչպես նաև բյուջետային երաշխիքների ապահովման ելքերի ֆինանսավորման ապահովում
A44: Միջոցառման տեսակը` | B44: Ծառայությունների մատուցում
A45: Արդյունքի չափորոշիչներ
...
