Workbook
Name AgencyCode: #REF!
Name AgencyCode: #REF!
Name AgencyCode: #REF!
Name AgencyCode: #REF!
Name AgencyCode: #REF!
Name AgencyName: #REF!
Name AgencyName: #REF!
Name AgencyName: #REF!
Name AgencyName: #REF!
Name AgencyName: #REF!
Name avtobus: #REF!
Name davit: #REF!
Name davit: #REF!
Name davit: #REF!
Name davit: #REF!
Name davit: #REF!
Name Functional1: #REF!
Name Functional1: #REF!
Name Functional1: #REF!
Name Functional1: #REF!
Name Functional1: #REF!
Name ggg: #REF!
Name ggg: #REF!
Name ggg: #REF!
Name ggg: #REF!
Name ggg: #REF!
Name PANature: #REF!
Name PANature: #REF!
Name PANature: #REF!
Name PANature: #REF!
Name PANature: #REF!
Name PAType: #REF!
Name PAType: #REF!
Name PAType: #REF!
Name PAType: #REF!
Name PAType: #REF!
Name Performance2: #REF!
Name Performance2: #REF!
Name Performance2: #REF!
Name Performance2: #REF!
Name Performance2: #REF!
Name PerformanceType: #REF!
Name PerformanceType: #REF!
Name PerformanceType: #REF!
Name PerformanceType: #REF!
Name PerformanceType: #REF!
Name sir: #REF!
Name Հավելված: #REF!
Name Հավելված: #REF!
Name Հավելված: #REF!
Name Հավելված: #REF!
Name Հավելված: #REF!
Name Մաս: #REF!
Name Մաս: #REF!
Name Մաս: #REF!
Name Մաս: #REF!
Name Մաս: #REF!
Name շախմատիստ: #REF!
Name շախմատիստ: #REF!
Name շախմատիստ: #REF!

Sheet havelvac 1
A1: Հավելված N 1
B2: ՀՀ կառավարության 2021 թվականի ---------------ի N –Ն որոշման
A5: «ՀԱՅԱUՏԱՆԻ ՀԱՆՐԱՊԵՏՈՒԹՅԱՆ 2021 ԹՎԱԿԱՆԻ ՊԵՏԱԿԱՆ ԲՅՈՒՋԵԻ ՄԱUԻՆ» ՀԱՅԱUՏԱՆԻ ՀԱՆՐԱՊԵՏՈՒԹՅԱՆ OՐԵՆՔԻ 2-ՐԴ ՀՈԴՎԱԾԻ ԱՂՅՈՒUԱԿՈՒՄ ԿԱՏԱՐՎՈՂ ԼՐԱՑՈՒՄՆԵՐԸ
B7: (հազ. դրամ)
B8: Ցուցանիշների փոփոխությունը (գումարների ավելացումը նշված է դրական նշանով)
A9: Եկամուտների գծով | B9: =B10 -> 2170261.6
A10: Ծախսերի գծով | B10: 2170261.6
A11: Դեֆիցիտը (պակասուրդը) | B11: _
A17: ՀԱՅԱՍՏԱՆԻ ՀԱՆՐԱՊԵՏՈՒԹՅԱՆ
A18: ՎԱՐՉԱՊԵՏԻ ԱՇԽԱՏԱԿԱԶՄԻ
A19: ՂԵԿԱՎԱՐ Է.ԱՂԱՋԱՆՅԱՆ | B19: Ա.ՀԱՐՈՒԹՅՈՒՆՅԱՆ

Sheet havelvac -2
B1: Հավելված N 2
B2: ՀՀ կառավարության 2021 թվականի ----------ի N –Ն որոշման
A5: «ՀԱՅԱUՏԱՆԻ ՀԱՆՐԱՊԵՏՈՒԹՅԱՆ 2021 ԹՎԱԿԱՆԻ ՊԵՏԱԿԱՆ ԲՅՈՒՋԵԻ ՄԱUԻՆ» ՀԱՅԱUՏԱՆԻ ՀԱՆՐԱՊԵՏՈՒԹՅԱՆ OՐԵՆՔԻ 6-ՐԴ ՀՈԴՎԱԾԻ ԱՂՅՈՒUԱԿՈՒՄ ԵՎ ՀԱՅԱUՏԱՆԻ ՀԱՆՐԱՊԵՏՈՒԹՅԱՆ ԿԱՌԱՎԱՐՈՒԹՅԱՆ 2020 ԹՎԱԿԱՆԻ ԴԵԿՏԵՄԲԵՐԻ 30-Ի N 2215-Ն ՈՐՈՇՄԱՆ N 2 ՀԱՎԵԼՎԱԾՈՒՄ ԿԱՏԱՐՎՈՂ ԼՐԱՑՈՒՄԸ
A7: (հազ. դրամ)
A8: Պետական բյուջեի եկամուտներ | B8: Ցուցանիշների փոփոխությունը (գումարների ավելացումը նշված է դրական նշանով)
B9: տարի
A10: ԸՆԴԱՄԵՆԸ | B10: =+B12 -> 2170261.6
A11: Այդ թվում`
A12: Հարկային եկամուտներ և պետական տուրքեր | B12: 2170261.6
A17: ՀԱՅԱՍՏԱՆԻ ՀԱՆՐԱՊԵՏՈՒԹՅԱՆ
A18: ՎԱՐՉԱՊԵՏԻ ԱՇԽԱՏԱԿԱԶՄԻ
A19: ՂԵԿԱՎԱՐ՝ Ա.ՀԱՐՈՒԹՅՈՒՆՅԱՆ

Sheet havelvac3
C1: Հավելված N 3 ՀՀ կառավարության 2021 թվականի ––-------------------–––––––– N –––––– որոշման
A3: «ՀԱՅԱUՏԱՆԻ ՀԱՆՐԱՊԵՏՈՒԹՅԱՆ 2021 ԹՎԱԿԱՆԻ ՊԵՏԱԿԱՆ ԲՅՈՒՋԵԻ ՄԱUԻՆ» ՀԱՅԱUՏԱՆԻ ՀԱՆՐԱՊԵՏՈՒԹՅԱՆ OՐԵՆՔԻ N 1 ՀԱՎԵԼՎԱԾԻ N 2 ԱՂՅՈՒՍԱԿՈՒՄ ԵՎ ՀԱՅԱՍՏԱՆԻ ՀԱՆՐԱՊԵՏՈՒԹՅԱՆ ԿԱՌԱՎԱՐՈՒԹՅԱՆ 2020 ԹՎԱԿԱՆԻ ԴԵԿՏԵՄԲԵՐԻ 30-Ի ԹԻՎ 2215-Ն ՈՐՈՇՄԱՆ N 5 ՀԱՎԵԼՎԱԾԻ N 1 ԱՂՅՈՒՍԱԿՈՒՄ ԿԱՏԱՐՎՈՂ ԼՐԱՑՈՒՄԸ
D4: հազար դրամ
A5: Ծրագրային դասիչը | C5: Բյուջետային հատկացումների գլխավոր կարգադրիչների, ծրագրերի և միջոցառումների անվանումները | D5: Ցուցանիշների փոփոխությունը (ավելացումները նշված են դրական նշանով)
A6: Ծրագիր | B6: Միջոցառում | D6: Տարի
B7: ԸՆԴԱՄԵՆԸ | D7: =+D9 -> 2170261.6
C8: ՀՀ տարածքային կառավարման և ենթակառուցվածքների նախարարություն
A9: 1157 | C9: Ծրագրի անվանումը՝ | D9: =+D16 -> 2170261.6
C10: Քաղաքային զարգացում
C11: Ծրագրի նպատակը՝
C12: Երևան քաղաքի երթուղային ցանցի զարգացման, արդիականացման աշխատանքներ
C13: Վերջնական արդյունքի նկարագրությունը՝
C14: Երևան քաղաքի երթուղային ցանցի զարգացման, արդիականացում
A15: Ծրագրի միջոցառումներ
B16: 12027 | C16: Միջոցառման անվանումը՝ | D16: =+'havelvac 5'!D10 -> 2170261.6
C17: Տրանսպորտային համակարգերի արդյունավեւտության բարելավում
C18: Միջոցառման նկարագրությունը՝
C19: Երևան քաղաքի երթուղային ցանցի զարգացման, արդիականացման աշխատանքներ
C20: Միջոցառման տեսակը՝
C21: Տրանսֆերտների տրամադրում
A23: ՀԱՅԱՍՏԱՆԻ ՀԱՆՐԱՊԵՏՈՒԹՅԱՆ
A24: ՎԱՐՉԱՊԵՏԻ ԱՇԽԱՏԱԿԱԶՄԻ
A25: ՂԵԿԱՎԱՐ՝ Ա.ՀԱՐՈՒԹՅՈՒՆՅԱՆ | C25: Ա.ՀԱՐՈՒԹՅՈՒՆՅԱՆ

Sheet havelvac 4
G2: Հավելված N 4
F3: ՀՀ կառավարության 2021 թվականի ---------------ի N –Ն որոշման
A5: ՀԱՅԱՍՏԱՆԻ ՀԱՆՐԱՊԵՏՈՒԹՅԱՆ ԿԱՌԱՎԱՐՈՒԹՅԱՆ 2020 ԹՎԱԿԱՆԻ ԴԵԿՏԵՄԲԵՐԻ 30-Ի N 2215-Ն ՈՐՈՇՄԱՆ NN 3 ԵՎ 4 ՀԱՎԵԼՎԱԾՆԵՐՈՒՄ ԿԱՏԱՐՎՈՂ ԼՐԱՑՈՒՄԸ
G7: (հազ. դրամ)
A8: Գործառական դասիչը | D8: Ծրագրային դասիչը | F8: Բյուջետային ծախսերի գործառական դասակարգման բաժինների, խմբերի և դասերի, բյուջետային ծրագրերի միջոցառումների, բյուջետային հատկացումների գլխավոր կարգադրիչների անվանումները | G8: Ցուցանիշների փոփոխությունները (ավելացումները նշված են դրական նշանով)
A9: բաժինը | B9: խումբը | C9: դասը | D9: ծրագիրը | E9: միջոցառումը
G10: տարի
F11: ԸՆԴԱՄԵՆԸ՝ ԾԱԽՍԵՐ | G11: =+G13 -> 2170261.6
F12: այդ թվում`
A13: 04 | F13: ՏՆՏԵՍԱԿԱՆ ՀԱՐԱԲԵՐՈՒԹՅՈՒՆՆԵՐ | G13: =+G15 -> 2170261.6
F14: այդ թվում`
B15: 5 | F15: Տրանսպորտ | G15: =+G17 -> 2170261.6
F16: այդ թվում`
C17: 1 | F17: Ճանապարհային տրանսպորտ | G17: =+G19 -> 2170261.6
F18: այդ թվում`
F19: ՀՀ տարածքային կառավարման և ենթակառուցվածքների նախարարություն | G19: =+G21 -> 2170261.6
F20: այդ թվում`
D21: 1157 | F21: Քաղաքային զարգացում | G21: =+G23 -> 2170261.6
F22: այդ թվում`
E23: 12027 | F23: Տրանսպորտային համակարգերի արդյունավեւտության բարելավում | G23: =+G25 -> 2170261.6
F24: այդ թվում` ըստ կատարողների
F25: ՀՀ տարածքային կառավարման և ենթակառուցվածքների նախարարություն | G25: =+G27 -> 2170261.6
F26: Այդ թվում` բյուջետային ծախսերի տնտեսագիտական դասակարգման հոդվածներ
F27: ԸՆԴԱՄԵՆԸ՝ ԾԱԽՍԵՐ | G27: =+G28 -> 2170261.6
F28: ԸՆԹԱՑԻԿ ԾԱԽՍԵՐ | G28: =+G29 -> 2170261.6
F29: ԴՐԱՄԱՇՆՈՐՀՆՈՐ | G29: =+G30 -> 2170261.6
F30: Ընթացիկ դրամաշնորհներ պետական հատվածի այլ մակարդակներին | G30: =+G31 -> 2170261.6
F31: - Ընթացիկ սուբվենցիաներ համայնքներին | G31: 2170261.6
A33: ՀԱՅԱՍՏԱՆԻՀԱՆՐԱՊԵՏՈՒԹՅԱՆ
A34: ՎԱՐՉԱՊԵՏԻ ԱՇԽԱՏԱԿԱԶՄԻ
A35: ՂԵԿԱՎԱՐ Է.ԱՂԱՋԱՆՅԱՆ | F35: Ա.ՀԱՐՈՒԹՅՈՒՆՅԱՆ

Sheet havelvac 5
D1: Հավելված 5
D2: ՀՀ կառավարության 2021 թվականի
D3: ______________ ի ___Ն որոշման
A5: «ՀԱՅԱUՏԱՆԻ ՀԱՆՐԱՊԵՏՈՒԹՅԱՆ 2021 ԹՎԱԿԱՆԻ ՊԵՏԱԿԱՆ ԲՅՈՒՋԵԻ ՄԱUԻՆ» ՀԱՅԱUՏԱՆԻ ՀԱՆՐԱՊԵՏՈՒԹՅԱՆ OՐԵՆՔԻ N 1 ՀԱՎԵԼՎԱԾԻ N 7 ԱՂՅՈՒՍԱԿՈՒՄ ԵՎ ՀԱՅԱՍՏԱՆԻ ՀԱՆՐԱՊԵՏՈՒԹՅԱՆ ԿԱՌԱՎԱՐՈՒԹՅԱՆ 2020 ԹՎԱԿԱՆԻ ԴԵԿՏԵՄԲԵՐԻ 30-Ի N 2215-Ն ՈՐՈՇՄԱՆ N 5 ՀԱՎԵԼՎԱԾԻ N 6 ԱՂՅՈՒՍԱԿՈՒՄ ԿԱՏԱՐՎՈՂ ԼՐԱՑՈՒՄԸ
D7: /հազար դրամ/
A8: Ծրագրային դասիչը | C8: Հատկացումների տրամադրման նպատակները և բյուջետային գլխավոր կարգադրիչների, ծրագրերի, միջոցառումների և կատարող պետական մարմնի անվանումները | D8: Ցուցանիշների փոփոխությունը (ավելացումները նշված են դրական նշանով)
A9: Ծրագիր | B9: Միջոցառում | D9: Տարի
C10: Ընդամենը | D10: =+D12 -> 2170261.6
A11: այդ թվում`
A12: ՀՀ տարածքային կառավարման և ենթակառուցվածքների նախարարություն | D12: =D14 -> 2170261.6
A13: այդ թվում`
A14: 1157 | B14: =+'havelvac 4'!F21 -> Քաղաքային զարգացում | D14: =+D15 -> 2170261.6
B15: 12027 | C15: =+'havelvac 4'!F23 -> Տրանսպորտային համակարգերի արդյունավեւտության բարելավում | D15: =+D16 -> 2170261.6
C16: ՀՀ տարածքային կառավարման և ենթակառուցվածքների նախարարություն | D16: 2170261.6
A19: ՀԱՅԱՍՏԱՆԻ ՀԱՆՐԱՊԵՏՈՒԹՅԱՆ
A20: ՎԱՐՉԱՊԵՏԻ ԱՇԽԱՏԱԿԱԶՄԻ
C21: ՂԵԿԱՎԱՐ՝ Ա.ՀԱՐՈՒԹՅՈՒՆՅԱՆ

Sheet havelvac 6
F1: Հավելված N 6
F2: ՀՀ կառավարության 2021 թվականի
F3: ______________ ի ___Ն որոշման
A6: ՀԱՅԱՍՏԱՆԻ ՀԱՆՐԱՊԵՏՈՒԹՅԱՆ ԿԱՌԱՎԱՐՈՒԹՅԱՆ 2020 ԹՎԱԿԱՆԻ ԴԵԿՏԵՄԲԵՐԻ 30-Ի N 2215-Ն ՈՐՈՇՄԱՆ N 8 ՀԱՎԵԼՎԱԾԻ ՑԱՆԿՈՒՄ ԿԱՏԱՐՎՈՂ ԼՐԱՑՈՒՄԸ
A8: ՑԱՆԿ
A10: Գործառական դասիչ | D10: Ծրագրային դասիչը | F10: Բյուջետային հատակացումների գլխավոր կարգադրիչներ, ծրագրերի, միջոցառումների և միջոցառումներն իրականացնող պետական մարմինների անվանումները
A11: Բաժին | B11: Խումբ | C11: Դաս | D11: Ծրագիր | E11: Միջոցառում
A12: 04 | F12: ՏՆՏԵՍԱԿԱՆ ՀԱՐԱԲԵՐՈՒԹՅՈՒՆՆԵՐ
B13: 05 | F13: Տրանսպորտ
C14: 01 | F14: Ճանապարհային տրանսպորտ
D15: 1157 | F15: =+'havelvac 4'!F21 -> Քաղաքային զարգացում
E16: 12027 | F16: =+'havelvac 4'!F23 -> Տրանսպորտային համակարգերի արդյունավեւտության բարելավում
A19: ՀԱՅԱՍՏԱՆԻ ՀԱՆՐԱՊԵՏՈՒԹՅԱՆ
A20: ՎԱՐՉԱՊԵՏԻ ԱՇԽԱՏԱԿԱԶՄԻ
C21: ՂԵԿԱՎԱՐ՝ Ա.ՀԱՐՈՒԹՅՈՒՆՅԱՆ

Sheet havelvac 7
D2: Հավելված 7
D3: ՀՀ կառավարության 2021 թվականի
D4: ______________ ի ___Ն որոշման
A7: ՀԱՅԱՍՏԱՆԻ ՀԱՆՐԱՊԵՏՈՒԹՅԱՆ ԿԱՌԱՎԱՐՈՒԹՅԱՆ 2020 ԹՎԱԿԱՆԻ ԴԵԿՏԵՄԲԵՐԻ 30-Ի N 2215-Ն ՈՐՈՇՄԱՆ N N 9 և 9.1 ՀԱՎԵԼՎԱԾՆԵՐԻ 9.8 , 9.1.8 ԱՂՅՈՒՍԱԿՆԵՐՈՒՄ ԿԱՏԱՐՎՈՂ ԼՐԱՑՈՒՄՆԵՐԸ
A8: =+'havelvac 5'!A12:C12 -> ՀՀ տարածքային կառավարման և ենթակառուցվածքների նախարարություն
A10: ՄԱՍ 2. ՊԵՏԱԿԱՆ ՄԱՐՄՆԻ ԳԾՈՎ ԱՐԴՅՈՒՆՔԱՅԻՆ (ԿԱՏԱՐՈՂԱԿԱՆ) ՑՈՒՑԱՆԻՇՆԵՐԸ
B12: Ծրագրի դասիչը | C12: Ծրագրի անվանումը
B13: 1157 | C13: =+havelvac3!C10 -> Քաղաքային զարգացում
B15: Ծրագրի դասիչը՝ | C15: 1157 | D15: Տարի
B16: Միջոցառման դասիչը՝ | C16: 12027
B17: Միջոցառման անվանումը՝ | C17: Տրանսպորտային համակարգերի արդյունավեւտության բարելավում
B18: Նկարագրությունը՝ | C18: =+havelvac3!C19 -> Երևան քաղաքի երթուղային ցանցի զարգացման, արդիականացման աշխատանքներ
B19: Միջոցառման տեսակը՝ | C19: Տրանսֆերտների տրամադրում
B20: Շահառուների ընտրության չափանիշները | C20: ՀՀ բնակչություն
B21: Արդյունքի չափորոշիչներ
B22: Աջակցություն ստացող համայնքների քանակը, հատ | D22: 1
B23: Միջոցառման վրա կատարվող ծախսը (հազար դրամ) | D23: 2170261.6
A27: ՀԱՅԱՍՏԱՆԻ ՀԱՆՐԱՊԵՏՈՒԹՅԱՆ
A28: ՎԱՐՉԱՊԵՏԻ ԱՇԽԱՏԱԿԱԶՄԻ
B29: ՂԵԿԱՎԱՐ՝ Ա.ՀԱՐՈՒԹՅՈՒՆՅԱՆ
