Workbook
Name շախմատիստ: #REF!
Name շախմատիստ: #REF!

Sheet Հավելված N 1
D1: Հավելված N 1
D2: ՀՀ կառավարության 2021 թվականի
D3: ______________ ի ___Ն որոշման
A4: «ՀԱՅԱՍՏԱՆԻ ՀԱՆՐԱՊԵՏՈՒԹՅԱՆ 2021 ԹՎԱԿԱՆԻ ՊԵՏԱԿԱՆ ԲՅՈՒՋԵԻ ՄԱՍԻՆ» ՕՐԵՆՔԻ N 1 ՀԱՎԵԼՎԱԾԻ N 2 ԱՂՅՈՒՍԱԿՈՒՄ ԿԱՏԱՐՎՈՂ ՎԵՐԱԲԱՇԽՈՒՄԸ ԵՎ ՀԱՅԱՍՏԱՆԻ ՀԱՆՐԱՊԵՏՈՒԹՅԱՆ ԿԱՌԱՎԱՐՈՒԹՅԱՆ 2020 ԹՎԱԿԱՆԻ ԴԵԿՏԵՄԲԵՐԻ 30-Ի N 2215-Ն ՈՐՈՇՄԱՆ N 5 ՀԱՎԵԼՎԱԾԻ N 1 ԱՂՅՈՒՍԱԿՈՒՄ ԿԱՏԱՐՎՈՂ ԼՐԱՑՈՒՄՆԵՐԸ ԵՎ ՓՈՓՈԽՈՒԹՅՈՒՆՆԵՐԸ
D6: հազ. դրամ
A7: Ծրագրային դասիչը | C7: Բյուջետային հատկացումների գլխավոր կարգադրիչների, ծրագրերի և միջոցառումների անվանումները | D7: Ցուցանիշների փոփոխությունը (ավելացումները նշված են դրական նշանով, իսկ նվազեցումները՝ փակագծերում)
A8: ծրագիր | B8: միջոցառում | D8: Տարի
A9: ՀՀ կառավարություն | D9: =+D11 -> 0
A10: 1139 | C10: Ծրագրի անվանումը`
C11: ՀՀ կառավարության պահուստային ֆոնդ | D11: =+D18+D24 -> 0
C12: Ծրագրի նպատակը`
C13: Պետական բյուջեում չկանխատեսված, ինչպես նաև բյուջետային երաշխիքների ապահովման ծախսերի ֆինանսավորման ապահովում
C14: Վերջնական արդյունքի նկարագրությունը`
C15: Պահուստային ֆոնդի կառավարման արդյունավետության և թափանցիկության ապահովում
C16: Ծրագրի միջոցառումներ
B17: 11001 | C17: Միջոցառման անվանումը`
C18: ՀՀ կառավարության պահուստային ֆոնդ | D18: =D56 -> 10476.1
C19: Միջոցառման նկարագրությունը`
C20: ՀՀ պետական բյուջեում նախատեսված ելքերի լրացուցիչ ֆինանսավորման՝ պետական բյուջեում չկանխատեսված ելքերի, ինչպես նաև բյուջետային երաշխիքների ապահովման ելքերի ֆինանսավորման ապահովում
C21: Միջոցառման տեսակը
C22: Ծառայությունների մատուցում
B23: 11001 | C23: Միջոցառման անվանումը`
C24: ՀՀ կառավարության պահուստային ֆոնդ | D24: =-D56 -> -10476.1
C25: Միջոցառման նկարագրությունը`
C26: ՀՀ պետական բյուջեում նախատեսված ելքերի լրացուցիչ ֆինանսավորման՝ պետական բյուջեում չկանխատեսված ելքերի, ինչպես նաև բյուջետային երաշխիքների ապահովման ելքերի ֆինանսավորման ապահովում
C27: Միջոցառման տեսակը
C28: Ծառայությունների մատուցում
A29: ՀՀ կրթության, գիտության, մշակույթի և սպորտի նախարարություն | D29: =D31 -> 0
A30: 1148 | C30: Ծրագրի անվանումը`
C31: Արտադպրոցական դաստիարակության ծրագիր | D31: =D38+D44+D50+D56 -> 0
C32: Ծրագրի նպատակը`
C33: Նպաստել հանրակրթական ուսուցման համակարգում ընդգրկված երեխաների ֆիզիկական, հոգևոր և գեղագիտական զարգացմանը, բնապահպանական և կիրառական գիտելիքների ձեռքբերմանը
C34: Վերջնական արդյունքի նկարագրությունը`
C35: Ստեղծել պայմաններ սովորողների ազատ ժամանացի կազմակերպման միջոցով նրանց հետաքրքրությունների բացահայտման, ձևավորման և զարգացման համար
A36: Ծրագրի միջոցառումներ
B37: 11001 | C37: Միջոցառման անվանումը`
C38: Արտադպրոցական դաստիարակություն | D38: -18110.6
C39: Միջոցառման նկարագրությունը`
C40: Արվեստի, երաժշտության, սպորտի դասընթացներ մարզադպրոցներում, ստեղծագործական և արտադպրոցական դաստիարակության այլ կենտրոններում
C41: Միջոցառման տեսակը
...

Sheet Հավելված N 2
G1: Հավելված N 2
F2: ՀՀ կառավարության 2021 թվականի
G3: ______________ ի ___Ն որոշման
A4: ՀԱՅԱՍՏԱՆԻ ՀԱՆՐԱՊԵՏՈՒԹՅԱՆ ԿԱՌԱՎԱՐՈՒԹՅԱՆ 2020 ԹՎԱԿԱՆԻ ԴԵԿՏԵՄԲԵՐԻ 30-Ի N 2215-Ն ՈՐՈՇՄԱՆ N 3 և N 4 ՀԱՎԵԼՎԱԾՆԵՐՈՒՄ ԿԱՏԱՐՎՈՂ ԼՐԱՑՈՒՄՆԵՐԸ ԵՎ ՓՈՓՈԽՈՒԹՅՈՒՆՆԵՐԸ
G6: հազ. դրամ
A7: Գործառական դասիչը | D7: Ծրագրային դասիչը | F7: Բյուջետային ծախսերի գործառական դասակարգման բաժինների, խմբերի և դասերի, բյուջետային ծրագրերի միջոցառումների, բյուջետային հատկացումների գլխավոր կարգադրիչների անվանումները | G7: Ցուցանիշների փոփոխությունը (ավելացումները նշված են դրական նշանով, իսկ նվազեցումները՝ փակագծերում)
A8: Բաժին | B8: Խումբ | C8: Դաս | D8: Ծրագիր | E8: Միջոցառում | G8: Տարի
F9: ԸՆԴԱՄԵՆԸ | G9: =G11+G29 -> 0
F10: այդ թվում`
A11: ՀՀ կառավարություն | G11: =+G12 -> 0
A12: 11 | F12: ՀԻՄՆԱԿԱՆ ԲԱԺԻՆՆԵՐԻՆ ՉԴԱՍՎՈՂ ՊԱՀՈՒՍՏԱՅԻՆ ՖՈՆԴԵՐ | G12: =+G14 -> 0
F13: այդ թվում`
B14: 01 | F14: ՀՀ կառավարության և համայնքների պահուստային ֆոնդ | G14: =+G16 -> 0
F15: այդ թվում`
C16: 01 | F16: ՀՀ կառավարության պահուստային ֆոնդ | G16: =+G18 -> 0
F17: այդ թվում`
D18: 1139 | E18: ՀՀ կառավարության պահուստային ֆոնդ | G18: =+G20 -> 0
F19: այդ թվում`
E20: 11001 | F20: ՀՀ կառավարության պահուստային ֆոնդ | G20: =+G22 -> 0
F21: այդ թվում` ըստ կատարողների
F22: ՀՀ կառավարություն | G22: =+G24 -> 0
F23: այդ թվում՝ բյուջետային ծախսերի տնտեսագիտական դասակարգման հոդվածներ
F24: ԸՆԴԱՄԵՆԸ ԾԱԽՍԵՐ | G24: =+G25 -> 0
F25: ԸՆԹԱՑԻԿ ԾԱԽՍԵՐ | G25: =+G26 -> 0
F26: ԱՅԼ ԾԱԽՍԵՐ | G26: =+G27+G28 -> 0
F27: Պահուստային միջոցներ | G27: =G71 -> 10476.1
F28: Պահուստային միջոցներ | G28: =-G71 -> -10476.1
A29: ՀՀ կրթության, գիտության, մշակույթի և սպորտի նախարարություն | G29: =G30 -> 0
A30: 09 | F30: ԿՐԹՈՒԹՅՈՒՆ | G30: =G32 -> 0
F31: այդ թվում`
B32: 05 | F32: Ըստ մակարդակների չդասակարգվող կրթություն | G32: =G34 -> 0
F33: այդ թվում`
C34: 01 | F34: Արտադպրոցական դաստիարակություն | G34: =G36+G45+G54+G63 -> 0
F35: այդ թվում`
D36: 1148 | E36: 11001 | F36: Արտադպրոցական դաստիարակություն | G36: =G38 -> -18110.6
F37: այդ թվում` ըստ կատարողների
F38: ՀՀ կրթության, գիտության, մշակույթի և սպորտի նախարարություն | G38: =G40 -> -18110.6
F39: այդ թվում` բյուջետային ծախսերի տնտեսագիտական դասակարգման հոդվածներ
F40: ԸՆԴԱՄԵՆԸ ԾԱԽՍԵՐ | G40: =G41 -> -18110.6
F41: ԸՆԹԱՑԻԿ ԾԱԽՍԵՐ | G41: =G42 -> -18110.6
...

Sheet Հավելված3
G1: Հավելված N 3
G2: ՀՀ կառավարության 2021 թվականի
G3: ______________ ի ___Ն որոշման
B5: ՀԱՅԱՍՏԱՆԻ ՀԱՆՐԱՊԵՏՈՒԹՅԱՆ ԿԱՌԱՎԱՐՈՒԹՅԱՆ 2020 ԹՎԱԿԱՆԻ ԴԵԿՏԵՄԲԵՐԻ 30-Ի N 2215-Ն ՈՐՈՇՄԱՆ N 5 ՀԱՎԵԼՎԱԾԻ N 7 ԱՂՅՈՒՍԱԿՈՒՄ ԿԱՏԱՐՎՈՂ ԼՐԱՑՈՒՄԸ ԵՎ ՓՈՓՈԽՈՒԹՅՈՒՆԸ
H6: հազ. դրամ
B7: Ծրագրային դասիչ | D7: Բյուջետային հատկացումների գլխավոր կարգադրիչների, ծրագրերի, միջոցառումների, ծախսային ուղղությունների անվանումները | G7: Միջոցառումները կատարող պետական մարմինների և դրամաշնորհ ստացող տնտեսվարող սուբյեկտների անվանումները | H7: Ցուցանիշների փոփոխությունը (ավելացումները նշված են դրական նշանով, իսկ նվազեցումները՝ փակագծերում) Տարի
B8: Ծրագիր | C8: Միջոցառում
B9: 1 | C9: 2 | D9: 3 | G9: 4 | H9: 5
B10: ՀՀ կրթության, գիտության, մշակույթի և սպորտի նախարարություն | H10: =H11 -> 18110.6
B11: 1148 | C11: Արտադպրոցական դաստիարակության ծրագիր | H11: =H12+H14+H16 -> 18110.6
C12: 11016 | D12: ՀՀ հանրակրթական ծրագրեր իրականացնող ուսումնական հաստատությունների 11-րդ դասարանների աշակերտների ռազմամարզական ճամբարի կազմակերպում | G12: ՀՀ կրթության, գիտության, մշակույթի և սպորտի նախարարություն | H12: =H13 -> -2737
G13: «Արամ Մանուկյանի անվան մարզառազմական մասնագիտացված դպրոց» ՊՈԱԿ | H13: ='Հավելված N 2'!G53 -> -2737
C14: 32004 | D14: Մարզադպրոցների գույքային և տեխնիկական ապահովվածության բարելավում | G14: ՀՀ կրթության, գիտության, մշակույթի և սպորտի նախարարություն | H14: =H15 -> 10371.5
G15: «Հրաձգության հանրապետական մարզադպրոց» ՊՈԱԿ | H15: ='Հավելված N 1'!D50 -> 10371.5
C16: 32005 | D16: Արտադպրոցական դաստիրակություն իրականացնող կազմակերպությունների շենքային պայմանների բարելավում | G16: ՀՀ կրթության, գիտության, մշակույթի և սպորտի նախարարություն | H16: =H17 -> 10476.1
G17: «Հրաձգության հանրապետական մարզադպրոց» ՊՈԱԿ | H17: ='Հավելված N 1'!D56 -> 10476.1

Sheet Հավելված N4
C1: Հավելված N 4
C2: ՀՀ կառավարության 2021 թվականի
C3: ______________ ի ___Ն որոշման
A5: ՀԱՅԱՍՏԱՆԻ ՀԱՆՐԱՊԵՏՈՒԹՅԱՆ ԿԱՌԱՎԱՐՈՒԹՅԱՆ 2020 ԹՎԱԿԱՆԻ ԴԵԿՏԵՄԲԵՐԻ 30-Ի N 2215-Ն ՈՐՈՇՄԱՆ N 9 ԵՎ N 9.1 ՀԱՎԵԼՎԱԾՆԵՐԻ N 9.14, N 9.47, N 9.1.14 և N 9.1.58 ԱՂՅՈՒՍԱԿՆԵՐՈՒՄ ԿԱՏԱՐՎՈՂ ԼՐԱՑՈՒՄՆԵՐԸ ԵՎ ՓՈՓՈԽՈՒԹՅՈՒՆՆԵՐԸ
A7: ՀՀ կառավարություն
A8: ՄԱՍ 2. ՊԵՏԱԿԱՆ ՄԱՐՄՆԻ ԳԾՈՎ ԱՐԴՅՈՒՆՔԱՅԻՆ (ԿԱՏԱՐՈՂԱԿԱՆ) ՑՈՒՑԱՆԻՇՆԵՐԸ
A10: Ծրագրի դասիչը | B10: Ծրագրի անվանումը
A11: 1139 | B11: ՀՀ կառավարության պահուստային ֆոնդ
A12: Ծրագրի միջոցառումները
A13: Ծրագրի դասիչը՝ | B13: 1139 | C13: Ցուցանիշների փոփոխությունը (նվազեցումները նշված են փակագծերում)
A14: Միջոցառման դասիչը՝ | B14: 11001 | C14: Տարի
A15: Միջոցառման անվանումը՝ | B15: ՀՀ կառավարության պահուստային ֆոնդ
A16: Նկարագրությունը՝ | B16: ՀՀ պետական բյուջեում նախատեսված ելքերի լրացուցիչ ֆինանսավորման՝ պետական բյուջեում չկանխատեսված ելքերի, ինչպես նաև բյուջետային երաշխիքների ապահովման ելքերի ֆինանսավորման ապահովում
A17: Միջոցառման տեսակը՝ | B17: Ծառայությունների մատուցում
A18: Միջոցառումն իրականացնողի անվանումը | B18: ՀՀ կառավարություն
A19: Արդյունքի չափորոշիչներ
A20: Միջոցառման վրա կատարվող ծախսը (հազար դրամ) | C20: =-C90 -> -10476.1
A21: Ծրագրի դասիչը | B21: Ծրագրի անվանումը
A22: 1139 | B22: ՀՀ կառավարության պահուստային ֆոնդ
A23: Ծրագրի միջոցառումները
A24: Ծրագրի դասիչը՝ | B24: 1139 | C24: Ցուցանիշների փոփոխությունը (ավելացումները նշված են դրական նշանով)
A25: Միջոցառման դասիչը՝ | B25: 11001 | C25: Առաջին կիսամյակ
A26: Միջոցառման անվանումը՝ | B26: ՀՀ կառավարության պահուստային ֆոնդ
A27: Նկարագրությունը՝ | B27: ՀՀ պետական բյուջեում նախատեսված ելքերի լրացուցիչ ֆինանսավորման՝ պետական բյուջեում չկանխատեսված ելքերի, ինչպես նաև բյուջետային երաշխիքների ապահովման ելքերի ֆինանսավորման ապահովում
A28: Միջոցառման տեսակը՝ | B28: Ծառայությունների մատուցում
A29: Միջոցառումն իրականացնողի անվանումը | B29: ՀՀ կառավարություն
A30: Արդյունքի չափորոշիչներ
A31: Միջոցառման վրա կատարվող ծախսը (հազար դրամ) | C31: =C90 -> 10476.1
A33: ՀՀ կրթության, գիտության, մշակույթի և սպորտի նախարարություն
A34: ՄԱՍ 2. ՊԵՏԱԿԱՆ ՄԱՐՄՆԻ ԳԾՈՎ ԱՐԴՅՈՒՆՔԱՅԻՆ (ԿԱՏԱՐՈՂԱԿԱՆ) ՑՈՒՑԱՆԻՇՆԵՐԸ
A36: Ծրագրի դասիչը | B36: Ծրագրի անվանումը
A37: 1148 | B37: Արտադպրոցական դաստիարակության ծրագիր
A39: Ծրագրի միջոցառումները
A41: Ծրագրի դասիչը` | B41: 1148 | C41: Ցուցանիշների փոփոխությունը (նվազեցումները նշված են փակագծերում)
A42: Միջոցառման դասիչը` | B42: 11001 | C42: Տարի
A43: Միջոցառման անվանումը` | B43: Արտադպրոցական դաստիարակություն
A44: Նկարագրությունը` | B44: Արվեստի, երաժշտության, սպորտի դասընթացներ մարզադպրոցներում, ստեղծագործական և արտադպրոցական դաստիարակության այլ կենտրոններում
A45: Միջոցառման տեսակը` | B45: Ծառայությունների մատուցում
A46: Ծառայությունը մատուցող կազմակերպության(ների) անվանում(ներ)ը՛ | B46: Մասնագիտացված կազմակերպություններ
A47: Արդյունքի չափորոշիչներ
...
