Workbook
Name AgencyCode: #REF!
Name AgencyCode: #REF!
Name AgencyCode: #REF!
Name AgencyCode: #REF!
Name AgencyCode: #REF!
Name AgencyName: #REF!
Name AgencyName: #REF!
Name AgencyName: #REF!
Name AgencyName: #REF!
Name davit: #REF!
Name davit: #REF!
Name davit: #REF!
Name Functional1: #REF!
Name Functional1: #REF!
Name Functional1: #REF!
Name Functional1: #REF!
Name ggg: #REF!
Name ggg: #REF!
Name ggg: #REF!
Name PANature: #REF!
Name PANature: #REF!
Name PANature: #REF!
Name PANature: #REF!
Name PAType: #REF!
Name PAType: #REF!
Name PAType: #REF!
Name PAType: #REF!
Name Performance2: #REF!
Name Performance2: #REF!
Name Performance2: #REF!
Name Performance2: #REF!
Name PerformanceType: #REF!
Name PerformanceType: #REF!
Name PerformanceType: #REF!
Name PerformanceType: #REF!
Name Հավելված: #REF!
Name Հավելված: #REF!
Name Հավելված: #REF!
Name Մաս: #REF!
Name Մաս: #REF!
Name Մաս: #REF!
Name շախմատիստ: #REF!
Name շախմատիստ: #REF!
Name շախմատիստ: #REF!

Sheet Havelvats 1
C1: Հավելված N 1
C2: ՀՀ կառավարության 2021 թվականի
C3: ______________ ի ___Ն որոշման
A5: «ՀԱՅԱUՏԱՆԻ ՀԱՆՐԱՊԵՏՈՒԹՅԱՆ 2021 ԹՎԱԿԱՆԻ ՊԵՏԱԿԱՆ ԲՅՈՒՋԵԻ ՄԱUԻՆ» ՀԱՅԱUՏԱՆԻ ՀԱՆՐԱՊԵՏՈՒԹՅԱՆ OՐԵՆՔԻ N 1 ՀԱՎԵԼՎԱԾԻ N 2 ԱՂՅՈՒՍԱԿՈՒՄ ԿԱՏԱՐՎՈՂ ՎԵՐԱԲԱՇԽՈՒՄԸ ԵՎ ՀԱՅԱՍՏԱՆԻ ՀԱՆՐԱՊԵՏՈՒԹՅԱՆ ԿԱՌԱՎԱՐՈՒԹՅԱՆ 2020 ԹՎԱԿԱՆԻ ԴԵԿՏԵՄԲԵՐԻ 30-Ի N 2215-Ն ՈՐՈՇՄԱՆ N 5 ՀԱՎԵԼՎԱԾԻ N 1 ԱՂՅՈՒՍԱԿՈՒՄ ԿԱՏԱՐՎՈՂ ՓՈՓՈԽՈՒԹՅՈՒՆՆԵՐԸ ԵՎ ԼՐԱՑՈՒՄՆԵՐԸ
D8: հազ. դրամներով
A9: Ծրագրային դասիչը | C9: Բյուջետային հատկացումների գլխավոր կարգադրիչների, ծրագրերի և միջոցառումների անվանումները | D9: Ցուցանիշների փոփոխությունը (ավելացումները նշված են դրական նշանով, իսկ նվազեցումները՝ փակագծերում)
A10: Ծրագիր | B10: Միջոցառում | D10: Տարի
C11: ԸՆԴԱՄԵՆԸ | D11: =+D13+D27 -> 0
C12: այդ թվում
C13: ՀՀ ԿՐԹՈՒԹՅԱՆ, ԳԻՏՈՒԹՅԱՆ, ՄՇԱԿՈՒՅԹԻ ԵՎ ՍՊՈՐՏԻ ՆԱԽԱՐԱՐՈՒԹՅՈՒՆ | D13: =+D15 -> 35710.2
A14: 1163 | C14: Ծրագրի անվանումը`
C15: Մասսայական սպորտ | D15: =+D22 -> 35710.2
C16: Ծրագրի նպատակը`
C17: Բնակչության շրջանում առողջ ապրելակերպի արմատավորում, անհատի բազմակողմանի ու ներդաշնակ զարգացման գործում ֆիզիկական կուլտուրայի և սպորտի դերի բարձրացում
C18: Վերջնական արդյունքի նկարագրությունը`
C19: Սպորտի նկատմամբ հետաքրքրվածության և մասնակցության ընդլայնում
C20: Ծրագրի միջոցառումներ
B21: 11019 | C21: Միջոցառման անվանումը`
C22: «Հայաստանի Հանրապետության Վարչապետի գավաթ» սիրողական կրոսավազքի մրցաշարի անցկացում | D22: 35710.2
C23: Միջոցառման նկարագրությունը`
C24: «Հայաստանի Հանրապետության Վարչապետի գավաթ» սիրողական կրոսավազքի մրցաշարի կազմակերպում և անցկացում
C25: Միջոցառման տեսակը
C26: Ծառայությունների մատուցում
C27: ՀՀ ԿԱՌԱՎԱՐՈՒԹՅՈՒՆ | D27: =+D29 -> -35710.2
A28: 1139 | C28: Ծրագրի անվանումը`
C29: ՀՀ կառավարության պահուստային ֆոնդ | D29: =+D35 -> -35710.2
C30: Ծրագրի նպատակը`
C31: Պետական բյուջեում չկանխատեսված, ինչպես նաև բյուջետային երաշխիքների ապահովման ծախսերի ֆինանսավորման ապահովում
C32: Վերջնական արդյունքի նկարագրությունը`
C33: Պահուստային ֆոնդի կառավարման արդյունավետության և թափանցիկության ապահովում
B34: 11001 | C34: Միջոցառման անվանումը`
C35: ՀՀ կառավարության պահուստային ֆոնդ | D35: -35710.2
C36: Միջոցառման նկարագրությունը`
C37: ՀՀ պետական բյուջեում նախատեսված ելքերի լրացուցիչ ֆինանսավորման՝ պետական բյուջեում չկանխատեսված ելքերի, ինչպես նաև բյուջետային երաշխիքների ապահովման ելքերի ֆինանսավորման ապահովում
C38: Միջոցառման տեսակը
C39: Ծառայությունների մատուցում

Sheet Havelvats 2 
F1: Հավելված N 2
F2: ՀՀ կառավարության 2021 թվականի
F3: ______________ ի ___Ն որոշման
A5: ՀԱՅԱՍՏԱՆԻ ՀԱՆՐԱՊԵՏՈՒԹՅԱՆ ԿԱՌԱՎԱՐՈՒԹՅԱՆ 2020 ԹՎԱԿԱՆԻ ԴԵԿՏԵՄԲԵՐԻ 30-Ի N2215-Ն ՈՐՈՇՄԱՆ N 3 ԵՎ N 4 ՀԱՎԵԼՎԱԾՆԵՐՈՒՄ ԿԱՏԱՐՎՈՂ ՓՈՓՈԽՈՒԹՅՈՒՆՆԵՐԸ ԵՎ ԼՐԱՑՈՒՄՆԵՐԸ
G8: հազ. դրամներով
A9: Գործառական դասիչը | D9: Ծրագրային դասիչը | F9: Բյուջետային հատկացումների գլխավոր կարգադրիչների, ծրագրերի, միջոցառումների և միջոցառումները կատարող պետական մարմինների անվանումները | G9: Ցուցանիշների փոփոխությունը (ավելացումները նշված են դրական նշանով, իսկ նվազեցումները՝ փակագծերում)
A10: Բաժին | B10: Խումբ | C10: Դաս | D10: Ծրագիր | E10: Միջոցառում | G10: Տարի
F11: ԸՆԴԱՄԵՆԸ | G11: =+G13+G33 -> 0
F12: այդ թվում
F13: ՀՀ ԿՐԹՈՒԹՅԱՆ, ԳԻՏՈՒԹՅԱՆ, ՄՇԱԿՈՒՅԹԻ ԵՎ ՍՊՈՐՏԻ ՆԱԽԱՐԱՐՈՒԹՅՈՒՆ | G13: =+G14 -> 35710.2
A14: 08 | F14: ՀԱՆԳԻՍՏ, ՄՇԱԿՈՒՅԹ ԵՎ ԿՐՈՆ | G14: =+G16 -> 35710.2
F15: այդ թվում`
B16: 01 | F16: Հանգստի և սպորտի ծառայություններ | G16: =+G18 -> 35710.2
F17: այդ թվում`
C18: 01 | F18: Հանգստի և սպորտի ծառայություններ | G18: =+G20 -> 35710.2
F19: այդ թվում`
F20: ՀՀ կրթության, գիտության, մշակույթի և սպորտի նախարարություն | G20: =+G22 -> 35710.2
F21: այդ թվում`
D22: 1163 | E22: Մասսայական սպորտ | G22: =+G24 -> 35710.2
F23: այդ թվում`
E24: 11019 | F24: «Հայաստանի Հանրապետության Վարչապետի գավաթ» սիրողական կրոսավազքի մրցաշարի անցկացում | G24: =G26 -> 35710.2
F25: այդ թվում` ըստ կատարողների
F26: ՀՀ կրթության, գիտության, մշակույթի և սպորտի նախարարություն | G26: =G28 -> 35710.2
F27: այդ թվում՝ բյուջետային ծախսերի տնտեսագիտական դասակարգման հոդվածներ
F28: ԸՆԴԱՄԵՆԸ ԾԱԽՍԵՐ | G28: =G29 -> 35710.2
F29: ԸՆԹԱՑԻԿ ԾԱԽՍԵՐ | G29: =+G30 -> 35710.2
F30: ԴՐԱՄԱՇՆՈՐՀՆԵՐ | G30: =+G31 -> 35710.2
F31: Ընթացիկ դրամաշնորհներ պետական հատվածի այլ մակարդակներին | G31: =+G32 -> 35710.2
F32: - Այլ ընթացիկ դրամաշնորհներ | G32: ='Havelvats 1'!D22 -> 35710.2
F33: ՀՀ ԿԱՌԱՎԱՐՈՒԹՅՈՒՆ | G33: =+G34 -> -35710.2
A34: 11 | F34: ՀԻՄՆԱԿԱՆ ԲԱԺԻՆՆԵՐԻՆ ՉԴԱՍՎՈՂ ՊԱՀՈՒՍՏԱՅԻՆ ՖՈՆԴԵՐ | G34: =+G36 -> -35710.2
F35: այդ թվում`
B36: 01 | F36: ՀՀ կառավարության և համայնքների պահուստային ֆոնդ | G36: =+G38 -> -35710.2
F37: այդ թվում`
C38: 01 | F38: ՀՀ կառավարության պահուստային ֆոնդ | G38: =+G51 -> -35710.2
F39: այդ թվում`
F40: ՀՀ կառավարություն | G40: =+G42 -> -35710.2
F41: այդ թվում`
D42: 1139 | E42: ՀՀ կառավարության պահուստային ֆոնդ | F42: ՀՀ կառավարության պահուստային ֆոնդ | G42: =+G51 -> -35710.2
F43: այդ թվում`
E44: 11001 | F44: ՀՀ կառավարության պահուստային ֆոնդ | G44: =+G46 -> -35710.2
F45: այդ թվում` ըստ կատարողների
F46: ՀՀ կառավարություն | G46: =+G48 -> -35710.2
F47: այդ թվում` բյուջետային ծախսերի տնտեսագիտական դասակարգման հոդվածներ
F48: ԸՆԴԱՄԵՆԸ ԾԱԽՍԵՐ | G48: =+G49 -> -35710.2
F49: ԸՆԹԱՑԻԿ ԾԱԽՍԵՐ | G49: =+G50 -> -35710.2
F50: ԱՅԼ ԾԱԽՍԵՐ | G50: =+G51 -> -35710.2
F51: Պահուստային միջոցներ | G51: ='Havelvats 1'!D35 -> -35710.2

Sheet Havelvats 3
F1: Հավելված 3
F2: ՀՀ կառավարության 2021 թվականի
F3: ______________ ի ___Ն որոշման
A6: ՀԱՅԱՍՏԱՆԻ ՀԱՆՐԱՊԵՏՈՒԹՅԱՆ ԿԱՌԱՎԱՐՈՒԹՅԱՆ 2020 ԹՎԱԿԱՆԻ ԴԵԿՏԵՄԲԵՐԻ 30-Ի N 2215-Ն ՈՐՈՇՄԱՆ N 5 ՀԱՎԵԼՎԱԾԻ N 7 ԱՂՅՈՒՍԱԿՈՒՄ ԿԱՏԱՐՎՈՂ ԼՐԱՑՈՒՄԸ
G7: հազար դրամ
A8: Ծրագրային դասիչը | C8: Բյուջետային հատկացումների գլխավոր կարգադրիչների, ծրագրերի, միջոցառումների, ծախսային ուղղությունների անվանումները | F8: Միջոցառումները կատարող պետական մարմինների և դրամաշնորհ ստացող տնտեսվարող սուբյեկտների անվանումները | G8: Ցուցանիշների փոփոխությունը (ավելացումները նշված են դրական նշանով)
A9: Ծրագիր | B9: Միջոցառում | G9: Տարի
A10: ՀՀ կրթության, գիտության, մշակույթի և սպորտի նախարարություն | G10: =+G11 -> 35710.2
A11: 1163 | B11: Մասսայական սպորտ | G11: =+G12 -> 35710.2
B12: 11019 | C12: «Հայաստանի Հանրապետության Վարչապետի գավաթ» սիրողական կրոսավազքի մրցաշարի անցկացում | F12: ՀՀ կրթության, գիտության, մշակույթի և սպորտի նախարարություն | G12: =+G13 -> 35710.2
F13: «Հատիս» սպորտային բարեգործական հիմնադրամ | G13: ='Havelvats 1'!D22 -> 35710.2

Sheet Havelvats 4
C1: Հավելված N 4
C2: ՀՀ կառավարության 2021 թվականի
C3: ______________ ի ___Ն որոշման
B5: ՀԱՅԱՍՏԱՆԻ ՀԱՆՐԱՊԵՏՈՒԹՅԱՆ ԿԱՌԱՎԱՐՈՒԹՅԱՆ 2020 ԹՎԱԿԱՆԻ ԴԵԿՏԵՄԲԵՐԻ 30-Ի N 2215-Ն ՈՐՈՇՄԱՆ N 9 ՀԱՎԵԼՎԱԾԻ N 9.14 ԵՎ 9․47 ԱՂՅՈՒՍԱԿՆԵՐՈՒՄ ԿԱՏԱՐՎՈՂ ՓՈՓՈԽՈՒԹՅՈՒՆՆԵՐԸ ԵՎ ԼՐԱՑՈՒՄՆԵՐԸ
A7: Աղյուսակ 9․14
C8: ՀՀ կրթության, գիտության, մշակույթի և սպորտի նախարարություն
B9: ՄԱՍ 2. ՊԵՏԱԿԱՆ ՄԱՐՄՆԻ ԳԾՈՎ ԱՐԴՅՈՒՆՔԱՅԻՆ (ԿԱՏԱՐՈՂԱԿԱՆ) ՑՈՒՑԱՆԻՇՆԵՐԸ
B15: Ծրագրի դասիչը | C15: Ծրագրի անվանումը
B16: 1163 | C16: Մասսայական սպորտ
B18: Ծրագրի միջոցառումները
B19: Ծրագրի դասիչը՝ | C19: 1163 | D19: Ցուցանիշների փոփոխությունը (ավելացումները նշված են դրական նշանով)
B20: Միջոցառման դասիչը՝ | C20: 11019 | D20: Տարի
B21: Միջոցառման անվանումը՝ | C21: «Հայաստանի Հանրապետության Վարչապետի գավաթ» սիրողական կրոսավազքի մրցաշարի անցկացում
B22: Նկարագրությունը՝ | C22: «Հայաստանի Հանրապետության Վարչապետի գավաթ» սիրողական կրոսավազքի մրցաշարի կազմակերպում և անցկացում
B23: Միջոցառման տեսակը՝ | C23: Ծառայությունների մատուցում
B24: Ծառայությունը մատուցող կազմակերպությունների անվանումը | C24: Մասնագիտացված կազմակերպություն
B25: Արդյունքի չափորոշիչներ
B26: Միջոցառումների թիվ, հատ | D26: 1
B27: Միջոցառման վրա կատարվող ծախսը (հազար դրամ) | D27: ='Havelvats 1'!D22 -> 35710.2
A29: Աղյուսակ 9․47
C30: ՀՀ կառավարություն
B31: ՄԱՍ 2. ՊԵՏԱԿԱՆ ՄԱՐՄՆԻ ԳԾՈՎ ԱՐԴՅՈՒՆՔԱՅԻՆ (ԿԱՏԱՐՈՂԱԿԱՆ) ՑՈՒՑԱՆԻՇՆԵՐԸ
B34: Ծրագրի դասիչը | C34: Ծրագրի անվանումը
B35: 1139 | C35: ՀՀ կառավարության պահուստային ֆոնդ
B36: Ծրագրի միջոցառումները
B37: Ծրագրի դասիչը՝ | C37: 1139 | D37: Ցուցանիշների փոփոխությունը (նվազեցումները նշված են փակագծերում)
B38: Միջոցառման դասիչը՝ | C38: 11001 | D38: Տարի
B39: Միջոցառման անվանումը՝ | C39: ՀՀ կառավարության պահուստային ֆոնդ
B40: Նկարագրությունը՝ | C40: ՀՀ պետական բյուջեում նախատեսված ելքերի լրացուցիչ ֆինանսավորման՝ պետական բյուջեում չկանխատեսված ելքերի, ինչպես նաև բյուջետային երաշխիքների ապահովման ելքերի ֆինանսավորման ապահովում
B41: Միջոցառման տեսակը՝ | C41: Ծառայությունների մատուցում
B42: Միջոցառումն իրականացնողի անվանումը | C42: ՀՀ կառավարություն
C43: Արդյունքի չափորոշիչներ
B44: Միջոցառման վրա կատարվող ծախսը (հազար դրամ) | D44: =+'Havelvats 1'!D35 -> -35710.2

Sheet Havelvats 5
C1: Հավելված N 5
C2: ՀՀ կառավարության 2021 թվականի
C3: ______________ ի ___Ն որոշման
B5: ՀԱՅԱՍՏԱՆԻ ՀԱՆՐԱՊԵՏՈՒԹՅԱՆ ԿԱՌԱՎԱՐՈՒԹՅԱՆ 2020 ԹՎԱԿԱՆԻ ԴԵԿՏԵՄԲԵՐԻ 30-Ի N 2215-Ն ՈՐՈՇՄԱՆ N 9.1 ՀԱՎԵԼՎԱԾԻ N 9.1.14 ԵՎ 9․1.58 ԱՂՅՈՒՍԱԿՆԵՐՈՒՄ ԿԱՏԱՐՎՈՂ ՓՈՓՈԽՈՒԹՅՈՒՆՆԵՐԸ ԵՎ ԼՐԱՑՈՒՄՆԵՐԸ
A7: Աղյուսակ 9․14
C8: ՀՀ կրթության, գիտության, մշակույթի և սպորտի նախարարություն
B9: ՄԱՍ 2. ՊԵՏԱԿԱՆ ՄԱՐՄՆԻ ԳԾՈՎ ԱՐԴՅՈՒՆՔԱՅԻՆ (ԿԱՏԱՐՈՂԱԿԱՆ) ՑՈՒՑԱՆԻՇՆԵՐԸ
B15: Ծրագրի դասիչը | C15: Ծրագրի անվանումը
B16: 1163 | C16: Մասսայական սպորտ
B18: Ծրագրի միջոցառումները
B19: Ծրագրի դասիչը՝ | C19: 1163 | D19: Ցուցանիշների փոփոխությունը (ավելացումները նշված են դրական նշանով)
B20: Միջոցառման դասիչը՝ | C20: 11019 | D20: Տարի
B21: Միջոցառման անվանումը՝ | C21: «Հայաստանի Հանրապետության Վարչապետի գավաթ» սիրողական կրոսավազքի մրցաշարի անցկացում
B22: Նկարագրությունը՝ | C22: «Հայաստանի Հանրապետության Վարչապետի գավաթ» սիրողական կրոսավազքի մրցաշարի կազմակերպում և անցկացում
B23: Միջոցառման տեսակը՝ | C23: Ծառայությունների մատուցում
B24: Ծառայությունը մատուցող կազմակերպությունների անվանումը | C24: Մասնագիտացված կազմակերպություն
B25: Արդյունքի չափորոշիչներ
B26: Միջոցառումների թիվ, հատ | D26: 1
B27: Միջոցառման վրա կատարվող ծախսը (հազար դրամ) | D27: ='Havelvats 1'!D22 -> 35710.2
A29: Աղյուսակ 9․1.58
C30: ՀՀ կառավարություն
B31: ՄԱՍ 1. ՊԵՏԱԿԱՆ ՄԱՐՄՆԻ ԳԾՈՎ ԱՐԴՅՈՒՆՔԱՅԻՆ (ԿԱՏԱՐՈՂԱԿԱՆ) ՑՈՒՑԱՆԻՇՆԵՐԸ
B34: Ծրագրի դասիչը | C34: Ծրագրի անվանումը
B35: 1139 | C35: ՀՀ կառավարության պահուստային ֆոնդ
B36: Ծրագրի միջոցառումները
B37: Ծրագրի դասիչը՝ | C37: 1139 | D37: Ցուցանիշների փոփոխությունը (նվազեցումները նշված են փակագծերում)
B38: Միջոցառման դասիչը՝ | C38: 11001 | D38: Տարի
B39: Միջոցառման անվանումը՝ | C39: ՀՀ կառավարության պահուստային ֆոնդ
B40: Նկարագրությունը՝ | C40: ՀՀ պետական բյուջեում նախատեսված ելքերի լրացուցիչ ֆինանսավորման՝ պետական բյուջեում չկանխատեսված ելքերի, ինչպես նաև բյուջետային երաշխիքների ապահովման ելքերի ֆինանսավորման ապահովում
B41: Միջոցառման տեսակը՝ | C41: Ծառայությունների մատուցում
B42: Միջոցառումն իրականացնողի անվանումը | C42: ՀՀ կառավարություն
C43: Արդյունքի չափորոշիչներ
B44: Միջոցառման վրա կատարվող ծախսը (հազար դրամ) | D44: =+'Havelvats 2 '!G44 -> -35710.2

Sheet Havelvats 6
F1: Հավելված N 6
F2: ՀՀ կառավարության 2021 թվականի
F3: ______________ ի ___Ն որոշման
A6: ՀԱՅԱՍՏԱՆԻ ՀԱՆՐԱՊԵՏՈՒԹՅԱՆ 2021 ԹՎԱԿԱՆԻ ՊԵՏԱԿԱՆ ԲՅՈՒՋԵՈՎ ՆԱԽԱՏԵՍՎԱԾ՝ ՀԱՅԱՍՏԱՆԻ ՀԱՆՐԱՊԵՏՈՒԹՅԱՆ ԿԱՌԱՎԱՐՈՒԹՅԱՆ ՊԱՀՈՒՍՏԱՅԻՆ ՖՈՆԴԻՑ ՀԱՏԿԱՑՈՒՄՆԵՐ ԿԱՏԱՐԵԼՈՒ ՎԵՐԱԲԵՐՅԱԼ
G8: հազ. դրամներով
A9: Գործառական դասիչը | D9: Ծրագրային դասիչը | F9: Բյուջետային հատկացումների գլխավոր կարգադրիչների, ծրագրերի, միջոցառումների և միջոցառումները կատարող պետական մարմինների անվանումները | G9: Ցուցանիշների փոփոխությունը (ավելացումները նշված են դրական նշանով, իսկ նվազեցումները՝ փակագծերում)
A10: Բաժին | B10: Խումբ | C10: Դաս | D10: Ծրագիր | E10: Միջոցառում | G10: Տարի
F11: ԸՆԴԱՄԵՆԸ | G11: =+G13+G32 -> 0
F12: այդ թվում
F13: ՀՀ կառավարություն | G13: =+G14 -> -35710.2
A14: 11 | F14: ՀԻՄՆԱԿԱՆ ԲԱԺԻՆՆԵՐԻՆ ՉԴԱՍՎՈՂ ՊԱՀՈՒՍՏԱՅԻՆ ՖՈՆԴԵՐ | G14: =+G16 -> -35710.2
F15: այդ թվում`
B16: 01 | F16: ՀՀ կառավարության և համայնքների պահուստային ֆոնդ | G16: =+G18 -> -35710.2
F17: այդ թվում`
C18: 01 | F18: ՀՀ կառավարության պահուստային ֆոնդ | G18: =+G20 -> -35710.2
F19: այդ թվում`
F20: ՀՀ կառավարություն | G20: =+G22 -> -35710.2
F21: այդ թվում`
D22: 1139 | E22: ՀՀ կառավարության պահուստային ֆոնդ | F22: ՀՀ կառավարության պահուստային ֆոնդ | G22: =+G24 -> -35710.2
F23: այդ թվում`
E24: 11001 | F24: ՀՀ կառավարության պահուստային ֆոնդ | G24: =+G26 -> -35710.2
F25: այդ թվում` ըստ կատարողների
F26: ՀՀ կառավարություն | G26: =+G28 -> -35710.2
F27: այդ թվում` բյուջետային ծախսերի տնտեսագիտական դասակարգման հոդվածներ
F28: ԸՆԴԱՄԵՆԸ ԾԱԽՍԵՐ | G28: =+G29 -> -35710.2
F29: ԸՆԹԱՑԻԿ ԾԱԽՍԵՐ | G29: =+G30 -> -35710.2
F30: ԱՅԼ ԾԱԽՍԵՐ | G30: =+G31 -> -35710.2
F31: Պահուստային միջոցներ | G31: ='Havelvats 1'!D27 -> -35710.2
F32: ՀՀ կրթության, գիտության, մշակույթի և սպորտի նախարարություն | G32: =+G33 -> 35710.2
A33: 08 | F33: ՀԱՆԳԻՍՏ, ՄՇԱԿՈՒՅԹ ԵՎ ԿՐՈՆ | G33: =+G35 -> 35710.2
F34: այդ թվում`
B35: 01 | F35: Հանգստի և սպորտի ծառայություններ | G35: =+G37 -> 35710.2
F36: այդ թվում`
C37: 01 | F37: Հանգստի և սպորտի ծառայություններ | G37: =+G39 -> 35710.2
F38: այդ թվում`
F39: ՀՀ կրթության, գիտության, մշակույթի և սպորտի նախարարություն | G39: =+G41 -> 35710.2
F40: այդ թվում`
D41: 1163 | E41: Մասսայական սպորտ | G41: =+G43 -> 35710.2
E42: 11019 | F42: այդ թվում`
F43: «Հայաստանի Հանրապետության Վարչապետի գավաթ» սիրողական կրոսավազքի մրցաշարի անցկացում | G43: =+G45 -> 35710.2
F44: «Հայաստանի Հանրապետության Վարչապետի գավաթ» սիրողական կրոսավազքի մրցաշարի կազմակերպում և անցկացում
F45: ՀՀ կրթության, գիտության, մշակույթի և սպորտի նախարարություն | G45: =+G47 -> 35710.2
F46: այդ թվում՝ բյուջետային ծախսերի տնտեսագիտական դասակարգման հոդվածներ
F47: ԸՆԴԱՄԵՆԸ ԾԱԽՍԵՐ | G47: =+G48 -> 35710.2
F48: ԸՆԹԱՑԻԿ ԾԱԽՍԵՐ | G48: =+G49 -> 35710.2
F49: ԴՐԱՄԱՇՆՈՐՀՆԵՐ | G49: =+G50 -> 35710.2
F50: Ընթացիկ դրամաշնորհներ պետական հատվածի այլ մակարդակներին | G50: =+G51 -> 35710.2
F51: - Այլ ընթացիկ դրամաշնորհներ | G51: =-'Havelvats 1'!D27 -> 35710.2
