Workbook
Name AgencyCode: #REF!
Name AgencyCode: #REF!
Name AgencyName: #REF!
Name AgencyName: #REF!
Name Functional1: #REF!
Name Functional1: #REF!
Name PANature: #REF!
Name PANature: #REF!
Name PAType: #REF!
Name PAType: #REF!
Name Performance2: #REF!
Name Performance2: #REF!
Name PerformanceType: #REF!
Name PerformanceType: #REF!

Sheet 1
A1: Հավելված 1
A2: 2021 թվականի
A3: ______________ ի ___Ն որոշման
A5: «ՀԱՅԱUՏԱՆԻ ՀԱՆՐԱՊԵՏՈՒԹՅԱՆ 2020 ԹՎԱԿԱՆԻ ՊԵՏԱԿԱՆ ԲՅՈՒՋԵԻ ՄԱUԻՆ» OՐԵՆՔԻ N 1 ՀԱՎԵԼՎԱԾԻ N 2 ԱՂՅՈՒՍԱԿՈՒՄ ԿԱՏԱՐՎՈՂ ՎԵՐԱԲԱՇԽՈՒՄԸ ԵՎ ՀԱՅԱՍՏԱՆԻ ՀԱՆՐԱՊԵՏՈՒԹՅԱՆ ԿԱՌԱՎԱՐՈՒԹՅԱՆ 2020 ԹՎԱԿԱՆԻ ԴԵԿՏԵՄԲԵՐԻ 30-Ի N 2215-Ն ՈՐՈՇՄԱՆ N5 ՀԱՎԵԼՎԱԾԻ N1 ԱՂՅՈՒՍԱԿՈՒՄ ԿԱՏԱՐՎՈՂ ՓՈՓՈԽՈՒԹՅՈՒՆՆԵՐԸ ԵՎ ԼՐԱՑՈՒՄՆԵՐԸ
D6: հազար դրամ
A7: Ծրագրային դասիչը | C7: Բյուջետային հատկացումների գլխավոր կարգադրիչների, ծրագրերի և միջոցառումների անվանումները | D7: Ցուցանիշների փոփոխությունը (ավելացումները նշված են դրական նշանով, իսկ նվազեցումները` փակագծերում)
A8: Ծրագիր | B8: Միջոցառում | D8: Տարի
C9: ԸՆԴԱՄԵՆԸ
C10: ՀՀ տարածքային կառավարման և ենթակառուցվածքների նախարարություն | D10: 3895.25
A11: 1212 | C11: Ծրագրի անվանումը`
C12: Տարածքային զարգացում
C13: Ծրագրի նպատակը`
C14: Տարածքային համաչափ զարգացման խթանում
C15: Վերջնական արդյունքի նկարագրությունը`
C16: ՀՀ համայնքների կառավարման արդյունավետության բարձրացում և տնտեսական գործունեության խթանում
A17: Ծրագրի միջոցառումներ
B18: 21002 | C18: Միջոցառման անվանումը` | D18: 3895.25
C19: ՀՀ համայնքներում բազմաբնակարան շենքերի տեխնիկական վիճակի բարելավում
C20: Միջոցառման նկարագրությունը`
C21: ՀՀ Շիրակի մարզի Գյումրի քաղաքի Տիգրան Մեծ N5 շենքի անբավարար տեխնիկական վիճակում գտնվող թվով 3 մուտքերի ուժեղացման-վերականգնման (ամրացման) նախագծանախահաշվային փաստաթղթերի ձեռքբերում
C22: Միջոցառման տեսակը
C23: Հանրության կողմից անմիջականորեն օգտագործվող ակտիվների հետ կապված միջոցառումներ
C24: ՀՀ կառավարություն | D24: -3895.25
A25: 1139 | C25: Ծրագրի անվանումը`
C26: ՀՀ կառավարության պահուստային ֆոնդ
C27: Ծրագրի նպատակը`
C28: Պետական բյուջեում չկանխատեսված՝ ինչպես նաեւ բյուջետային երաշխիքների ապահովման ծախսերի ֆինանսավորման ապահովում
C29: Վերջնական արդյունքի նկարագրությունը`
C30: Պահուստային ֆոնդի կառավարման արդյունավետության և թափանցիկության
A31: Ծրագրի միջոցառումներ
B32: 11001 | C32: Միջոցառման անվանումը` | D32: -3895.25
C33: ՀՀ կառավարության պահուստային ֆոնդ
C34: Միջոցառման նկարագրությունը`
C35: ՀՀ պետական բյուջեում նախատեսված ելքերի լրացուցիչ ֆինանսավորման՝ պետական բյուջեում չկանխատեսված ելքերի՝ ինչպես նաև բյուջետային երաշխիքների ապահովման ելքերի ֆինանսավորման ապահովում
C36: Միջոցառման տեսակը
C37: Ծառայությունների մատուցում

Sheet 2
F1: Հավելված N 2
D2: ՀՀ կառավարության 2021 թվականի
D3: ___________ ___-ի N _______ -Ն որոշման
A6: ՀԱՅԱՍՏԱՆԻ ՀԱՆՐԱՊԵՏՈՒԹՅԱՆ 2021 ԹՎԱԿԱՆԻ ՊԵՏԱԿԱՆ ԲՅՈՒՋԵԻ ՄԱՍԻՆ ՕՐԵՆՔԻ N 1 ՀԱՎԵԼՎԱԾԻ N 3 ԱՂՅՈՒՍԱԿՈՒՄ ԿԱՏԱՐՎՈՂ ԼՐԱՑՈՒՄԸ
G7: հազար դրամ
A8: Ծրագրային դասիչը | C8: Բյուջետային գլխավոր կարգադրիչների, ծրագրերի և միջոցառումների և ուղղությունների անվանումները | D8: Ընդամենը, | E8: Ցուցանիշների փոփոխությունը (ավելացումները նշված են դրական նշանով)
E9: այդ թվում
A10: Ծրագիր | B10: Միջոցառում | E10: Կառուցման աշխատանքներ | F10: Վերակառուցման, վերանորոգման և վերականգնման աշխատանքներ | G10: Նախագծահետազոտական, գեոդեզիա-քարտեզագրական աշխատանքներ | H10: Ոչ ֆինանսական այլ ակտիվների ձեռքբերում
C11: Ընդամենը | D11: =+D13 -> 3895.25 | E11: =+E13 -> 0 | F11: =+F13 -> 0 | G11: =SUM('1'!D10:D16) -> 3895.25 | H11: =+H13 -> 0
C12: այդ թվում`
C13: =+'1'!C10 -> ՀՀ տարածքային կառավարման և ենթակառուցվածքների նախարարություն | D13: =+D15 -> 3895.25 | E13: =+E15 -> 0 | F13: =+F15 -> 0 | G13: =SUM('1'!D12:D18) -> 3895.25 | H13: =+H15 -> 0
C14: այդ թվում`
A15: =+'1'!A11 -> 1212 | B15: =+'1'!B18 -> 21002 | C15: ՀՀ համայնքներում բազմաբնակարան շենքերի տեխնիկական վիճակի բարելավում | D15: =+E15+F15+G15+H15 -> 3895.25 | E15: =+E17 -> 0 | F15: =+F17 -> 0 | G15: =SUM('1'!D14:D20) -> 3895.25 | H15: =+H17 -> 0
C16: այդ թվում`
C17: ՀՀ Շիրակի մարզի Գյումրի քաղաքի Տիգրան Մեծ N5 շենքի անբավարար տեխնիկական վիճակում գտնվող թվով 3 մուտքերի ուժեղացման-վերականգնման (ամրացման) նախագծանախահաշվային փաստաթղթերի ձեռքբերում | D17: =+E17+F17+G17+H17 -> 3895.25 | E17: 0 | F17: 0 | G17: =SUM('1'!D16:D22) -> 3895.25 | H17: 0

Sheet 3
A1: Հավելված 3
A2: ՀՀ կառավարության 2021 թվականի
A3: ______________ ի ___Ն որոշման
A5: ՀԱՅԱՍՏԱՆԻ ՀԱՆՐԱՊԵՏՈՒԹՅԱՆ ԿԱՌԱՎԱՐՈՒԹՅԱՆ 2020 ԹՎԱԿԱՆԻ ԴԵԿՏԵՄԲԵՐԻ 30-Ի N 2215-Ն ՈՐՈՇՄԱՆ N 3 ԵՎ N 4 ՀԱՎԵԼՎԱԾՆԵՐՈՒՄ ԿԱՏԱՐՎՈՂ ՓՈՓՈԽՈՒԹՅՈՒՆՆԵՐԸ ԵՎ ԼՐԱՑՈՒՄՆԵՐԸ
G7: հազար դրամ
A8: Գործառական դասիչը | D8: Ծրագրային դասիչը | F8: Բյուջետային ծախսերի գործառական դասակարգման բաժինների, խմբերի և դասերի, բյուջետային հատկացումների գլխավոր կարգադրիչների, ծրագրերի, միջոցառումների և միջոցառումները կատարող պետական մարմինների անվանումները | G8: Ցուցանիշների փոփոխությունը (ավելացումները նշված են դրական նշանով, իսկ նվազեցումները` փակագծերում)
A9: Բաժին | B9: Խումբ | C9: Դաս | D9: Ծրագիր | E9: Միջոցա ռում | G9: Տարի
F10: ԸՆԴԱՄԵՆԸ ԾԱԽՍԵՐ | G10: 0
F11: այդ թվում`
A12: 06 | F12: ԲՆԱԿԱՐԱՆԱՅԻՆ ՇԻՆԱՐԱՐՈՒԹՅՈՒՆ ԵՎ ԿՈՄՈՒՆԱԼ ԾԱՌԱՅՈՒԹՅՈՒՆՆԵՐ | G12: =SUM(G16) -> 3895.25
F13: այդ թվում`
B14: 01 | F14: Բնակարանային շինարարություն | G14: =SUM(G20) -> 3895.25
F15: այդ թվում`
C16: 01 | F16: Բնակարանային շինարարություն | G16: =SUM(G18) -> 3895.25
F17: այդ թվում`
F18: =+'1'!C10 -> ՀՀ տարածքային կառավարման և ենթակառուցվածքների նախարարություն | G18: =SUM(G20) -> 3895.25
F19: այդ թվում`
D20: =+'1'!A11 -> 1212 | F20: =+'1'!C12 -> Տարածքային զարգացում | G20: =SUM(G22) -> 3895.25
F21: այդ թվում`
E22: =+'1'!B18 -> 21002 | F22: =+'1'!C19 -> ՀՀ համայնքներում բազմաբնակարան շենքերի տեխնիկական վիճակի բարելավում | G22: =SUM('1'!D10:D16) -> 3895.25
F23: այդ թվում` ըստ կատարողների
F24: ՀՀ քաղաքաշինության կոմիտե | G24: =SUM('1'!D12:D18) -> 3895.25
F25: այդ թվում` բյուջետային ծախսերի տնտեսագիտական դասակարգման հոդվածներ
F26: ԸՆԴԱՄԵՆԸ ԾԱԽՍԵՐ | G26: =SUM('1'!D14:D20) -> 3895.25
F27: ՈՉ ՖԻՆԱՆՍԱԿԱՆ ԱԿՏԻՎՆԵՐԻ ԳԾՈՎ ԾԱԽՍԵՐ | G27: =SUM('1'!D15:D21) -> 3895.25
F28: ԱՅԼ ՀԻՄՆԱԿԱՆ ՄԻՋՈՑՆԵՐ | G28: =SUM('1'!D16:D22) -> 3895.25
F29: - Նախագծահետազոտական ծախսեր | G29: =SUM('1'!D17:D23) -> 3895.25
A30: 11 | F30: ՀԻՄՆԱԿԱՆ ԲԱԺԻՆՆԵՐԻՆ ՉԴԱՍՎՈՂ ՊԱՀՈՒՍՏԱՅԻՆ ՖՈՆԴԵՐ
F31: այդ թվում`
B32: 01 | F32: ՀՀ կառավարության և համայնքների պահուստային ֆոնդ | G32: -3895.25
F33: այդ թվում`
C34: 01 | F34: ՀՀ կառավարության պահուստային ֆոնդ | G34: -3895.25
F35: այդ թվում`
F36: ՀՀ կառավարություն | G36: -3895.25
F37: այդ թվում`
D38: 1139 | F38: ՀՀ կառավարության պահուստային ֆոնդ | G38: -3895.25
F39: այդ թվում`
E40: 11001 | F40: ՀՀ կառավարության պահուստային ֆոնդ | G40: -3895.25
F41: այդ թվում` ըստ կատարողների
F42: ՀՀ կառավարություն | G42: -3895.25
F43: այդ թվում` բյուջետային ծախսերի տնտեսագիտական դասակարգման հոդվածների
F44: - Պահուստային միջոցներ | G44: -3895.25

Sheet 4
A1: Հավելված 4
A2: ՀՀ կառավարության 2021 թվականի
A3: ______________ ի ___Ն որոշման
A5: ՀԱՅԱՍՏԱՆԻ ՀԱՆՐԱՊԵՏՈՒԹՅԱՆ ԿԱՌԱՎԱՐՈՒԹՅԱՆ 2020 ԹՎԱԿԱՆԻ ԴԵԿՏԵՄԲԵՐԻ 30-Ի N 2215-Ն ՈՐՈՇՄԱՆ N5 ՀԱՎԵԼՎԱԾԻ N 2 ԱՂՅՈՒՍԱԿՈՒՄ ԿԱՏԱՐՎՈՂ ԼՐԱՑՈՒՄԸ
D6: հազար դրամ
A7: Ծրագրային դասիչը | C7: Բյուջետային հատկացումների գլխավոր կարգադրիչների, ծրագրերի, միջոցառումների և միջոցառումները կատարող պետական մարմինների անվանումները | D7: Ցուցանիշների փոփոխությունը (ավելացումները նշված են դրական նշանով)
A8: Ծրագիր | B8: Միջոցառում | D8: Տարի
C9: ԸՆԴԱՄԵՆԸ | D9: 3895.25
C10: այդ թվում
C11: =+'2'!C13 -> ՀՀ տարածքային կառավարման և ենթակառուցվածքների նախարարություն | D11: 3895.25
C12: այդ թվում
A13: =+'3'!D20 -> 1212 | B13: =+'3'!E22 -> 21002 | C13: =+'3'!F22 -> ՀՀ համայնքներում բազմաբնակարան շենքերի տեխնիկական վիճակի բարելավում | D13: 3895.25
C14: այդ թվում` ըստ կատարողների
C15: ՀՀ քաղաքաշինության կոմիտե | D15: 3895.25
C16: այդ թվում` ըստ ուղղությունների
C17: ՀՀ Շիրակի մարզի Գյումրի քաղաքի Տիգրան Մեծ N5 շենքի անբավարար տեխնիկական վիճակում գտնվող թվով 3 մուտքերի ուժեղացման-վերականգնման (ամրացման) նախագծանախահաշվային փաստաթղթերի ձեռքբերում | D17: 3895.25

Sheet 5
A1: Հավելված 5
A2: ՀՀ կառավարության 2021 թվականի
A3: ______________ ի ___Ն որոշման
A5: ՀԱՅԱՍՏԱՆԻ ՀԱՆՐԱՊԵՏՈՒԹՅԱՆ ԿԱՌԱՎԱՐՈՒԹՅԱՆ 2020 ԹՎԱԿԱՆԻ ԴԵԿՏԵՄԲԵՐԻ 30-Ի ԹԻՎ 2215-Ն ՈՐՈՇՄԱՆ N9 ՀԱՎԵԼՎԱԾԻ 9.8 ԵՎ 9.47 ԱՂՅՈՒՍԱԿՆԵՐՈՒՄ ԿԱՏԱՐՎՈՂ ՓՈՓՈԽՈՒԹՅՈՒՆԸ ԵՎ ԼՐԱՑՈՒՄԸ
C6: Աղյուսակ 9.8
A7: =+'4'!C11 -> ՀՀ տարածքային կառավարման և ենթակառուցվածքների նախարարություն
A9: ՄԱՍ 2. ՊԵՏԱԿԱՆ ՄԱՐՄՆԻ ԳԾՈՎ ԱՐԴՅՈՒՆՔԱՅԻՆ (ԿԱՏԱՐՈՂԱԿԱՆ) ՑՈՒՑԱՆԻՇՆԵՐԸ
A12: Ծրագրի դասիչը | B12: Ծրագրի անվանումը
A13: =+'4'!A13 -> 1212 | B13: =+'1'!C12 -> Տարածքային զարգացում
A15: Ծրագրի միջոցառումները
A17: Ծրագրի դասիչը՝ | B17: =+A13 -> 1212 | C17: Ցուցանիշների փոփոխությունը (ավելացումները նշված են դրական նշանով)
A18: Միջոցառման դասիչը՝ | B18: =+'1'!B18 -> 21002 | C18: Տարի
A19: Միջոցառման անվանումը՝ | B19: =+'1'!C19 -> ՀՀ համայնքներում բազմաբնակարան շենքերի տեխնիկական վիճակի բարելավում
A20: Նկարագրությունը՝ | B20: =+'1'!C21 -> ՀՀ Շիրակի մարզի Գյումրի քաղաքի Տիգրան Մեծ N5 շենքի անբավարար տեխնիկական վիճակում գտնվող թվով 3 մուտքերի ուժեղացման-վերականգնման (ամրացման) նախագծանախահաշվային փաստաթղթերի ձեռքբերում
A21: Միջոցառման տեսակը՝ | B21: Հանրության կողմից անմիջականորեն օգտագործվող ակտիվների հետ կապված միջոցառումներ
A22: Միջոցառումն իրականացնողի անվանումը | B22: ՀՀ քաղաքաշինության կոմիտե
B23: Արդյունքի չափորոշիչներ
A24: Նախագծերի քանակ, հատ | C24: 1
A25: Միջոցառման վրա կատարվող ծախսը (հազար դրամ) | C25: =SUM('4'!D13) -> 3895.25
C29: Աղյուսակ 9.47
A30: ՀՀ կառավարություն
A32: ՄԱՍ 2. ՊԵՏԱԿԱՆ ՄԱՐՄՆԻ ԳԾՈՎ ԱՐԴՅՈՒՆՔԱՅԻՆ (ԿԱՏԱՐՈՂԱԿԱՆ) ՑՈՒՑԱՆԻՇՆԵՐԸ
A35: Ծրագրի դասիչը | B35: Ծրագրի անվանումը
A36: 1139 | B36: ՀՀ կառավարության պահուստային ֆոնդ
A38: Ծրագրի միջոցառումները
A40: Ծրագրի դասիչը՝ | B40: 1139 | C40: Ցուցանիշների փոփոխությունը (նվազեցումները նշված են փակագծերում)
A41: Միջոցառման դասիչը՝ | B41: 11001 | C41: Տարի
A42: Միջոցառման անվանումը՝ | B42: ՀՀ կառավարության պահուստային ֆոնդ
A43: Նկարագրությունը՝ | B43: ՀՀ պետական բյուջեում նախատեսված ելքերի լրացուցիչ ֆինանսավորման՝ պետական բյուջեում չկանխատեսված ելքերի՝ ինչպես նաև բյուջետային երաշխիքների ապահովման ելքերի ֆինանսավորման ապահովում
A44: Միջոցառման տեսակը՝ | B44: Ծառայությունների մատուցում
A45: Միջոցառումն իրականացնողի անվանումը | B45: ՀՀ կառավարություն
B46: Արդյունքի չափորոշիչներ
A47: Միջոցառման վրա կատարվող ծախսը (հազար դրամ) | C47: =SUM('3'!G34) -> -3895.25

Sheet 6
A1: Հավելված 6
A2: ՀՀ կառավարության 2021 թվականի
A3: ______________ ի ___Ն որոշման
A5: ՀԱՅԱՍՏԱՆԻ ՀԱՆՐԱՊԵՏՈՒԹՅԱՆ ԿԱՌԱՎԱՐՈՒԹՅԱՆ 2020 ԹՎԱԿԱՆԻ ԴԵԿՏԵՄԲԵՐԻ 30-Ի ԹԻՎ 2215-Ն ՈՐՈՇՄԱՆ N9.1 ՀԱՎԵԼՎԱԾԻ 9.1.42 ԵՎ 9.1.58 ԱՂՅՈՒՍԱԿՆԵՐՈՒՄ ԿԱՏԱՐՎՈՂ ՓՈՓՈԽՈՒԹՅՈՒՆԸ ԵՎ ԼՐԱՑՈՒՄԸ
C6: Աղյուսակ 9.1.42
A7: ՀՀ քաղաքաշինության կոմիտե
A9: ՄԱՍ 1. ՊԵՏԱԿԱՆ ՄԱՐՄՆԻ ԳԾՈՎ ԱՐԴՅՈՒՆՔԱՅԻՆ (ԿԱՏԱՐՈՂԱԿԱՆ) ՑՈՒՑԱՆԻՇՆԵՐԸ
A10: Ծրագրի դասիչը | B10: Ծրագրի անվանումը
A11: 1212 | B11: =+'5'!B13 -> Տարածքային զարգացում
A13: Ծրագրի միջոցառումները
A14: Ծրագրի դասիչը՝ | B14: =+'5'!B17 -> 1212 | C14: Ցուցանիշների փոփոխությունը (ավելացումները նշված են դրական նշանով)
A15: Միջոցառման դասիչը՝ | B15: =+'5'!B18 -> 21002 | C15: Տարի
A16: Միջոցառման անվանումը՝ | B16: =+'5'!B19 -> ՀՀ համայնքներում բազմաբնակարան շենքերի տեխնիկական վիճակի բարելավում
A17: Նկարագրությունը՝ | B17: =+'5'!B20 -> ՀՀ Շիրակի մարզի Գյումրի քաղաքի Տիգրան Մեծ N5 շենքի անբավարար տեխնիկական վիճակում գտնվող թվով 3 մուտքերի ուժեղացման-վերականգնման (ամրացման) նախագծանախահաշվային փաստաթղթերի ձեռքբերում
A18: Միջոցառման տեսակը՝ | B18: =+'5'!B21 -> Հանրության կողմից անմիջականորեն օգտագործվող ակտիվների հետ կապված միջոցառումներ
A19: Միջոցառումն իրականացնողի անվանումը | B19: ՀՀ քաղաքաշինության կոմիտե
B20: Արդյունքի չափորոշիչներ
A21: Նախագծերի քանակ, հատ | C21: 1
A22: Միջոցառման վրա կատարվող ծախսը (հազար դրամ) | C22: =SUM('5'!C25) -> 3895.25
C24: Աղյուսակ 9.1.58
A25: ՀՀ կառավարություն
A27: ՄԱՍ 1. ՊԵՏԱԿԱՆ ՄԱՐՄՆԻ ԳԾՈՎ ԱՐԴՅՈՒՆՔԱՅԻՆ (ԿԱՏԱՐՈՂԱԿԱՆ) ՑՈՒՑԱՆԻՇՆԵՐԸ
A30: Ծրագրի դասիչը | B30: Ծրագրի անվանումը
A31: 1139 | B31: ՀՀ կառավարության պահուստային ֆոնդ
A33: Ծրագրի միջոցառումները
A34: Ծրագրի դասիչը՝ | B34: 1139 | C34: Ցուցանիշների փոփոխությունը (նվազեցումները նշված են փակագծերում)
A35: Միջոցառման դասիչը՝ | B35: 11001 | C35: Տարի
A36: Միջոցառման անվանումը՝ | B36: ՀՀ կառավարության պահուստային ֆոնդ
A37: Նկարագրությունը՝ | B37: ՀՀ պետական բյուջեում նախատեսված ելքերի լրացուցիչ ֆինանսավորման՝ պետական բյուջեում չկանխատեսված ելքերի՝ ինչպես նաև բյուջետային երաշխիքների ապահովման ելքերի ֆինանսավորման ապահովում
A38: Միջոցառման տեսակը՝ | B38: Ծառայությունների մատուցում
A39: Միջոցառումն իրականացնողի անվանումը | B39: ՀՀ կառավարություն
B40: Արդյունքի չափորոշիչներ
A41: Միջոցառման վրա կատարվող ծախսը (հազար դրամ) | C41: =SUM('5'!C47) -> -3895.25

Sheet 7
G1: Հավելված N 7
F2: ՀՀ կառավարության 2021 թվականի ___________ ___-ի N _______ -Ն որոշման
A3: ՀԱՅԱՍՏԱՆԻ ՀԱՆՐԱՊԵՏՈՒԹՅԱՆ ԿԱՌԱՎԱՐՈՒԹՅԱՆ 2020 ԹՎԱԿԱՆԻ ԴԵԿՏԵՄԲԵՐԻ 30-Ի N 2215-Ն ՈՐՈՇՄԱՆ N 10 ՀԱՎԵԼՎԱԾՈՒՄ ԿԱՏԱՐՎՈՂ ԼՐԱՑՈՒՄԸ
A5: Կոդը | B5: Անվանումը | C5: Գնման ձևը | D5: Չափման միավորը | E5: Միավորի գինը | F5: Ցուցանիշների փոփոխությունը (ավելացումները նշված են դրական նշանով)
F6: Քանակը | G6: Գումարը (հազար դրամ)
A7: 1 | B7: 2 | C7: 3 | D7: 4 | E7: 5 | F7: 6 | G7: 7
A8: ՀՀ քաղաքաշինության կոմիտե | G8: =SUM('6'!C22) -> 3895.25
A9: Բաժին N 06, խումբ N 01, դաս N 01, Բնակարանային շինարարություն | G9: =SUM(G8) -> 3895.25
A10: 1212, 21002 ՀՀ համայնքներում բազմաբնակարան շենքերի պայմանների բարելավում | G10: =SUM(G9) -> 3895.25
A11: ՄԱՍ III. ԾԱՌԱՅՈՒԹՅՈՒՆՆԵՐ | G11: =SUM(G10) -> 3895.25
A12: 71241200-1 | B12: նախագծերի պատրաստում, ծախսերի գնահատում | C12: ԳՀ | D12: դրամ | E12: 3895250 | F12: 1 | G12: =SUM(G11) -> 3895.25
