Workbook
Name AgencyCode: #REF!
Name AgencyCode: #REF!
Name AgencyCode: #REF!
Name AgencyCode: #REF!
Name AgencyName: #REF!
Name AgencyName: #REF!
Name AgencyName: #REF!
Name åû: #REF!
Name Functional1: #REF!
Name Functional1: #REF!
Name Functional1: #REF!
Name mas: #REF!
Name mass: #REF!
Name PANature: #REF!
Name PANature: #REF!
Name PANature: #REF!
Name PAType: #REF!
Name PAType: #REF!
Name PAType: #REF!
Name Performance2: #REF!
Name Performance2: #REF!
Name Performance2: #REF!
Name PerformanceType: #REF!
Name PerformanceType: #REF!
Name PerformanceType: #REF!
Name x: #REF!
Name Հ_2: #REF!

Sheet 1
E1: Հավելված N 1
E2: ՀՀ կառավարության 2021 թվականի
E3: ______________ ի N ___Ն որոշման
B6: «ՀԱՅԱUՏԱՆԻ ՀԱՆՐԱՊԵՏՈՒԹՅԱՆ 2021 ԹՎԱԿԱՆԻ ՊԵՏԱԿԱՆ ԲՅՈՒՋԵԻ ՄԱUԻՆ» OՐԵՆՔԻ N 1 ՀԱՎԵԼՎԱԾԻ N 2 ԱՂՅՈՒՍԱԿՈՒՄ ԿԱՏԱՐՎՈՂ ՎԵՐԱԲԱՇԽՈՒՄԸ ԵՎ ՀԱՅԱՍՏԱՆԻ ՀԱՆՐԱՊԵՏՈՒԹՅԱՆ ԿԱՌԱՎԱՐՈՒԹՅԱՆ 2020 ԹՎԱԿԱՆԻ ԴԵԿՏԵՄԲԵՐԻ 30-Ի N 2215-Ն ՈՐՈՇՄԱՆ N 5 ՀԱՎԵԼՎԱԾԻ N 1 ԱՂՅՈՒՍԱԿՈՒՄ ԿԱՏԱՐՎՈՂ ՓՈՓՈԽՈՒԹՅՈՒՆԸ ԵՎ ԼՐԱՑՈՒՄԸ
E8: հազար դրամով
B9: Ծրագրային դասիչը | D9: Բյուջետային հատկացումների գլխավոր կարգադրիչների, ծրագրերի և միջոցառումների անվանումները | E9: Ցուցանիշների փոփոխությունը (ավելացումները նշված են դրական նշանով, իսկ նվազեցումները` փակագծերում)
B10: Ծրագիր | C10: Միջոցառում | E10: Տարի
C11: ՀՀ ՏԱՐԱԾՔԱՅԻՆ ԿԱՌԱՎԱՐՄԱՆ ԵՎ ԵՆԹԱԿԱՌՈՒՑՎԱԾՔՆԵՐԻ ՆԱԽԱՐԱՐՈՒԹՅՈՒՆ
B12: 1049 | D12: Ծրագրի անվանումը` | E12: =+E19+E25 -> 0
D13: Ճանապարհային ցանցի բարելավում
D14: Ծրագրի նպատակը`
D15: Ճանապարհային ցանցի բարելավում և անվտանգ երթևեկության ապահովում
D16: Վերջնական արդյունքի նկարագրությունը`
D17: Ճանապարհների ծածկի որակի և փոխադրումների արդյունավետության բարելավում, ճանապարհների վիճակով պայմանավորված պատահարների նվազում
D18: Ծրագրի միջոցառումներ
C19: 21002 | D19: Միջոցառման անվանումը` | E19: =-E25 -> -61302.001
D20: Տրանսպորտային օբյեկտների հիմնանորոգում
D21: Միջոցառման նկարագրությունը`
D22: Ավտոմոբիլային ճանապարհների վրա գտնվող կամուրջների հիմնանորոգում
D23: Միջոցառման տեսակը
D24: Հանրության կողմից անմիջականորեն օգտագործվող ակտիվների հետ կապված միջոցառումներ
C25: 21001 | D25: Միջոցառման անվանումը` | E25: =+'2'!F13 -> 61302.001
D26: Պետական նշանակության ավտոճանապարհների հիմնանորոգում
D27: Միջոցառման նկարագրությունը`
D28: Միջպետական, հանրապետական և մարզային նշանակության ավտոճոնապարհների քայքայված ծածկի վերանորոգում, մաշված ծածկի փոխարինում
D29: Միջոցառման տեսակը
D30: Հանրության կողմից անմիջականորեն օգտագործվող ակտիվների հետ կապված միջոցառումներ

Sheet 2
H1: Հավելված N2
H2: ՀՀ կառավարության 2021 թվականի
H3: ______________ ի ___Ն որոշման
A4: «ՀԱՅԱՍՏԱՆԻ ՀԱՆՐԱՊԵՏՈՒԹՅԱՆ 2021 ԹՎԱԿԱՆԻ ՊԵՏԱԿԱՆ ԲՅՈՒՋԵԻ ՄԱՍԻՆ» ՕՐԵՆՔԻ N 1 ՀԱՎԵԼՎԱԾԻ N 3 ԱՂՅՈՒՍԱԿՈՒՄ ԿԱՏԱՐՎՈՂ ՓՈՓՈԽՈՒԹՅՈՒՆԸ ԵՎ ԼՐԱՑՈՒՄՆԵՐԸ
G5: հազար դրամ
A6: Ծրագրային դասիչ | C6: Բյուջետային գլխավոր կարգադրիչների, ծրագրերի, միջոցառումների և ուղղությունների անվանումները | D6: Ցուցանիշների փոփոխությունը (ավելացումները նշված են դրական նշանով, իսկ նվազեցումները` փակագծերում)
D7: Ընդամենը, | E7: այդ թվում՝
A8: Ծրագիր | B8: Միջոցառում | E8: Կառուցման աշխատանքներ | F8: Վերակառուցման, վերանորոգման և վերականգնման աշխատանքներ | G8: Նախագծահե- տազոտական, գեոդեզիա- քարտեզագրա- կան աշխա- տանքներ | H8: Ոչ ֆինանսական այլ ակտիվների ձեռքբերում
C9: ԸՆԴԱՄԵՆԸ | D9: =+E9+F9+G9+H9 -> 0 | E9: =E11 -> 0 | F9: =F11 -> 0 | G9: =G11 -> 0 | H9: =H11 -> 0
C10: այդ թվում՝
C11: ՀՀ ՏԱՐԱԾՔԱՅԻՆ ԿԱՌԱՎԱՐՄԱՆ ԵՎ ԵՆԹԱԿԱՌՈՒՑՎԱԾՔՆԵՐԻ ՆԱԽԱՐԱՐՈՒԹՅՈՒՆ | D11: =+E11+F11+G11+H11 -> 0 | E11: =+E13+E39 -> 0 | F11: =F39+F13 -> 0 | G11: =+G13+G39 -> 0 | H11: =+H13+H39 -> 0
C12: այդ թվում`
A13: 1049 | B13: 21001 | C13: Պետական նշանակության ավտոճանապարհների հիմնանորոգում | D13: =+E13+F13+G13+H13 -> 61302.001 | E13: 0 | F13: =+F15+F26+F34 -> 61302.001 | G13: 0 | H13: 0
C14: այդ թվում`
B15: 1 | C15: Միջպետական նշանակության ավտոճանապարհներ, այդ թվում | D15: =+E15+F15+G15+H15 -> 95719.6 | E15: =+E16+E24+E19+E26+E22 -> 0 | F15: =+F16+F18+F20+F22+F24 -> 32354.705 | H15: =+H16+H24+H19+H26+H22 -> 0
C16: =+'4'!C18 -> Մ-2, Երևան-Երասխ-Գորիս-Մեղրի-Իրանի սահման | D16: =+E16+F16+G16+H16 -> 3655.832 | E16: =+E17 -> 0 | F16: =+F17 -> 3655.832 | H16: =+H17 -> 0
C17: =+'4'!C19 -> կմ53+150 - կմ65+350 հատվածի հիմնանորոգում | D17: =+E17+F17+G17+H17 -> 3655.832 | F17: 3655.832
C18: =+'4'!C20 -> Մ- 3, Թուրքիայի սահման-Մարգարա-Վանաձոր-Տաշիր-Վրաստանի սահման | D18: =+E18+F18+G18+H18 -> 11289.7 | E18: =+E19 -> 0 | F18: =+F19 -> 11289.7 | H18: =+H19 -> 0
C19: =+'4'!C21 -> կմ97+020-կմ104+700 հատվածի հիմնանորոգում | D19: =+E19+F19+G19+H19 -> 11289.7 | F19: 11289.7
C20: =+'4'!C22 -> Մ-4, Երևան-Սևան-Իջևան-Ադրբեջանի սահման | D20: =+E20+F20+G20+H20 -> 9236.6 | E20: =+E21 -> 0 | F20: =+F21 -> 9236.6 | H20: =+H21 -> 0
C21: =+'4'!C23 -> կմ83+200-կմ91+176 հատվածի հիմնանորոգում և ոլորանների պարամետրերի բարելավում | D21: =+E21+F21+G21+H21 -> 9236.6 | F21: 9236.6
C22: =+'4'!C24 -> Մ-11, Մարտունի - Վարդենիս - ԼՂՀ սահման | D22: =+E22+F22+G22+H22 -> 1389.373 | E22: =+E23 -> 0 | F22: =+F23 -> 1389.373 | H22: =+H23 -> 0
C23: =+'4'!C25 -> կմ0+000-կմ5+900 հատվածի հիմնանորոգում | D23: =+E23+F23+G23+H23 -> 1389.373 | F23: 1389.373
C24: =+'4'!C26 -> Մ-13, /Մ-2/ - Անգեղակոթ - Նախիջևանի սահման | D24: =+E24+F24+G24+H24 -> 6783.2 | E24: =+E25 -> 0 | F24: =+F25 -> 6783.2 | H24: =+H25 -> 0
C25: =+'4'!C27 -> կմ0+000-կմ8+000 հատվածի հիմնանորոգում | D25: =+E25+F25+G25+H25 -> 6783.2 | F25: 6783.2
B26: 2 | C26: =+'4'!C28 -> Հանրապետական նշանակության ավտոճանապարհներ, այդ թվում | D26: =+E26+F26+G26+H26 -> 77339.5 | E26: =SUM(E26:E33) -> 0 | F26: =SUM(F27:F33) -> 24201.744 | G26: =SUM(G26:G33) -> 0 | H26: =SUM(H26:H33) -> 0
C27: =+'4'!C29 -> Հ-5, /Հ-6/-Նոր Գեղի-Արգել-Արզական-Հրազդան հանրապետական նշանակության ավտոճանապարհի կմ 25+200 - կմ36+000 հատվածի հիմնանորոգում | D27: =+E27+F27+G27+H27 -> 1249.046 | F27: 1249.046
C28: =+'4'!C30 -> Հ-8, /Մ-2/-Այնթապ-Մխչյան-Արտաշատ-Այգևան-/Մ-2/ հանրապետական նշանակության ավտոճանապարհի կմ21+200-կմ 26+400 և կմ30+000-կմ33+500 հատվածների հիմնանորոգում | D28: =+E28+G28+F28+H28 -> 12758.3 | F28: 12758.3
C29: =+'4'!C31 -> Հ-21, /Հ-75/ - Հոռոմ-Արթիկ-Ալագյազ հանրապետական նշանակության ավտոճանապարհի կմ19+000 - կմ23+900 հատվածի հիմնանորոգում | D29: =+E29+G29+F29+H29 -> 1961.876 | F29: 1961.876
C30: =+'4'!C32 -> Հ-30, Մոտեցում Գոշավանքին հանրապետական նշանակության ավտոճանապարհի կմ0+000-կմ 3+900 հատվածի հիմնանորոգում | D30: =+E30+G30+F30+H30 -> 1080.979 | F30: 1080.979
C31: =+'4'!C33 -> Հ-30, /Մ-4/ - Ճամբարակ - /Մ-14/ հանրապետական նշանակության ավտոճանապարհի կմ0+000-կմ11+000 հատվածի հիմնանորոգում | D31: =+E31+F31+G31+H31 -> 1764.927 | F31: 1764.927
C32: =+'4'!C34 -> Հ-55, Հրազդանի տրանսպորտային հանգույց-Ծաղկաձորի մարզահամալիր հանրապետական նշանակության ավտոճանապարհի կմ0+00 - կմ10+500 հատվածի հիմնանորոգում | D32: =+E32+F32+G32+H32 -> 2848.147 | F32: 2848.147
C33: =+'4'!C35 -> Հ-70, Մ-6 – Աթան հանրապետական նշանակության ավտոճանապարհի կմ0+000 - կմ27+500 հատվածի հիմնանորոգում | D33: =+E33+F33+G33+H33 -> 2538.469 | F33: 2538.469
B34: 3 | C34: =+'4'!C36 -> Մարզային նշանակության ավտոճանապարհներ, այդ թվում | D34: =+E34+F34+G34+H34 -> 4745.552 | E34: =SUM(E35:E38) -> 0 | F34: =SUM(F35:F38) -> 4745.552 | H34: =SUM(H35:H38) -> 0
C35: =+'4'!C37 -> Տ-7-42, /Մ-7/ (Գյումրի) – Հացիկ – Կարմրաքար (Տ-7-45) ավտոճանապարհի կմ0+000-կմ 4+000 հատվածի հիմնանորոգում | D35: =+E35+F35+G35+H35 -> 503.496 | F35: 503.496
C36: =+'4'!C38 -> Տ-7-48, Գյումրի (Տ-7-58) - Արևիկ – Այգեբաց - Վարդաքար - /Հ-21/ մարզային նշանակության ավտոճանապարհի կմ10+900 - կմ16+200 հատվածի հիմնանորոգում | D36: =+E36+F36+G36+H36 -> 1360.846 | F36: 1360.846
C37: =+'4'!C39 -> Մարտունի քաղաքի Սայաթ Նովա փողոցի (Մ-10-ի շրջանց) ավտոճանապարհի հիմնանորոգում | D37: =+E37+F37+G37+H37 -> 1949.11 | F37: 1949.11
C38: =+'4'!C40 -> Արթիկ համայնքի Սպանդարյան փողոցի ասֆալտապատում | D38: =+E38+F38+G38+H38 -> 932.1 | F38: 932.1
A39: 1049 | B39: 21002 | C39: Տրանսպորտային օբյեկտների հիմնանորոգում, այդ թվում | D39: =+E39+F39+G39+H39 -> -61302.001 | E39: 0 | F39: =+'4'!D43 -> -61302.001 | G39: 0 | H39: 0

Sheet 3
A1: Հավելված N3
A2: ՀՀ կառավարության 2021 թվականի
A3: ______________ ի ___Ն որոշման
A5: ՀԱՅԱՍՏԱՆԻ ՀԱՆՐԱՊԵՏՈՒԹՅԱՆ ԿԱՌԱՎԱՐՈՒԹՅԱՆ 2020 ԹՎԱԿԱՆԻ ԴԵԿՏԵՄԲԵՐԻ 30-Ի N 2215-Ն ՈՐՈՇՄԱՆ N 3 ԵՎ N 4 ՀԱՎԵԼՎԱԾՆԵՐՈՒՄ ԿԱՏԱՐՎՈՂ ՓՈՓՈԽՈՒԹՅՈՒՆՆԵՐԸ ԵՎ ԼՐԱՑՈՒՄՆԵՐԸ
A8: Գործառական դասիչը | D8: Ծրագրային դասիչը | F8: Բյուջետային ծախսերի գործառական դասակարգման բաժինների, խմբերի և դասերի, բյուջետային հատկացումների գլխավոր կարգադրիչների, ծրագրերի, միջոցառումների և միջոցառումները կատարող պետական մարմինների անվանումները | G8: Ցուցանիշների փոփոխությունը (ավելացումները նշված են դրական նշանով, իսկ նվազեցումները` փակագծերում)
A9: Բաժին | B9: Խումբ | C9: Դաս | D9: Ծրագիր | E9: Միջոցառում | G9: Տարի
F10: ԸՆԴԱՄԵՆԸ ԾԱԽՍԵՐ | G10: =G12 -> 0
F11: այդ թվում`
A12: 04 | F12: ՏՆՏԵՍԱԿԱՆ ՀԱՐԱԲԵՐՈՒԹՅՈՒՆՆԵՐ | G12: =G14 -> 0
F13: այդ թվում`
B14: 05 | F14: Տրանսպորտ | G14: =G16 -> 0
F15: այդ թվում`
C16: 01 | F16: Ճանապարհային տրանսպորտ | G16: =G18 -> 0
F17: այդ թվում`
F18: ՀՀ ՏԱՐԱԾՔԱՅԻՆ ԿԱՌԱՎԱՐՄԱՆ ԵՎ ԵՆԹԱԿԱՌՈՒՑՎԱԾՔՆԵՐԻ ՆԱԽԱՐԱՐՈՒԹՅՈՒՆ | G18: =+G20 -> 0
F19: այդ թվում`
D20: 1049 | F20: Ճանապարհային ցանցի բարելավում | G20: =+G22+G31 -> 0
F21: այդ թվում`
E22: 21001 | F22: Պետական նշանակության ավտոճանապարհների հիմնանորոգում | G22: =+G24 -> 61302.001
F23: այդ թվում` ըստ կատարողների
F24: ՀՀ տարածքային կառավարման և ենթակառուցվածքների նախարարություն | G24: =+G26 -> 61302.001
F25: այդ թվում` բյուջետային ծախսերի տնտեսագիտական դասակարգման հոդվածների
F26: ԸՆԴԱՄԵՆԸ ԾԱԽՍԵՐ | G26: =+G27 -> 61302.001
F27: ՈՉ ՖԻՆԱՆՍԱԿԱՆ ԱԿՏԻՎՆԵՐԻ ԳԾՈՎ ԾԱԽՍԵՐ | G27: =+G28 -> 61302.001
F28: ՀԻՄՆԱԿԱՆ ՄԻՋՈՑՆԵՐ | G28: =+G29 -> 61302.001
F29: ՇԵՆՔԵՐ ԵՎ ՇԻՆՈՒԹՅՈՒՆՆԵՐ | G29: =+G30 -> 61302.001
F30: - Շենքերի և շինությունների կապիտալ վերանորոգում | G30: =+'4'!D15 -> 61302.001
E31: 21002 | F31: Տրանսպորտային օբյեկտների հիմնանորոգում | G31: =+G33 -> -61302.001
F32: այդ թվում` ըստ կատարողների
F33: ՀՀ կառավարություն | G33: =+G35 -> -61302.001
F34: այդ թվում` բյուջետային ծախսերի տնտեսագիտական դասակարգման հոդվածների
F35: ԸՆԴԱՄԵՆԸ ԾԱԽՍԵՐ | G35: =+G36 -> -61302.001
F36: ՈՉ ՖԻՆԱՆՍԱԿԱՆ ԱԿՏԻՎՆԵՐԻ ԳԾՈՎ ԾԱԽՍԵՐ | G36: =+G37 -> -61302.001
F37: ՀԻՄՆԱԿԱՆ ՄԻՋՈՑՆԵՐ | G37: =+G38 -> -61302.001
F38: ՇԵՆՔԵՐ ԵՎ ՇԻՆՈՒԹՅՈՒՆՆԵՐ | G38: =+G39 -> -61302.001
F39: - Շենքերի և շինությունների կապիտալ վերանորոգում | G39: =-G30 -> -61302.001

Sheet 4
A1: Հավելված N4
A2: ՀՀ կառավարության 2021 թվականի
A3: ______________ ի ___Ն որոշման
A5: ՀԱՅԱՍՏԱՆԻ ՀԱՆՐԱՊԵՏՈՒԹՅԱՆ ԿԱՌԱՎԱՐՈՒԹՅԱՆ 2020 ԹՎԱԿԱՆԻ ԴԵԿՏԵՄԲԵՐԻ 30-Ի N 2215-Ն ՈՐՈՇՄԱՆ N 5 ՀԱՎԵԼՎԱԾԻ N 2 ԱՂՅՈՒՍԱԿՈՒՄ ԿԱՏԱՐՎՈՂ ՓՈՓՈԽՈՒԹՅՈՒՆԸ ԵՎ ԼՐԱՑՈՒՄՆԵՐԸ
A7: Ծրագրային դասիչ | C7: Բյուջետային գլխավոր կարգադրիչների, ծրագրերի, միջոցառումների և ուղղությունների անվանումները | D7: Ցուցանիշների փոփոխությունը (ավելացումները նշված են դրական նշանով, իսկ նվազեցումները` փակագծերում)
A8: Ծրագիր | B8: Միջոցառում | D8: Տարի
C9: ԸՆԴԱՄԵՆԸ | D9: =D11 -> 0
C10: այդ թվում՝
C11: ՀՀ ՏԱՐԱԾՔԱՅԻՆ ԿԱՌԱՎԱՐՄԱՆ ԵՎ ԵՆԹԱԿԱՌՈՒՑՎԱԾՔՆԵՐԻ ՆԱԽԱՐԱՐՈՒԹՅՈՒՆ | D11: =+D13+D41 -> 0
C12: այդ թվում`
A13: 1049 | B13: 21001 | C13: Պետական նշանակության ավտոճանապարհների հիմնանորոգում | D13: =+D15 -> 61302.001
C14: այդ թվում` ըստ կատարողների
C15: ՀՀ տարածքային կառավարման և ենթակառուցվածքների նախարարություն | D15: =+D17+D28+D36 -> 61302.001
C16: այդ թվում՝ ըստ ուղղությունների
B17: 1 | C17: Միջպետական նշանակության ավտոճանապարհներ, այդ թվում | D17: =+D18+D20+D22+D24+D26 -> 32354.705
C18: Մ-2, Երևան-Երասխ-Գորիս-Մեղրի-Իրանի սահման | D18: =+D19 -> 3655.832
C19: կմ53+150 - կմ65+350 հատվածի հիմնանորոգում | D19: 3655.832
C20: Մ- 3, Թուրքիայի սահման-Մարգարա-Վանաձոր-Տաշիր-Վրաստանի սահման | D20: =+D21 -> 11289.7
C21: կմ97+020-կմ104+700 հատվածի հիմնանորոգում | D21: 11289.7
C22: Մ-4, Երևան-Սևան-Իջևան-Ադրբեջանի սահման | D22: =+D23 -> 9236.6
C23: կմ83+200-կմ91+176 հատվածի հիմնանորոգում և ոլորանների պարամետրերի բարելավում | D23: 9236.6
C24: Մ-11, Մարտունի - Վարդենիս - ԼՂՀ սահման | D24: =+D25 -> 1389.373
C25: կմ0+000-կմ5+900 հատվածի հիմնանորոգում | D25: 1389.373
C26: Մ-13, /Մ-2/ - Անգեղակոթ - Նախիջևանի սահման | D26: =+D27 -> 6783.2
C27: կմ0+000-կմ8+000 հատվածի հիմնանորոգում | D27: 6783.2
B28: 2 | C28: Հանրապետական նշանակության ավտոճանապարհներ, այդ թվում | D28: =SUM(D29:D35) -> 24201.744
C29: Հ-5, /Հ-6/-Նոր Գեղի-Արգել-Արզական-Հրազդան հանրապետական նշանակության ավտոճանապարհի կմ 25+200 - կմ36+000 հատվածի հիմնանորոգում | D29: 1249.046
C30: Հ-8, /Մ-2/-Այնթապ-Մխչյան-Արտաշատ-Այգևան-/Մ-2/ հանրապետական նշանակության ավտոճանապարհի կմ21+200-կմ 26+400 և կմ30+000-կմ33+500 հատվածների հիմնանորոգում | D30: 12758.3
C31: Հ-21, /Հ-75/ - Հոռոմ-Արթիկ-Ալագյազ հանրապետական նշանակության ավտոճանապարհի կմ19+000 - կմ23+900 հատվածի հիմնանորոգում | D31: 1961.876
C32: Հ-30, Մոտեցում Գոշավանքին հանրապետական նշանակության ավտոճանապարհի կմ0+000-կմ 3+900 հատվածի հիմնանորոգում | D32: 1080.979
C33: Հ-30, /Մ-4/ - Ճամբարակ - /Մ-14/ հանրապետական նշանակության ավտոճանապարհի կմ0+000-կմ11+000 հատվածի հիմնանորոգում | D33: 1764.927
C34: Հ-55, Հրազդանի տրանսպորտային հանգույց-Ծաղկաձորի մարզահամալիր հանրապետական նշանակության ավտոճանապարհի կմ0+00 - կմ10+500 հատվածի հիմնանորոգում | D34: 2848.147
C35: Հ-70, Մ-6 – Աթան հանրապետական նշանակության ավտոճանապարհի կմ0+000 - կմ27+500 հատվածի հիմնանորոգում | D35: 2538.469
B36: 3 | C36: Մարզային նշանակության ավտոճանապարհներ, այդ թվում | D36: =SUM(D37:D40) -> 4745.552
C37: Տ-7-42, /Մ-7/ (Գյումրի) – Հացիկ – Կարմրաքար (Տ-7-45) ավտոճանապարհի կմ0+000-կմ 4+000 հատվածի հիմնանորոգում | D37: 503.496
C38: Տ-7-48, Գյումրի (Տ-7-58) - Արևիկ – Այգեբաց - Վարդաքար - /Հ-21/ մարզային նշանակության ավտոճանապարհի կմ10+900 - կմ16+200 հատվածի հիմնանորոգում | D38: 1360.846
C39: Մարտունի քաղաքի Սայաթ Նովա փողոցի (Մ-10-ի շրջանց) ավտոճանապարհի հիմնանորոգում | D39: 1949.11
C40: Արթիկ համայնքի Սպանդարյան փողոցի ասֆալտապատում | D40: 932.1
A41: 1049 | B41: 21002 | C41: Տրանսպորտային օբյեկտների հիմնանորոգում, այդ թվում | D41: =+D43 -> -61302.001
C42: այդ թվում` ըստ կատարողների
C43: ՀՀ կառավարություն | D43: =-D13 -> -61302.001

Sheet 5
C1: Հավելված N5
A2: ՀՀ կառավարության 2021 թվականի
A3: ______________ ի ___Ն որոշման
A5: ՀԱՅԱՍՏԱՆԻ ՀԱՆՐԱՊԵՏՈՒԹՅԱՆ ԿԱՌԱՎԱՐՈՒԹՅԱՆ 2020 ԹՎԱԿԱՆԻ ԴԵԿՏԵՄԲԵՐԻ 30-Ի N 2215-Ն ՈՐՈՇՄԱՆ N 9 ՀԱՎԵԼՎԱԾԻ N 9.8 ԱՂՅՈՒՍԱԿՈՒՄ ԿԱՏԱՐՎՈՂ ՓՈՓՈԽՈՒԹՅՈՒՆԸ ԵՎ ԼՐԱՑՈՒՄՆԵՐԸ
A7: ՀՀ ՏԱՐԱԾՔԱՅԻՆ ԿԱՌԱՎԱՐՄԱՆ ԵՎ ԵՆԹԱԿԱՌՈՒՑՎԱԾՔՆԵՐԻ ՆԱԽԱՐԱՐՈՒԹՅՈՒՆ
A8: ՄԱՍ 2. ՊԵՏԱԿԱՆ ՄԱՐՄՆԻ ԳԾՈՎ ԱՐԴՅՈՒՆՔԱՅԻՆ (ԿԱՏԱՐՈՂԱԿԱՆ) ՑՈՒՑԱՆԻՇՆԵՐԸ
A10: Ծրագրի դասիչը | B10: Ծրագրի անվանումը
A11: 1049 | B11: Ճանապարհային ցանցի բարելավում
A13: Ծրագրի միջոցառումները
A15: Ծրագրի դասիչը` | B15: 1049 | C15: Ցուցանիշների փոփոխությունը (ավելացումները նշված են դրական նշանով)
A16: Միջոցառման դասիչը` | B16: 21001 | C16: Տարի
A17: Միջոցառման անվանումը` | B17: Պետական նշանակության ավտոճանապարհների հիմնանորոգում
A18: Նկարագրությունը` | B18: Միջպետական՝ հանրապետական և մարզային նշանակության ավտոճանապարհների քայքայված ծածկի վերանորոգում՝ մաշված ծածկի փոխարինում
A19: Միջոցառման տեսակը` | B19: Հանրության կողմից անմիջականորեն օգտագործվող ակտիվների հետ կապված միջոցառումներ
A20: Արդյունքի չափորոշիչներ
A21: =+'6'!A19:B19 -> Պայմանագիր, հատ | C21: =+'6'!C19 -> 16
A22: Միջոցառման վրա կատարվող ծախսը (հազար դրամ) | C22: =+'6'!C20 -> 61302.001
A24: Ծրագրի դասիչը` | B24: 1049 | C24: Ցուցանիշների փոփոխությունը (ավելացումները նշված են դրական նշանով)
A25: Միջոցառման դասիչը` | B25: 21002 | C25: Տարի
A26: Միջոցառման անվանումը` | B26: Տրանսպորտային օբյեկտների հիմնանորոգում
A27: Նկարագրությունը` | B27: Ավտոմոբիլային ճանապարհների վրա գտնվող կամուրջների հիմնանորոգում
A28: Միջոցառման տեսակը` | B28: Հանրության կողմից անմիջականորեն օգտագործվող ակտիվների հետ կապված միջոցառումներ
A29: Արդյունքի չափորոշիչներ
A30: Միջոցառման վրա կատարվող ծախսը (հազար դրամ) | C30: =+'6'!C37 -> -61302.001

Sheet 6
C1: Հավելված N6
A2: ՀՀ կառավարության 2021 թվականի
A3: ______________ ի ___Ն որոշման
A4: ՀԱՅԱՍՏԱՆԻ ՀԱՆՐԱՊԵՏՈՒԹՅԱՆ ԿԱՌԱՎԱՐՈՒԹՅԱՆ 2020 ԹՎԱԿԱՆԻ ԴԵԿՏԵՄԲԵՐԻ 30-Ի N 2215-Ն ՈՐՈՇՄԱՆ N 9.1 ՀԱՎԵԼՎԱԾԻ NN 9.1.8 և 9.1.58 ԱՂՅՈՒՍԱԿՆԵՐՈՒՄ ԿԱՏԱՐՎՈՂ ՓՈՓՈԽՈՒԹՅՈՒՆԸ ԵՎ ԼՐԱՑՈՒՄՆԵՐԸ
C5: Աղյուսակ 1.
A6: ՀՀ ՏԱՐԱԾՔԱՅԻՆ ԿԱՌԱՎԱՐՄԱՆ ԵՎ ԵՆԹԱԿԱՌՈՒՑՎԱԾՔՆԵՐԻ ՆԱԽԱՐԱՐՈՒԹՅՈՒՆ
A7: ՄԱՍ 1. ՊԵՏԱԿԱՆ ՄԱՐՄՆԻ ԳԾՈՎ ԱՐԴՅՈՒՆՔԱՅԻՆ (ԿԱՏԱՐՈՂԱԿԱՆ) ՑՈՒՑԱՆԻՇՆԵՐԸ
A8: Ծրագրի դասիչը | B8: Ծրագրի անվանումը
A9: 1049 | B9: Ճանապարհային ցանցի բարելավում
A11: Ծրագրի միջոցառումները
A13: Ծրագրի դասիչը` | B13: 1049 | C13: Ցուցանիշների փոփոխությունը (ավելացումները նշված են դրական նշանով)
A14: Միջոցառման դասիչը` | B14: 21001 | C14: Տարի
A15: Միջոցառման անվանումը` | B15: Պետական նշանակության ավտոճանապարհների հիմնանորոգում
A16: Նկարագրությունը` | B16: Միջպետական՝ հանրապետական և մարզային նշանակության ավտոճանապարհների քայքայված ծածկի վերանորոգում՝ մաշված ծածկի փոխարինում_x000D_
A17: Միջոցառման տեսակը` | B17: Հանրության կողմից անմիջականորեն օգտագործվող ակտիվների հետ կապված միջոցառումներ
A18: Արդյունքի չափորոշիչներ
A19: Պայմանագիր, հատ | C19: 16
A20: Միջոցառման վրա կատարվող ծախսը (հազար դրամ) | C20: =+'3'!G30 -> 61302.001
C23: Աղյուսակ 2
A24: ՀՀ ԿԱՌԱՎԱՐՈՒԹՅՈՒՆ
A25: ՄԱՍ 1. ՊԵՏԱԿԱՆ ՄԱՐՄՆԻ ԳԾՈՎ ԱՐԴՅՈՒՆՔԱՅԻՆ (ԿԱՏԱՐՈՂԱԿԱՆ) ՑՈՒՑԱՆԻՇՆԵՐԸ
A26: Ծրագրի դասիչը | B26: Ծրագրի անվանումը
A27: 1049 | B27: Ճանապարհային ցանցի բարելավում
A29: Ծրագրի միջոցառումները
A31: Ծրագրի դասիչը` | B31: 1049 | C31: Ցուցանիշների փոփոխությունը (նվազեցումները նշված են փակագծերում)
A32: Միջոցառման դասիչը` | B32: 21002 | C32: Տարի
A33: Միջոցառման անվանումը` | B33: Տրանսպորտային օբյեկտների հիմնանորոգում
A34: Նկարագրությունը` | B34: Ավտոմոբիլային ճանապարհների վրա գտնվող կամուրջների հիմնանորոգում
A35: Միջոցառման տեսակը` | B35: Հանրության կողմից անմիջականորեն օգտագործվող ակտիվների հետ կապված միջոցառումներ
A36: Արդյունքի չափորոշիչներ
A37: Միջոցառման վրա կատարվող ծախսը (հազար դրամ) | C37: =-C20 -> -61302.001

Sheet 7
A1: Հավելված N7
A2: ՀՀ կառավարության 2021 թվականի
A3: ______________ ի ___Ն որոշման
A5: ՀԱՅԱՍՏԱՆԻ ՀԱՆՐԱՊԵՏՈՒԹՅԱՆ ԿԱՌԱՎԱՐՈՒԹՅԱՆ 2020 ԹՎԱԿԱՆԻ ԴԵԿՏԵՄԲԵՐԻ 30-Ի N 2215-Ն ՈՐՈՇՄԱՆ N 10 ՀԱՎԵԼՎԱԾՈՒՄ ԿԱՏԱՐՎՈՂ ԼՐԱՑՈՒՄՆԵՐԸ
A6: Կոդը | B6: Անվանումը | C6: Գնման ձևը | D6: Չափման միավորը | E6: Միավորի գինը | F6: Ցուցանիշների փոփոխությունը (ավելացումները նշված են դրական նշանով)
F7: Քանակը | G7: Գումարը (հազար դրամով)
A8: ՀՀ տարածքային կառավարման և ենթակառուցվածքների նախարարություն | G8: =+G11 -> 61302.001
A9: Բաժին N 04 | B9: Խումբ N 05 | C9: Դաս N 01 | D9: Ճանապարհային տրանսպորտ | G9: =+G10 -> 61302.001
A10: 1049 21001 | B10: Պետական նշանակության ավտոճանապարհների հիմնանորոգում | G10: =G11 -> 61302.001
A11: ՄԱՍ III. ԾԱՌԱՅՈՒԹՅՈՒՆՆԵՐ | G11: =SUM(G12:G27) -> 61302.001
A12: 98111140 | B12: հեղինակային հսկողության ծառայություն | C12: ՄԱ | D12: դրամ | E12: 3655832 | F12: 1 | G12: =+E12/1000 -> 3655.832
A13: 98111140 | B13: հեղինակային հսկողության ծառայություն | C13: ՄԱ | D13: դրամ | E13: 11289700 | F13: 1 | G13: =+E13/1000 -> 11289.7
A14: 98111140 | B14: հեղինակային հսկողության ծառայություն | C14: ՄԱ | D14: դրամ | E14: 9236600 | F14: 1 | G14: =+E14/1000 -> 9236.6
A15: 98111140 | B15: հեղինակային հսկողության ծառայություն | C15: ՄԱ | D15: դրամ | E15: 1389373 | F15: 1 | G15: =+E15/1000 -> 1389.373
A16: 98111140 | B16: հեղինակային հսկողության ծառայություն | C16: ՄԱ | D16: դրամ | E16: 6783200 | F16: 1 | G16: =+E16/1000 -> 6783.2
A17: 98111140 | B17: հեղինակային հսկողության ծառայություն | C17: ՄԱ | D17: դրամ | E17: 1249046 | F17: 1 | G17: =+E17/1000 -> 1249.046
A18: 98111140 | B18: հեղինակային հսկողության ծառայություն | C18: ՄԱ | D18: դրամ | E18: 12758300 | F18: 1 | G18: =+E18/1000 -> 12758.3
A19: 98111140 | B19: հեղինակային հսկողության ծառայություն | C19: ՄԱ | D19: դրամ | E19: 1961876 | F19: 1 | G19: =+E19/1000 -> 1961.876
A20: 98111140 | B20: հեղինակային հսկողության ծառայություն | C20: ՄԱ | D20: դրամ | E20: 1080979 | F20: 1 | G20: =+E20/1000 -> 1080.979
A21: 98111140 | B21: հեղինակային հսկողության ծառայություն | C21: ՄԱ | D21: դրամ | E21: 1764927 | F21: 1 | G21: =+E21/1000 -> 1764.927
A22: 98111140 | B22: հեղինակային հսկողության ծառայություն | C22: ՄԱ | D22: դրամ | E22: 2848147 | F22: 1 | G22: =+E22/1000 -> 2848.147
A23: 98111140 | B23: հեղինակային հսկողության ծառայություն | C23: ՄԱ | D23: դրամ | E23: 2538469 | F23: 1 | G23: =+E23/1000 -> 2538.469
... A27: 98111140 | B27: հեղինակային հսկողության ծառայություն | C27: ՄԱ | D27: դրամ | E27: 932100 | F27: 1 | G27: =+E27/1000 -> 932.1
