Workbook
Name AgencyCode: #REF!
Name AgencyCode: #REF!
Name AgencyCode: #REF!
Name AgencyCode: #REF!
Name AgencyCode: #REF!
Name AgencyName: #REF!
Name AgencyName: #REF!
Name AgencyName: #REF!
Name AgencyName: #REF!
Name AgencyName: #REF!
Name alisa: #REF!
Name Functional1: #REF!
Name Functional1: #REF!
Name Functional1: #REF!
Name Functional1: #REF!
Name Functional1: #REF!
Name havelvac: #REF!
Name havelvac: #REF!
Name havelvac: #REF!
Name havelvac: #REF!
Name havelvac7: #REF!
Name PANature: #REF!
Name PANature: #REF!
Name PANature: #REF!
Name PANature: #REF!
Name PANature: #REF!
Name PAType: #REF!
Name PAType: #REF!
Name PAType: #REF!
Name PAType: #REF!
Name PAType: #REF!
Name Performance2: #REF!
Name Performance2: #REF!
Name Performance2: #REF!
Name Performance2: #REF!
Name Performance2: #REF!
Name PerformanceType: #REF!
Name PerformanceType: #REF!
Name PerformanceType: #REF!
Name PerformanceType: #REF!
Name PerformanceType: #REF!
Name sheet1: #REF!
Name sheet1: #REF!
Name sheet4: #REF!
Name sheet7: #REF!
Name գնումներ: #REF!
Name գնումներ: #REF!
Name հավ5: #REF!
Name հավ5: #REF!

Sheet 1
F1: Հավելված 1
D2: ՀՀ կառավարության 2021 թվականի
D3: ___________ ___-ի N _______ -Ն որոշման
A5: «ՀԱՅԱUՏԱՆԻ ՀԱՆՐԱՊԵՏՈՒԹՅԱՆ 2021 ԹՎԱԿԱՆԻ ՊԵՏԱԿԱՆ ԲՅՈՒՋԵԻ ՄԱUԻՆ» ՀԱՅԱUՏԱՆԻ ՀԱՆՐԱՊԵՏՈՒԹՅԱՆ OՐԵՆՔԻ N 1 ՀԱՎԵԼՎԱԾԻ N 2 ԱՂՅՈՒՍԱԿՈՒՄ ԿԱՏԱՐՎՈՂ ՎԵՐԱԲԱՇԽՈՒՄԸ ԵՎ ՀԱՅԱՍՏԱՆԻ ՀԱՆՐԱՊԵՏՈՒԹՅԱՆ ԿԱՌԱՎԱՐՈՒԹՅԱՆ 2020ԹՎԱԿԱՆԻ ԴԵԿՏԵՄԲԵՐԻ 30-Ի N2215-Ն ՈՐՈՇՄԱՆ N5 ՀԱՎԵԼՎԱԾԻ N1 ԱՂՅՈՒՍԱԿՈՒՄ ԿԱՏԱՐՎՈՂ ՓՈՓՈԽՈՒԹՅՈՒՆՆԵՐԸ ԵՎ ԼՐԱՑՈՒՄՆԵՐԸ
D6: հազար դրամներով
A7: Ծրագրային դասիչը | C7: Բյուջետային հատկացումների գլխավոր կարգադրիչների, ծրագրերի և միջոցառումների անվանումները | D7: Ցուցանիշների փոփոխությունները (Ավելացումները նշված են դրական նշանով,իսկ նվազեցումները՝ փակագծերում)
A8: Ծրագիր | B8: Միջոցառում | D8: Ինն ամիս | E8: Տարի
C9: ԸՆԴԱՄԵՆԸ | D9: =+D10+D36 -> 0 | E9: =+E10+E36 -> 0
B10: ՀՀ արտակարգ իրավիճակների նախարարություն | D10: =+D11 -> 0 | E10: =+E11 -> 0
A11: 1090 | C11: Ծրագրի անվանումը` | D11: =+D18+D24+D30 -> 0 | E11: =+E18+E24+E30 -> 0
C12: Փրկարարական ծառայություններ
C13: Ծրագրի նպատակը`
C14: Արտակարգ իրավիճակների արդյունավետ արձագանք
C15: Վերջնական արդյունքի նկարագրությունը`
C16: Արտակարգ իրավիճակների հնարավոր դեպքերի կանխում՝ դրանց ժամանակին արձագանքում՝ հետևանքների նվազեցում և բնակչության պաշտպանություն
C17: Ծրագրի միջոցառումներ
B18: 11001 | C18: Միջոցառման անվանումը՝ | D18: -11957 | E18: -24369.1
C19: Փրկարարական ծառայություններ
C20: Միջոցառման նկարագրությունը՝
C21: Հրդեհաշիջման, հակահրդեհային քարոզչության, բնական և տեխնածին աղետների ժամանակ բնակչության և կառույցների պաշտպանություն
C22: Միջոցառման տեսակը՝
C23: Ծառայությունների մատուցում
B24: 31001 | C24: Միջոցառման անվանումը՝ | D24: =+'2'!G38 -> -143 | E24: 12269.1
C25: Փրկարար ծառայության տեխնիկական հագեցվածության բարելավում
C26: Միջոցառման նկարագրությունը՝
C27: Համակարգչային և գրասենյակային սարքավորումների ձեռքբերում
C28: Միջոցառման տեսակը՝
C29: Պետական մարմինների կողմից օգտագործվող ոչ ֆինանասական ակտիվների հետ գործառնություններ
B30: 31007 | C30: Միջոցառման անվանումը՝ | D30: =+'2'!G47 -> 12100 | E30: =+'2'!H47 -> 12100
C31: ԱԻՆ Փրկարար ծառայության շենքային ապահովվածության և պայմանների բարելավում
C32: Միջոցառման նկարագրությունը՝
C33: Փրկարար ծառայության շենքերի և շինությունների կառուցում, կապիտալ վերանորոգում
C34: Միջոցառման տեսակը՝
C35: Պետական մարմինների կողմից օգտագործվող ոչ ֆինանասական ակտիվների հետ գործառնություններ
C36: ՀՀ կառավարություն | D36: 0 | E36: 0
A37: 1139 | C37: Ծրագրի անվանումը` | D37: =D44+D50 -> 0 | E37: =E44+E50 -> 0
C38: ՀՀ կառավարության պահուստային ֆոնդ
C39: Ծրագրի նպատակը`
C40: Պետական բյուջեում չկանխատեսված, ինչպես նաև բյուջետային երաշխիքների ապահովման ծախսերի ֆինանսավորման ապահովում
C41: Վերջնական արդյունքի նկարագրությունը`
C42: Պահուստային ֆոնդի կառավարման արդյունավետության և թափանցիկության ապահովում
A43: Ծրագրի միջոցառումներ
B44: 11001 | C44: Միջոցառման անվանումը` | D44: =+'2'!G75 -> -12100 | E44: =+'2'!H75 -> -12100
C45: ՀՀ կառավարության պահուստային ֆոնդ
C46: Միջոցառման նկարագրությունը`
C47: ՀՀ պետական բյուջեում նախատեսված ելքերի լրացուցիչ ֆինանսավորման՝ պետական բյուջեում չկանխատեսված ելքերի, ինչպես նաև բյուջետային երաշխիքների ապահովման ելքերի ֆինանսավորման ապահովում
C48: Միջոցառման տեսակը
C49: Ծառայությունների մատուցում
B50: 11001 | C50: Միջոցառման անվանումը` | D50: =+'2'!G67 -> 12100 | E50: =+'2'!H67 -> 12100
C51: ՀՀ կառավարության պահուստային ֆոնդ
C52: Միջոցառման նկարագրությունը`
C53: ՀՀ պետական բյուջեում նախատեսված ելքերի լրացուցիչ ֆինանսավորման՝ պետական բյուջեում չկանխատեսված ելքերի, ինչպես նաև բյուջետային երաշխիքների ապահովման ելքերի ֆինանսավորման ապահովում
C54: Միջոցառման տեսակը
C55: Ծառայությունների մատուցում
A58: ՀԱՅԱՍՏԱՆԻ ՀԱՆՐԱՊԵՏՈՒԹՅԱՆ ՎԱՐՉԱՊԵՏԻ ԱՇԽԱՏԱԿԱԶՄԻ
A59: ՂԵԿԱՎԱՐ Ա. ՀԱՐՈՒԹՅՈՒՆՅԱՆ

Sheet 2
F1: Հավելված 2
D2: ՀՀ կառավարության 2021 թվականի
D3: ___________ ___-ի N _______ -Ն որոշման
A5: ՀԱՅԱՍՏԱՆԻ ՀԱՆՐԱՊԵՏՈՒԹՅԱՆ ԿԱՌԱՎԱՐՈՒԹՅԱՆ 2020 ԹՎԱԿԱՆԻ ԴԵԿՏԵՄԲԵՐԻ 30-Ի N 2215-Ն ՈՐՈՇՄԱՆ N 3 ԵՎ N 4 ՀԱՎԵԼՎԱԾՆԵՐՈՒՄ ԿԱՏԱՐՎՈՂ ՓՈՓՈԽՈՒԹՅՈՒՆՆԵՐԸ ԵՎ ԼՐԱՑՈՒՄՆԵՐԸ
H6: հազար դրամներով
A7: Գործառական դասիչը | D7: Ծրագրային դասիչը | F7: Բյուջետային ծախսերի գործառական դասակարգման բաժինների, խմբերի և դասերի, բյուջետային հատկացումների գլխավոր կարգադրիչների, ծրագրերի, միջոցառումների և միջոցառումները կատարող պետական մարմինների անվանումները | G7: Ցուցանիշների փոփոխությունները (Ավելացումները նշված են դրական նշանով,իսկ նվազեցումները՝ փակագծերում)
A8: Բաժին | B8: Խումբ | C8: Դաս | D8: Ծրագիր | E8: Միջոցառում | G8: Ինն ամիս | H8: Տարի
F9: Ընդամենը | G9: =+G18+G38+G47+G57 -> 1.8189894e-12 | H9: =+H18+H38+H47+H57 -> -1.8189894e-12
A10: 03 | F10: ՀԱՍԱՐԱԿԱԿԱՆ ԿԱՐԳ, ԱՆՎՏԱՆԳՈՒԹՅՈՒՆ ԵՎ ԴԱՏԱԿԱՆ ԳՈՐԾՈՒՆԵՈՒԹՅՈՒՆ | G10: =+G12 -> 0 | H10: =+H12 -> 0
F11: այդ թվում`
B12: 02 | F12: Փրկարար ծառայություն | G12: =+G14 -> 0 | H12: =+H14 -> 0
F13: այդ թվում`
C14: 01 | F14: Փրկարար ծառայություն | G14: =+G16 -> 0 | H14: =+H16 -> 0
F15: այդ թվում
D16: 1090 | F16: Փրկարարական ծառայություններ | G16: =+G18+G38+G47 -> 0 | H16: =+H18+H38+H47 -> 0
F17: այդ թվում`
E18: 11001 | F18: Փրկարարական ծառայություններ | G18: =+G20 -> -11957 | H18: =+H20 -> -24369.1
F19: այդ թվում` ըստ կատարողների
F20: ՀՀ արտակարգ իրավիճակների նախարարություն | G20: =+G22 -> -11957 | H20: =+H22 -> -24369.1
F21: այդ թվում` բյուջետային ծախսերի տնտեսագիտական դասակարգման հոդվածներ
F22: ԸՆԴԱՄԵՆԸ ԾԱԽՍԵՐ | G22: =+G23 -> -11957 | H22: =+H23 -> -24369.1
F23: ԸՆԹԱՑԻԿ ԾԱԽՍԵՐ | G23: =+G24 -> -11957 | H23: =+H24 -> -24369.1
F24: ԾԱՌԱՅՈՒԹՅՈՒՆՆԵՐԻ ԵՎ ԱՊՐԱՆՔՆԵՐԻ ՁԵՌՔԲԵՐՈՒՄ | G24: =+G25+G27+G30+G32 -> -11957 | H24: =+H25+H27+H30+H32 -> -24369.1
F25: Շարունակական ծախսեր | G25: =+G26 -> -40 | H25: =+H26 -> -80.1
F26: - Կապի ծառայություններ | G26: -40 | H26: -80.1
F27: Պայմանագրային այլ ծառայությունների ձեռքբերում | G27: =+G28+G29 -> 3463 | H27: =+H28+H29 -> 3781.4
F28: - Համակարգչային ծառայություններ | G28: 3585 | H28: 3585
F29: -Տեղեկատվական ծառայություններ | G29: -122 | H29: 196.4
F30: Ընթացիկ նորոգում և պահպանում (ծառայություններ և նյութեր) | G30: 0 | H30: =+H31 -> 2400
F31: - Մեքենաների և սարքավորումների ընթացիկ նորոգում և պահպանում | G31: 0 | H31: 2400
F32: Նյութեր (Ապրանքներ) | G32: =+G33+G34+G35+G36+G37 -> -15380 | H32: =+H33+H34+H35+H36+H37 -> -30470.4
F33: -Գրասենյակային նյութեր և հագուստ | G33: -4461.9 | H33: -9205.2
F34: - Տրանսպորտային նյութեր | G34: -8548.3 | H34: -15873
F35: - Առողջապահական և լաբորատոր նյութեր | G35: -576.8 | H35: -769.1
F36: - Կենցաղային և հանրային սննդի նյութեր | G36: -293 | H36: 3059.1
F37: -Հատուկ նպատակային այլ նյութեր | G37: -1500 | H37: -7682.2
E38: 31001 | F38: Փրկարար ծառայության տեխնիկական հագեցվածության բարելավում | G38: =+G40 -> -143 | H38: =+H40 -> 12269.1
F39: այդ թվում` ըստ կատարողների
F40: ՀՀ արտակարգ իրավիճակների նախարարություն | G40: =+G42 -> -143 | H40: =+H42 -> 12269.1
F41: այդ թվում` բյուջետային ծախսերի տնտեսագիտական դասակարգման հոդվածներ
F42: ԸՆԴԱՄԵՆԸ ԾԱԽՍԵՐ | G42: =+G43 -> -143 | H42: =+H43 -> 12269.1
F43: ՈՉ ՖԻՆԱՆՍԱԿԱՆ ԱԿՏԻՎՆԵՐԻ ԳԾՈՎ ԾԱԽՍԵՐ | G43: =+G44 -> -143 | H43: =+H44 -> 12269.1
F44: ՀԻՄՆԱԿԱՆ ՄԻՋՈՑՆԵՐ | G44: =+G45 -> -143 | H44: =+H45 -> 12269.1
F45: ՄԵՔԵՆԱՆԵՐ ԵՎ ՍԱՐՔԱՎՈՐՈՒՄՆԵՐ | G45: =+G46 -> -143 | H45: =+H46 -> 12269.1
F46: - Վարչական սարքավորումներ | G46: -143 | H46: 12269.1
E47: 31007 | F47: ԱԻՆ Փրկարար ծառայության շենքային ապահովվածության և պայմանների բարելավում | G47: =+G49 -> 12100 | H47: =+H49 -> 12100
F48: այդ թվում` ըստ կատարողների
F49: ՀՀ արտակարգ իրավիճակների նախարարություն | G49: =+G51 -> 12100 | H49: =+H51 -> 12100
F50: այդ թվում` բյուջետային ծախսերի տնտեսագիտական դասակարգման հոդվածներ
F51: ԸՆԴԱՄԵՆԸ ԾԱԽՍԵՐ | G51: =+G52 -> 12100 | H51: =+H52 -> 12100
F52: ՈՉ ՖԻՆԱՆՍԱԿԱՆ ԱԿՏԻՎՆԵՐԻ ԳԾՈՎ ԾԱԽՍԵՐ | G52: =+G53 -> 12100 | H52: =+H53 -> 12100
F53: ՀԻՄՆԱԿԱՆ ՄԻՋՈՑՆԵՐ | G53: =+G54 -> 12100 | H53: =+H54 -> 12100
F54: ՇԵՆՔԵՐ ԵՎ ՇԻՆՈՒԹՅՈՒՆՆԵՐ | G54: =+G55+G56 -> 12100 | H54: =+H55+H56 -> 12100
F55: - Շենքերի և շինությունների կառուցում | G55: 11800 | H55: 11800
F56: - Նախագծահետազոտական ծախսեր | G56: 300 | H56: 300
A57: 11 | F57: ՀԻՄՆԱԿԱՆ ԲԱԺԻՆՆԵՐԻՆ ՉԴԱՍՎՈՂ ՊԱՀՈՒՍՏԱՅԻՆ ՖՈՆԴԵՐ | G57: =G59 -> 0 | H57: =H59 -> 0
F58: այդ թվում`
B59: 01 | F59: ՀՀ կառավարության և համայնքների պահուստային ֆոնդ | G59: =G61 -> 0 | H59: =H61 -> 0
F60: այդ թվում`
C61: 01 | F61: ՀՀ կառավարության պահուստային ֆոնդ | G61: =G63 -> 0 | H61: =H63 -> 0
F62: այդ թվում`
F63: ՀՀ կառավարություն | G63: =G65 -> 0 | H63: =H65 -> 0
F64: այդ թվում`
D65: 1139 | F65: ՀՀ կառավարության պահուստային ֆոնդ | G65: =G67+G75 -> 0 | H65: =H67+H75 -> 0
F66: այդ թվում`
E67: 11001 | F67: ՀՀ կառավարության պահուստային ֆոնդ | G67: =G69 -> 12100 | H67: =H69 -> 12100
F68: այդ թվում` ըստ կատարողների
F69: ՀՀ կառավարություն | G69: =G71 -> 12100 | H69: =H71 -> 12100
F70: այդ թվում` բյուջետային ծախսերի տնտեսագիտական դասակարգման հոդվածներ
F71: ԸՆԴԱՄԵՆԸ ԾԱԽՍԵՐ | G71: =G72 -> 12100 | H71: =H72 -> 12100
F72: ԸՆԹԱՑԻԿ ԾԱԽՍԵՐ | G72: =G73 -> 12100 | H72: =H73 -> 12100
F73: ԱՅԼ ԾԱԽՍԵՐ | G73: =G74 -> 12100 | H73: =H74 -> 12100
F74: Պահուստային միջոցներ | G74: 12100 | H74: 12100
E75: 11001 | F75: ՀՀ կառավարության պահուստային ֆոնդ | G75: =G77 -> -12100 | H75: =H77 -> -12100
F76: այդ թվում` ըստ կատարողների
F77: ՀՀ կառավարություն | G77: =G79 -> -12100 | H77: =H79 -> -12100
F78: այդ թվում` բյուջետային ծախսերի տնտեսագիտական դասակարգման հոդվածներ
F79: ԸՆԴԱՄԵՆԸ ԾԱԽՍԵՐ | G79: =G80 -> -12100 | H79: =H80 -> -12100
F80: ԸՆԹԱՑԻԿ ԾԱԽՍԵՐ | G80: =G81 -> -12100 | H80: =H81 -> -12100
F81: ԱՅԼ ԾԱԽՍԵՐ | G81: =G82 -> -12100 | H81: =H82 -> -12100
F82: Պահուստային միջոցներ | G82: =-12100 -> -12100 | H82: =-12100 -> -12100
A84: ՀԱՅԱՍՏԱՆԻ ՀԱՆՐԱՊԵՏՈՒԹՅԱՆ ՎԱՐՉԱՊԵՏԻ ԱՇԽԱՏԱԿԱԶՄԻ
A85: ՂԵԿԱՎԱՐ Ա. ՀԱՐՈՒԹՅՈՒՆՅԱՆ

Sheet 3
C1: Հավելված N3
D2: ՀՀ կառավարության 2021 թվականի
C3: ___________ ___-ի N _______ -Ն որոշման
A5: ՀԱՅԱՍՏԱՆԻ ՀԱՆՐԱՊԵՏՈՒԹՅԱՆ ԿԱՌԱՎԱՐՈՒԹՅԱՆ 2020 ԹՎԱԿԱՆԻ ԴԵԿՏԵՄԲԵՐԻ 30-Ի N 2215-Ն ՈՐՈՇՄԱՆ N9 ՀԱՎԵԼՎԱԾԻ 9.19 ԵՎ 9.47 ԱՂՅՈՒՍԱԿՆԵՐՈՒՄ ԿԱՏԱՐՎՈՂ ՓՈՓՈԽՈՒԹՅՈՒՆՆԵՐԸ ԵՎ ԼՐԱՑՈՒՄՆԵՐԸ
A7: ՀՀ արտակարգ իրավիճակների նախարարություն
A9: ՄԱՍ 2. ՊԵՏԱԿԱՆ ՄԱՐՄՆԻ ԳԾՈՎ ԱՐԴՅՈՒՆՔԱՅԻՆ (ԿԱՏԱՐՈՂԱԿԱՆ) ՑՈՒՑԱՆԻՇՆԵՐԸ
A10: Ծրագրի դասիչը | B10: Ծրագրի անվանումը
A11: 1090 | B11: Փրկարարական ծառայություններ
A12: Ծրագրի միջոցառումները
A13: Ծրագրի դասիչը՝ | B13: 1090 | C13: Ցուցանիշների փոփոխությունը (նվազեցումները նշված են փակագծերում)
A14: Միջոցառման դասիչը՝ | B14: 11001 | C14: Ինն ամիս | D14: Տարի
A15: Միջոցառման անվանումը՝ | B15: Փրկարարական ծառայություններ
A16: Նկարագրությունը՝ | B16: Հրդեհաշիջման, հակահրդեհային քարոզչության, բնական և տեխնածին աղետների ժամանակ բնակչության և կառույցների պաշտպանություն
A17: Միջոցառման տեսակը՝ | B17: Ծառայությունների մատուցում
A18: Միջոցառումն իրականացնողի անվանումը` | B18: ՀՀ արտակարգ իրավիճակների նախարարություն
A19: Արդյունքի չափորոշիչներ
A20: Øß³ÏíáÕ ÝáñÙ³ïÇí Çñ³í³Ï³Ý ³Ïï»ñÇ Ý³Ë³·Í»ñÇ ù³Ý³Ï, Ñ³ï
A21: Ð³Ù³Ï³ñ·íáÕ, Çñ³Ï³Ý³óíáÕ ¨ í»ñ³ÑëÏÙ³Ý »ÝÃ³ñÏíáÕ ÙÇçáó³éáõÙÝ»ñÇ ù³Ý³Ï, Ñ³ï
A22: Միջոցառման վրա կատարվող ծախսը (հազար դրամ) | C22: =+'2'!G18 -> -11957 | D22: =+'2'!H18 -> -24369.1
A23: Ծրագրի դասիչը՝ | B23: 1090 | C23: Ցուցանիշների փոփոխությունը (Ավելացումները նշված են դրական նշանով,իսկ նվազեցումները՝ փակագծերում)
A24: Միջոցառման դասիչը՝ | B24: 31001 | C24: Ինն ամիս | D24: Տարի
A25: Միջոցառման անվանումը՝ | B25: Փրկարար ծառայության տեխնիկական հագեցվածության բարելավում
A26: Նկարագրությունը՝ | B26: Համակարգչային և գրասենյակային սարքավորումների ձեռքբերում
A27: Միջոցառման տեսակը՝ | B27: Պետական մարմինների կողմից օգտագործվող ոչ ֆինանասական ակտիվների հետ գործառնություններ
A28: Միջոցառումն իրականացնողի անվանումը` | B28: ՀՀ արտակարգ իրավիճակների նախարարություն
A29: Արդյունքի չափորոշիչներ
A30: Øß³ÏíáÕ ÝáñÙ³ïÇí Çñ³í³Ï³Ý ³Ïï»ñÇ Ý³Ë³·Í»ñÇ ù³Ý³Ï, Ñ³ï
A31: Ð³Ù³Ï³ñ·íáÕ, Çñ³Ï³Ý³óíáÕ ¨ í»ñ³ÑëÏÙ³Ý »ÝÃ³ñÏíáÕ ÙÇçáó³éáõÙÝ»ñÇ ù³Ý³Ï, Ñ³ï
A32: Քանակական | B32: Համակարգչային սարքավորումների քանակ, հատ | C32: 0 | D32: 7
B33: Գրասենյակային գույքի և սարքավորումների քանակ, հատ | C33: 0 | D33: 249
A34: Ժամկետային | B34: Սարքավորումների ծառայության կանխատեսվող միջին ժամկետ, տարի | C34: 0 | D34: 10
A35: Միջոցառման վրա կատարվող ծախսը (հազար դրամ) | C35: =+'2'!G38 -> -143 | D35: =+'2'!H38 -> 12269.1
A36: Ծրագրի դասիչը՝ | B36: 1090 | C36: Ցուցանիշների փոփոխությունը (ավելացումները նշված են դրական նշանով)
A37: Միջոցառման դասիչը՝ | B37: 31007 | C37: Ինն ամիս | D37: Տարի
A38: Միջոցառման անվանումը՝ | B38: ԱԻՆ Փրկարար ծառայության շենքային ապահովվածության և պայմանների բարելավում
A39: Նկարագրությունը՝ | B39: Փրկարար ծառայության շենքերի և շինությունների կառուցում, կապիտալ վերանորոգում
A40: Միջոցառման տեսակը՝ | B40: Պետական մարմինների կողմից օգտագործվող ոչ ֆինանասական ակտիվների հետ գործառնություններ
A41: Միջոցառումն իրականացնողի անվանումը` | B41: ՀՀ արտակարգ իրավիճակների նախարարություն
A42: Արդյունքի չափորոշիչներ
A43: Øß³ÏíáÕ ÝáñÙ³ïÇí Çñ³í³Ï³Ý ³Ïï»ñÇ Ý³Ë³·Í»ñÇ ù³Ý³Ï, Ñ³ï
A44: Ð³Ù³Ï³ñ·íáÕ, Çñ³Ï³Ý³óíáÕ ¨ í»ñ³ÑëÏÙ³Ý »ÝÃ³ñÏíáÕ ÙÇçáó³éáõÙÝ»ñÇ ù³Ý³Ï, Ñ³ï
A45: Քանակական | B45: ջրամատակարարման խողովակաշարերի տեղադրում, մետր | C45: 400 | D45: 400
B46: ջրահեռացման խողովակաշարերի տեղադրում, մետր | C46: 400 | D46: 400
B47: գազի մատակարարաման մագիստրալային խողովակների տեղադրում, մետր | C47: 180 | D47: 180
B48: էլեկտրական լարերի անցկացում, մետր | C48: 400 | D48: 400
B49: Նախագծանախահաշվային փաստաթղթեր փաթեթ,հատ | C49: 1 | D49: 1
A50: Միջոցառման վրա կատարվող ծախսը (հազար դրամ) | C50: =+'1'!D30 -> 12100 | D50: =+'1'!E30 -> 12100
A52: ՀՀ կառավարություն
A53: ՄԱՍ 2. ՊԵՏԱԿԱՆ ՄԱՐՄՆԻ ԳԾՈՎ ԱՐԴՅՈՒՆՔԱՅԻՆ (ԿԱՏԱՐՈՂԱԿԱՆ) ՑՈՒՑԱՆԻՇՆԵՐԸ
A55: Ծրագրի դասիչը | B55: Ծրագրի անվանումը
A56: 1139 | B56: ՀՀ կառավարության պահուստային ֆոնդ
A58: Ծրագրի միջոցառումները
A59: Ծրագրի դասիչը` | B59: 1139 | C59: Ցուցանիշների փոփոխությունը (ավելացումները նշված են դրական նշանով)
A60: Միջոցառման դասիչը` | B60: 11001 | C60: Ինն ամիս | D60: Տարի
A61: Միջոցառման անվանումը` | B61: ՀՀ կառավարության պահուստային ֆոնդ
A62: Նկարագրությունը` | B62: ՀՀ պետական բյուջեում նախատեսված ելքերի լրացուցիչ ֆինանսավորման՝ պետական բյուջեում չկանխատեսված ելքերի՝ ինչպես նաև բյուջետային երաշխիքների ապահովման ելքերի ֆինանսավորման ապահովում
A63: Միջոցառման տեսակը` | B63: Ծառայությունների մատուցում
A64: Միջոցառումն իրականացնողի անվանումը | B64: ՀՀ կառավարություն
A65: Արդյունքի չափորոշիչներ
A66: Միջոցառման վրա կատարվող ծախսը (հազար դրամ) | C66: =+'2'!G67 -> 12100 | D66: =+'2'!H67 -> 12100
A67: Ծրագրի դասիչը` | B67: 1139 | C67: Ցուցանիշների փոփոխությունը (նվազեցումները նշված են փակագծերում)
A68: Միջոցառման դասիչը` | B68: 11001 | C68: Ինն ամիս | D68: Տարի
A69: Միջոցառման անվանումը` | B69: ՀՀ կառավարության պահուստային ֆոնդ
A70: Նկարագրությունը` | B70: ՀՀ պետական բյուջեում նախատեսված ելքերի լրացուցիչ ֆինանսավորման՝ պետական բյուջեում չկանխատեսված ելքերի՝ ինչպես նաև բյուջետային երաշխիքների ապահովման ելքերի ֆինանսավորման ապահովում
A71: Միջոցառման տեսակը` | B71: Ծառայությունների մատուցում
A72: Միջոցառումն իրականացնողի անվանումը | B72: ՀՀ կառավարություն
A73: Արդյունքի չափորոշիչներ
A74: Միջոցառման վրա կատարվող ծախսը (հազար դրամ) | C74: =+'2'!G75 -> -12100 | D74: =+'2'!H75 -> -12100
A76: ՀԱՅԱՍՏԱՆԻ ՀԱՆՐԱՊԵՏՈՒԹՅԱՆ ՎԱՐՉԱՊԵՏԻ ԱՇԽԱՏԱԿԱԶՄԻ
A77: ՂԵԿԱՎԱՐ Ա. ՀԱՐՈՒԹՅՈՒՆՅԱՆ

Sheet 4
B1: Հավելված N 4 ՀՀ կառավարության 2021 թվականի __________-ի ____-ի N _____-Ն որոշման
A2: ՀԱՅԱՍՏԱՆԻ ՀԱՆՐԱՊԵՏՈՒԹՅԱՆ ԿԱՌԱՎԱՐՈՒԹՅԱՆ 2020ԹՎԱԿԱՆԻ ԴԵԿՏԵՄԲԵՐԻ 30-Ի N 2215-Ն ՈՐՈՇՄԱՆ N9.1 ՀԱՎԵԼՎԱԾԻ 9.1.19 ԵՎ 9.1.58 ԱՂՅՈՒՍԱԿՆԵՐՈՒՄ ԿԱՏԱՐՎՈՂ ՓՈՓՈԽՈՒԹՅՈՒՆՆԵՐԸ
A3: ՀՀ արտակարգ իրավիճակների նախարարություն
A5: ՄԱՍ 1 ՊԵՏԱԿԱՆ ՄԱՐՄՆԻ ԳԾՈՎ ԱՐԴՅՈՒՆՔԱՅԻՆ (ԿԱՏԱՐՈՂԱԿԱՆ) ՑՈՒՑԱՆԻՇՆԵՐԸ
A6: Ծրագրի դասիչը | B6: Ծրագրի անվանումը
A7: 1090 | B7: Փրկարարական ծառայություններ
A8: Ծրագրի միջոցառումները
A9: Ծրագրի դասիչը՝ | B9: 1090 | C9: Ցուցանիշների փոփոխությունը (նվազեցումները նշված են փակագծերում)
A10: Միջոցառման դասիչը՝ | B10: 11001 | C10: Ինն ամիս | D10: Տարի
A11: Միջոցառման անվանումը՝ | B11: Փրկարարական ծառայություններ
A12: Նկարագրությունը՝ | B12: Հրդեհաշիջման, հակահրդեհային քարոզչության, բնական և տեխնածին աղետների ժամանակ բնակչության և կառույցների պաշտպանություն
A13: Միջոցառման տեսակը՝ | B13: Ծառայությունների մատուցում
A14: Միջոցառումն իրականացնողի անվանումը` | B14: ՀՀ արտակարգ իրավիճակների նախարարություն
A15: Արդյունքի չափորոշիչներ
A16: Øß³ÏíáÕ ÝáñÙ³ïÇí Çñ³í³Ï³Ý ³Ïï»ñÇ Ý³Ë³·Í»ñÇ ù³Ý³Ï, Ñ³ï
A17: Ð³Ù³Ï³ñ·íáÕ, Çñ³Ï³Ý³óíáÕ ¨ í»ñ³ÑëÏÙ³Ý »ÝÃ³ñÏíáÕ ÙÇçáó³éáõÙÝ»ñÇ ù³Ý³Ï, Ñ³ï
A18: Միջոցառման վրա կատարվող ծախսը (հազար դրամ) | C18: =+'3'!C22 -> -11957 | D18: =+'3'!D22 -> -24369.1
A19: Ծրագրի դասիչը՝ | B19: 1090 | C19: Ցուցանիշների փոփոխությունը (Ավելացումները նշված են դրական նշանով,իսկ նվազեցումները՝ փակագծերում)
A20: Միջոցառման դասիչը՝ | B20: 31001 | C20: Ինն ամիս | D20: Տարի
A21: Միջոցառման անվանումը՝ | B21: Փրկարար ծառայության տեխնիկական հագեցվածության բարելավում
A22: Նկարագրությունը՝ | B22: Համակարգչային և գրասենյակային սարքավորումների ձեռքբերում
A23: Միջոցառման տեսակը՝ | B23: Պետական մարմինների կողմից օգտագործվող ոչ ֆինանասական ակտիվների հետ գործառնություններ
A24: Միջոցառումն իրականացնողի անվանումը` | B24: ՀՀ արտակարգ իրավիճակների նախարարություն
A25: Արդյունքի չափորոշիչներ
A26: Øß³ÏíáÕ ÝáñÙ³ïÇí Çñ³í³Ï³Ý ³Ïï»ñÇ Ý³Ë³·Í»ñÇ ù³Ý³Ï, Ñ³ï
A27: Ð³Ù³Ï³ñ·íáÕ, Çñ³Ï³Ý³óíáÕ ¨ í»ñ³ÑëÏÙ³Ý »ÝÃ³ñÏíáÕ ÙÇçáó³éáõÙÝ»ñÇ ù³Ý³Ï, Ñ³ï
A28: Քանակական | B28: Համակարգչային սարքավորումների քանակ, հատ | C28: 0 | D28: 7
B29: Գրասենյակային գույքի և սարքավորումների քանակ, հատ | C29: 0 | D29: 249
A30: Ժամկետային | B30: Սարքավորումների ծառայության կանխատեսվող միջին ժամկետ, տարի | C30: 0 | D30: 10
A31: Միջոցառման վրա կատարվող ծախսը (հազար դրամ) | C31: =+'3'!C35 -> -143 | D31: =+'3'!D35 -> 12269.1
A32: Ծրագրի դասիչը՝ | B32: 1090 | C32: Ցուցանիշների փոփոխությունը (ավելացումները նշված են դրական նշանով)
A33: Միջոցառման դասիչը՝ | B33: 31007 | C33: Ինն ամիս | D33: Տարի
A34: Միջոցառման անվանումը՝ | B34: ԱԻՆ Փրկարար ծառայության շենքային ապահովվածության և պայմանների բարելավում
A35: Նկարագրությունը՝ | B35: Փրկարար ծառայության շենքերի և շինությունների կառուցում, կապիտալ վերանորոգում
A36: Միջոցառման տեսակը՝ | B36: Պետական մարմինների կողմից օգտագործվող ոչ ֆինանասական ակտիվների հետ գործառնություններ
A37: Միջոցառումն իրականացնողի անվանումը` | B37: ՀՀ արտակարգ իրավիճակների նախարարություն
A38: Արդյունքի չափորոշիչներ
A39: Øß³ÏíáÕ ÝáñÙ³ïÇí Çñ³í³Ï³Ý ³Ïï»ñÇ Ý³Ë³·Í»ñÇ ù³Ý³Ï, Ñ³ï
A40: Ð³Ù³Ï³ñ·íáÕ, Çñ³Ï³Ý³óíáÕ ¨ í»ñ³ÑëÏÙ³Ý »ÝÃ³ñÏíáÕ ÙÇçáó³éáõÙÝ»ñÇ ù³Ý³Ï, Ñ³ï
A41: Քանակական | B41: ջրամատակարարման խողովակաշարերի տեղադրում, մետր | C41: 400 | D41: 400
B42: ջրահեռացման խողովակաշարերի տեղադրում, մետր | C42: 400 | D42: 400
B43: գազի մատակարարաման մագիստրալային խողովակների տեղադրում, մետր | C43: 180 | D43: 180
B44: էլեկտրական լարերի անցկացում, մետր | C44: 400 | D44: 400
B45: Նախագծանախահաշվային փաստաթղթեր փաթեթ,հատ | C45: 1 | D45: 1
A46: Միջոցառման վրա կատարվող ծախսը (հազար դրամ) | C46: =+'3'!C50 -> 12100 | D46: =+'3'!D50 -> 12100
A48: ՀՀ կառավարություն
A49: ՄԱՍ 2. ՊԵՏԱԿԱՆ ՄԱՐՄՆԻ ԳԾՈՎ ԱՐԴՅՈՒՆՔԱՅԻՆ (ԿԱՏԱՐՈՂԱԿԱՆ) ՑՈՒՑԱՆԻՇՆԵՐԸ
A51: Ծրագրի դասիչը | B51: Ծրագրի անվանումը
A52: 1139 | B52: ՀՀ կառավարության պահուստային ֆոնդ
A54: Ծրագրի միջոցառումները
A55: Ծրագրի դասիչը` | B55: 1139 | C55: Ցուցանիշների փոփոխությունը (ավելացումները նշված են դրական նշանով)
A56: Միջոցառման դասիչը` | B56: 11001 | C56: Ինն ամիս | D56: Տարի
A57: Միջոցառման անվանումը` | B57: ՀՀ կառավարության պահուստային ֆոնդ
A58: Նկարագրությունը` | B58: ՀՀ պետական բյուջեում նախատեսված ելքերի լրացուցիչ ֆինանսավորման՝ պետական բյուջեում չկանխատեսված ելքերի՝ ինչպես նաև բյուջետային երաշխիքների ապահովման ելքերի ֆինանսավորման ապահովում
A59: Միջոցառման տեսակը` | B59: Ծառայությունների մատուցում
A60: Միջոցառումն իրականացնողի անվանումը | B60: ՀՀ կառավարություն
A61: Արդյունքի չափորոշիչներ
A62: Միջոցառման վրա կատարվող ծախսը (հազար դրամ) | C62: =+'3'!C66 -> 12100 | D62: =+'3'!D66 -> 12100
A63: Ծրագրի դասիչը` | B63: 1139 | C63: Ցուցանիշների փոփոխությունը (նվազեցումները նշված են փակագծերում)
A64: Միջոցառման դասիչը` | B64: 11001 | C64: Ինն ամիս | D64: Տարի
A65: Միջոցառման անվանումը` | B65: ՀՀ կառավարության պահուստային ֆոնդ
A66: Նկարագրությունը` | B66: ՀՀ պետական բյուջեում նախատեսված ելքերի լրացուցիչ ֆինանսավորման՝ պետական բյուջեում չկանխատեսված ելքերի՝ ինչպես նաև բյուջետային երաշխիքների ապահովման ելքերի ֆինանսավորման ապահովում
A67: Միջոցառման տեսակը` | B67: Ծառայությունների մատուցում
A68: Միջոցառումն իրականացնողի անվանումը | B68: ՀՀ կառավարություն
A69: Արդյունքի չափորոշիչներ
A70: Միջոցառման վրա կատարվող ծախսը (հազար դրամ) | C70: =+'3'!C74 -> -12100 | D70: =+'3'!D74 -> -12100
A72: ՀԱՅԱՍՏԱՆԻ ՀԱՆՐԱՊԵՏՈՒԹՅԱՆ ՎԱՐՉԱՊԵՏԻ ԱՇԽԱՏԱԿԱԶՄԻ
A73: ՂԵԿԱՎԱՐ Ա. ՀԱՐՈՒԹՅՈՒՆՅԱՆ

Sheet 5
A1: Հավելված N5
F2: ՀՀ կառավարության 2021 թվականի -ի N -Ն որոշման
C3: «ՀԱՅԱՍՏԱՆԻ ՀԱՆՐԱՊԵՏՈՒԹՅԱՆ 2021 ԹՎԱԿԱՆԻ ՊԵՏԱԿԱՆ ԲՅՈՒՋԵԻ ՄԱՍԻՆ» ՀԱՅԱՍՏԱՆԻ ՀԱՆՐԱՊԵՏՈՒԹՅԱՆ ՕՐԵՆՔԻ N 1 ՀԱՎԵԼՎԱԾԻ N3 ԱՂՅՈՒՍԱԿՈՒՄ ԿԱՏԱՐՎՈՂ ՓՈՓՈԽՈՒԹՅՈՒՆՆԵՐԸ ԵՎ ԼՐԱՑՈՒՄՆԵՐԸ
G4: հազար դրամներով
A5: Ծրագրային դասիչ | C5: Բյուջետային գլխավոր կարգադրիչների, ծրագրերի, միջոցառումների և ուղղությունների անվանումները | D5: Ընդամենը, | E5: Ցուցանիշների փոփոխությունը (ավելացումները նշված են դրական նշանով)
A6: Ծրագիր | B6: Միջոցառում | E6: Կառուցման աշխատանքներ | F6: Վերակառուցման, վերանորոգման և վերականգնման աշխատանքներ | G6: Նախագծահե- տազոտական, գեոդեզիա- քարտեզագրա- կան աշխա- տանքներ | H6: Ոչ ֆինանսական այլ ակտիվների ձեռքբերում
C7: այդ թվում՝
C8: ՀՀ ԱՐՏԱԿԱՐԳ ԻՐԱՎԻՃԱԿՆԵՐԻ ՆԱԽԱՐԱՐՈՒԹՅՈՒՆ | D8: =+D10+D13 -> 24369.1 | E8: =+E10+E13 -> 11800 | F8: =+F10+F13 -> 0 | G8: =+G10+G13 -> 300 | H8: =+H10+H13 -> 12269.1
C9: այդ թվում`
A10: 1090 | B10: 31001 | C10: Փրկարար ծառայության տեխնիկական հագեցվածության բարելավում | D10: =+D12 -> 12269.1 | H10: =+H12 -> 12269.1
C11: այդ թվում ըստ կատարողների`
C12: ՀՀ արտակարգ իրավիճակների նախարարություն | D12: =+H12 -> 12269.1 | H12: =+'4'!D31 -> 12269.1
A13: 1090 | B13: 31007 | C13: ԱԻՆ Փրկարար ծառայության շենքային ապահովվածության և պայմանների բարելավում | D13: =+D15 -> 12100 | E13: =E15 -> 11800 | F13: =F15 -> 0 | G13: =+G15 -> 300
C14: այդ թվում ըստ կատարողների`
C15: ՀՀ արտակարգ իրավիճակների նախարարություն | D15: =+E15+G15 -> 12100 | E15: 11800 | G15: 300
A19: ՀԱՅԱՍՏԱՆԻ ՀԱՆՐԱՊԵՏՈՒԹՅԱՆ ՎԱՐՉԱՊԵՏԻ ԱՇԽԱՏԱԿԱԶՄԻ
A20: ՂԵԿԱՎԱՐ Ա. ՀԱՐՈՒԹՅՈՒՆՅԱՆ

Sheet 6
F1: Հավելված N 6
F2: ՀՀ կառավարության 2021 թվականի
F3: ___________ ___-ի N _______ -Ն որոշման
A4: ՀԱՅԱՍՏԱՆԻ ՀԱՆՐԱՊԵՏՈՒԹՅԱՆ ԿԱՌԱՎԱՐՈՒԹՅԱՆ 2020 ԹՎԱԿԱՆԻ ԴԵԿՏԵՄԲԵՐԻ 30-Ի N 2215-Ն ՈՐՈՇՄԱՆ N 5 ՀԱՎԵԼՎԱԾԻ N 2 ԱՂՅՈՒՍԱԿՈՒՄ ԿԱՏԱՐՎՈՂ ՓՈՓՈԽՈՒԹՅՈՒՆՆԵՐԸ ԵՎ ԼՐԱՑՈՒՄՆԵՐԸ
D5: հազար դրամներով
A6: Ծրագրային դասիչ | C6: Բյուջետային գլխավոր կարգադրիչների, ծրագրերի, միջոցառումների, միջոցառումները կատարող պետական մարմինների և ուղղությունների անվանումները | D6: Ցուցանիշների փոփոխությունը (ավելացումները նշված են դրական նշանով)
D7: Ինն ամիս | E7: Տարի
A8: Ծրագիր | B8: Միջոցառում
C9: այդ թվում՝
C10: ՀՀ ԱՐՏԱԿԱՐԳ ԻՐԱՎԻՃԱԿՆԵՐԻ ՆԱԽԱՐԱՐՈՒԹՅՈՒՆ | D10: =+D12+D15 -> 11957 | E10: =+E12+E15 -> 24369.1
C11: այդ թվում`
A12: 1090 | B12: 31001 | C12: Փրկարար ծառայության տեխնիկական հագեցվածության բարելավում | D12: =+'2'!G38 -> -143 | E12: =+'2'!H38 -> 12269.1
C13: այդ թվում` ըստ կատարողների
C14: ՀՀ արտակարգ իրավիճակների նախարարություն
A15: 1090 | B15: 31007 | C15: ԱԻՆ Փրկարար ծառայության շենքային ապահովվածության և պայմանների բարելավում | D15: =+D19+D20 -> 12100 | E15: =+E19+E20 -> 12100
C16: այդ թվում` ըստ կատարողների
C17: ՀՀ արտակարգ իրավիճակների նախարարություն
C18: այդ թվում՝ ըստ ուղղությունների
C19: Փրկարար ծառայության շենքերի և շինությունների կառուցում, կապիտալ վերանորոգում | D19: =+'5'!E15 -> 11800 | E19: 11800
C20: Ջրագծի անցկացման նախագծանախահաշվային փաստաթղթերի կազմում | D20: 300 | E20: 300
A22: ՀԱՅԱՍՏԱՆԻ ՀԱՆՐԱՊԵՏՈՒԹՅԱՆ ՎԱՐՉԱՊԵՏԻ ԱՇԽԱՏԱԿԱԶՄԻ
A23: ՂԵԿԱՎԱՐ Ա. ՀԱՐՈՒԹՅՈՒՆՅԱՆ

Sheet 7
F1: Հավելված N 7
E2: ՀՀ կառավարության 2020 թվականի
E3: ______________ ի ___Ն որոշման
A4: ՀԱՅԱՍՏԱՆԻ ՀԱՆՐԱՊԵՏՈՒԹՅԱՆ ԿԱՌԱՎԱՐՈՒԹՅԱՆ 2020 ԹՎԱԿԱՆԻ ԴԵԿՏԵՄԲԵՐԻ 30-Ի N 2215-Ն ՈՐՈՇՄԱՆ N 10 ՀԱՎԵԼՎԱԾՈՒՄ ԿԱՏԱՐՎՈՂ փոփոխությունները և ԼՐԱՑՈՒՄՆԵՐԸ
A5: Գնման առարկայի | G5: Գումարը (հազար դրամով) Ցուցանիշների փոփոխությունը (ավելացումները նշված են դրական նշանով, իսկ վազեցումները նշված են փակագծերում)
A6: Կոդը | B6: Անվանումը | C6: Գնման ձև | D6: Չափման միավորը | E6: Միավորի գինը | F6: Քանակը
A8: ՀՀ արտակարգ իրավիճակների նախարարություն | G8: =+G9 -> 0.009
A9: Բաժին N 03 | B9: Խումբ N 02 | C9: Դաս N 01 | D9: Փրկարար ծառայություն | G9: =+G10+G255+G299 -> 0.009
A10: 1090 11001 | B10: Փրկարարական ծառայություններ | G10: =+G11+G227 -> -24369.091
A11: ՄԱՍI. ԱՊՐԱՆՔՆԵՐ | G11: =SUM(G12:G226) -> -30470.336
A12: 39241141/1 | B12: դանակ` գրասենյակային | C12: ԳՀ | D12: հատ | G12: -6
A13: 30234300/1 | B13: դատարկ սկավառակ, առանց տուփի, CD | C13: ԳՀ | D13: հատ | G13: -27.6
A14: 18231600/1 | B14: սվիտերներ | C14: ԳՀ | D14: հատ | G14: -266
A15: 18421130/1 | B15: ձեռնոցներ | C15: ԳՀ | D15: զույգ | G15: -4
A16: 30121460/18 | B16: տոներային քարտրիջներ | C16: ԳՀ | D16: հատ | G16: -1.632
A17: 30237412/1 | B17: մկնիկ, համակարգչային, անլար | C17: ԳՀ | D17: հատ | G17: -20
A18: 18331200/1 | B18: վերնաշապիկներ | C18: ԳՀ | D18: հատ | G18: -520
A19: 30192133/1 | B19: սրիչներ | C19: ԳՀ | D19: հատ | G19: -20
A20: 22851500/1 | B20: կաշվեպանակ | C20: ԳՀ | D20: հատ | G20: -24
A21: 30121460/10 | B21: տոներային քարտրիջներ | C21: ԳՀ | D21: հատ | G21: -6.9
A22: 35811180/1 | B22: հատուկ հանդերձանք ― պարագաներ | C22: ԳՀ | D22: հատ | G22: -840
A23: 30192160/1 | B23: շտրիխներ | C23: ԳՀ | D23: հատ | G23: -14
... A167: 38411200/1 | B167: ջերմաչափեր | C167: ԳՀ | D167: հատ | G167: -190.19
A168: 19212600/505 | B168: Անկողնային ծածկոց | C168: ԳՀ | D168: հատ | E168: 5000 | F168: 50 | G168: =+E168*F168/1000 -> 250
A169: 39516122/502 | B169: Բարձ սինթետիկ | C169: ԳՀ | D169: հատ | E169: 2960 | F169: 25 | G169: =+E169*F169/1000 -> 74
A170: 30197622 | B170: Թուղթ A4 ֆորմատի | C170: ԷԱՃ | D170: կգ | E170: 600 | F170: 700 | G170: =+E170*F170/1000 -> 420
A171: 9134200 | B171: Դիզելային վառելիք (Ամառային) | C171: ԷԱՃ | D171: լիտր | E171: 440 | F171: 30000 | G171: =+E171*F171/1000 -> 13200
A172: 34351200 | B172: Ավտոմեքենաների անիվներ | C172: ԷԱՃ | D172: հատ | E172: 21500 | F172: 4 | G172: =+E172*F172/1000 -> 86
A173: 34351200 | B173: Ավտոմեքենաների անիվներ | C173: ԷԱՃ | D173: հատ | E173: 21500 | F173: 4 | G173: =+E173*F173/1000 -> 86
A174: 34351200 | B174: Ավտոմեքենաների անիվներ | C174: ԷԱՃ | D174: հատ | E174: 24000 | F174: 8 | G174: =+E174*F174/1000 -> 192
A175: 34351200 | B175: Ավտոմեքենաների անիվներ | C175: ԷԱՃ | D175: հատ | E175: 25000 | F175: 8 | G175: =+E175*F175/1000 -> 200
A176: 34351200 | B176: Ավտոմեքենաների անիվներ | C176: ԷԱՃ | D176: հատ | E176: 41000 | F176: 12 | G176: =+E176*F176/1000 -> 492
A177: 31442100 | B177: Կուտակիչ մարտկոցներ | C177: ԷԱՃ | D177: հատ | E177: 86000 | F177: 4 | G177: =+E177*F177/1000 -> 344
A178: 31442100 | B178: Կուտակիչ մարտկոցներ | C178: ԷԱՃ | D178: հատ | E178: 25000 | F178: 4 | G178: =+E178*F178/1000 -> 100
A179: 42121190 | B179: Ջրի պոմպեր | C179: ԷԱՃ | D179: հատ | E179: 30500 | F179: 10 | G179: =+E179*F179/1000 -> 305
A180: 34311170 | B180: Փոխադրամիջոցների ռադիատորներ | C180: ԷԱՃ | D180: հատ | E180: 128000 | F180: 5 | G180: =+E180*F180/1000 -> 640
A181: 42121230 | B181: Վառելիքի պոմպեր | C181: ԷԱՃ | D181: հատ | E181: 13000 | F181: 10 | G181: =+E181*F181/1000 -> 130
A182: 34311140 | B182: Շարժիչների մասեր | C182: ԷԱՃ | D182: հատ | E182: 50000 | F182: 5 | G182: =+E182*F182/1000 -> 250
A183: 34311140 | B183: Շարժիչների մասեր | C183: ԷԱՃ | D183: հատ | E183: 52000 | F183: 10 | G183: =+E183*F183/1000 -> 520
... A188: 34311140 | B188: Շարժիչների մասեր | C188: ԷԱՃ | D188: հատ | E188: 2000 | F188: 10 | G188: =+E188*F188/1000 -> 20
A189: 35111110 | B189: Շնչառական սարքավորումներ հրդեհների մարման համար | C189: ԳՀ | D189: հատ | E189: 433000 | F189: 9 | G189: =E189*F189/1000 -> 3897
A190: 35821400 | B190: Դրոշներ | C190: ԷԱՃ | D190: հատ | E190: 5500 | F190: 50 | G190: =E190*F190/1000 -> 275
A191: 44521190 | B191: Բանալիներ | C191: ԷԱՃ | D191: հատ | E191: 300000 | F191: 1 | G191: =E191*F191/1000 -> 300
A192: 42121420 | B192: Ճնշակներ, կոմպրեսորներ | C192: ԷԱՃ | D192: հատ | E192: 350000 | F192: 1 | G192: =E192*F192/1000 -> 350
A193: 31531100 | B193: Էլեկտրական լամպեր | C193: ԷԱՃ | D193: հատ | E193: 33000 | F193: 5 | G193: =E193*F193/1000 -> 165
A194: 31531100 | B194: Էլեկտրական լամպեր | C194: ԷԱՃ | D194: հատ | E194: 15000 | F194: 10 | G194: =E194*F194/1000 -> 150
A195: 44322200 | B195: Մալուխ, էլեկտրական լար | C195: ԷԱՃ | D195: մետր | E195: 380 | F195: 400 | G195: =E195*F195/1000 -> 152
A196: 32421100 | B196: Ցանցային մալուխ | C196: ԷԱՃ | D196: մետր | E196: 100 | F196: 450 | G196: =E196*F196/1000 -> 45
A197: 44111710 | B197: Սալիկ կերամիկական հատակի համար | C197: ԷԱՃ | D197: քմ | E197: 4000 | F197: 100 | G197: =E197*F197/1000 -> 400
A198: 44111720 | B198: Սալիկ կերամիկական պատերի համար | C198: ԷԱՃ | D198: քմ | E198: 3800 | F198: 10 | G198: =E198*F198/1000 -> 38
A199: 24911900 | B199: Սալիկի սոսինձ | C199: ԷԱՃ | D199: կգ | E199: 80 | F199: 1200 | G199: =E199*F199/1000 -> 96
A200: 44411100 | B200: Ծորակներ | C200: ԷԱՃ | D200: հատ | E200: 9000 | F200: 6 | G200: =E200*F200/1000 -> 54
A201: 44411740 | B201: Զուգարանակոնք | C201: ԷԱՃ | D201: հատ | E201: 30000 | F201: 1 | G201: =E201*F201/1000 -> 30
A202: 44192400 | B202: Ծեփամածիկ գիպսային | C202: ԷԱՃ | D202: կգ | E202: 100 | F202: 200 | G202: =E202*F202/1000 -> 20
A203: 44111200 | B203: Ցեմենտ | C203: ԷԱՃ | D203: կգ | E203: 50 | F203: 4500 | G203: =E203*F203/1000 -> 225
A204: 44111414 | B204: Ներկ լատեքսային | C204: ԷԱՃ | D204: կգ | E204: 850 | F204: 250 | G204: =E204*F204/1000 -> 212.5
A205: 44511260 | B205: Հղկաթուղթ | C205: ԷԱՃ | D205: քմ | E205: 2200 | F205: 2 | G205: =E205*F205/1000 -> 4.4
A206: 31684400 | B206: Վարդակ | C206: ԷԱՃ | D206: հատ | E206: 700 | F206: 40 | G206: =E206*F206/1000 -> 28
A207: 31531100 | B207: Էլեկտրական լամպեր | C207: ԷԱՃ | D207: հատ | E207: 4800 | F207: 5 | G207: =E207*F207/1000 -> 24
A208: 31211221 | B208: Անջատիչներ | C208: ԷԱՃ | D208: հատ | E208: 750 | F208: 30 | G208: =E208*F208/1000 -> 22.5
A209: 39515410 | B209: Ներքին շերտավարագույր | C209: ԷԱՃ | D209: քմ | E209: 6000 | F209: 150 | G209: =E209*F209/1000 -> 900
A210: 22991181 | B210: Դեկորատիվ ստվարաթուղթ | C210: ԷԱՃ | D210: կգ | E210: 287.5 | F210: 800 | G210: =E210*F210/1000 -> 230
A211: 44423570 | B211: Պրոֆիլներ, ձևեր | C211: ԳՀ | D211: հատ | E211: 700 | F211: 26 | G211: =E211*F211/1000 -> 18.2
A212: 44423570 | B212: Պրոֆիլներ, ձևեր | C212: ԳՀ | D212: հատ | E212: 1300 | F212: 50 | G212: =E212*F212/1000 -> 65
A213: 44531110 | B213: Փայտի պտուտակներ | C213: ԳՀ | D213: կգ | E213: 1400 | F213: 3 | G213: =E213*F213/1000 -> 4.2
A214: 44191700 | B214: Այլ զանազան շինանյութեր | C214: ԷԱՃ | D214: կգ | E214: 240 | F214: 50 | G214: =E214*F214/1000 -> 12
A215: 44531110 | B215: Փայտի պտուտակներ | C215: ԳՀ | D215: կգ | E215: 4000 | F215: 1 | G215: =E215*F215/1000 -> 4
A216: 44531110 | B216: Փայտի պտուտակներ | C216: ԳՀ | D216: կգ | E216: 5000 | F216: 2 | G216: =E216*F216/1000 -> 10
A217: 44112140 | B217: Լամինատ | C217: ԷԱՃ | D217: մ2 | E217: 3000 | F217: 68 | G217: =E217*F217/1000 -> 204
A218: 44221140 | B218: Դռներ | C218: ԷԱՃ | D218: հատ | E218: 33000 | F218: 5 | G218: =E218*F218/1000 -> 165
A219: 44192400 | B219: Գաջ, գիպսային | C219: ԷԱՃ | D219: կգ | E219: 78 | F219: 450 | G219: =E219*F219/1000 -> 35.1
A220: 14211100 | B220: Ավազ | C220: ԷԱՃ | D220: մ3 | E220: 10 | F220: 4000 | G220: =E220*F220/1000 -> 40
A221: 44423671 | B221: Պլաստմասե ուղետար | C221: ԷԱՃ | D221: մետր | E221: 300 | F221: 80 | G221: =E221*F221/1000 -> 24
A222: 44322200 | B222: Մալուխ, էլեկտրական լար | C222: ԷԱՃ | D222: մետր | E222: 230 | F222: 200 | G222: =E222*F222/1000 -> 46
A223: 44322200 | B223: Մալուխ, էլեկտրական լար | C223: ԷԱՃ | D223: մետր | E223: 550 | F223: 100 | G223: =E223*F223/1000 -> 55
A224: 31681700 | B224: Բաժանարար տուփ | C224: ԷԱՃ | D224: հատ | E224: 2000 | F224: 2 | G224: =E224*F224/1000 -> 4
A225: 31211140 | B225: Ապահովիչներ | C225: ԷԱՃ | D225: հատ | E225: 1700 | F225: 10 | G225: =E225*F225/1000 -> 17
A226: 44192300 | B226: Պատուհանագոգ պլաստմասե | C226: ԷԱՃ | D226: մ2 | E226: 2300 | F226: 5 | G226: =E226*F226/1000 -> 11.5
A227: ՄԱՍ III. ԾԱՌԱՅՈՒԹՅՈՒՆՆԵՐ | G227: =SUM(G228:G254) -> 6101.245
A228: 72212211 | B228: Տվյալների բազայի համակարգչային ծրագրային փաթեթների մշակման ծառայություններ | C228: ՄԱ | D228: դրամ | E228: 3585000 | F228: 1 | G228: =F228*E228/1000 -> 3585
A229: 64211340/502 | B229: էլեկտրոնային տեղեկատվական ծառայություններ | C229: ԳՀ | D229: դրամ | G229: -11
A230: 64211100/506 | B230: հանրային հեռախոսային ծառայություններ | C230: ԳՀ | D230: դրամ | G230: -5.12
A231: 64211130/502 | B231: բջջային հեռախոսների ծառայություններ | C231: ԳՀ | D231: դրամ | G231: -64
A232: 79821200/634 | B232: այլ պոլիգրաֆիական արտադրանքի տպագրման ծառայություն | C232: ԳՀ | D232: դրամ | G232: -5.2
A233: 79821200/643 | B233: այլ պոլիգրաֆիական արտադրանքի տպագրման ծառայություն | C233: ԳՀ | D233: դրամ | G233: -84
A234: 79821200/623 | B234: այլ պոլիգրաֆիական արտադրանքի տպագրման ծառայություն | C234: ԳՀ | D234: դրամ | G234: -12.24
A235: 79821200/645 | B235: այլ պոլիգրաֆիական արտադրանքի տպագրման ծառայություն | C235: ԳՀ | D235: դրամ | G235: -14.71
A236: 79821200/639 | B236: այլ պոլիգրաֆիական արտադրանքի տպագրման ծառայություն | C236: ԳՀ | D236: դրամ | G236: -12
A237: 79821200/649 | B237: այլ պոլիգրաֆիական արտադրանքի տպագրման ծառայություն | C237: ԳՀ | D237: դրամ | G237: -7.9
A238: 79821200/633 | B238: այլ պոլիգրաֆիական արտադրանքի տպագրման ծառայություն | C238: ԳՀ | D238: դրամ | G238: -55.685
A239: 79821200/642 | B239: այլ պոլիգրաֆիական արտադրանքի տպագրման ծառայություն | C239: ԳՀ | D239: դրամ | G239: -30.9
A240: 79821200 | B240: Այլ պոլիգրաֆիական արտադրանքի տպագրման ծառայություններ | C240: ԷԱՃ | D240: դրամ | E240: 45000 | F240: 1 | G240: =E240*F240/1000 -> 45
A241: 79821200 | B241: Այլ պոլիգրաֆիական արտադրանքի տպագրման ծառայություններ | C241: ԷԱՃ | D241: դրամ | E241: 20000 | F241: 1 | G241: =E241*F241/1000 -> 20
A242: 79821200 | B242: Այլ պոլիգրաֆիական արտադրանքի տպագրման ծառայություններ | C242: ԷԱՃ | D242: դրամ | E242: 4000 | F242: 1 | G242: =E242*F242/1000 -> 4
A243: 79821200 | B243: Այլ պոլիգրաֆիական արտադրանքի տպագրման ծառայություններ | C243: ԷԱՃ | D243: դրամ | E243: 95000 | F243: 1 | G243: =E243*F243/1000 -> 95
A244: 79821200 | B244: Այլ պոլիգրաֆիական արտադրանքի տպագրման ծառայություններ | C244: ԷԱՃ | D244: դրամ | E244: 65000 | F244: 1 | G244: =E244*F244/1000 -> 65
A245: 79821200 | B245: Այլ պոլիգրաֆիական արտադրանքի տպագրման ծառայություններ | C245: ԷԱՃ | D245: դրամ | E245: 38000 | F245: 1 | G245: =E245*F245/1000 -> 38
A246: 79821200 | B246: Այլ պոլիգրաֆիական արտադրանքի տպագրման ծառայություններ | C246: ԷԱՃ | D246: դրամ | E246: 76000 | F246: 1 | G246: =E246*F246/1000 -> 76
A247: 79821200 | B247: Այլ պոլիգրաֆիական արտադրանքի տպագրման ծառայություններ | C247: ԷԱՃ | D247: դրամ | E247: 19000 | F247: 1 | G247: =E247*F247/1000 -> 19
A248: 79821200 | B248: Այլ պոլիգրաֆիական արտադրանքի տպագրման ծառայություններ | C248: ԷԱՃ | D248: դրամ | E248: 14000 | F248: 1 | G248: =E248*F248/1000 -> 14
...
