Workbook
Name \A: #REF!
Name \A: #REF!
Name _tab10: #REF!
Name _tab10: #REF!
Name _tab11: #REF!
Name _tab11: #REF!
Name _tab12: #REF!
Name _tab12: #REF!
Name _tab13: #REF!
Name _tab13: #REF!
Name _tab14: #REF!
Name _tab14: #REF!
Name _tab15: #REF!
Name _tab15: #REF!
Name _tab16: #REF!
Name _tab16: #REF!
Name _tab17: #REF!
Name _tab17: #REF!
Name _tab18: #REF!
Name _tab18: #REF!
Name _tab19: #REF!
Name _tab19: #REF!
Name _tab20: #REF!
Name _tab20: #REF!
Name _tab21: #REF!
Name _tab21: #REF!
Name _tab22: #REF!
Name _tab22: #REF!
Name _tab23: #REF!
Name _tab23: #REF!
Name _tab24: #REF!
Name _tab24: #REF!
Name _tab5: #REF!
Name _tab5: #REF!
Name _tab6: #REF!
Name _tab6: #REF!
Name _tab7: #REF!
Name _tab7: #REF!
Name _tab8: #REF!
Name _tab8: #REF!
Name _tab9: #REF!
Name _tab9: #REF!
Name Armata: #REF!
Name Armata: #REF!
Name BOP: #REF!
Name BOPfoot: #REF!
Name DebtCG: '[1]Fis-Debt'!#REF!
Name DebtCG: '[1]Fis-Debt'!#REF!
Name DebtGG: #REF!
Name MonExo: #REF!
Name MonGrow: [2]BM!#REF!
Name MonGrow: [2]BM!#REF!
Name par_count: #REF!,#REF!,#REF!,#REF!,#REF!,#REF!,#REF!,#REF!,#REF!,#REF!,#REF!,#REF!,#REF!,#REF!,#REF!
Name par_count: #REF!,#REF!,#REF!,#REF!,#REF!,#REF!,#REF!,#REF!,#REF!,#REF!,#REF!,#REF!,#REF!,#REF!,#REF!
Name par_count: #REF!,#REF!,#REF!,#REF!,#REF!,#REF!,#REF!,#REF!,#REF!,#REF!,#REF!,#REF!,#REF!,#REF!,#REF!
Name par_qual: #REF!,#REF!,#REF!,#REF!,#REF!
Name par_qual: #REF!,#REF!,#REF!,#REF!,#REF!
Name par_qual: #REF!,#REF!,#REF!,#REF!,#REF!
Name par_time: #REF!,#REF!,#REF!,#REF!
Name par_time: #REF!,#REF!,#REF!,#REF!

Sheet N-1
B1: Հավելված N 1 ՀՀ կառավարության 2021 թվականի ___________ ___-ի N _______ -Ն որոշման
A3: «ՀԱՅԱՍՏԱՆԻ ՀԱՆՐԱՊԵՏՈՒԹՅԱՆ 2021 ԹՎԱԿԱՆԻ ՊԵՏԱԿԱՆ ԲՅՈՒՋԵԻ ՄԱՍԻՆ» ՕՐԵՆՔԻ N 1 ՀԱՎԵԼՎԱԾԻ N 2 ԱՂՅՈՒՍԱԿՈՒՄ ԿԱՏԱՐՎՈՂ ՎԵՐԱԲԱՇԽՈՒՄԸ ԵՎ ՀԱՅԱՍՏԱՆԻ ՀԱՆՐԱՊԵՏՈՒԹՅԱՆ ԿԱՌԱՎԱՐՈՒԹՅԱՆ 2020 ԹՎԱԿԱՆԻ ԴԵԿՏԵՄԲԵՐԻ 30-Ի N 2215-Ն ՈՐՈՇՄԱՆN 5 ՀԱՎԵԼՎԱԾԻ N 1 ԱՂՅՈՒՍԱԿՈՒՄ ԿԱՏԱՐՎՈՂ ՓՈՓՈԽՈՒԹՅՈՒՆՆԵՐԸ ԵՎ ԼՐԱՑՈՒՄՆԵՐԸ
D4: /հազար դրամ/
A5: Ծրագրային դասիչը | C5: Բյուջետային հատկացումների գլխավոր կարգադրիչների, ծրագրերի և միջոցառումների անվանումները | D5: Ցուցանիշների փոփոխությունները (Ավելացումները նշված են դրական նշանով,իսկ նվազեցումները՝ փակագծերում)
A6: Ծրագիր | B6: Միջոցառում | D6: Ինն ամիս | E6: Տարի
C7: ԸՆԴԱՄԵՆԸ | D7: =D8+D28 -> 0 | E7: =E8+E28 -> 0
C8: ՀՀ շրջակա միջավայրի նախարարություն | D8: =+D9 -> 10408.5 | E8: =+E9 -> 10408.5
A9: 1016 | C9: Ծրագրի անվանումը` | D9: =D16+D22 -> 10408.5 | E9: =E16+E22 -> 10408.5
C10: Շրջակա միջավայրի վրա ազդեցության գնահատում և մոնիթորինգ
C11: Ծրագրի նպատակը`
C12: Նպաստել շրջակա միջավայրի և բնական ռեսուրսների (բացառությամբ օգտակար հանածոների) պահպանությանը
C13: Վերջնական արդյունքի նկարագրությունը`
C14: Շրջակա միջավայրի վերաբերյալ ամբողջական տեղեկատվության հրապարակում
A15: Ծրագրի միջոցառումներ
B16: 11001 | C16: Միջոցառման անվանումը` | D16: 7135.5 | E16: =D16 -> 7135.5
C17: Շրջակա միջավայրի վրա ազդեցության գնահատում և փորձաքննություն
C18: Միջոցառման նկարագրությունը`
C19: Շրջակա միջավայրի վրա ազդեցության գնահատման և փորձաքննության աշխատանքներ
C20: Միջոցառման տեսակը
C21: Ծառայությունների մատուցում
B22: 32001 | C22: Միջոցառման անվանումը` | D22: ='N 8 gnum'!I10 -> 3273 | E22: =D22 -> 3273
C23: «Շրջակա միջավայրի վրա ազդեցության փորձաքննական կենտրոն» ՊՈԱԿ-ի տեխնիկական հագեցվածության բարելավում
C24: Միջոցառման նկարագրությունը`
C25: «Շրջակա միջավայրի վրա ազդեցության փորձաքննական կենտրոն» ՊՈԱԿ-ի կարիքների համար գույքի, համակարգչային և այլ սարքավորումների ձեռքբերում
C26: Միջոցառման տեսակը
C27: Այլ պետական կազմակերպությունների կողմից օգտագործվող ոչ ֆինանսական ակտիվների հետ գործառնություններ
A28: ՀՀ կառավարություն | D28: =D29 -> -10408.5 | E28: =E29 -> -10408.5
A29: 1139 | C29: Ծրագրի անվանումը` | D29: =+D36+D42 -> -10408.5 | E29: =+E36+E42 -> -10408.5
C30: ՀՀ կառավարության պահուստային ֆոնդ
C31: Ծրագրի նպատակը`
C32: Պետական բյուջեում չկանխատեսված, ինչպես նաեւ բյուջետային երաշխիքների ապահովման ծախսերի ֆինանսավորման ապահովում
C33: Վերջնական արդյունքի նկարագրությունը`
C34: Պահուստային ֆոնդի կառավարման արդյունավետության և թափանցիկության ապահովում
C35: Ծրագրի միջոցառումներ
B36: 11001 | C36: Միջոցառման անվանումը` | D36: =-D22+-D16 -> -10408.5 | E36: =-E22+-E16 -> -10408.5
C37: ՀՀ կառավարության պահուստային ֆոնդ
C38: Միջոցառման նկարագրությունը`
C39: ՀՀ պետական բյուջեում նախատեսված ելքերի լրացուցիչ ֆինանսավորման, պետական բյուջեում չկանխատեսված ելքերի, ինչպես նաև բյուջետային երաշխիքների ապահովման ելքերի ֆինանսավորման ապահովում
C40: Միջոցառման տեսակը
C41: Ծառայությունների մատուցում

Sheet N 2
A1: Հավելված 2 ՀՀ կառավարության 2021 թվականի____________ի N _____-Ն որոշման
A3: «ՀԱՅԱՍՏԱՆԻ ՀԱՆՐԱՊԵՏՈՒԹՅԱՆ 2021 ԹՎԱԿԱՆԻ ՊԵՏԱԿԱՆ ԲՅՈՒՋԵԻ ՄԱՍԻՆ» ՀԱՅԱՍՏԱՆԻ ՀԱՆՐԱՊԵՏՈՒԹՅԱՆ ՕՐԵՆՔԻ N 1 ՀԱՎԵԼՎԱԾԻ N 3 ԱՂՅՈՒՍԱԿՈՒՄ ԿԱՏԱՐՎՈՂ ԼՐԱՑՈՒՄԸ
G4: (հազար դրամներով)
A5: Ծրագրային դասիչ | C5: Բյուջետային գլխավոր կարգադրիչների, ծրագրերի, միջոցառումների և ուղղությունների անվանումները | D5: Ցուցանիշների փոփոխությունը (ավելացումները նշված են դրական նշանով)
D6: Ընդամենը, | E6: այդ թվում՝
A7: Ծրագիր | B7: Միջոցառում | E7: Կառուցման աշխատանքներ | F7: Վերակառուցման, վերանորոգման և վերականգնման աշխատանքներ | G7: Նախագծահե- տազոտական, գեոդեզիա- քարտեզագրա- կան աշխա- տանքներ | H7: Ոչ ֆինանսական այլ ակտիվների ձեռքբերում
C8: ԸՆԴԱՄԵՆԸ | D8: =E8+F8+G8+H8 -> 3273 | E8: =E10 -> 0 | F8: =F10 -> 0 | G8: =G10 -> 0 | H8: =H10 -> 3273
C9: այդ թվում՝
C10: ՀՀ ՇՐՋԱԿԱ ՄԻՋԱՎԱՅՐԻ ՆԱԽԱՐԱՐՈՒԹՅՈՒՆ | D10: =E10+F10+G10+H10 -> 3273 | E10: 0 | F10: 0 | G10: =G11 -> 0 | H10: =H11 -> 3273
A11: 1016 | B11: 32001 | C11: «Շրջակա միջավայրի վրա ազդեցության փորձաքննական կենտրոն» ՊՈԱԿ-ի տեխնիկական հագեցվածության բարելավում | D11: =SUM(E11:H11) -> 3273 | E11: 0 | F11: 0 | G11: ='[4]N 2'!J32 -> 0 | H11: ='N 4'!G38 -> 3273

Sheet N 3
A1: Հավելված 3 ՀՀ կառավարության 2021 թվականի____________ի N _____-Ն որոշման
A3: ՀԱՅԱՍՏԱՆԻ ՀԱՆՐԱՊԵՏՈՒԹՅԱՆ ԿԱՌԱՎԱՐՈՒԹՅԱՆ 2020 ԹՎԱԿԱՆԻ ԴԵԿՏԵՄԲԵՐԻ 30-Ի N 2215-Ն ՈՐՈՇՄԱՆ N5 ՀԱՎԵԼՎԱԾԻ N2 ԱՂՅՈՒՍԱԿՈՒՄ ԿԱՏԱՐՎՈՂ ԼՐԱՑՈՒՄԸ
D4: (հազար դրամներով)
A5: Ծրագրային դասիչ | C5: Բյուջետային գլխավոր կարգադրիչների, ծրագրերի, միջոցառումների, միջոցառումները կատարող պետական մարմինների և ուղղությունների անվանումները | D5: Ցուցանիշների փոփոխությունը (ավելացումները նշված են դրական նշանով)
A7: Ծրագիր | B7: Միջոցառում | D7: Ինն ամիս | E7: Տարի
C8: ԸՆԴԱՄԵՆԸ | D8: =D9 -> 3273 | E8: =E9 -> 3273
C9: ՀՀ ՇՐՋԱԿԱ ՄԻՋԱՎԱՅՐԻ ՆԱԽԱՐԱՐՈՒԹՅՈՒՆ | D9: =D11 -> 3273 | E9: =E11 -> 3273
C10: այդ թվում`
A11: 1016 | B11: 32001 | C11: «Շրջակա միջավայրի վրա ազդեցության փորձաքննական կենտրոն» ՊՈԱԿ-ի տեխնիկական հագեցվածության բարելավում | D11: =D13 -> 3273 | E11: =E13 -> 3273
C12: այդ թվում` ըստ կատարողների
C13: ՀՀ ՇՐՋԱԿԱ ՄԻՋԱՎԱՅՐԻ ՆԱԽԱՐԱՐՈՒԹՅՈՒՆ | D13: ='N 2'!H11 -> 3273 | E13: =D13 -> 3273

Sheet N 4
A1: Հավելված N 4 ՀՀ կառավարության 2021 թվականի ___________ ___-ի N _______ -Ն որոշման
A6: ՀԱՅԱՍՏԱՆԻ ՀԱՆՐԱՊԵՏՈՒԹՅԱՆ ԿԱՌԱՎԱՐՈՒԹՅԱՆ 2020 ԹՎԱԿԱՆԻ ԴԵԿՏԵՄԲԵՐԻ 30-Ի N 2215-Ն ՈՐՈՇՄԱՆ N 3 և N 4 ՀԱՎԵԼՎԱԾՆԵՐՈՒՄ ԿԱՏԱՐՎՈՂ ՓՈՓՈԽՈՒԹՅՈՒՆՆԵՐԸ ԵՎ ԼՐԱՑՈՒՄՆԵՐԸ
H7: /հազար դրամ/
A8: Գործառական դասիչը | D8: Ծրագրային դասիչը | F8: Բյուջետային ծախսերի գործառական դասակարգման բաժինների, խմբերի և դասերի, բյուջետային ծրագրերի, միջոցառումների բյուջետային հատկացումնեյի գլխավոր կարկադրիչների անվանումները | G8: Ցուցանիշների փոփոխությունը (ավելացումները նշված են դրական նշանով, իսկ նվազեցումները` փակագծերում)
A9: Բաժին | B9: Խումբ | C9: Դաս | D9: Ծրագիր | E9: Միջոցառում | G9: Ինն ամիս | H9: Տարի
F10: ԸՆԴԱՄԵՆԸ | G10: =+G11+G39 -> 0 | H10: =+H11+H39 -> 0
A11: 05 | F11: ՇՐՋԱԿԱ ՄԻՋԱՎԱՅՐԻ ՊԱՇՏՊԱՆՈՒԹՅՈՒՆ | G11: =+G13 -> 10408.5 | H11: =+H13 -> 10408.5
F12: այդ թվում`
B13: 04 | F13: Կենսաբազմազանության և բնության պաշտպանություն | G13: =+G15 -> 10408.5 | H13: =+H15 -> 10408.5
F14: այդ թվում`
C15: 01 | F15: Կենսաբազմազանության և բնության պաշտպանություն | G15: =+G17 -> 10408.5 | H15: =+H17 -> 10408.5
F16: այդ թվում`
F17: ՀՀ շրջակա միջավայրի նախարարություն | G17: =+G19 -> 10408.5 | H17: =+H19 -> 10408.5
F18: այդ թվում`
D19: 1016 | F19: Շրջակա միջավայրի վրա ազդեցության գնահատում և մոնիթորինգ | G19: =G21+G30 -> 10408.5 | H19: =H21+H30 -> 10408.5
F20: այդ թվում`
E21: 11001 | F21: Շրջակա միջավայրի վրա ազդեցության գնահատում և փորձաքննություն | G21: =+G23 -> 7135.5 | H21: =+H23 -> 7135.5
F22: այդ թվում` ըստ կատարողների
F23: ՀՀ շրջակա միջավայրի նախարարություն | G23: =+G25 -> 7135.5 | H23: =+H25 -> 7135.5
F24: այդ թվում` բյուջետային ծախսերի տնտեսագիտական դասակարգման հոդվածներ
F25: ԸՆԴԱՄԵՆԸ ԾԱԽՍԵՐ | G25: =+G26 -> 7135.5 | H25: =+H26 -> 7135.5
F26: ԸՆԹԱՑԻԿ ԾԱԽՍԵՐ | G26: =+G27 -> 7135.5 | H26: =+H27 -> 7135.5
F27: ԴՐԱՄԱՇՆՈՐՀՆԵՐ | G27: =+G28 -> 7135.5 | H27: =+H28 -> 7135.5
F28: Ընթացիկ դրամաշնորհներ պետական հատվածի այլ մակարդակներին | G28: =+G29 -> 7135.5 | H28: =+H29 -> 7135.5
F29: - Ընթացիկ դրամաշնորհներ պետական և համայնքային ոչ առևտրային կազմակերպություններին | G29: ='N-1'!D16 -> 7135.5 | H29: ='N-1'!E16 -> 7135.5
E30: 32001 | F30: «Շրջակա միջավայրի վրա ազդեցության փորձաքննական կենտրոն» ՊՈԱԿ-ի տեխնիկական հագեցվածության բարելավում | G30: =+G32 -> 3273 | H30: =+H32 -> 3273
F31: այդ թվում` ըստ կատարողների
F32: ՀՀ շրջակա միջավայրի նախարարություն | G32: =+G34 -> 3273 | H32: =+H34 -> 3273
F33: այդ թվում` բյուջետային ծախսերի տնտեսագիտական դասակարգման հոդվածներ
F34: ԸՆԴԱՄԵՆԸ ԾԱԽՍԵՐ | G34: =+G35 -> 3273 | H34: =+H35 -> 3273
F35: ՈՉ ՖԻՆԱՆՍԱԿԱՆ ԱԿՏԻՎՆԵՐԻ ԳԾՈՎ ԾԱԽՍԵՐ | G35: =+G36 -> 3273 | H35: =+H36 -> 3273
F36: ՀԻՄՆԱԿԱՆ ՄԻՋՈՑՆԵՐ | G36: =+G37 -> 3273 | H36: =+H37 -> 3273
F37: ՄԵՔԵՆԱՆԵՐ ԵՎ ՍԱՐՔԱՎՈՐՈՒՄՆԵՐ | G37: =+G38 -> 3273 | H37: =+H38 -> 3273
F38: - Վարչական սարքավորումներ | G38: ='N-1'!D22 -> 3273 | H38: =G38 -> 3273
A39: 11 | F39: ՀԻՄՆԱԿԱՆ ԲԱԺԻՆՆԵՐԻՆ ՉԴԱՍՎՈՂ ՊԱՀՈՒՍՏԱՅԻՆ ՖՈՆԴԵՐ | G39: =G41 -> -10408.5 | H39: =H41 -> -10408.5
F40: այդ թվում`
B41: 1 | F41: ՀՀ կառավարության և համայնքների պահուստային ֆոնդ | G41: =G43 -> -10408.5 | H41: =H43 -> -10408.5
F42: այդ թվում`
C43: 1 | F43: ՀՀ կառավարության պահուստային ֆոնդ | G43: =G45 -> -10408.5 | H43: =H45 -> -10408.5
F44: այդ թվում`
F45: ՀՀ կառավարության | G45: =G47 -> -10408.5 | H45: =H47 -> -10408.5
F46: այդ թվում`
D47: 1139 | F47: ՀՀ կառավարության պահուստային ֆոնդ | G47: =+G49+G57 -> -10408.5 | H47: =+H49+H57 -> -10408.5
F48: այդ թվում`
E49: 11001 | F49: ՀՀ կառավարության պահուստային ֆոնդ | G49: =G51 -> -10408.5 | H49: =H51 -> -10408.5
F50: այդ թվում` ըստ կատարողների
F51: ՀՀ կառավարություն | G51: =G53 -> -10408.5 | H51: =H53 -> -10408.5
F52: այդ թվում` բյուջետային ծախսերի տնտեսագիտական դասակարգման հոդվածներ
F53: ԸՆԴԱՄԵՆԸ ԾԱԽՍԵՐ | G53: =G54 -> -10408.5 | H53: =H54 -> -10408.5
F54: ԸՆԹԱՑԻԿ ԾԱԽՍԵՐ | G54: =G55 -> -10408.5 | H54: =H55 -> -10408.5
F55: ԱՅԼ ԾԱԽՍԵՐ | G55: =G56 -> -10408.5 | H55: =H56 -> -10408.5
F56: - Պահուստային միջոցներ | G56: ='N-1'!D36 -> -10408.5 | H56: =G56 -> -10408.5

Sheet N 5
D1: Հավելված N 5
C2: ՀՀ կառավարության 2021 թվականի
C3: ___________ ___-ի N _______ -Ն որոշման
A5: ՀԱՅԱՍՏԱՆԻ ՀԱՆՐԱՊԵՏՈՒԹՅԱՆ ԿԱՌԱՎԱՐՈՒԹՅԱՆ 2020 ԹՎԱԿԱՆԻ ԴԵԿՏԵՄԲԵՐԻ 30-Ի N 2215-Ն ՈՐՈՇՄԱՆ N 5 ՀԱՎԵԼՎԱԾԻ 7 ԱՂՅՈՒՍԱԿՈՒՄ ԿԱՏԱՐՎՈՂ ՓՈՓՈԽՈՒԹՅՈՒՆՆԵՐԸ
G6: հազար դրամ
A7: Ծրագրային դասիչ | C7: Բյուջետային հատկացումների գլխավոր կարգադրիչների, ծրագրերի, միջոցառումների, ծախսային ուղղությունների անվանումները | F7: Միջոցառումները կատարող պետական մարմինների և դրամաշնորհ ստացող տնտեսվարող սուբյեկտների անվանումները | G7: Ցուցանիշների փոփոխությունները (ավելացումները նշված են դրական նշանով)
A8: Ծրագիր | B8: Միջոցառում | G8: Տարի
A9: 1 | B9: 2 | C9: 3 | F9: 4 | G9: 5
A10: ՀՀ շրջակա միջավայրի նախարարություն | G10: =+G11 -> 7135.5
A11: 1016 | B11: Շրջակա միջավայրի վրա ազդեցության գնահատում և մոնիթորինգ | G11: =+G12+G14 -> 7135.5
B12: 11001 | C12: Շրջակա միջավայրի վրա ազդեցության գնահատում և փորձաքննություն | F12: ՀՀ շրջակա միջավայրի նախարարություն | G12: =G13 -> 7135.5
F13: «Շրջակա միջավայրի վրա ազդեցության փորձաքննական կենտրոն» ՊՈԱԿ | G13: ='N 4'!H21 -> 7135.5

Sheet N 6
B1: Հավելված N 6
B2: ՀՀ կառավարության 2021 թվականի
B3: ___________ ___-ի N _______ -Ն որոշման
A5: ՀԱՅԱՍՏԱՆԻ ՀԱՆՐԱՊԵՏՈՒԹՅԱՆ ԿԱՌԱՎԱՐՈՒԹՅԱՆ 2020 ԹՎԱԿԱՆԻ ԴԵԿՏԵՄԲԵՐԻ 30-Ի N 2215-Ն ՈՐՈՇՄԱՆ N 9 ՀԱՎԵԼՎԱԾԻ 9.13 ԵՎ 9.47 ԱՂՅՈՒՍԱԿՆԵՐՈՒՄ ԿԱՏԱՐՎՈՂ ՓՈՓՈԽՈՒԹՅՈՒՆՆԵՐԸ ԵՎ ԼՐԱՑՈՒՄՆԵՐԸ
A7: ՀՀ շրջակա միջավայրի նախարարություն
A8: ՄԱՍ 2. ՊԵՏԱԿԱՆ ՄԱՐՄՆԻ ԳԾՈՎ ԱՐԴՅՈՒՆՔԱՅԻՆ (ԿԱՏԱՐՈՂԱԿԱՆ) ՑՈՒՑԱՆԻՇՆԵՐԸ
A11: Ծրագրի դասիչը | B11: Ծրագրի անվանումը
A12: 1016 | B12: Շրջակա միջավայրի վրա ազդեցության գնահատում և մոնիթորինգ
A14: Ծրագրի դասիչը` | B14: 1016 | C14: Ցուցանիշների փոփոխությունը (ավելացումները նշված են դրական նշանով)
A15: Միջոցառման դասիչը` | B15: 11001 | C15: Ինն ամիս | D15: Տարի
A16: Միջոցառման անվանումը` | B16: Շրջակա միջավայրի վրա ազդեցության գնահատում և փորձաքննություն
A17: Նկարագրությունը` | B17: Շրջակա միջավայրի վրա ազդեցության գնահատման և փորձաքննության աշխատանքներ
A18: Միջոցառման տեսակը` | B18: Ծառայությունների մատուցում
A19: Միջոցառումն իրականացնողի անվանումը՛ | B19: Մասնագիտացված կազմակերպություններ
A20: Արդյունքի չափորոշիչներ
A21: Շրջակա միջավայրի վրա ազդեցության փորձաքննության ներկայացված նախատեսվող գործունեությունների և հիմնադրութային փաստաթղթերի նախնական գնահատման հայտերի և գնահատման հաշվետվությունների եզրակացություններ, հատ | C21: 150 | D21: 150
A22: Շրջակա միջավայրի վրա ազդեցության փորձաքննության ներկայացված նախատեսվող գործունեությունների և հիմնադրութային փաստաթղթերի նախնական գնահատման հայտերի տեխնիկական առաջադրանքներ, հատ | C22: 40 | D22: 40
A23: Միջոցառման վրա կատարվող ծախսը (հազար դրամ) | C23: ='N 4'!G29 -> 7135.5 | D23: ='N 4'!H29 -> 7135.5
A25: Ծրագրի դասիչը` | B25: 1016 | C25: Ցուցանիշների փոփոխությունը (ավելացումները նշված են դրական նշանով)
A26: Միջոցառման դասիչը` | B26: 32001 | C26: Ինն ամիս | D26: Տարի
A27: Միջոցառման անվանումը` | B27: «Շրջակա միջավայրի վրա ազդեցության փորձաքննական կենտրոն» ՊՈԱԿ-ի տեխնիկական հագեցվածության բարելավում
A28: Նկարագրությունը` | B28: «Շրջակա միջավայրի վրա ազդեցության փորձաքննական կենտրոն» ՊՈԱԿ-ի կարիքների համար գույքի, համակարգչային և այլ սարքավորումների ձեռքբերում
A29: Միջոցառման տեսակը` | B29: Այլ պետական կազմակերպությունների կողմից օգտագործվող ոչ ֆինանսական ակտիվների հետ գործառնություններ
A30: Ակտիվն օգտագործող կազմակերպությունների անվանումը | B30: Շրջակա միջավայրի նախարարություն
A31: Արդյունքի չափորոշիչներ
A32: Համակարգիչների քանակ, հատ | D32: 4
A33: Համակարգչային այլ սարքավորումների (սքաներ) քանակ, հատ | D33: 1
A34: Համակարգչային մոնիտոր քանակ, հատ | D34: 4
A35: Տպիչ սարք, բազմաֆունկցիոնալ, A4, 18 էջ/րոպե արագության քանակ, հատ | D35: 2
A36: Անխափան սնուցման աղբյուրներ քանակ, հատ | D36: 4
A37: Գրասենյակային աթոռ քանակ, հատ | D37: 10
A38: Գրասենյակային սեղան քանակ, հատ | D38: 5
A39: Գրասենյակային դարակներով պահարան քանակ, հատ | D39: 5
A40: Սարքավորումների ծառայության կանխատեսվող միջին ժամկետ, տարի | D40: 3-8
A41: ՊՈԱԿ-ի համակարգչային տեխնիկայի բարելավում, տոկոս | D41: 80
A42: ՊՈԱԿ-ի գրասենյակային գույքի բարելավում, տոկոս | D42: 65
A43: Միջոցառման վրա կատարվող ծախսը (հազար դրամ) | C43: ='N-1'!D22 -> 3273 | D43: =C43 -> 3273
B46: ՀՀ կառավարություն
A47: ՄԱՍ 2. ՊԵՏԱԿԱՆ ՄԱՐՄՆԻ ԳԾՈՎ ԱՐԴՅՈՒՆՔԱՅԻՆ (ԿԱՏԱՐՈՂԱԿԱՆ) ՑՈՒՑԱՆԻՇՆԵՐԸ
A49: Ծրագրի դասիչը | B49: Ծրագրի անվանումը
A50: 1139 | B50: ՀՀ կառավարության պահուստային ֆոնդ
A53: Ծրագրի դասիչը` | B53: 1139 | C53: Ցուցանիշների փոփոխությունները (նվազեցումները նշված են փակագծերում)
A54: Միջոցառման դասիչը` | B54: 11001 | C54: Ինն ամիս | D54: Տարի
A55: Միջոցառման անվանումը` | B55: ՀՀ կառավարության պահուստային ֆոնդ
A56: Նկարագրությունը` | B56: ՀՀ պետական բյուջեում նախատեսված ելքերի լրացուցիչ ֆինանսավորման, պետական բյուջեում չկանխատեսված ելքերի, ինչպես նաև բյուջետային երաշխիքների ապահովման ելքերի ֆինանսավորման ապահովում
A57: Միջոցառման տեսակը` | B57: Ծառայությունների մատուցում
A58: Միջոցառումն իրականացնողի անվանումը՝ | B58: ՀՀ կառավարություն
A59: Արդյունքի չափորոշիչներ
A60: Միջոցառման վրա կատարվող ծախսը (հազար դրամ) | C60: =-C43+-C23 -> -10408.5 | D60: =-D43+-D23 -> -10408.5

Sheet N 7
B1: Հավելված N 7
B2: ՀՀ կառավարության 2021 թվականի
B3: ___________ ___-ի N _______ -Ն որոշման
A5: ՀԱՅԱՍՏԱՆԻ ՀԱՆՐԱՊԵՏՈՒԹՅԱՆ ԿԱՌԱՎԱՐՈՒԹՅԱՆ 2020 ԹՎԱԿԱՆԻ ԴԵԿՏԵՄԲԵՐԻ 30-Ի N 2215-Ն ՈՐՈՇՄԱՆ N 9.1 ՀԱՎԵԼՎԱԾԻ 9.1.13 ԵՎ 9.1.58 ԱՂՅՈՒՍԱԿՆԵՐՈՒՄ ԿԱՏԱՐՎՈՂ ՓՈՓՈԽՈՒԹՅՈՒՆՆԵՐԸ ԵՎ ԼՐԱՑՈՒՄՆԵՐԸ
A7: ՀՀ շրջակա միջավայրի նախարարություն
A8: ՄԱՍ 1. ՊԵՏԱԿԱՆ ՄԱՐՄՆԻ ԳԾՈՎ ԱՐԴՅՈՒՆՔԱՅԻՆ (ԿԱՏԱՐՈՂԱԿԱՆ) ՑՈՒՑԱՆԻՇՆԵՐԸ
A11: Ծրագրի դասիչը | B11: Ծրագրի անվանումը
A12: 1016 | B12: Շրջակա միջավայրի վրա ազդեցության գնահատում և մոնիթորինգ
A14: Ծրագրի դասիչը` | B14: 1016 | C14: Ցուցանիշների փոփոխությունը (ավելացումները նշված են դրական նշանով)
A15: Միջոցառման դասիչը` | B15: 11001 | C15: Ինն ամիս | D15: Տարի
A16: Միջոցառման անվանումը` | B16: Շրջակա միջավայրի վրա ազդեցության գնահատում և փորձաքննություն
A17: Նկարագրությունը` | B17: Շրջակա միջավայրի վրա ազդեցության գնահատման և փորձաքննության աշխատանքներ
A18: Միջոցառման տեսակը` | B18: Ծառայությունների մատուցում
A19: Միջոցառումն իրականացնողի անվանումը՛ | B19: Մասնագիտացված կազմակերպություններ
A20: Արդյունքի չափորոշիչներ
A21: Շրջակա միջավայրի վրա ազդեցության փորձաքննության ներկայացված նախատեսվող գործունեությունների և հիմնադրութային փաստաթղթերի նախնական գնահատման հայտերի և գնահատման հաշվետվությունների եզրակացություններ, հատ | C21: 150 | D21: 150
A22: Շրջակա միջավայրի վրա ազդեցության փորձաքննության ներկայացված նախատեսվող գործունեությունների և հիմնադրութային փաստաթղթերի նախնական գնահատման հայտերի տեխնիկական առաջադրանքներ, հատ | C22: 40 | D22: 40
A23: Միջոցառման վրա կատարվող ծախսը (հազար դրամ) | C23: ='N 6'!C23 -> 7135.5 | D23: ='N 6'!D23 -> 7135.5
A25: Ծրագրի դասիչը` | B25: 1016 | C25: Ցուցանիշների փոփոխությունը (ավելացումները նշված են դրական նշանով)
A26: Միջոցառման դասիչը` | B26: 32001 | C26: Ինն ամիս | D26: Տարի
A27: Միջոցառման անվանումը` | B27: «Շրջակա միջավայրի վրա ազդեցության փորձաքննական կենտրոն» ՊՈԱԿ-ի տեխնիկական հագեցվածության բարելավում
A28: Նկարագրությունը` | B28: «Շրջակա միջավայրի վրա ազդեցության փորձաքննական կենտրոն» ՊՈԱԿ-ի կարիքների համար գույքի, համակարգչային և այլ սարքավորումների ձեռքբերում
A29: Միջոցառման տեսակը` | B29: Այլ պետական կազմակերպությունների կողմից օգտագործվող ոչ ֆինանսական ակտիվների հետ գործառնություններ
A30: Ակտիվն օգտագործող կազմակերպությունների անվանումը | B30: Շրջակա միջավայրի նախարարություն
A31: Արդյունքի չափորոշիչներ
A32: Համակարգիչների քանակ, հատ | D32: 4
A33: Համակարգչային այլ սարքավորումների (սքաներ) քանակ, հատ | D33: 1
A34: Համակարգչային մոնիտոր քանակ, հատ | D34: 4
A35: Տպիչ սարք, բազմաֆունկցիոնալ, A4, 18 էջ/րոպե արագության քանակ, հատ | D35: 2
A36: Անխափան սնուցման աղբյուրներ քանակ, հատ | D36: 4
A37: Գրասենյակային աթոռ քանակ, հատ | D37: 10
A38: Գրասենյակային սեղան քանակ, հատ | D38: 5
A39: Գրասենյակային դարակներով պահարան քանակ, հատ | D39: 5
A40: Սարքավորումների ծառայության կանխատեսվող միջին ժամկետ, տարի | D40: 3-8
A41: ՊՈԱԿ-ի համակարգչային տեխնիկայի բարելավում, տոկոս | D41: 80
A42: ՊՈԱԿ-ի գրասենյակային գույքի բարելավում, տոկոս | D42: 65
A43: Միջոցառման վրա կատարվող ծախսը (հազար դրամ) | C43: ='N 6'!C43 -> 3273 | D43: ='N 6'!D43 -> 3273
B45: ՀՀ կառավարություն
A46: ՄԱՍ 1. ՊԵՏԱԿԱՆ ՄԱՐՄՆԻ ԳԾՈՎ ԱՐԴՅՈՒՆՔԱՅԻՆ (ԿԱՏԱՐՈՂԱԿԱՆ) ՑՈՒՑԱՆԻՇՆԵՐԸ
A48: Ծրագրի դասիչը | B48: Ծրագրի անվանումը
A49: 1139 | B49: ՀՀ կառավարության պահուստային ֆոնդ
A52: Ծրագրի դասիչը` | B52: 1139 | C52: Ցուցանիշների փոփոխությունները (նվազեցումները նշված են փակագծերում)
A53: Միջոցառման դասիչը` | B53: 11001 | C53: Ինն ամիս | D53: Տարի
A54: Միջոցառման անվանումը` | B54: ՀՀ կառավարության պահուստային ֆոնդ
A55: Նկարագրությունը` | B55: ՀՀ պետական բյուջեում նախատեսված ելքերի լրացուցիչ ֆինանսավորման, պետական բյուջեում չկանխատեսված ելքերի, ինչպես նաև բյուջետային երաշխիքների ապահովման ելքերի ֆինանսավորման ապահովում
A56: Միջոցառման տեսակը` | B56: Ծառայությունների մատուցում
A57: Միջոցառումն իրականացնողի անվանումը՝ | B57: ՀՀ կառավարություն
A58: Արդյունքի չափորոշիչներ
A59: Միջոցառման վրա կատարվող ծախսը (հազար դրամ) | C59: =-C43+-C23 -> -10408.5 | D59: =-D43+-D23 -> -10408.5

Sheet N 8 gnum
D1: Հավելված 8 ՀՀ կառավարության 2021 թվականի____________ի N _____-Ն որոշման
A3: ՀԱՅԱՍՏԱՆԻ ՀԱՆՐԱՊԵՏՈՒԹՅԱՆ ԿԱՌԱՎԱՐՈՒԹՅԱՆ 2020 ԹՎԱԿԱՆԻ ԴԵԿՏԵՄԲԵՐԻ 30-Ի N 2215-Ն ՈՐՈՇՄԱՆ N10 ՀԱՎԵԼՎԱԾՈՒՄ ԿԱՏԱՐՎՈՂ ԼՐԱՑՈՒՄՆԵՐԸ
A5: Կոդը | B5: Անվանումը | E5: Գնման ձևը | F5: Չափման միավորը | G5: Ցուցանիշների փոփոխությունը (ավելացումները նշված են դրական նշանով)
G6: Միավորի գինը | H6: Քանակը | I6: Գումարը (հազար դրամով)
A7: ՀՀ շրջակա միջավայրի նախարարություն | I7: =I8 -> 3273
A8: Բաժին N 05 | B8: Խումբ N 04 | C8: Դաս N 01 | D8: ՇՐՋԱԿԱ ՄԻՋԱՎԱՅՐԻ ՊԱՇՏՊԱՆՈՒԹՅՈՒՆ Կենսաբազմազանության և բնության պաշտպանություն | I8: =I9 -> 3273
A9: 1016 32001 | B9: «Շրջակա միջավայրի վրա ազդեցության փորձաքննական կենտրոն» ՊՈԱԿ-ի տեխնիկական հագեցվածության բարելավում | I9: =I10 -> 3273
B10: ՄԱՍ I. Ա Պ Ր Ա Ն Ք Ն Ե Ր | I10: =SUM(I11:I18) -> 3273
A11: 30211220/503 | B11: սեղանի համակարգիչներ | E11: ԷԱՃ | F11: հատ | G11: 350000 | H11: 4 | I11: =G11*H11/1000 -> 1400
A12: 30237490/503 | B12: համակարգչային մոնիտոր | E12: ԷԱՃ | F12: հատ | G12: 75000 | H12: 4 | I12: =G12*H12/1000 -> 300
A13: 31151120/503 | B13: անխափան սնուցման աղբյուրներ | E13: ԷԱՃ | F13: հատ | G13: 22000 | H13: 4 | I13: =G13*H13/1000 -> 88
A14: 30216110/501 | B14: սկաներներ համակարգիչների համար | E14: ԷԱՃ | F14: հատ | G14: 320000 | H14: 1 | I14: =G14*H14/1000 -> 320
A15: 30239110/501 | B15: տպիչ սարք, բազմաֆունկցիոնալ, A4, 18 էջ/րոպե արագության | E15: ԷԱՃ | F15: հատ | G15: 135000 | H15: 2 | I15: =G15*H15/1000 -> 270
A16: 39111140/502 | B16: աթոռներ | E16: ԷԱՃ | F16: հատ | G16: 22000 | H16: 10 | I16: =G16*H16/1000 -> 220
A17: 39121100/501 | B17: գրասեղաններ | E17: ԷԱՃ | F17: հատ | G17: 65000 | H17: 5 | I17: =G17*H17/1000 -> 325
A18: 39141120/501 | B18: դարակներով պահարաններ | E18: ԷԱՃ | F18: հատ | G18: 70000 | H18: 5 | I18: =G18*H18/1000 -> 350
