Workbook
Name AgencyCode: #REF!
Name AgencyCode: #REF!
Name AgencyName: #REF!
Name AgencyName: #REF!
Name åû: #REF!
Name åû: #REF!
Name davit: #REF!
Name davit: #REF!
Name Functional1: #REF!
Name Functional1: #REF!
Name ggg: #REF!
Name ggg: #REF!
Name mas: #REF!
Name mas: #REF!
Name mass: #REF!
Name mass: #REF!
Name PANature: #REF!
Name PANature: #REF!
Name PAType: #REF!
Name PAType: #REF!
Name Performance2: #REF!
Name Performance2: #REF!
Name PerformanceType: #REF!
Name PerformanceType: #REF!
Name x: #REF!
Name x: #REF!
Name Հավելված: #REF!
Name Հավելված: #REF!
Name Մաս: #REF!
Name Մաս: #REF!
Name շախմատիստ: #REF!
Name շախմատիստ: #REF!

Sheet 1
E1: Հավելված N 1
D2: ՀՀ կառավարության 2021 թվականի
D3: -----------------ի N -----------Ն որոշման
A5: ՀԱՅԱՍՏԱՆԻ ՀԱՆՐԱՊԵՏՈՒԹՅԱՆ 2021 ԹՎԱԿԱՆԻ ՊԵՏԱԿԱՆ ԲՅՈՒՋԵԻ ՄԱՍԻՆ» ՀԱՅԱՍՏԱՆԻ ՀԱՆՐԱՊԵՏՈՒԹՅԱՆ ՕՐԵՆՔԻ N 1 ՀԱՎԵԼՎԱԾԻ N 2 ԱՂՅՈՒՍԱԿՈՒՄ ԿԱՏԱՐՎՈՂ ՎԵՐԱԲԱՇԽՈՒՄԸ ԵՎ ՀԱՅԱՍՏԱՆԻ ՀԱՆՐԱՊԵՏՈՒԹՅԱՆ ԿԱՌԱՎԱՐՈՒԹՅԱՆ 2020 ԹՎԱԿԱՆԻ ԴԵԿՏԵՄԲԵՐԻ 30-Ի N 2215-Ն ՈՐՈՇՄԱՆ N 5 ՀԱՎԵԼՎԱԾԻ N 1 ԱՂՅՈՒՍԱԿՈՒՄ ԿԱՏԱՐՎՈՂ ՓՈՓՈԽՈՒԹՅՈՒՆՆԵՐԸ
E6: հազ. դրամ
A7: Ծրագրային դասիչը | C7: Բյուջետային հատկացումների գլխավոր կարգադրիչների, ծրագրերի և միջոցառումների անվանումները | D7: Ցուցանիշների փոփոխությունները ավելացումները նշված են դրական նշանով, իսկ նվազեցումները՝ փակագծերում
A8: Ծրագիր | B8: Միջոցառում | D8: Ինն ամիս | E8: Տարի
C9: ԸՆԴԱՄԵՆԸ | D9: =D10+D82 -> 0 | E9: =E10+E82 -> 0
C10: ՀՀ աշխատանքի և սոցիալական հարցերի նախարարություն | D10: =D11+D37+D63+D24+D50 -> -72800 | E10: =E11+E37+E63+E24+E50 -> -152120
A11: 1011 | C11: Ծրագրի անվանումը` | D11: =D18 -> -33800 | E11: =E18 -> -33800
C12: Անապահով սոցիալական խմբերին աջակցություն
C13: Ծրագրի նպատակը`
C14: Օժանդակել անապահով ընտանիքների կենսամակարդակի բարձրացմանը
C15: Վերջնական արդյունքի նկարագրությունը`
C16: Աղքատության մեղմում և ծայրահեղ աղքատության կրճատում
A17: Ծրագրի միջոցառումներ
B18: 11003 | C18: Միջոցառման անվանումը` | D18: =D23 -> -33800 | E18: =E23 -> -33800
C19: Սոցիալական դեպքի վարման ծառայության ձեռք բերում
C20: Միջոցառման նկարագրությունը`
C21: Ընտանիքի, դրա յուրաքանչյուր անդամի, սոցիալական գնահատման իրականացում՝ անապահով սոցիալական խմբերին հայտնաբերելու համար՝ սոցիալական աջակցության տարածքային մարմինների սոցիալական աշխատողների կողմից տնային այցելությունների միջոցով
C22: Միջոցառման տեսակը
C23: Ծառայությունների մատուցում | D23: =-33800 -> -33800 | E23: =-33800 -> -33800
A24: 1082 | C24: Ծրագրի անվանումը` | D24: =D31 -> 0 | E24: =E31 -> -67320
C25: Սոցիալական աջակցություն անաշխատունակության դեպքում
C26: Ծրագրի նպատակը`
C27: Կորցրած եկամուտների մասնակի փոխհատուցում
C28: Վերջնական արդյունքի նկարագրությունը`
C29: Անաշխատունակության հետևանքով եկամտի կորստի մասնակի փոխհատուցման ապահովում
A30: Ծրագրի միջոցառումներ
B31: 12001 | C31: Միջոցառման անվանումը` | D31: =D36 -> 0 | E31: =E36 -> -67320
C32: Ժամանակավոր անաշխատունակության դեպքում նպաստ
C33: Միջոցառման նկարագրությունը`
C34: ժամանակավոր անաշխատունակության դեպքում (հիվանդության, ընտանիքի հիվանդ անդամի խնամքի և օրենքով սահմանված այլ պատճ. առաջացած) վարձու աշխատողներին, նոտարներին և անհատ ձեռնարկատերերին ժամանակավոր անաշխատունակության նպաստի վճարում
C35: Միջոցառման տեսակը
C36: Տրանսֆերտների տրամադրում | D36: 0 | E36: -67320
A37: 1117 | C37: Ծրագրի անվանումը` | D37: =D44 -> -14000 | E37: =E44 -> -15000
C38: Սոցիալական պաշտպանության բնագավառում պետական քաղաքականության մշակում, ծրագրերի համակարգում և մոնիթորինգ
C39: Ծրագրի նպատակը`
C40: Աղքատության մեղմման և անհավասարության նվազեցման, աշխատաշուկայի պահանջարկի և գործազրկության անհմպ. կրճատման, զբաղվածության աճի, ժողովրդագրական իրավիճակի բարելավման և քաղաքացիների սոց.իրավունքի իրացմանն ուղղված քաղաքականության մշակմ. և իրականացմ. ապահովում
C41: Վերջնական արդյունքի նկարագրությունը`
C42: Սոցիալական պաշտպանության ոլորտում իրականացվող ծրագրերի ազդեցության և արդյունավետության բարելավում
A43: Ծրագրի միջոցառումներ
B44: 11003 | C44: Միջոցառման անվանումը` | D44: =D49 -> -14000 | E44: =E49 -> -15000
C45: Հանրային իրազեկման միջոցառումների իրականացում
C46: Միջոցառման նկարագրությունը`
C47: Սոց. պաշտպ. ոլորտի վերաբերյալ տեսահոլովակների պատրաստում, ԶԼՄ-ներով իրադարձային աշխատանքների լուսաբանում, բուկլետների և գրքույկների տպագրում և տարածում (այդ թվում` թրաֆիքինգի դեմ պայքարի, տրամադրվող սոցիալական աջակցության, զբաղվածության և այլ հարցեր)
C48: Միջոցառման տեսակը
C49: Ծառայությունների մատուցում | D49: -14000 | E49: -15000
A50: 1160 | C50: Ծրագրի անվանումը` | D50: =D57 -> -15000 | E50: =E57 -> -15000
C51: Հաշմանդամություն ունեցող անձանց աջակցություն
C52: Ծրագրի նպատակը`
C53: Հաշմանդամություն ունեցող անձանց հիմնական պահանջմունքների և սոցիալական կարիքների բավարարում և սոցիալական ներառում հասարակություն
C54: Վերջնական արդյունքի նկարագրությունը`
C55: Հաշմանդամություն ունեցող անձանց մատուցվող սոցիալական ծառայությունների հասցեականության և արդյունավետության բարձրացում
A56: Ծրագրի միջոցառումներ
B57: 11011 | C57: Միջոցառման անվանումը` | D57: =D62 -> -15000 | E57: =E62 -> -15000
C58: Հոգեկան առողջության խնդիրներ ունեցող անձանց շուրջօրյա խնամքի ծառայություններ
C59: Միջոցառման նկարագրությունը`
C60: Հոգեկան առողջության խնդիրներ ունեցող անձանց կացարանով ապահովում և շուրջօրյա խնամքի ծառայությունների տրամադրում
C61: Միջոցառման տեսակը
C62: Ծառայությունների մատուցում | D62: -15000 | E62: -15000
A63: 1205 | C63: Ծրագրի անվանումը` | D63: =D70+D76 -> -10000 | E63: =E70+E76 -> -21000
C64: Սոցիալական ապահովություն
C65: Ծրագրի նպատակը`
C66: Սոցիալական ապահովության իրավունքի իրականացման ապահովում
C67: Վերջնական արդյունքի նկարագրությունը`
C68: Սոցիալական ապահովության իրավունքի իրականացում
A69: Ծրագրի միջոցառումներ
B70: 12008 | C70: Միջոցառման անվանումը` | D70: =D75 -> -10000 | E70: =E75 -> -15000
C71: ԱՊՀ տարածքում Հայրենական մեծ պատերազմի հաշմանդամների և մասնակիցների օդային տրանսպորտով մատուցվող ծառայությունների դիմաց փոխհատուցում
C72: Միջոցառման նկարագրությունը`
C73: ԱՊՀ տարածքում Հայրենական մեծ պատերազմի հաշմանդամների և մասնակիցների օդային տրանսպորտով մատուցվող ծառայությունների դիմաց չստացված եկամուտների փոխհատուցում
C74: Միջոցառման տեսակը
C75: Տրանսֆերտների տրամադրում | D75: -10000 | E75: -15000
B76: 12022 | C76: Միջոցառման անվանումը` | D76: =D81 -> 0 | E76: =E81 -> -6000
C77: Ռազմական դրությամբ պայմանավորված՝ Արցախի Հանրապետության վերահսկողությունից դուրս մնացած համայնքներում հաշվառված չափահաս քաղաքացիներին ժամանակավոր հյուրընկալողների ծախսերի փոխհատուցման վեցամսյա սոցիալական աջակցության տրամադրում
C78: Միջոցառման նկարագրությունը`
C79: Արցախի Հանրապետության վերահսկողությունից դուրս մնացած համայնքներում հաշվառված չափահաս քաղաքացիներին ժամանակավոր հյուրընկալողների ծախսերի փոխհատուցման վեցամսյա սոցիալական աջակցության տրամադրում՝ հյուրընկալի կողմից էլեկտրոնային եղանակով ներկայացվող դիմումի հիման վրա
C80: Միջոցառման տեսակը
C81: Տրանսֆերտների տրամադրում | E81: -6000
B82: ՀՀ կառավարություն | D82: =D83 -> 72800 | E82: =E83 -> 152120
A83: 1139 | C83: Ծրագրի անվանումը` | D83: =D90 -> 72800 | E83: =E90 -> 152120
C84: ՀՀ կառավարության պահուստային ֆոնդ
C85: Ծրագրի նպատակը`
C86: Պետական բյուջեում չկանխատեսված, ինչպես նաեւ բյուջետային երաշխիքների ապահովման ծախսերի ֆինանսավորման ապահովում
C87: Վերջնական արդյունքի նկարագրությունը`
C88: Պահուստային ֆոնդի կառավարման արդյունավետության և թափանցիկության ապահովում
A89: Ծրագրի միջոցառումներ
B90: 11001 | C90: Միջոցառման անվանումը` | D90: =D95 -> 72800 | E90: =E95 -> 152120
C91: ՀՀ կառավարության պահուստային ֆոնդ
C92: Միջոցառման նկարագրությունը`
C93: ՀՀ պետական բյուջեում նախատեսված ելքերի լրացուցիչ ֆինանսավորման, պետական բյուջեում չկանխատեսված ելքերի, ինչպես նաև բյուջետային երաշխիքների ապահովման ելքերի ֆինանսավորման ապահովում
C94: Միջոցառման տեսակը
C95: Ծառայությունների մատուցում | D95: =D10*-1 -> 72800 | E95: =E10*-1 -> 152120

Sheet 2
H1: Հավելված N2
H2: ՀՀ կառավարության 2021 թվականի
H3: -----------------ի N -----------Ն որոշման
A4: ՀԱՅԱՍՏԱՆԻ ՀԱՆՐԱՊԵՏՈՒԹՅԱՆ ԿԱՌԱՎԱՐՈՒԹՅԱՆ 2020 ԹՎԱԿԱՆԻ ԴԵԿՏԵՄԲԵՐԻ 30-Ի N 2215-Ն ՈՐՈՇՄԱՆ N 3 և N 4 ՀԱՎԵԼՎԱԾՆԵՐՈՒՄ ԿԱՏԱՐՎՈՂ ՓՈՓՈԽՈՒԹՅՈՒՆՆԵՐԸ
G5: հազ. դրամ
A6: Գործառական դասիչը | D6: Ծրագրային դասիչը | F6: Բյուջետային ծախսերի գործառական դասակարգման բաժինների, խմբերի և դասերի, բյուջետային ծրագրերի միջոցառումների, բյուջետային հատկացումների գլխավոր կարգադրիչների անվանումները | G6: Ցուցանիշների փոփոխությունները (Ավելացումները նշված են դրական, իսկ նվազեցումները՝ փակագծերում)
A7: Բաժինը | B7: Խումբը | C7: Դասը | D7: Ծրագիր | E7: Միջոցառում | G7: Ինն ամիս | H7: Տարի
F8: ԸՆԴԱՄԵՆԸ | G8: =G9+G97 -> 0 | H8: =H9+H97 -> 0
F9: ԸՆԴԱՄԵՆԸ ԾԱԽՍԵՐ | G9: =G11+G28 -> -72800 | H9: =H11+H28 -> -152120
F10: այդ թվում`
A11: 04 | F11: ՏՆՏԵՍԱԿԱՆ ՀԱՐԱԲԵՐՈՒԹՅՈՒՆՆԵՐ | G11: =G13 -> -10000 | H11: =H13 -> -21000
F12: այդ թվում`
B13: 05 | F13: Տրանսպորտ | G13: =+G15 -> -10000 | H13: =+H15 -> -21000
F14: այդ թվում`
C15: 04 | F15: Օդային տրանսպորտ | G15: =G17 -> -10000 | H15: =H17 -> -21000
F16: այդ թվում`
D17: 1205 | F17: Սոցիալական ապահովություն | G17: =G19+G88 -> -10000 | H17: =H19+H88 -> -21000
F18: այդ թվում`
E19: 12008 | F19: ԱՊՀ տարածքում Հայրենական մեծ պատերազմի հաշմանդամների և մասնակիցների օդային տրանսպորտով մատուցվող ծառայությունների դիմաց փոխհատուցում | G19: =+G20 -> -10000 | H19: =+H20 -> -15000
F20: այդ թվում` ըստ կատարողների | G20: =+G22 -> -10000 | H20: =+H22 -> -15000
F21: ՀՀ տարածքային կառավարման և ենթակառուցվածքների նախարարություն
F22: այդ թվում` բյուջետային ծախսերի տնտեսագիտական դասակարգման հոդվածներ | G22: =+G24 -> -10000 | H22: =+H24 -> -15000
F23: ԸՆԴԱՄԵՆԸ ԾԱԽՍԵՐ
F24: ԸՆԹԱՑԻԿ ԾԱԽՍԵՐ | G24: =+G25 -> -10000 | H24: =+H25 -> -15000
F25: ՍՈՑԻԱԼԱԿԱՆ ՆՊԱՍՏՆԵՐ ԵՎ ԿԵՆՍԱԹՈՇԱԿՆԵՐ | G25: =+G26 -> -10000 | H25: =+H26 -> -15000
F26: Սոցիալական օգնության դրամական արտահայտությամբ նպաստներ (բյուջեից) | G26: =+G27 -> -10000 | H26: =+H27 -> -15000
F27: - Այլ նպաստներ բյուջեից | G27: ='1'!D75 -> -10000 | H27: ='1'!E75 -> -15000
A28: 10 | F28: ՍՈՑԻԱԼԱԿԱՆ ՊԱՇՏՊԱՆՈՒԹՅՈՒՆ | G28: =G30+G45 -> -62800 | H28: =H30+H45 -> -131120
F29: այդ թվում`
B30: 01 | F30: Վատառողջություն և անաշխատունակություն | G30: =+G32 -> -15000 | H30: =+H32 -> -15000
F31: այդ թվում`
C32: 02 | F32: Անաշխատունակություն | G32: =G34 -> -15000 | H32: =H34 -> -15000
F33: այդ թվում`
D34: 1160 | F34: Հաշմանդամություն ունեցող անձանց աջակցություն | G34: =G36 -> -15000 | H34: =H36 -> -15000
F35: այդ թվում`
E36: 11011 | F36: Հոգեկան առողջության խնդիրներ ունեցող անձանց շուրջօրյա խնամքի ծառայություններ | G36: =+G37 -> -15000 | H36: =+H37 -> -15000
F37: այդ թվում` ըստ կատարողների | G37: =+G39 -> -15000 | H37: =+H39 -> -15000
F38: ՀՀ աշխատանքի և սոցիալական հարցերի նախարարություն
F39: այդ թվում` բյուջետային ծախսերի տնտեսագիտական դասակարգման հոդվածներ | G39: =+G41 -> -15000 | H39: =+H41 -> -15000
F40: ԸՆԴԱՄԵՆԸ ԾԱԽՍԵՐ
F41: ԸՆԹԱՑԻԿ ԾԱԽՍԵՐ | G41: =+G42 -> -15000 | H41: =+H42 -> -15000
F42: ԴՐԱՄԱՇՆՈՐՀՆԵՐ | G42: =+G43 -> -15000 | H42: =+H43 -> -15000
F43: Ընթացիկ դրամաշնորհներ պետական հատվածի այլ մակարդակներին | G43: =+G44 -> -15000 | H43: =+H44 -> -15000
F44: - Այլ ընթացիկ դրամաշնորհներ | G44: ='1'!D62 -> -15000 | H44: ='1'!E62 -> -15000
B45: ՛09 | F45: Սոցիալական պաշտպանություն (այլ դասերին չպատկանող) | G45: =G47+G62 -> -47800 | H45: =H47+H62 -> -116120
F46: այդ թվում`
C47: 01 | F47: Սոցիալական պաշտպանություն (այլ դասերին չպատկանող) | G47: =G49 -> -33800 | H47: =H49 -> -33800
F48: այդ թվում`
D49: 1011 | F49: Անապահով սոցիալական խմբերին աջակցություն | G49: =G51 -> -33800 | H49: =H51 -> -33800
F50: այդ թվում`
E51: 11003 | F51: Սոցիալական դեպքի վարման ծառայության ձեռք բերում | G51: =G53 -> -33800 | H51: =H53 -> -33800
F52: այդ թվում` ըստ կատարողների
F53: ՀՀ աշխատանքի և սոցիալական հարցերի նախարարության միասնական սոցիալական ծառայություն | G53: =G55 -> -33800 | H53: =H55 -> -33800
F54: այդ թվում` բյուջետային ծախսերի տնտեսագիտական դասակարգման հոդվածներ
F55: ԸՆԴԱՄԵՆԸ ԾԱԽՍԵՐ | G55: =G56 -> -33800 | H55: =H56 -> -33800
F56: ԸՆԹԱՑԻԿ ԾԱԽՍԵՐ | G56: =G57+G61 -> -33800 | H56: =H57+H61 -> -33800
F57: ԾԱՌԱՅՈՒԹՅՈՒՆՆԵՐԻ ԵՎ ԱՊՐԱՆՔՆԵՐԻ ՁԵՌՔԲԵՐՈՒՄ | G57: =G58 -> -9600 | H57: =H58 -> -9600
F58: Շարունակական ծախսեր | G58: =G59 -> -9600 | H58: =H59 -> -9600
F59: - Կապի ծառայություններ | G59: -9600 | H59: -9600
F60: Ծառայողական գործուղումների գծով ծախսեր | G60: =G61 -> -24200 | H60: =H61 -> -24200
F61: - Ներքին գործուղումներ | G61: =-24200 -> -24200 | H61: =-24200 -> -24200
C62: ՛02 | F62: Սոցիալական պաշտպանությանը տրամադրվող օժանդակ ծառայություններ (այլ դասերին չպատկանող) | G62: =G64+G75 -> -14000 | H62: =H64+H75 -> -82320 | J62: 154000
F63: այդ թվում` | J63: 1880
D64: 1082 | F64: Սոցիալական աջակցություն անաշխատունակության դեպքում | G64: =G66 -> 0 | H64: =H66 -> -67320
F65: այդ թվում`
E66: 12001 | F66: Ժամանակավոր անաշխատունակության դեպքում նպաստ | G66: =G67 -> 0 | H66: =H67 -> -67320
F67: այդ թվում` ըստ կատարողների | G67: =G69 -> 0 | H67: =H69 -> -67320
F68: ՀՀ աշխատանքի և սոցիալական հարցերի նախարարության միասնական սոցիալական ծառայություն
F69: այդ թվում` բյուջետային ծախսերի տնտեսագիտական դասակարգման հոդվածներ | G69: =G71 -> 0 | H69: =H71 -> -67320
F70: ԸՆԴԱՄԵՆԸ ԾԱԽՍԵՐ
F71: ԸՆԹԱՑԻԿ ԾԱԽՍԵՐ | G71: =G72 -> 0 | H71: =H72 -> -67320
F72: ՍՈՑԻԱԼԱԿԱՆ ՆՊԱՍՏՆԵՐ ԵՎ ԿԵՆՍԱԹՈՇԱԿՆԵՐ | G72: =G73 -> 0 | H72: =H73 -> -67320
F73: Սոցիալական օգնության դրամական արտահայտությամբ նպաստներ (բյուջեից) | G73: =G74 -> 0 | H73: =H74 -> -67320
F74: - Հիվանդության և հաշմանդամության նպաստներ բյուջեից | G74: ='1'!D36 -> 0 | H74: ='1'!E36 -> -67320
D75: 1117 | F75: Սոցիալական ապահովություն | G75: =G77 -> -14000 | H75: =H77 -> -15000 | J75: =J62-J63 -> 152120
F76: այդ թվում`
E77: 11003 | F77: Հանրային իրազեկման միջոցառումների իրականացում | G77: =+G78 -> -14000 | H77: =+H78 -> -15000
F78: այդ թվում` ըստ կատարողների | G78: =+G80 -> -14000 | H78: =+H80 -> -15000
F79: ՀՀ աշխատանքի և սոցիալական հարցերի նախարարություն
F80: այդ թվում` բյուջետային ծախսերի տնտեսագիտական դասակարգման հոդվածներ | G80: =+G82 -> -14000 | H80: =+H82 -> -15000
F81: ԸՆԴԱՄԵՆԸ ԾԱԽՍԵՐ
F82: ԸՆԹԱՑԻԿ ԾԱԽՍԵՐ | G82: =+G83 -> -14000 | H82: =+H83 -> -15000
F83: ԾԱՌԱՅՈՒԹՅՈՒՆՆԵՐԻ ԵՎ ԱՊՐԱՆՔՆԵՐԻ ՁԵՌՔԲԵՐՈՒՄ | G83: =+G84 -> -14000 | H83: =+H84 -> -15000
F84: Պայմանագրային այլ ծառայությունների ձեռքբերում | G84: =+G85 -> -14000 | H84: =+H85 -> -15000
F85: - Տեղեկատվական ծառայություններ | G85: ='1'!D49 -> -14000 | H85: ='1'!E49 -> -15000
D86: 1205 | F86: Սոցիալական ապահովություն | G86: =G88+G36 -> -15000 | H86: =H88+H36 -> -21000
F87: այդ թվում`
E88: 12022 | F88: Ռազմական դրությամբ պայմանավորված՝ Արցախի Հանրապետության վերահսկողությունից դուրս մնացած համայնքներում հաշվառված չափահաս քաղաքացիներին ժամանակավոր հյուրընկալողների ծախսերի փոխհատուցման վեցամսյա սոցիալական աջակցության տրամադրում | G88: =G90 -> 0 | H88: =H90 -> -6000
F89: այդ թվում` ըստ կատարողների
F90: ՀՀ աշխատանքի և սոցիալական հարցերի նախարարության միասնական սոցիալական ծառայություն | G90: =G92 -> 0 | H90: =H92 -> -6000
F91: այդ թվում` բյուջետային ծախսերի տնտեսագիտական դասակարգման հոդվածներ
F92: ԸՆԴԱՄԵՆԸ ԾԱԽՍԵՐ | G92: =G93 -> 0 | H92: =H93 -> -6000
F93: ԸՆԹԱՑԻԿ ԾԱԽՍԵՐ | G93: =G94 -> 0 | H93: =H94 -> -6000
F94: ՍՈՑԻԱԼԱԿԱՆ ՆՊԱՍՏՆԵՐ ԵՎ ԿԵՆՍԱԹՈՇԱԿՆԵՐ | G94: =G95 -> 0 | H94: =H95 -> -6000
F95: Սոցիալական օգնության դրամական արտահայտությամբ նպաստներ (բյուջեից) | G95: =G96 -> 0 | H95: =H96 -> -6000
F96: - Այլ նպաստներ բյուջեից | G96: ='1'!D81 -> 0 | H96: ='1'!E81 -> -6000
A97: 11 | F97: ՀԻՄՆԱԿԱՆ ԲԱԺԻՆՆԵՐԻՆ ՉԴԱՍՎՈՂ ՊԱՀՈՒՍՏԱՅԻՆ ՖՈՆԴԵՐ | G97: =G99 -> 72800 | H97: =H99 -> 152120
F98: այդ թվում՝
B99: 01 | F99: ՀՀ կառավարության և համայնքների պահուստային ֆոնդ | G99: =+G101 -> 72800 | H99: =+H101 -> 152120
F100: այդ թվում՝
...

Sheet 3
D1: Հավելված N3
D2: ՀՀ կառավարության 2021 թվականի
D3: -----------------ի N -----------Ն որոշման
A5: ՀԱՅԱՍՏԱՆԻ ՀԱՆՐԱՊԵՏՈՒԹՅԱՆ ԿԱՌԱՎԱՐՈՒԹՅԱՆ 2020 ԹՎԱԿԱՆԻ ԴԵԿՏԵՄԲԵՐԻ 30-Ի N 2215-Ն N 9 ՀԱՎԵԼՎԱԾԻ N 9.16 ԱՂՅՈՒՍԱԿԻ ԵՎ 9.47 ԱՂՅՈՒՍԱԿՆԵՐՈՒՄ ԿԱՏԱՐՎՈՂ ՓՈՓՈԽՈՒԹՅՈՒՆՆԵՐԸ
A6: ՀՀ աշխատանքի և սոցիալական հարցերի նախարարություն
A7: ՄԱՍ 2. ՊԵՏԱԿԱՆ ՄԱՐՄՆԻ ԳԾՈՎ ԱՐԴՅՈՒՆՔԱՅԻՆ (ԿԱՏԱՐՈՂԱԿԱՆ) ՑՈՒՑԱՆԻՇՆԵՐԸ
A9: Ծրագրի դասիչը | B9: Ծրագրի անվանումը
A10: 1011 | B10: Անապահով սոցիալական խմբերին աջակցություն
A12: Ծրագրի միջոցառումները
A14: Ծրագրի դասիչը` | B14: 1011 | C14: Ցուցանիշների փոփոխությունները (Նվազեցումները նշված են փակագծերում)
A15: Միջոցառման դասիչը` | B15: 11003 | C15: Ինն ամիս | D15: Տարի
A16: Միջոցառման անվանումը` | B16: Սոցիալական դեպքի վարման ծառայության ձեռք բերում
A17: Նկարագրությունը` | B17: Ընտանիքի, դրա յուրաքանչյուր անդամի, սոցիալական գնահատման իրականացում՛ անապահով սոցիալական խմբերին հայտնաբերելու համար՛ սոցիալական աջակցության տարածքային մարմինների սոցիալական աշխատողների կողմից տնային այցելությունների միջոցով
A18: Միջոցառման տեսակը` | B18: Ծառայությունների մատուցում
A19: Միջոցառումն իրականացնողի անվանումը | B19: ՀՀ աշխատանքի և սոցիալական հարցերի նախարարության միասնական սոցիալական ծառայություն
A20: Արդյունքի չափորոշիչներ
A21: Տունայցերի թիվ | C21: -83232 | D21: -83232
A22: տունայցի արդյունքում սոցիալական ծառայություն ստացած ընտանիքների (անձանց) թիվ | C22: -38772 | D22: -38772
A23: Միջոցառման վրա կատարվող ծախսը (հազար դրամ) | C23: ='1'!D23 -> -33800 | D23: ='1'!E23 -> -33800
A26: Ծրագրի դասիչը | B26: Ծրագրի անվանումը
A27: 1082 | B27: Սոցիալական աջակցություն անաշխատունակության դեպքում
A29: Ծրագրի դասիչը` | B29: 1082
A30: Միջոցառման դասիչը` | B30: 12001
A31: Միջոցառման անվանումը` | B31: Ժամանակավոր անաշխատունակության դեպքում նպաստ
A32: Նկարագրությունը` | B32: ժամանակավոր անաշխատունակության դեպքում (հիվանդության, ընտանիքի հիվանդ անդամի խնամքի և օրենքով սահմանված այլ պատճ. առաջացած) վարձու աշխատողներին, նոտարներին և անհատ ձեռնարկատերերին ժամանակավոր անաշխատունակության նպաստի վճարում | C32: Ցուցանիշների փոփոխությունները (Նվազեցումները նշված են փակագծերում)
A33: Միջոցառման տեսակը` | B33: Տրանսֆերտների տրամադրում | C33: Ինն ամիս | D33: Տարի
A34: Շահառուների ընտրության չափանիշները | B34: Օրենքով սահմանված կարգով ու չափով եկամտային հարկ (շահութահարկ) վճարած վարձու աշխատողներ, նոտարներ և անհատ ձեռնարկատերեր
A35: Արդյունքի չափորոշիչներ
A36: Ժամանակավոր անաշխատունակության օրերի թիվ, օր | D36: -24337
A37: Միջոցառման վրա կատարվող ծախսը (հազար դրամ) | C37: ='1'!D31 -> 0 | D37: ='1'!E31 -> -67320
A39: Ծրագրի դասիչը | B39: Ծրագրի անվանումը
A40: 1160 | B40: Հաշմանդամություն ունեցող անձանց աջակցություն
A42: Ծրագրի միջոցառումները
A44: Ծրագրի դասիչը` | B44: 1160 | C44: Ցուցանիշների փոփոխությունները (Նվազեցումները նշված են փակագծերում)
A45: Միջոցառման դասիչը` | B45: 11011 | C45: Ինն ամիս | D45: Տարի
A46: Միջոցառման անվանումը` | B46: Հոգեկան առողջության խնդիրներ ունեցող անձանց շուրջօրյա խնամքի ծառայություններ
A47: Նկարագրությունը` | B47: Հոգեկան առողջության խնդիրներ ունեցող անձանց կացարանով ապահովում և շուրջօրյա խնամքի ծառայությունների տրամադրում
A48: Միջոցառման տեսակը` | B48: Ծառայությունների մատուցում
A49: Միջոցառումն իրականացնողի անվանումը` | B49: Մասնագիտացված կազմակերպություններ
A50: Արդյունքի չափորոշիչներ
A51: Միջոցառման վրա կատարվող ծախսը (հազար դրամ) | C51: ='1'!D62 -> -15000 | D51: ='1'!E62 -> -15000
A54: Ծրագրի դասիչը | B54: Ծրագրի անվանումը
A55: 1117 | B55: Սոցիալական պաշտպանության բնագավառում պետական քաղաքականության մշակում, ծրագրերի համակարգում և մոնիթորինգ
A57: Ծրագրի միջոցառումները
A59: Ծրագրի դասիչը` | B59: 1117 | C59: Ցուցանիշների փոփոխությունները (Նվազեցումները նշված են փակագծերում)
A60: Միջոցառման դասիչը` | B60: 11003 | C60: Ինն ամիս | D60: Տարի
A61: Միջոցառման անվանումը` | B61: Հանրային իրազեկման միջոցառումների իրականացում
A62: Նկարագրությունը` | B62: Սոց. պաշտպ. ոլորտի վերաբերյալ տեսահոլովակների պատրաստում, ԶԼՄ-ներով իրադարձային աշխատանքների լուսաբանում, բուկլետների և գրքույկների տպագրում և տարածում (այդ թվում` թրաֆիքինգի դեմ պայքարի, տրամադրվող սոցիալական աջակցության, զբաղվածության և այլ հարցեր)
A63: Միջոցառման տեսակը` | B63: Ծառայությունների մատուցում
A64: Միջոցառումն իրականացնողի անվանումը? | B64: ՀՀ աշխատանքի և սոցիալական հարցերի նախարարություն
A65: Արդյունքի չափորոշիչներ
A66: Հեռուստահաղորդումների տևողություն, րոպե | C66: -567 | D66: -608
A67: Միջոցառման վրա կատարվող ծախսը (հազար դրամ) | C67: ='1'!D49 -> -14000 | D67: ='1'!E49 -> -15000
A69: Ծրագրի դասիչը | B69: Ծրագրի անվանումը
A70: 1205 | B70: Սոցիալական ապահովություն
A72: Ծրագրի դասիչը` | B72: 1205 | C72: Ցուցանիշների փոփոխությունները (Նվազեցումները նշված են փակագծերում)
A73: Միջոցառման դասիչը` | B73: 12008 | C73: Ինն ամիս | D73: Տարի
A74: Միջոցառման անվանումը` | B74: ԱՊՀ տարածքում Հայրենական մեծ պատերազմի հաշմանդամների և մասնակիցների օդային տրանսպորտով մատուցվող ծառայությունների դիմաց փոխհատուցում
A75: Նկարագրությունը` | B75: ԱՊՀ տարածքում Հայրենական մեծ պատերազմի հաշմանդամների և մասնակիցների օդային տրանսպորտով մատուցվող ծառայությունների դիմաց չստացված եկամուտների փոխհատուցում
A76: Միջոցառման տեսակը` | B76: Տրանսֆերտների տրամադրում
A77: Շահառուների ընտրության չափանիշները | B77: Օդային տրանսպորտից օգտվող, արտոնյալ երթևեկելու իրավունք ունեցող ՀՀ քաղաքացիներ հանդիսացող Հայրենական մեծ պատերազմի հաշմանդամներ, մասնակիցներ
A78: Արդյունքի չափորոշիչներ
A79: Ուղևորների քանակ, մարդ | C79: -30 | D79: -45
A80: Միջոցառման վրա կատարվող ծախսը (հազար դրամ) | C80: ='1'!D75 -> -10000 | D80: ='1'!E75 -> -15000
A82: Ծրագրի դասիչը` | B82: 1205 | C82: Ցուցանիշների փոփոխությունները (Նվազեցումները նշված են փակագծերում)
A83: Միջոցառման դասիչը` | B83: 12022 | C83: Ինն ամիս | D83: Տարի
A84: Միջոցառման անվանումը` | B84: Ռազմական դրությամբ պայմանավորված՝ Արցախի Հանրապետության վերահսկողությունից դուրս մնացած համայնքներում հաշվառված չափահաս քաղաքացիներին ժամանակավոր հյուրընկալողների ծախսերի փոխհատուցման վեցամսյա սոցիալական աջակցության տրամադրում
A85: Նկարագրությունը` | B85: Արցախի Հանրապետության վերահսկողությունից դուրս մնացած համայնքներում հաշվառված չափահաս քաղաքացիներին ժամանակավոր հյուրընկալողների ծախսերի փոխհատուցման վեցամսյա սոցիալական աջակցության տրամադրում՝ հյուրընկալի կողմից էլեկտրոնային եղանակով ներկայացվող դիմումի հիման վրա
A86: Միջոցառման տեսակը` | B86: Տրանսֆերտների տրամադրում
A87: Շահառուների ընտրության չափանիշները | B87: ՀՀ կառավարության 2020 թվականի դեկտեմբերի 17-ի N 2072-Լ որոշման պահանջներին համապատասխան
A88: Արդյունքի չափորոշիչներ
A89: Շահառուների թվաքանակ | D89: -200
A90: Միջոցառման վրա կատարվող ծախսը (հազար դրամ) | C90: ='1'!D76 -> 0 | D90: ='1'!E76 -> -6000
A92: ՀՀ կառավարություն
A93: ՄԱՍ 2. ՊԵՏԱԿԱՆ ՄԱՐՄՆԻ ԳԾՈՎ ԱՐԴՅՈՒՆՔԱՅԻՆ (ԿԱՏԱՐՈՂԱԿԱՆ) ՑՈՒՑԱՆԻՇՆԵՐԸ
A95: Ծրագրի դասիչը | B95: Ծրագրի անվանումը
A96: 1139 | B96: ՀՀ կառավարության պահուստային ֆոնդ
A98: Ծրագրի միջոցառումները
A99: Ծրագրի դասիչը` | B99: 1139 | C99: Ցուցանիշների փոփոխությունները (ավելացումները նշված են դրական նշանով)
A100: Միջոցառման դասիչը` | B100: 11001 | C100: Ինն ամիս | D100: Տարի
A101: Միջոցառման անվանումը` | B101: ՀՀ կառավարության պահուստային ֆոնդ
A102: Նկարագրությունը` | B102: ՀՀ պետական բյուջեում նախատեսված ելքերի լրացուցիչ ֆինանսավորման՝ պետական բյուջեում չկանխատեսված ելքերի, ինչպես նաև բյուջետային երաշխիքների ապահովման ելքերի ֆինանսավորման ապահովում
A103: Միջոցառման տեսակը` | B103: Ծառայությունների մատուցում
A104: Արդյունքի չափորոշիչներ
A105: Միջոցառման վրա կատարվող ծախսը (հազար դրամ) | C105: ='2'!G112 -> 72800 | D105: ='2'!H112 -> 152120
C106: =C23+C37+C51+C67+C80+C90+C105 -> 0 | D106: =D23+D37+D51+D67+D80+D90+D105 -> 0

Sheet 4
D1: Հավելված N 4
D2: ՀՀ կառավարության 2021 թվականի
D3: -----------------ի N -----------Ն որոշման
A4: ՀԱՅԱՍՏԱՆԻ ՀԱՆՐԱՊԵՏՈՒԹՅԱՆ ԿԱՌԱՎԱՐՈՒԹՅԱՆ 2020 ԹՎԱԿԱՆԻ ԴԵԿՏԵՄԲԵՐԻ 30-Ի N 2215-Ն ՈՐՈՇՄԱՆ N 9 ՀԱՎԵԼՎԱԾԻ N 9.1.20 ԱՂՅՈՒՍԱԿՈՒՄ ԿԱՏԱՐՎՈՂ ՓՈՓՈԽՈՒԹՅՈՒՆՆԵՐԸ
A5: ՀԱՅԱՍՏԱՆԻ ՀԱՆՐԱՊԵՏՈՒԹՅԱՆ ԿԱՌԱՎԱՐՈՒԹՅԱՆ 2021 ԹՎԱԿԱՆԻ ԴԵԿՏԵՄԲԵՐԻ307Ի N 2215-Ն ՈՐՈՇՄԱՆ N 9.1 ՀԱՎԵԼՎԱԾԻ N 9.1.8, N 9.1.16, N 9.1.20 ԵՎ 9.1.58 ԱՂՅՈՒՍԱԿՆԵՐՈՒՄ ԿԱՏԱՐՎՈՂ ՓՈՓՈԽՈՒԹՅՈՒՆՆԵՐԸ
A7: ՀՀ տարածքային կառավարման և ենթակառուցվածքների նախարարություն
A9: ՄԱՍ 1. ՊԵՏԱԿԱՆ ՄԱՐՄՆԻ ԳԾՈՎ ԱՐԴՅՈՒՆՔԱՅԻՆ (ԿԱՏԱՐՈՂԱԿԱՆ) ՑՈՒՑԱՆԻՇՆԵՐԸ
A11: Ծրագրի դասիչը | B11: Ծրագրի անվանումը
A12: 1205 | B12: Սոցիալական ապահովություն
A14: Ծրագրի դասիչը` | B14: 1205 | C14: Ցուցանիշների փոփոխությունները (Նվազեցումները նշված են փակագծերում)
A15: Միջոցառման դասիչը` | B15: 12008 | C15: Ինն ամիս | D15: Տարի
A16: Միջոցառման անվանումը` | B16: ԱՊՀ տարածքում Հայրենական մեծ պատերազմի հաշմանդամների և մասնակիցների օդային տրանսպորտով մատուցվող ծառայությունների դիմաց փոխհատուցում
A17: Նկարագրությունը` | B17: ԱՊՀ տարածքում Հայրենական մեծ պատերազմի հաշմանդամների և մասնակիցների օդային տրանսպորտով մատուցվող ծառայությունների դիմաց չստացված եկամուտների փոխհատուցում
A18: Միջոցառման տեսակը` | B18: Տրանսֆերտների տրամադրում
A19: Շահառուների ընտրության չափանիշները | B19: Օդային տրանսպորտից օգտվող, արտոնյալ երթևեկելու իրավունք ունեցող ՀՀ քաղաքացիներ հանդիսացող Հայրենական մեծ պատերազմի հաշմանդամներ, մասնակիցներ
A20: Արդյունքի չափորոշիչներ
A21: Ուղևորների քանակ, մարդ | C21: -30 | D21: -45
A22: Միջոցառման վրա կատարվող ծախսը (հազար դրամ) | C22: ='3'!C80 -> -10000 | D22: ='3'!D80 -> -15000
A24: Ծրագրի դասիչը` | B24: 1205 | C24: Ցուցանիշների փոփոխությունները (Նվազեցումները նշված են փակագծերում)
A25: Միջոցառման դասիչը` | B25: 12022 | C25: Ինն ամիս | D25: Տարի
A26: Միջոցառման անվանումը` | B26: Ռազմական դրությամբ պայմանավորված՝ Արցախի Հանրապետության վերահսկողությունից դուրս մնացած համայնքներում հաշվառված չափահաս քաղաքացիներին ժամանակավոր հյուրընկալողների ծախսերի փոխհատուցման վեցամսյա սոցիալական աջակցության տրամադրում
A27: Նկարագրությունը` | B27: Արցախի Հանրապետության վերահսկողությունից դուրս մնացած համայնքներում հաշվառված չափահաս քաղաքացիներին ժամանակավոր հյուրընկալողների ծախսերի փոխհատուցման վեցամսյա սոցիալական աջակցության տրամադրում՝ հյուրընկալի կողմից էլեկտրոնային եղանակով ներկայացվող դիմումի հիման վրա
A28: Միջոցառման տեսակը` | B28: Տրանսֆերտների տրամադրում
A29: Շահառուների ընտրության չափանիշները | B29: ՀՀ կառավարության 2020 թվականի դեկտեմբերի 17-ի N 2072-Լ որոշման պահանջներին համապատասխան
A30: Արդյունքի չափորոշիչներ
A31: Շահառուների թվաքանակ | D31: -200
A32: Միջոցառման վրա կատարվող ծախսը (հազար դրամ) | C32: ='1'!D76 -> 0 | D32: ='1'!E76 -> -6000
A33: ՀՀ աշխատանքի և սոցիալական հարցերի նախարարության միասնական սոցիալական ծառայություն
A35: ՄԱՍ 1. ՊԵՏԱԿԱՆ ՄԱՐՄՆԻ ԳԾՈՎ ԱՐԴՅՈՒՆՔԱՅԻՆ (ԿԱՏԱՐՈՂԱԿԱՆ) ՑՈՒՑԱՆԻՇՆԵՐԸ
A37: Ծրագրի դասիչը | B37: Ծրագրի անվանումը
A38: 1011 | B38: ='1'!C12 -> Անապահով սոցիալական խմբերին աջակցություն
A40: Ծրագրի միջոցառումները
A42: Ծրագրի դասիչը` | B42: 1011 | C42: Ցուցանիշների փոփոխությունները (Նվազեցումները նշված են փակագծերում)
A43: Միջոցառման դասիչը` | B43: 11003 | C43: Ինն ամիս | D43: Տարի
A44: Միջոցառման անվանումը` | B44: Սոցիալական դեպքի վարման ծառայության ձեռք բերում
A45: Նկարագրությունը` | B45: Ընտանիքի, դրա յուրաքանչյուր անդամի, սոցիալական գնահատման իրականացում՛ անապահով սոցիալական խմբերին հայտնաբերելու համար՛ սոցիալական աջակցության տարածքային մարմինների սոցիալական աշխատողների կողմից տնային այցելությունների միջոցով
A46: Միջոցառման տեսակը` | B46: Ծառայությունների մատուցում
A47: Միջոցառումն իրականացնողի անվանումը | B47: ՀՀ աշխատանքի և սոցիալական հարցերի նախարարության միասնական սոցիալական ծառայություն
A48: Արդյունքի չափորոշիչներ
A49: Տունայցերի թիվ | C49: -59592 | D49: -59592
A50: տունայցի արդյունքում սոցիալական ծառայություն ստացած ընտանիքների (անձանց) թիվ | C50: -27760 | D50: -27760
A51: Միջոցառման վրա կատարվող ծախսը (հազար դրամ) | C51: ='3'!C23 -> -33800 | D51: ='3'!D23 -> -33800
A54: Ծրագրի դասիչը | B54: Ծրագրի անվանումը
A55: 1082 | B55: Սոցիալական աջակցություն անաշխատունակության դեպքում
A57: Ծրագրի միջոցառումները
A59: Ծրագրի դասիչը` | B59: 1082 | C59: Ցուցանիշների փոփոխությունները (Նվազեցումները նշված են փակագծերում)
A60: Միջոցառման դասիչը` | B60: 12001 | C60: Ինն ամիս | D60: Տարի
A61: Միջոցառման անվանումը` | B61: Ժամանակավոր անաշխատունակության դեպքում նպաստ
A62: Նկարագրությունը` | B62: ժամանակավոր անաշխատունակության դեպքում (հիվանդության, ընտանիքի հիվանդ անդամի խնամքի և օրենքով սահմանված այլ պատճ. առաջացած) վարձու աշխատողներին, նոտարներին և անհատ ձեռնարկատերերին ժամանակավոր անաշխատունակության նպաստի վճարում
A63: Միջոցառման տեսակը` | B63: Տրանսֆերտների տրամադրում
A64: Շահառուների ընտրության չափանիշները | B64: Օրենքով սահմանված կարգով ու չափով եկամտային հարկ (շահութահարկ) վճարած վարձու աշխատողներ, նոտարներ և անհատ ձեռնարկատերեր
A65: Արդյունքի չափորոշիչներ
A66: Շահառուների թիվ, մարդ | D66: -24337
A67: Միջոցառման վրա կատարվող ծախսը (հազար դրամ) | C67: ='3'!C37 -> 0 | D67: ='3'!D37 -> -67320
A69: ՀՀ աշխատանքի և սոցիալական հարցերի նախարարություն
A70: ՄԱՍ 2. ՊԵՏԱԿԱՆ ՄԱՐՄՆԻ ԳԾՈՎ ԱՐԴՅՈՒՆՔԱՅԻՆ (ԿԱՏԱՐՈՂԱԿԱՆ) ՑՈՒՑԱՆԻՇՆԵՐԸ
A72: Ծրագրի դասիչը | B72: Ծրագրի անվանումը
A73: 1060 | B73: Հաշմանդամություն ունեցող անձանց աջակցություն
A75: Ծրագրի միջոցառումները
A77: Ծրագրի դասիչը` | B77: 1160 | C77: Ցուցանիշների փոփոխությունները (Նվազեցումները նշված են փակագծերում)
A78: Միջոցառման դասիչը` | B78: 11011 | C78: Ինն ամիս | D78: Տարի
A79: Միջոցառման անվանումը` | B79: Հոգեկան առողջության խնդիրներ ունեցող անձանց շուրջօրյա խնամքի ծառայություններ
A80: Նկարագրությունը` | B80: Հոգեկան առողջության խնդիրներ ունեցող անձանց կացարանով ապահովում և շուրջօրյա խնամքի ծառայությունների տրամադրում
A81: Միջոցառման տեսակը` | B81: Ծառայությունների մատուցում
A82: Միջոցառումն իրականացնողի անվանումը | B82: Մասնագիտացված կազմակերպություններ
A83: Արդյունքի չափորոշիչներ
A84: Միջոցառման վրա կատարվող ծախսը (հազար դրամ) | C84: ='3'!C51 -> -15000 | D84: ='3'!D51 -> -15000
A87: Ծրագրի դասիչը | B87: Ծրագրի անվանումը
A88: 1117 | B88: Սոցիալական պաշտպանության բնագավառում պետական քաղաքականության մշակում, ծրագրերի համակարգում և մոնիթորինգ
A90: Ծրագրի միջոցառումները
A92: Ծրագրի դասիչը` | B92: 1117 | C92: Ցուցանիշների փոփոխությունները (Նվազեցումները նշված են փակագծերում)
A93: Միջոցառման դասիչը` | B93: 11003 | C93: Ինն ամիս | D93: Տարի
A94: Միջոցառման անվանումը` | B94: Հանրային իրազեկման միջոցառումների իրականացում
A95: Նկարագրությունը` | B95: Սոց. պաշտպ. ոլորտի վերաբերյալ տեսահոլովակների պատրաստում, ԶԼՄ-ներով իրադարձային աշխատանքների լուսաբանում, բուկլետների և գրքույկների տպագրում և տարածում (այդ թվում` թրաֆիքինգի դեմ պայքարի, տրամադրվող սոցիալական աջակցության, զբաղվածության և այլ հարցեր)
A96: Միջոցառման տեսակը` | B96: Ծառայությունների մատուցում
A97: Միջոցառումն իրականացնողի անվանումը | B97: ՀՀ աշխատանքի և սոցիալական հարցերի նախարարություն
A98: Արդյունքի չափորոշիչներ
A99: Հեռուստահաղորդումների տևողություն, րոպե | C99: -567 | D99: -608
A100: Միջոցառման վրա կատարվող ծախսը (հազար դրամ) | C100: ='3'!C67 -> -14000 | D100: ='3'!D67 -> -15000
A102: ՀՀ կառավարություն
A103: ՄԱՍ 2. ՊԵՏԱԿԱՆ ՄԱՐՄՆԻ ԳԾՈՎ ԱՐԴՅՈՒՆՔԱՅԻՆ (ԿԱՏԱՐՈՂԱԿԱՆ) ՑՈՒՑԱՆԻՇՆԵՐԸ
A105: Ծրագրի դասիչը | B105: Ծրագրի անվանումը
A106: 1139 | B106: ՀՀ կառավարության պահուստային ֆոնդ
A108: Ծրագրի միջոցառումները
A109: Ծրագրի դասիչը` | B109: 1139 | C109: Ցուցանիշների փոփոխությունները (ավելացումները նշված են դրական նշանով)
A110: Միջոցառման դասիչը` | B110: 11001 | C110: Ինն ամիս | D110: Տարի
A111: Միջոցառման անվանումը` | B111: ՀՀ կառավարության պահուստային ֆոնդ
A112: Նկարագրությունը` | B112: ՀՀ պետական բյուջեում նախատեսված ելքերի լրացուցիչ ֆինանսավորման՝ պետական բյուջեում չկանխատեսված ելքերի, ինչպես նաև բյուջետային երաշխիքների ապահովման ելքերի ֆինանսավորման ապահովում
A113: Միջոցառման տեսակը` | B113: Ծառայությունների մատուցում
A114: Արդյունքի չափորոշիչներ
A115: Միջոցառման վրա կատարվող ծախսը (հազար դրամ) | C115: ='3'!C105 -> 72800 | D115: ='3'!D105 -> 152120
C116: =C22+C32+C51+C67+C84+C100+C115 -> 0 | D116: =D22+D32+D51+D67+D84+D100+D115 -> 0

Sheet 5
I1: Հավելված N 5
I2: ՀՀ կառավարության 2021 թվականի
I3: -----------------ի N -----------Ն որոշման
A5: ՀԱՅԱՍՏԱՆԻ ՀԱՆՐԱՊԵՏՈՒԹՅԱՆ ԿԱՌԱՎԱՐՈՒԹՅԱՆ 2020 ԹՎԱԿԱՆԻ ԴԵԿՏԵՄԲԵՐԻ 30-Ի N 2215-Ն ՈՐՈՇՄԱՆ N 10 ՀԱՎԵԼՎԱԾՈՒՄ ԿԱՏԱՐՎՈՂ ՓՈՓՈԽՈՒԹՅՈՒՆՆԵՐԸ
A9: Կոդը | B9: Անվանումը | E9: Գնման ձևը | F9: Չափման միավորը | G9: Ցուցանիշների փոփոխություն (ավելացումները նշված են դրական նշանով)
G10: Միավորի գինը | H10: Քանակը | I10: Գումարը (հազար դրամով)
A11: ՀՀ աշխատանքի և սոցիալական հարցերի նախարարություն | I11: =I15 -> -15000
A12: Բաժին N 10 | B12: Խումբ N 09 | C12: Դաս N 02 | D12: Սոցիալական պաշտպանությանը տրամադրվող օժանդակ ծառայություններ (այլ դասերին չպատկանող)
A13: 1117 11003 | B13: Հանրային իրազեկման միջոցառումների իրականացում
B14: ՄԱՍ III. ԾԱՌԱՅՈՒԹՅՈՒՆՆԵՐ
A15: 92211100-2 | B15: ռադիոարտադրանքի հետ կապված ծառայություններ | E15: ԳՀ | F15: դրամ | I15: -15000
A16: ՀՀ աշխատանքի և սոցիալական հարցերի նախարարության միասնական սոցիալական ծառայություն | I16: =I20 -> -9600
A17: Բաժին N 10 | B17: Խումբ N 09 | C17: Դաս N 01 | D17: Սոցիալական պաշտպանություն (այլ դասերին չպատկանող)
A18: 1011 11003 | B18: Սոցիալական դեպքի վարման ծառայության ձեռք բերում
A19: ՄԱՍ III ԾԱՌԱՅՈՒԹՅՈՒՆՆԵՐ
A20: 64211130-2 | B20: բջջային հեռախոսների ծառայություններ | E20: ԳՀ | F20: դրամ | I20: -9600
