Workbook
Name AgencyCode: #REF!
Name AgencyCode: #REF!
Name AgencyName: #REF!
Name AgencyName: #REF!
Name åû: #REF!
Name åû: #REF!
Name davit: #REF!
Name davit: #REF!
Name Functional1: #REF!
Name Functional1: #REF!
Name ggg: #REF!
Name ggg: #REF!
Name mas: #REF!
Name mas: #REF!
Name mass: #REF!
Name mass: #REF!
Name PANature: #REF!
Name PANature: #REF!
Name PAType: #REF!
Name PAType: #REF!
Name Performance2: #REF!
Name Performance2: #REF!
Name PerformanceType: #REF!
Name PerformanceType: #REF!
Name x: #REF!
Name x: #REF!
Name Հավելված: #REF!
Name Հավելված: #REF!
Name Մաս: #REF!
Name Մաս: #REF!
Name շախմատիստ: #REF!
Name շախմատիստ: #REF!

Sheet 1
E1: Հավելված N 1
D2: ՀՀ կառավարության 2021 թվականի
D3: -----------------ի N -----------Ն որոշման
A5: ՀԱՅԱՍՏԱՆԻ ՀԱՆՐԱՊԵՏՈՒԹՅԱՆ 2021 ԹՎԱԿԱՆԻ ՊԵՏԱԿԱՆ ԲՅՈՒՋԵԻ ՄԱՍԻՆ» ՀԱՅԱՍՏԱՆԻ ՀԱՆՐԱՊԵՏՈՒԹՅԱՆ ՕՐԵՆՔԻ N 1 ՀԱՎԵԼՎԱԾԻ N 2 ԱՂՅՈՒՍԱԿՈՒՄ ԿԱՏԱՐՎՈՂ ՎԵՐԱԲԱՇԽՈՒՄԸ ԵՎ ՀԱՅԱՍՏԱՆԻ ՀԱՆՐԱՊԵՏՈՒԹՅԱՆ ԿԱՌԱՎԱՐՈՒԹՅԱՆ 2020 ԹՎԱԿԱՆԻ ԴԵԿՏԵՄԲԵՐԻ 30-Ի N 2215-Ն ՈՐՈՇՄԱՆ N 5 ՀԱՎԵԼՎԱԾԻ N 1 ԱՂՅՈՒՍԱԿՈՒՄ ԿԱՏԱՐՎՈՂ ՓՈՓՈԽՈՒԹՅՈՒՆՆԵՐԸ
E6: հազ. դրամ
A7: Ծրագրային դասիչը | C7: Բյուջետային հատկացումների գլխավոր կարգադրիչների, ծրագրերի և միջոցառումների անվանումները | D7: Ցուցանիշների փոփոխությունները ավելացումները նշված են դրական նշանով, իսկ նվազեցումները՝ փակագծերում
A8: Ծրագիր | B8: Միջոցառում | D8: Ինն ամիս | E8: Տարի
C9: ԸՆԴԱՄԵՆԸ | D9: =D10+D82 -> 0 | E9: =E10+E82 -> 0
C10: ՀՀ աշխատանքի և սոցիալական հարցերի նախարարություն | D10: =D11+D37+D63+D24+D50 -> -72800 | E10: =E11+E37+E63+E24+E50 -> -152120
A11: 1011 | C11: Ծրագրի անվանումը` | D11: =D18 -> -33800 | E11: =E18 -> -33800
C12: Անապահով սոցիալական խմբերին աջակցություն
C13: Ծրագրի նպատակը`
C14: Օժանդակել անապահով ընտանիքների կենսամակարդակի բարձրացմանը
C15: Վերջնական արդյունքի նկարագրությունը`
C16: Աղքատության մեղմում և ծայրահեղ աղքատության կրճատում
A17: Ծրագրի միջոցառումներ
B18: 11003 | C18: Միջոցառման անվանումը` | D18: =D23 -> -33800 | E18: =E23 -> -33800
C19: Սոցիալական դեպքի վարման ծառայության ձեռք բերում
C20: Միջոցառման նկարագրությունը`
C21: Ընտանիքի, դրա յուրաքանչյուր անդամի, սոցիալական գնահատման իրականացում՝ անապահով սոցիալական խմբերին հայտնաբերելու համար՝ սոցիալական աջակցության տարածքային մարմինների սոցիալական աշխատողների կողմից տնային այցելությունների միջոցով
C22: Միջոցառման տեսակը
C23: Ծառայությունների մատուցում | D23: =-33800 -> -33800 | E23: =-33800 -> -33800
A24: 1082 | C24: Ծրագրի անվանումը` | D24: =D31 -> 0 | E24: =E31 -> -67320
C25: Սոցիալական աջակցություն անաշխատունակության դեպքում
C26: Ծրագրի նպատակը`
C27: Կորցրած եկամուտների մասնակի փոխհատուցում
C28: Վերջնական արդյունքի նկարագրությունը`
C29: Անաշխատունակության հետևանքով եկամտի կորստի մասնակի փոխհատուցման ապահովում
A30: Ծրագրի միջոցառումներ
B31: 12001 | C31: Միջոցառման անվանումը` | D31: =D36 -> 0 | E31: =E36 -> -67320
C32: Ժամանակավոր անաշխատունակության դեպքում նպաստ
C33: Միջոցառման նկարագրությունը`
C34: ժամանակավոր անաշխատունակության դեպքում (հիվանդության, ընտանիքի հիվանդ անդամի խնամքի և օրենքով սահմանված այլ պատճ. առաջացած) վարձու աշխատողներին, նոտարներին և անհատ ձեռնարկատերերին ժամանակավոր անաշխատունակության նպաստի վճարում
C35: Միջոցառման տեսակը
C36: Տրանսֆերտների տրամադրում | D36: 0 | E36: -67320
A37: 1117 | C37: Ծրագրի անվանումը` | D37: =D44 -> -14000 | E37: =E44 -> -15000
C38: Սոցիալական պաշտպանության բնագավառում պետական քաղաքականության մշակում, ծրագրերի համակարգում և մոնիթորինգ
C39: Ծրագրի նպատակը`
C40: Աղքատության մեղմման և անհավասարության նվազեցման, աշխատաշուկայի պահանջարկի և գործազրկության անհմպ. կրճատման, զբաղվածության աճի, ժողովրդագրական իրավիճակի բարելավման և քաղաքացիների սոց.իրավունքի իրացմանն ուղղված քաղաքականության մշակմ. և իրականացմ. ապահովում
C41: Վերջնական արդյունքի նկարագրությունը`
...

Sheet 2
H1: Հավելված N2
H2: ՀՀ կառավարության 2021 թվականի
H3: -----------------ի N -----------Ն որոշման
A4: ՀԱՅԱՍՏԱՆԻ ՀԱՆՐԱՊԵՏՈՒԹՅԱՆ ԿԱՌԱՎԱՐՈՒԹՅԱՆ 2020 ԹՎԱԿԱՆԻ ԴԵԿՏԵՄԲԵՐԻ 30-Ի N 2215-Ն ՈՐՈՇՄԱՆ N 3 և N 4 ՀԱՎԵԼՎԱԾՆԵՐՈՒՄ ԿԱՏԱՐՎՈՂ ՓՈՓՈԽՈՒԹՅՈՒՆՆԵՐԸ
G5: հազ. դրամ
A6: Գործառական դասիչը | D6: Ծրագրային դասիչը | F6: Բյուջետային ծախսերի գործառական դասակարգման բաժինների, խմբերի և դասերի, բյուջետային ծրագրերի միջոցառումների, բյուջետային հատկացումների գլխավոր կարգադրիչների անվանումները | G6: Ցուցանիշների փոփոխությունները (Ավելացումները նշված են դրական, իսկ նվազեցումները՝ փակագծերում)
A7: Բաժինը | B7: Խումբը | C7: Դասը | D7: Ծրագիր | E7: Միջոցառում | G7: Ինն ամիս | H7: Տարի
F8: ԸՆԴԱՄԵՆԸ | G8: =G9+G97 -> 0 | H8: =H9+H97 -> 0
F9: ԸՆԴԱՄԵՆԸ ԾԱԽՍԵՐ | G9: =G11+G28 -> -72800 | H9: =H11+H28 -> -152120
F10: այդ թվում`
A11: 04 | F11: ՏՆՏԵՍԱԿԱՆ ՀԱՐԱԲԵՐՈՒԹՅՈՒՆՆԵՐ | G11: =G13 -> -10000 | H11: =H13 -> -21000
F12: այդ թվում`
B13: 05 | F13: Տրանսպորտ | G13: =+G15 -> -10000 | H13: =+H15 -> -21000
F14: այդ թվում`
C15: 04 | F15: Օդային տրանսպորտ | G15: =G17 -> -10000 | H15: =H17 -> -21000
F16: այդ թվում`
D17: 1205 | F17: Սոցիալական ապահովություն | G17: =G19+G88 -> -10000 | H17: =H19+H88 -> -21000
F18: այդ թվում`
E19: 12008 | F19: ԱՊՀ տարածքում Հայրենական մեծ պատերազմի հաշմանդամների և մասնակիցների օդային տրանսպորտով մատուցվող ծառայությունների դիմաց փոխհատուցում | G19: =+G20 -> -10000 | H19: =+H20 -> -15000
F20: այդ թվում` ըստ կատարողների | G20: =+G22 -> -10000 | H20: =+H22 -> -15000
F21: ՀՀ տարածքային կառավարման և ենթակառուցվածքների նախարարություն
F22: այդ թվում` բյուջետային ծախսերի տնտեսագիտական դասակարգման հոդվածներ | G22: =+G24 -> -10000 | H22: =+H24 -> -15000
F23: ԸՆԴԱՄԵՆԸ ԾԱԽՍԵՐ
F24: ԸՆԹԱՑԻԿ ԾԱԽՍԵՐ | G24: =+G25 -> -10000 | H24: =+H25 -> -15000
F25: ՍՈՑԻԱԼԱԿԱՆ ՆՊԱՍՏՆԵՐ ԵՎ ԿԵՆՍԱԹՈՇԱԿՆԵՐ | G25: =+G26 -> -10000 | H25: =+H26 -> -15000
F26: Սոցիալական օգնության դրամական արտահայտությամբ նպաստներ (բյուջեից) | G26: =+G27 -> -10000 | H26: =+H27 -> -15000
F27: - Այլ նպաստներ բյուջեից | G27: ='1'!D75 -> -10000 | H27: ='1'!E75 -> -15000
A28: 10 | F28: ՍՈՑԻԱԼԱԿԱՆ ՊԱՇՏՊԱՆՈՒԹՅՈՒՆ | G28: =G30+G45 -> -62800 | H28: =H30+H45 -> -131120
F29: այդ թվում`
B30: 01 | F30: Վատառողջություն և անաշխատունակություն | G30: =+G32 -> -15000 | H30: =+H32 -> -15000
F31: այդ թվում`
C32: 02 | F32: Անաշխատունակություն | G32: =G34 -> -15000 | H32: =H34 -> -15000
F33: այդ թվում`
D34: 1160 | F34: Հաշմանդամություն ունեցող անձանց աջակցություն | G34: =G36 -> -15000 | H34: =H36 -> -15000
F35: այդ թվում`
E36: 11011 | F36: Հոգեկան առողջության խնդիրներ ունեցող անձանց շուրջօրյա խնամքի ծառայություններ | G36: =+G37 -> -15000 | H36: =+H37 -> -15000
F37: այդ թվում` ըստ կատարողների | G37: =+G39 -> -15000 | H37: =+H39 -> -15000
F38: ՀՀ աշխատանքի և սոցիալական հարցերի նախարարություն
F39: այդ թվում` բյուջետային ծախսերի տնտեսագիտական դասակարգման հոդվածներ | G39: =+G41 -> -15000 | H39: =+H41 -> -15000
F40: ԸՆԴԱՄԵՆԸ ԾԱԽՍԵՐ
...

Sheet 3
D1: Հավելված N3
D2: ՀՀ կառավարության 2021 թվականի
D3: -----------------ի N -----------Ն որոշման
A5: ՀԱՅԱՍՏԱՆԻ ՀԱՆՐԱՊԵՏՈՒԹՅԱՆ ԿԱՌԱՎԱՐՈՒԹՅԱՆ 2020 ԹՎԱԿԱՆԻ ԴԵԿՏԵՄԲԵՐԻ 30-Ի N 2215-Ն N 9 ՀԱՎԵԼՎԱԾԻ N 9.16 ԱՂՅՈՒՍԱԿԻ ԵՎ 9.47 ԱՂՅՈՒՍԱԿՆԵՐՈՒՄ ԿԱՏԱՐՎՈՂ ՓՈՓՈԽՈՒԹՅՈՒՆՆԵՐԸ
A6: ՀՀ աշխատանքի և սոցիալական հարցերի նախարարություն
A7: ՄԱՍ 2. ՊԵՏԱԿԱՆ ՄԱՐՄՆԻ ԳԾՈՎ ԱՐԴՅՈՒՆՔԱՅԻՆ (ԿԱՏԱՐՈՂԱԿԱՆ) ՑՈՒՑԱՆԻՇՆԵՐԸ
A9: Ծրագրի դասիչը | B9: Ծրագրի անվանումը
A10: 1011 | B10: Անապահով սոցիալական խմբերին աջակցություն
A12: Ծրագրի միջոցառումները
A14: Ծրագրի դասիչը` | B14: 1011 | C14: Ցուցանիշների փոփոխությունները (Նվազեցումները նշված են փակագծերում)
A15: Միջոցառման դասիչը` | B15: 11003 | C15: Ինն ամիս | D15: Տարի
A16: Միջոցառման անվանումը` | B16: Սոցիալական դեպքի վարման ծառայության ձեռք բերում
A17: Նկարագրությունը` | B17: Ընտանիքի, դրա յուրաքանչյուր անդամի, սոցիալական գնահատման իրականացում՛ անապահով սոցիալական խմբերին հայտնաբերելու համար՛ սոցիալական աջակցության տարածքային մարմինների սոցիալական աշխատողների կողմից տնային այցելությունների միջոցով
A18: Միջոցառման տեսակը` | B18: Ծառայությունների մատուցում
A19: Միջոցառումն իրականացնողի անվանումը | B19: ՀՀ աշխատանքի և սոցիալական հարցերի նախարարության միասնական սոցիալական ծառայություն
A20: Արդյունքի չափորոշիչներ
A21: Տունայցերի թիվ | C21: -83232 | D21: -83232
A22: տունայցի արդյունքում սոցիալական ծառայություն ստացած ընտանիքների (անձանց) թիվ | C22: -38772 | D22: -38772
A23: Միջոցառման վրա կատարվող ծախսը (հազար դրամ) | C23: ='1'!D23 -> -33800 | D23: ='1'!E23 -> -33800
A26: Ծրագրի դասիչը | B26: Ծրագրի անվանումը
A27: 1082 | B27: Սոցիալական աջակցություն անաշխատունակության դեպքում
A29: Ծրագրի դասիչը` | B29: 1082
A30: Միջոցառման դասիչը` | B30: 12001
A31: Միջոցառման անվանումը` | B31: Ժամանակավոր անաշխատունակության դեպքում նպաստ
A32: Նկարագրությունը` | B32: ժամանակավոր անաշխատունակության դեպքում (հիվանդության, ընտանիքի հիվանդ անդամի խնամքի և օրենքով սահմանված այլ պատճ. առաջացած) վարձու աշխատողներին, նոտարներին և անհատ ձեռնարկատերերին ժամանակավոր անաշխատունակության նպաստի վճարում | C32: Ցուցանիշների փոփոխությունները (Նվազեցումները նշված են փակագծերում)
A33: Միջոցառման տեսակը` | B33: Տրանսֆերտների տրամադրում | C33: Ինն ամիս | D33: Տարի
A34: Շահառուների ընտրության չափանիշները | B34: Օրենքով սահմանված կարգով ու չափով եկամտային հարկ (շահութահարկ) վճարած վարձու աշխատողներ, նոտարներ և անհատ ձեռնարկատերեր
A35: Արդյունքի չափորոշիչներ
A36: Ժամանակավոր անաշխատունակության օրերի թիվ, օր | D36: -24337
A37: Միջոցառման վրա կատարվող ծախսը (հազար դրամ) | C37: ='1'!D31 -> 0 | D37: ='1'!E31 -> -67320
A39: Ծրագրի դասիչը | B39: Ծրագրի անվանումը
A40: 1160 | B40: Հաշմանդամություն ունեցող անձանց աջակցություն
A42: Ծրագրի միջոցառումները
A44: Ծրագրի դասիչը` | B44: 1160 | C44: Ցուցանիշների փոփոխությունները (Նվազեցումները նշված են փակագծերում)
A45: Միջոցառման դասիչը` | B45: 11011 | C45: Ինն ամիս | D45: Տարի
A46: Միջոցառման անվանումը` | B46: Հոգեկան առողջության խնդիրներ ունեցող անձանց շուրջօրյա խնամքի ծառայություններ
A47: Նկարագրությունը` | B47: Հոգեկան առողջության խնդիրներ ունեցող անձանց կացարանով ապահովում և շուրջօրյա խնամքի ծառայությունների տրամադրում
A48: Միջոցառման տեսակը` | B48: Ծառայությունների մատուցում
A49: Միջոցառումն իրականացնողի անվանումը` | B49: Մասնագիտացված կազմակերպություններ
A50: Արդյունքի չափորոշիչներ
...

Sheet 4
D1: Հավելված N 4
D2: ՀՀ կառավարության 2021 թվականի
D3: -----------------ի N -----------Ն որոշման
A4: ՀԱՅԱՍՏԱՆԻ ՀԱՆՐԱՊԵՏՈՒԹՅԱՆ ԿԱՌԱՎԱՐՈՒԹՅԱՆ 2020 ԹՎԱԿԱՆԻ ԴԵԿՏԵՄԲԵՐԻ 30-Ի N 2215-Ն ՈՐՈՇՄԱՆ N 9 ՀԱՎԵԼՎԱԾԻ N 9.1.20 ԱՂՅՈՒՍԱԿՈՒՄ ԿԱՏԱՐՎՈՂ ՓՈՓՈԽՈՒԹՅՈՒՆՆԵՐԸ
A5: ՀԱՅԱՍՏԱՆԻ ՀԱՆՐԱՊԵՏՈՒԹՅԱՆ ԿԱՌԱՎԱՐՈՒԹՅԱՆ 2021 ԹՎԱԿԱՆԻ ԴԵԿՏԵՄԲԵՐԻ307Ի N 2215-Ն ՈՐՈՇՄԱՆ N 9.1 ՀԱՎԵԼՎԱԾԻ N 9.1.8, N 9.1.16, N 9.1.20 ԵՎ 9.1.58 ԱՂՅՈՒՍԱԿՆԵՐՈՒՄ ԿԱՏԱՐՎՈՂ ՓՈՓՈԽՈՒԹՅՈՒՆՆԵՐԸ
A7: ՀՀ տարածքային կառավարման և ենթակառուցվածքների նախարարություն
A9: ՄԱՍ 1. ՊԵՏԱԿԱՆ ՄԱՐՄՆԻ ԳԾՈՎ ԱՐԴՅՈՒՆՔԱՅԻՆ (ԿԱՏԱՐՈՂԱԿԱՆ) ՑՈՒՑԱՆԻՇՆԵՐԸ
A11: Ծրագրի դասիչը | B11: Ծրագրի անվանումը
A12: 1205 | B12: Սոցիալական ապահովություն
A14: Ծրագրի դասիչը` | B14: 1205 | C14: Ցուցանիշների փոփոխությունները (Նվազեցումները նշված են փակագծերում)
A15: Միջոցառման դասիչը` | B15: 12008 | C15: Ինն ամիս | D15: Տարի
A16: Միջոցառման անվանումը` | B16: ԱՊՀ տարածքում Հայրենական մեծ պատերազմի հաշմանդամների և մասնակիցների օդային տրանսպորտով մատուցվող ծառայությունների դիմաց փոխհատուցում
A17: Նկարագրությունը` | B17: ԱՊՀ տարածքում Հայրենական մեծ պատերազմի հաշմանդամների և մասնակիցների օդային տրանսպորտով մատուցվող ծառայությունների դիմաց չստացված եկամուտների փոխհատուցում
A18: Միջոցառման տեսակը` | B18: Տրանսֆերտների տրամադրում
A19: Շահառուների ընտրության չափանիշները | B19: Օդային տրանսպորտից օգտվող, արտոնյալ երթևեկելու իրավունք ունեցող ՀՀ քաղաքացիներ հանդիսացող Հայրենական մեծ պատերազմի հաշմանդամներ, մասնակիցներ
A20: Արդյունքի չափորոշիչներ
A21: Ուղևորների քանակ, մարդ | C21: -30 | D21: -45
A22: Միջոցառման վրա կատարվող ծախսը (հազար դրամ) | C22: ='3'!C80 -> -10000 | D22: ='3'!D80 -> -15000
A24: Ծրագրի դասիչը` | B24: 1205 | C24: Ցուցանիշների փոփոխությունները (Նվազեցումները նշված են փակագծերում)
A25: Միջոցառման դասիչը` | B25: 12022 | C25: Ինն ամիս | D25: Տարի
A26: Միջոցառման անվանումը` | B26: Ռազմական դրությամբ պայմանավորված՝ Արցախի Հանրապետության վերահսկողությունից դուրս մնացած համայնքներում հաշվառված չափահաս քաղաքացիներին ժամանակավոր հյուրընկալողների ծախսերի փոխհատուցման վեցամսյա սոցիալական աջակցության տրամադրում
A27: Նկարագրությունը` | B27: Արցախի Հանրապետության վերահսկողությունից դուրս մնացած համայնքներում հաշվառված չափահաս քաղաքացիներին ժամանակավոր հյուրընկալողների ծախսերի փոխհատուցման վեցամսյա սոցիալական աջակցության տրամադրում՝ հյուրընկալի կողմից էլեկտրոնային եղանակով ներկայացվող դիմումի հիման վրա
A28: Միջոցառման տեսակը` | B28: Տրանսֆերտների տրամադրում
A29: Շահառուների ընտրության չափանիշները | B29: ՀՀ կառավարության 2020 թվականի դեկտեմբերի 17-ի N 2072-Լ որոշման պահանջներին համապատասխան
A30: Արդյունքի չափորոշիչներ
A31: Շահառուների թվաքանակ | D31: -200
A32: Միջոցառման վրա կատարվող ծախսը (հազար դրամ) | C32: ='1'!D76 -> 0 | D32: ='1'!E76 -> -6000
A33: ՀՀ աշխատանքի և սոցիալական հարցերի նախարարության միասնական սոցիալական ծառայություն
A35: ՄԱՍ 1. ՊԵՏԱԿԱՆ ՄԱՐՄՆԻ ԳԾՈՎ ԱՐԴՅՈՒՆՔԱՅԻՆ (ԿԱՏԱՐՈՂԱԿԱՆ) ՑՈՒՑԱՆԻՇՆԵՐԸ
A37: Ծրագրի դասիչը | B37: Ծրագրի անվանումը
A38: 1011 | B38: ='1'!C12 -> Անապահով սոցիալական խմբերին աջակցություն
A40: Ծրագրի միջոցառումները
A42: Ծրագրի դասիչը` | B42: 1011 | C42: Ցուցանիշների փոփոխությունները (Նվազեցումները նշված են փակագծերում)
A43: Միջոցառման դասիչը` | B43: 11003 | C43: Ինն ամիս | D43: Տարի
A44: Միջոցառման անվանումը` | B44: Սոցիալական դեպքի վարման ծառայության ձեռք բերում
A45: Նկարագրությունը` | B45: Ընտանիքի, դրա յուրաքանչյուր անդամի, սոցիալական գնահատման իրականացում՛ անապահով սոցիալական խմբերին հայտնաբերելու համար՛ սոցիալական աջակցության տարածքային մարմինների սոցիալական աշխատողների կողմից տնային այցելությունների միջոցով
A46: Միջոցառման տեսակը` | B46: Ծառայությունների մատուցում
A47: Միջոցառումն իրականացնողի անվանումը | B47: ՀՀ աշխատանքի և սոցիալական հարցերի նախարարության միասնական սոցիալական ծառայություն
A48: Արդյունքի չափորոշիչներ
A49: Տունայցերի թիվ | C49: -59592 | D49: -59592
...

Sheet 5
I1: Հավելված N 5
I2: ՀՀ կառավարության 2021 թվականի
I3: -----------------ի N -----------Ն որոշման
A5: ՀԱՅԱՍՏԱՆԻ ՀԱՆՐԱՊԵՏՈՒԹՅԱՆ ԿԱՌԱՎԱՐՈՒԹՅԱՆ 2020 ԹՎԱԿԱՆԻ ԴԵԿՏԵՄԲԵՐԻ 30-Ի N 2215-Ն ՈՐՈՇՄԱՆ N 10 ՀԱՎԵԼՎԱԾՈՒՄ ԿԱՏԱՐՎՈՂ ՓՈՓՈԽՈՒԹՅՈՒՆՆԵՐԸ
A9: Կոդը | B9: Անվանումը | E9: Գնման ձևը | F9: Չափման միավորը | G9: Ցուցանիշների փոփոխություն (ավելացումները նշված են դրական նշանով)
G10: Միավորի գինը | H10: Քանակը | I10: Գումարը (հազար դրամով)
A11: ՀՀ աշխատանքի և սոցիալական հարցերի նախարարություն | I11: =I15 -> -15000
A12: Բաժին N 10 | B12: Խումբ N 09 | C12: Դաս N 02 | D12: Սոցիալական պաշտպանությանը տրամադրվող օժանդակ ծառայություններ (այլ դասերին չպատկանող)
A13: 1117 11003 | B13: Հանրային իրազեկման միջոցառումների իրականացում
B14: ՄԱՍ III. ԾԱՌԱՅՈՒԹՅՈՒՆՆԵՐ
A15: 92211100-2 | B15: ռադիոարտադրանքի հետ կապված ծառայություններ | E15: ԳՀ | F15: դրամ | I15: -15000
A16: ՀՀ աշխատանքի և սոցիալական հարցերի նախարարության միասնական սոցիալական ծառայություն | I16: =I20 -> -9600
A17: Բաժին N 10 | B17: Խումբ N 09 | C17: Դաս N 01 | D17: Սոցիալական պաշտպանություն (այլ դասերին չպատկանող)
A18: 1011 11003 | B18: Սոցիալական դեպքի վարման ծառայության ձեռք բերում
A19: ՄԱՍ III ԾԱՌԱՅՈՒԹՅՈՒՆՆԵՐ
A20: 64211130-2 | B20: բջջային հեռախոսների ծառայություններ | E20: ԳՀ | F20: դրամ | I20: -9600
