Workbook

Sheet 1
A1: Հավելված 1
A2: ՀՀ կառավարության 2021 թվականի
A3: ------------ N ---------- որոշման
A5: ՀԱՅԱՍՏԱՆԻ ՀԱՆՐԱՊԵՏՈՒԹՅԱՆ ԿԱՌԱՎԱՐՈՒԹՅԱՆ 2020 ԹՎԱԿԱՆԻ ԴԵԿՏԵՄԲԵՐԻ 30-Ի N 2215-Ն ՈՐՈՇՄԱՆ N 1 ՀԱՎԵԼՎԱԾԻ N 1 ԱՂՅՈՒՍԱԿՈՒՄ ԿԱՏԱՐՎՈՂ ՓՈՓՈԽՈՒԹՅՈՒՆԸ
A7: Պետական բյուջեի դեֆիցիտի ֆինանսավորման աղբյուրներն ու դրանց տարրերի անվանումները | B7: Ցուցանիշների փոփոխությունները (Ավելացումները նշված են դրական նշանով)
B8: Ինն ամիս | C8: Տարի
A9: ԸՆԴԱՄԵՆԸ | B9: =B11 -> 17,200.24 Եվրոին համարժեք ՀՀ դրամ | C9: =C11 -> 0
A10: այդ թվում՝
A11: Ա.Ներքին աղբյուրներ-ընդամենը | B11: =B13 -> 17,200.24 Եվրոին համարժեք ՀՀ դրամ | C11: =C13 -> 0
A12: այդ թվում՝
A13: 2. Ֆինանսական զուտ ակտիվներ | B13: =B15 -> 17,200.24 Եվրոին համարժեք ՀՀ դրամ | C13: =C15 -> 0
A14: այդ թվում՝
A15: 2.6.Այլ | B15: =B16 -> 17,200.24 Եվրոին համարժեք ՀՀ դրամ | C15: =C16 -> 0
A16: ժամանակավորապես ազատ միջոցներ | B16: 17,200.24 Եվրոին համարժեք ՀՀ դրամ | C16: 0

Sheet 2
A1: Հավելված 2
A2: ՀՀ կառավարության 2021 թվականի
A3: ------------ N ---------- որոշման
A5: «ՀԱՅԱՍՏԱՆԻ ՀԱՆՐԱՊԵՏՈՒԹՅԱՆ 2021 ԹՎԱԿԱՆԻ ՊԵՏԱԿԱՆ ԲՅՈՒՋԵԻ ՄԱՍԻՆ» ՀԱՅԱՍՏԱՆԻ ՀԱՆՐԱՊԵՏՈՒԹՅԱՆ ՕՐԵՆՔԻ N 1 ՀԱՎԵԼՎԱԾԻ N 2 ԱՂՅՈՒՍԱԿՈՒՄ ԿԱՏԱՐՎՈՂ ՎԵՐԱԲԱՇԽՈՒՄԸ ԵՎ ՀԱՅԱՍՏԱՆԻ ՀԱՆՐԱՊԵՏՈՒԹՅԱՆ ԿԱՌԱՎԱՐՈՒԹՅԱՆ 2020 ԹՎԱԿԱՆԻ ԴԵԿՏԵՄԲԵՐԻ 30-Ի N 2215-Ն ՈՐՈՇՄԱՆN 5 ՀԱՎԵԼՎԱԾԻ N 1 ԱՂՅՈՒՍԱԿՈՒՄ ԿԱՏԱՐՎՈՂ ՓՈՓՈԽՈՒԹՅՈՒՆՆԵՐԸ ԵՎ ԼՐԱՑՈՒՄՆԵՐԸ
A7: Ծրագրային դասիչը | C7: Բյուջետային հատկացումների գլխավոր կարգադրիչների, ծրագրերի և միջոցառումների անվանումները | D7: Ցուցանիշների փոփոխությունները (ավելացումները նշված են դրական նշանով,իսկ նվազեցումները՝ փակագծերում)
A8: Ծրագիր | B8: Միջոցառում | D8: Ինն ամիս | E8: Տարի
C9: ԸՆԴԱՄԵՆԸ | D9: =D10 -> 17,200.24 Եվրոին համարժեք ՀՀ դրամ | E9: 0
C10: ՀՀ վարչապետի աշխատակազմ | D10: =D11 -> 17,200.24 Եվրոին համարժեք ՀՀ դրամ | E10: =E11 -> 17,200.24 Եվրոին համարժեք ՀՀ դրամ
A11: 1136 | C11: Ծրագրի անվանումը` | D11: =D18 -> 17,200.24 Եվրոին համարժեք ՀՀ դրամ | E11: =E18 -> 17,200.24 Եվրոին համարժեք ՀՀ դրամ
C12: ՀՀ Վարչապետի լիազորությունների իրականացման ապահովում
C13: Ծրագրի նպատակը`
C14: Աջակցել կառավարության, վարչապետի և փոխվարչապետերի գործունեությանը
C15: Վերջնական արդյունքի նկարագրությունը`
C16: ՀՀ կառավարության և վարչապետի որոշումների ու հանձնարարականների կատարման վերահսկողության ապահովում
A17: Ծրագրի միջոցառումներ
B18: 11016 | C18: Միջոցառման անվանումը` | D18: 17,200.24 Եվրոին համարժեք ՀՀ դրամ | E18: 17,200.24 Եվրոին համարժեք ՀՀ դրամ
C19: Նախորդ տարիների պարտավորությունների մարման նպատակով աջակցության տրամադրում
C20: Միջոցառման նկարագրությունը`
C21: Նախորդ տարիների պարտավորությունների մարման նպատակով աջակցության տրամադրում
C22: Միջոցառման տեսակը
C23: Ծառայությունների մատուցում
C24: ՀՀ կառավարություն | D24: =D25 -> - | E24: =E25 -> (17,200.24 Եվրոին համարժեք ՀՀ դրամ)
A25: 1139 | C25: Ծրագրի անվանումը` | D25: - | E25: =E38 -> (17,200.24 Եվրոին համարժեք ՀՀ դրամ)
C26: ՀՀ կառավարության պահուստային ֆոնդ
C27: Ծրագրի նպատակը`
C28: Պետական բյուջեում չկանխատեսված, ինչպես նաև բյուջետային երաշխիքների ապահովման ծախսերի ֆինանսավորման ապահովում
C29: Վերջնական արդյունքի նկարագրությունը`
C30: Պահուստային ֆոնդի կառավարման արդյունավետություն և թափանցիկություն
A31: Ծրագրի միջոցառումներ
B32: 11001 | C32: Միջոցառման անվանումը` | D32: 17,200.24 Եվրոին համարժեք ՀՀ դրամ | E32: -
C33: ՀՀ կառավարության պահուստային ֆոնդ
C34: Միջոցառման նկարագրությունը`
C35: ՀՀ պետական բյուջեում նախատեսված ելքերի լրացուցիչ ֆինանսավորման՝ պետական բյուջեում չկանխատեսված ելքերի, ինչպես նաև բյուջետային երաշխիքների ապահովման ելքերի ֆինանսավորման ապահովում
C36: Միջոցառման տեսակը
C37: Ծառայությունների մատուցում
B38: 11001 | C38: Միջոցառման անվանումը` | D38: (17,200.24 Եվրոին համարժեք ՀՀ դրամ) | E38: (17,200.24 Եվրոին համարժեք ՀՀ դրամ)
C39: ՀՀ կառավարության պահուստային ֆոնդ
C40: Միջոցառման նկարագրությունը`
C41: ՀՀ պետական բյուջեում նախատեսված ելքերի լրացուցիչ ֆինանսավորման՝ պետական բյուջեում չկանխատեսված ելքերի, ինչպես նաև բյուջետային երաշխիքների ապահովման ելքերի ֆինանսավորման ապահովում
C42: Միջոցառման տեսակը
...

Sheet 3
A1: Հավելված 3
A2: ՀՀ կառավարության 2021 թվականի
A3: ------------ N ---------- որոշման
A5: ՀԱՅԱՍՏԱՆԻ ՀԱՆՐԱՊԵՏՈՒԹՅԱՆ ԿԱՌԱՎԱՐՈՒԹՅԱՆ 2020 ԹՎԱԿԱՆԻ ԴԵԿՏԵՄԲԵՐԻ 30-Ի N 2215-Ն ՈՐՈՇՄԱՆ N 3 ԵՎ N 4 ՀԱՎԵԼՎԱԾՆԵՐՈՒՄ ԿԱՏԱՐՎՈՂ ՓՈՓՈԽՈՒԹՅՈՒՆՆԵՐԸ ԵՎ ԼՐԱՑՈՒՄՆԵՐԸ
A7: Գործառական դասիչը | D7: Ծրագրային դասիչը | F7: Բյուջետային հատկացումների գլխավոր կարգադրիչների, ծրագրերի, միջոցառումների և միջոցառումները կատարող պետական մարմինների անվանումները | G7: Ցուցանիշների փոփոխությունները (ավելացումները նշված են դրական նշանով,իսկ նվազեցումները՝ փակագծերում)
A8: Բաժին | B8: Խումբ | C8: Դաս | D8: Ծրագիր | E8: Միջոցառում | G8: Ինն ամիս | H8: Տարի
F9: ԸՆԴԱՄԵՆԸ | G9: ='2'!D9 -> 17,200.24 Եվրոին համարժեք ՀՀ դրամ | H9: ='2'!E9 -> 0
F10: այդ թվում`
A11: 01 | F11: ԸՆԴՀԱՆՈՒՐ ԲՆՈՒՅԹԻ ՀԱՆՐԱՅԻՆ ԾԱՌԱՅՈՒԹՅՈՒՆՆԵՐ | G11: =G13 -> 17,200.24 Եվրոին համարժեք ՀՀ դրամ | H11: =H13 -> 17,200.24 Եվրոին համարժեք ՀՀ դրամ
F12: այդ թվում`
B13: 01 | F13: Օրենսդիր և գործադիր մարմիններ, պետական կառավարում, ֆինանսական և հարկաբյուջետային հարաբերություններ, արտաքին հարաբերություններ | G13: =G15 -> 17,200.24 Եվրոին համարժեք ՀՀ դրամ | H13: =H15 -> 17,200.24 Եվրոին համարժեք ՀՀ դրամ
F14: այդ թվում`
C15: 01 | F15: Օրենսդիր և գործադիր մարմիններ, պետական կառավարում | G15: =G17 -> 17,200.24 Եվրոին համարժեք ՀՀ դրամ | H15: =H17 -> 17,200.24 Եվրոին համարժեք ՀՀ դրամ
F16: այդ թվում`
D17: ='2'!A11 -> 1136 | F17: ='2'!C12 -> ՀՀ Վարչապետի լիազորությունների իրականացման ապահովում | G17: ='2'!D11 -> 17,200.24 Եվրոին համարժեք ՀՀ դրամ | H17: ='2'!E11 -> 17,200.24 Եվրոին համարժեք ՀՀ դրամ
F18: այդ թվում`
E19: ='2'!B18 -> 11016 | F19: ='2'!C19 -> Նախորդ տարիների պարտավորությունների մարման նպատակով աջակցության տրամադրում | G19: =G21 -> 17,200.24 Եվրոին համարժեք ՀՀ դրամ | H19: =H21 -> 17,200.24 Եվրոին համարժեք ՀՀ դրամ
F20: այդ թվում` ըստ կատարողների
F21: ՀՀ վարչապետի աշխատակազմ | G21: =G23 -> 17,200.24 Եվրոին համարժեք ՀՀ դրամ | H21: =H23 -> 17,200.24 Եվրոին համարժեք ՀՀ դրամ
F22: այդ թվում` բյուջետային ծախսերի տնտեսագիտական դասակարգման հոդվածներ
F23: ԸՆԴԱՄԵՆԸ ԾԱԽՍԵՐ | G23: =G24 -> 17,200.24 Եվրոին համարժեք ՀՀ դրամ | H23: =H24 -> 17,200.24 Եվրոին համարժեք ՀՀ դրամ
F24: ԸՆԹԱՑԻԿ ԾԱԽՍԵՐ | G24: =G25 -> 17,200.24 Եվրոին համարժեք ՀՀ դրամ | H24: =H25 -> 17,200.24 Եվրոին համարժեք ՀՀ դրամ
F25: ԴՐԱՄԱՇՆՈՐՀՆԵՐ | G25: =G27 -> 17,200.24 Եվրոին համարժեք ՀՀ դրամ | H25: =H27 -> 17,200.24 Եվրոին համարժեք ՀՀ դրամ
F26: Ընթացիկ դրամաշնորհներ պետական հատվածի այլ մակարդակներին | G26: =G27 -> 17,200.24 Եվրոին համարժեք ՀՀ դրամ | H26: =H27 -> 17,200.24 Եվրոին համարժեք ՀՀ դրամ
F27: - Այլ ընթացիկ դրամաշնորհներ | G27: ='2'!D18 -> 17,200.24 Եվրոին համարժեք ՀՀ դրամ | H27: ='2'!E18 -> 17,200.24 Եվրոին համարժեք ՀՀ դրամ
A28: 11 | F28: ՀԻՄՆԱԿԱՆ ԲԱԺԻՆՆԵՐԻՆ ՉԴԱՍՎՈՂ ՊԱՀՈՒՍՏԱՅԻՆ ՖՈՆԴԵՐ | G28: =G30 -> - | H28: =H30 -> (17,200.24 Եվրոին համարժեք ՀՀ դրամ)
F29: այդ թվում`
B30: 01 | F30: ՀՀ կառավարության և համայնքների պահուստային ֆոնդ | G30: =G32 -> - | H30: =H32 -> (17,200.24 Եվրոին համարժեք ՀՀ դրամ)
F31: այդ թվում`
C32: 01 | F32: ՀՀ կառավարության պահուստային ֆոնդ | G32: =G34 -> - | H32: =H34 -> (17,200.24 Եվրոին համարժեք ՀՀ դրամ)
F33: այդ թվում`
D34: 1139 | F34: ՀՀ կառավարության պահուստային ֆոնդ | G34: ='2'!D25 -> - | H34: ='2'!E25 -> (17,200.24 Եվրոին համարժեք ՀՀ դրամ)
F35: այդ թվում`
E36: 11001 | F36: ՀՀ կառավարության պահուստային ֆոնդ | G36: =G38 -> 17,200.24 Եվրոին համարժեք ՀՀ դրամ | H36: =H38 -> -
F37: այդ թվում` ըստ կատարողների
F38: ՀՀ կառավարություն | G38: =G40 -> 17,200.24 Եվրոին համարժեք ՀՀ դրամ | H38: =H40 -> -
F39: այդ թվում` բյուջետային ծախսերի տնտեսագիտական դասակարգման հոդվածներ
F40: ԸՆԴԱՄԵՆԸ ԾԱԽՍԵՐ | G40: =G41 -> 17,200.24 Եվրոին համարժեք ՀՀ դրամ | H40: =H41 -> -
F41: ԸՆԹԱՑԻԿ ԾԱԽՍԵՐ | G41: =G42 -> 17,200.24 Եվրոին համարժեք ՀՀ դրամ | H41: =H42 -> -
F42: ԱՅԼ ԾԱԽՍԵՐ | G42: =G43 -> 17,200.24 Եվրոին համարժեք ՀՀ դրամ | H42: =H43 -> -
...

Sheet 5
A1: Հավելված 4
A2: ՀՀ կառավարության 2021 թվականի
A3: ------------ N ---------- որոշման
A5: ՀԱՅԱՍՏԱՆԻ ՀԱՆՐԱՊԵՏՈՒԹՅԱՆ ԿԱՌԱՎԱՐՈՒԹՅԱՆ 2020 ԹՎԱԿԱՆԻ ԴԵԿՏԵՄԲԵՐԻ 30-Ի N 2215-Ն ՈՐՈՇՄԱՆ N 9 ՀԱՎԵԼՎԱԾԻ N 9.3 և 9.47 ԱՂՅՈՒՍԱԿՆԵՐՈՒՄ ԿԱՏԱՐՎՈՂ ՓՈՓՈԽՈՒԹՅՈՒՆՆԵՐԸ ԵՎ ԼՐԱՑՈՒՄՆԵՐԸ
A7: ՀՀ վարչապետի աշխատակազմ
A8: ՄԱՍ 2. ՊԵՏԱԿԱՆ ՄԱՐՄՆԻ ԳԾՈՎ ԱՐԴՅՈՒՆՔԱՅԻՆ (ԿԱՏԱՐՈՂԱԿԱՆ) ՑՈՒՑԱՆԻՇՆԵՐԸ
A10: Ծրագրի դասիչը | B10: Ծրագրի անվանումը
A11: ='2'!A11 -> 1136 | B11: ='2'!C12 -> ՀՀ Վարչապետի լիազորությունների իրականացման ապահովում
A13: Ծրագրի միջոցառումները
A14: Ծրագրի դասիչը` | B14: ='2'!A11 -> 1136 | C14: Ցուցանիշների փոփոխությունները (ավելացումները նշված են դրական նշանով)
A15: Միջոցառման դասիչը` | B15: ='2'!B18 -> 11016 | C15: Ինն ամիս | D15: Տարի
A16: Միջոցառման անվանումը` | B16: ='2'!C19 -> Նախորդ տարիների պարտավորությունների մարման նպատակով աջակցության տրամադրում
A17: Նկարագրությունը` | B17: ='2'!C21 -> Նախորդ տարիների պարտավորությունների մարման նպատակով աջակցության տրամադրում
A18: Միջոցառման տեսակը` | B18: Ծառայությունների մատուցում
A19: Միջոցառումն իրականացնողի անվանումը | B19: Մասնագիտացված կազմակերպություն
A20: Արդյունքի չափորոշիչներ
A21: Աջակցություն ստացած ընկերությունների թիվ, հատ | C21: 1 | D21: 1
A22: Միջոցառման վրա կատարված ծախսը (հազար դրամ) | C22: ='3'!G19 -> 17,200.24 Եվրոին համարժեք ՀՀ դրամ | D22: ='3'!H19 -> 17,200.24 Եվրոին համարժեք ՀՀ դրամ
A24: ՀՀ կառավարություն
A25: ՄԱՍ 2. ՊԵՏԱԿԱՆ ՄԱՐՄՆԻ ԳԾՈՎ ԱՐԴՅՈՒՆՔԱՅԻՆ (ԿԱՏԱՐՈՂԱԿԱՆ) ՑՈՒՑԱՆԻՇՆԵՐԸ
A27: Ծրագրի դասիչը | B27: Ծրագրի անվանումը
A28: ='2'!A25 -> 1139 | B28: ='2'!C26 -> ՀՀ կառավարության պահուստային ֆոնդ
A30: Ծրագրի միջոցառումները
A31: Ծրագրի դասիչը` | B31: ='2'!A25 -> 1139 | C31: Ցուցանիշների փոփոխությունները (ավելացումները նշված են դրական նշանով,իսկ նվազեցումները՝ փակագծերում)
A32: Միջոցառման դասիչը` | B32: ='2'!B32 -> 11001 | C32: Ինն ամիս | D32: Տարի
A33: Միջոցառման անվանումը` | B33: ='2'!C33 -> ՀՀ կառավարության պահուստային ֆոնդ
A34: Նկարագրությունը` | B34: ='2'!C35 -> ՀՀ պետական բյուջեում նախատեսված ելքերի լրացուցիչ ֆինանսավորման՝ պետական բյուջեում չկանխատեսված ելքերի, ինչպես նաև բյուջետային երաշխիքների ապահովման ելքերի ֆինանսավորման ապահովում
A35: Միջոցառման տեսակը` | B35: Ծառայությունների մատուցում
A36: Միջոցառումն իրականացնողի անվանումը | B36: ՀՀ կառավարություն
A37: Արդյունքի չափորոշիչներ
A38: Միջոցառման վրա կատարված ծախսը (հազար դրամ) | C38: ='3'!G36 -> 17,200.24 Եվրոին համարժեք ՀՀ դրամ | D38: ='3'!H36 -> -
A39: Ծրագրի դասիչը` | B39: ='2'!A25 -> 1139
A40: Միջոցառման դասիչը` | B40: ='2'!B32 -> 11001 | C40: Ինն ամիս | D40: Տարի
A41: Միջոցառման անվանումը` | B41: ='2'!C33 -> ՀՀ կառավարության պահուստային ֆոնդ
A42: Նկարագրությունը` | B42: ='2'!C35 -> ՀՀ պետական բյուջեում նախատեսված ելքերի լրացուցիչ ֆինանսավորման՝ պետական բյուջեում չկանխատեսված ելքերի, ինչպես նաև բյուջետային երաշխիքների ապահովման ելքերի ֆինանսավորման ապահովում
A43: Միջոցառման տեսակը` | B43: Ծառայությունների մատուցում
A44: Միջոցառումն իրականացնողի անվանումը | B44: ՀՀ կառավարություն
A45: Արդյունքի չափորոշիչներ
A46: Միջոցառման վրա կատարված ծախսը (հազար դրամ) | C46: ='3'!G44 -> (17,200.24 Եվրոին համարժեք ՀՀ դրամ) | D46: ='3'!H44 -> (17,200.24 Եվրոին համարժեք ՀՀ դրամ)

Sheet 6
A1: Հավելված 5
A2: ՀՀ կառավարության 2021 թվականի
A3: ------------ N ---------- որոշման
A5: ՀԱՅԱՍՏԱՆԻ ՀԱՆՐԱՊԵՏՈՒԹՅԱՆ ԿԱՌԱՎԱՐՈՒԹՅԱՆ 2020 ԹՎԱԿԱՆԻ ԴԵԿՏԵՄԲԵՐԻ 30-Ի N 2215-Ն ՈՐՈՇՄԱՆ N 9.1 ՀԱՎԵԼՎԱԾԻ N 9.1.3, ԵՎ 9.1.58 ԱՂՅՈՒՍԱԿՆԵՐՈՒՄ ԿԱՏԱՐՎՈՂ ՓՈՓՈԽՈՒԹՅՈՒՆՆԵՐԸ ԵՎ ԼՐԱՑՈՒՄՆԵՐԸ
A7: ՀՀ վարչապետի աշխատակազմ
A8: ՄԱՍ 1. ՊԵՏԱԿԱՆ ՄԱՐՄՆԻ ԳԾՈՎ ԱՐԴՅՈՒՆՔԱՅԻՆ (ԿԱՏԱՐՈՂԱԿԱՆ) ՑՈՒՑԱՆԻՇՆԵՐԸ
A10: Ծրագրի դասիչը | B10: Ծրագրի անվանումը
A11: ='5'!A11 -> 1136 | B11: ='5'!B11:D11 -> ՀՀ Վարչապետի լիազորությունների իրականացման ապահովում
A13: Ծրագրի միջոցառումները
A14: Ծրագրի դասիչը` | B14: ='5'!B14 -> 1136 | C14: Ցուցանիշների փոփոխությունները (ավելացումները նշված են դրական նշանով)
A15: Միջոցառման դասիչը` | B15: ='5'!B15 -> 11016 | C15: Ինն ամիս | D15: Տարի
A16: Միջոցառման անվանումը` | B16: ='5'!B16 -> Նախորդ տարիների պարտավորությունների մարման նպատակով աջակցության տրամադրում
A17: Նկարագրությունը` | B17: ='5'!B17 -> Նախորդ տարիների պարտավորությունների մարման նպատակով աջակցության տրամադրում
A18: Միջոցառման տեսակը` | B18: Ծառայությունների մատուցում
A19: ='5'!A19 -> Միջոցառումն իրականացնողի անվանումը | B19: ='5'!B19 -> Մասնագիտացված կազմակերպություն
A20: Արդյունքի չափորոշիչներ
A21: ='5'!A21:B21 -> Աջակցություն ստացած ընկերությունների թիվ, հատ | C21: ='5'!C21 -> 1 | D21: ='5'!D21 -> 1
A22: Միջոցառման վրա կատարված ծախսը (հազար դրամ) | C22: ='3'!G19 -> 17,200.24 Եվրոին համարժեք ՀՀ դրամ | D22: ='3'!H19 -> 17,200.24 Եվրոին համարժեք ՀՀ դրամ
A24: ՀՀ կառավարություն
A25: ՄԱՍ 1. ՊԵՏԱԿԱՆ ՄԱՐՄՆԻ ԳԾՈՎ ԱՐԴՅՈՒՆՔԱՅԻՆ (ԿԱՏԱՐՈՂԱԿԱՆ) ՑՈՒՑԱՆԻՇՆԵՐԸ
A27: Ծրագրի դասիչը | B27: Ծրագրի անվանումը
A28: ='2'!A25 -> 1139 | B28: ='2'!C26 -> ՀՀ կառավարության պահուստային ֆոնդ
A30: Ծրագրի միջոցառումները
A31: Ծրագրի դասիչը` | B31: ='5'!B31 -> 1139 | C31: ='5'!C31:D31 -> Ցուցանիշների փոփոխությունները (ավելացումները նշված են դրական նշանով,իսկ նվազեցումները՝ փակագծերում)
A32: Միջոցառման դասիչը` | B32: ='5'!B32 -> 11001 | C32: Ինն ամիս | D32: Տարի
A33: Միջոցառման անվանումը` | B33: ='5'!B33 -> ՀՀ կառավարության պահուստային ֆոնդ
A34: Նկարագրությունը` | B34: ='5'!B34 -> ՀՀ պետական բյուջեում նախատեսված ելքերի լրացուցիչ ֆինանսավորման՝ պետական բյուջեում չկանխատեսված ելքերի, ինչպես նաև բյուջետային երաշխիքների ապահովման ելքերի ֆինանսավորման ապահովում
A35: Միջոցառման տեսակը` | B35: ='5'!B35 -> Ծառայությունների մատուցում
A36: Միջոցառումն իրականացնողի անվանումը | B36: ՀՀ կառավարություն
A37: Արդյունքի չափորոշիչներ
A38: Միջոցառման վրա կատարված ծախսը (հազար դրամ) | C38: ='5'!C38 -> 17,200.24 Եվրոին համարժեք ՀՀ դրամ | D38: ='5'!D38 -> -
A39: Ծրագրի դասիչը` | B39: ='2'!A25 -> 1139
A40: Միջոցառման դասիչը` | B40: ='2'!B32 -> 11001 | C40: Ինն ամիս | D40: Տարի
A41: Միջոցառման անվանումը` | B41: ='2'!C33 -> ՀՀ կառավարության պահուստային ֆոնդ
A42: Նկարագրությունը` | B42: ='2'!C35 -> ՀՀ պետական բյուջեում նախատեսված ելքերի լրացուցիչ ֆինանսավորման՝ պետական բյուջեում չկանխատեսված ելքերի, ինչպես նաև բյուջետային երաշխիքների ապահովման ելքերի ֆինանսավորման ապահովում
A43: Միջոցառման տեսակը` | B43: Ծառայությունների մատուցում
A44: Միջոցառումն իրականացնողի անվանումը | B44: ՀՀ կառավարություն
A45: Արդյունքի չափորոշիչներ
A46: Միջոցառման վրա կատարված ծախսը (հազար դրամ) | C46: ='5'!C46 -> (17,200.24 Եվրոին համարժեք ՀՀ դրամ) | D46: ='5'!D46 -> (17,200.24 Եվրոին համարժեք ՀՀ դրամ)
