Workbook
Name AgencyCode: #REF!
Name AgencyCode: #REF!
Name AgencyCode: #REF!
Name AgencyCode: #REF!
Name AgencyCode: #REF!
Name AgencyName: #REF!
Name AgencyName: #REF!
Name AgencyName: #REF!
Name AgencyName: #REF!
Name davit: #REF!
Name davit: #REF!
Name davit: #REF!
Name Functional1: #REF!
Name Functional1: #REF!
Name Functional1: #REF!
Name Functional1: #REF!
Name ggg: #REF!
Name ggg: #REF!
Name ggg: #REF!
Name PANature: #REF!
Name PANature: #REF!
Name PANature: #REF!
Name PANature: #REF!
Name PAType: #REF!
Name PAType: #REF!
Name PAType: #REF!
Name PAType: #REF!
Name Performance2: #REF!
Name Performance2: #REF!
Name Performance2: #REF!
Name Performance2: #REF!
Name PerformanceType: #REF!
Name PerformanceType: #REF!
Name PerformanceType: #REF!
Name PerformanceType: #REF!
Name Հավելված: #REF!
Name Հավելված: #REF!
Name Հավելված: #REF!
Name Մաս: #REF!
Name Մաս: #REF!
Name Մաս: #REF!
Name շախմատիստ: #REF!
Name շախմատիստ: #REF!
Name շախմատիստ: #REF!

Sheet Havelvats 1
D1: Հավելված N 1
D2: ՀՀ կառավարության 2021 թվականի
D3: ______________ ի ___Ն որոշման
A5: «ՀԱՅԱUՏԱՆԻ ՀԱՆՐԱՊԵՏՈՒԹՅԱՆ 2021 ԹՎԱԿԱՆԻ ՊԵՏԱԿԱՆ ԲՅՈՒՋԵԻ ՄԱUԻՆ» ՀԱՅԱUՏԱՆԻ ՀԱՆՐԱՊԵՏՈՒԹՅԱՆ OՐԵՆՔԻ N 1 ՀԱՎԵԼՎԱԾԻ N 2 ԱՂՅՈՒՍԱԿՈՒՄ ԿԱՏԱՐՎՈՂ ՎԵՐԱԲԱՇԽՈՒՄԸ ԵՎ ՀԱՅԱՍՏԱՆԻ ՀԱՆՐԱՊԵՏՈՒԹՅԱՆ ԿԱՌԱՎԱՐՈՒԹՅԱՆ 2020 ԹՎԱԿԱՆԻ ԴԵԿՏԵՄԲԵՐԻ 30-Ի N 2215-Ն ՈՐՈՇՄԱՆ N 5 ՀԱՎԵԼՎԱԾԻ N 1 ԱՂՅՈՒՍԱԿՈՒՄ ԿԱՏԱՐՎՈՂ ՓՈՓՈԽՈՒԹՅՈՒՆՆԵՐԸ ԵՎ ԼՐԱՑՈՒՄՆԵՐԸ
E8: հազ. դրամներով
A9: Ծրագրային դասիչը | C9: Բյուջետային հատկացումների գլխավոր կարգադրիչների, ծրագրերի և միջոցառումների անվանումները | D9: Ցուցանիշների փոփոխությունը (ավելացումները նշված են դրական նշանով, իսկ նվազեցումները՝ փակագծերում)
A10: Ծրագիր | B10: Միջոցառում | D10: Ինն ամիս | E10: Տարի
C11: ԸՆԴԱՄԵՆԸ | D11: =+D13+D40 -> 0 | E11: =+E13+E40 -> 0
C12: այդ թվում
C13: ՀՀ ԿՐԹՈՒԹՅԱՆ, ԳԻՏՈՒԹՅԱՆ, ՄՇԱԿՈՒՅԹԻ ԵՎ ՍՊՈՐՏԻ ՆԱԽԱՐԱՐՈՒԹՅՈՒՆ | D13: =+D15+D28 -> 14897.5 | E13: =+E15+E28 -> 14897.5
A14: 1130 | C14: Ծրագրի անվանումը`
C15: Կրթության, գիտության, մշակույթի և սպորտի բնագավառի պետական քաղաքականության մշակում, ծրագրերի համակարգում և մոնիտորինգ | D15: =+D22 -> -10826.8 | E15: =+E22 -> -10826.8
C16: Ծրագրի նպատակը`
C17: Ապահովել համընդհանուր, հավասարապես հասանելի, ներառական և որակյալ կրթություն՛ բավարարելով տնտեսության ու հասարակության պահանջները, լիարժեք ծառայելով ազգային շահերին
C18: Վերջնական արդյունքի նկարագրությունը`
C19: Կրթության, գիտության, մշակույթի և սպորտի բնագավառում իրականացվող ծրագրերի ազդեցության և արդյունավետության բարելավում
C20: Ծրագրի միջոցառումներ
B21: 11001 | C21: Միջոցառման անվանումը`
C22: Կրթության, գիտության, մշակույթի և սպորտի բնագավառի պետական քաղաքականության մշակման, ծրագրերի համակարգման և մոնիտորինգի ծառայություններ | D22: -10826.8 | E22: -10826.8
C23: Միջոցառման նկարագրությունը`
C24: Կրթության, գիտության, մշակույթի և սպորտի բնագավառի պետական քաղաքականության մշակման, ծրագրերի համակարգման և մոնիտորինգի ծառայությունների ապահովում
C25: Միջոցառման տեսակը
C26: Ծառայությունների մատուցում
A27: 1163 | C27: Ծրագրի անվանումը`
C28: Մասսայական սպորտ | D28: =+D35 -> 25724.3 | E28: =+E35 -> 25724.3
C29: Ծրագրի նպատակը`
C30: Բնակչության շրջանում առողջ ապրելակերպի արմատավորում, անհատի բազմակողմանի ու ներդաշնակ զարգացման գործում ֆիզիկական կուլտուրայի և սպորտի դերի բարձրացում
C31: Վերջնական արդյունքի նկարագրությունը`
C32: Սպորտի նկատմամբ հետաքրքրվածության և մասնակցության ընդլայնում
C33: Ծրագրի միջոցառումներ
B34: 11018 | C34: Միջոցառման անվանումը`
C35: «Հայաստանի Հանրապետության Վարչապետի գավաթ» սիրողական խճուղային հեծանվավազքի մրցաշարի անցկացում | D35: 25724.3 | E35: 25724.3
C36: Միջոցառման նկարագրությունը`
C37: «Հայաստանի Հանրապետության Վարչապետի գավաթ» սիրողական խճուղային հեծանվավազքի մրցաշարի կազմակերպում և անցկացում
C38: Միջոցառման տեսակը
C39: Ծառայությունների մատուցում
C40: ՀՀ ԿԱՌԱՎԱՐՈՒԹՅՈՒՆ | D40: =+D42 -> -14897.5 | E40: =+E42 -> -14897.5
A41: 1139 | C41: Ծրագրի անվանումը`
C42: ՀՀ կառավարության պահուստային ֆոնդ | D42: =+D48+D54 -> -14897.5 | E42: =+E48+E54 -> -14897.5
C43: Ծրագրի նպատակը`
C44: Պետական բյուջեում չկանխատեսված, ինչպես նաև բյուջետային երաշխիքների ապահովման ծախսերի ֆինանսավորման ապահովում
C45: Վերջնական արդյունքի նկարագրությունը`
C46: Պահուստային ֆոնդի կառավարման արդյունավետության և թափանցիկության ապահովում
B47: 11001 | C47: Միջոցառման անվանումը`
C48: ՀՀ կառավարության պահուստային ֆոնդ | D48: -25724.3 | E48: -25724.3
C49: Միջոցառման նկարագրությունը`
C50: ՀՀ պետական բյուջեում նախատեսված ելքերի լրացուցիչ ֆինանսավորման՝ պետական բյուջեում չկանխատեսված ելքերի, ինչպես նաև բյուջետային երաշխիքների ապահովման ելքերի ֆինանսավորման ապահովում
C51: Միջոցառման տեսակը
C52: Ծառայությունների մատուցում
B53: 11001 | C53: Միջոցառման անվանումը`
C54: ՀՀ կառավարության պահուստային ֆոնդ | D54: 10826.8 | E54: 10826.8
C55: Միջոցառման նկարագրությունը`
C56: ՀՀ պետական բյուջեում նախատեսված ելքերի լրացուցիչ ֆինանսավորման՝ պետական բյուջեում չկանխատեսված ելքերի, ինչպես նաև բյուջետային երաշխիքների ապահովման ելքերի ֆինանսավորման ապահովում
C57: Միջոցառման տեսակը
C58: Ծառայությունների մատուցում

Sheet Havelvats 2 
G1: Հավելված N 2
G2: ՀՀ կառավարության 2021 թվականի
G3: ______________ ի ___Ն որոշման
A5: ՀԱՅԱՍՏԱՆԻ ՀԱՆՐԱՊԵՏՈՒԹՅԱՆ ԿԱՌԱՎԱՐՈՒԹՅԱՆ 2020 ԹՎԱԿԱՆԻ ԴԵԿՏԵՄԲԵՐԻ 30-Ի N2215-Ն ՈՐՈՇՄԱՆ N 3 ԵՎ N 4 ՀԱՎԵԼՎԱԾՆԵՐՈՒՄ ԿԱՏԱՐՎՈՂ ՓՈՓՈԽՈՒԹՅՈՒՆՆԵՐԸ ԵՎ ԼՐԱՑՈՒՄՆԵՐԸ
G8: հազ. դրամներով
A9: Գործառական դասիչը | D9: Ծրագրային դասիչը | F9: Բյուջետային հատկացումների գլխավոր կարգադրիչների, ծրագրերի, միջոցառումների և միջոցառումները կատարող պետական մարմինների անվանումները | G9: Ցուցանիշների փոփոխությունը (ավելացումները նշված են դրական նշանով, իսկ նվազեցումները՝ փակագծերում)
A10: Բաժին | B10: Խումբ | C10: Դաս | D10: Ծրագիր | E10: Միջոցառում | G10: Ինն ամիս | H10: Տարի
F11: ԸՆԴԱՄԵՆԸ | G11: =+G13+G52 -> 0 | H11: =+H13+H52 -> 0
F12: այդ թվում
F13: ՀՀ ԿՐԹՈՒԹՅԱՆ, ԳԻՏՈՒԹՅԱՆ, ՄՇԱԿՈՒՅԹԻ ԵՎ ՍՊՈՐՏԻ ՆԱԽԱՐԱՐՈՒԹՅՈՒՆ | G13: =+G14+G33 -> 14897.5 | H13: =+H14+H33 -> 14897.5
A14: 09 | F14: ԿՐԹՈՒԹՅՈՒՆ | G14: =+G16 -> -10826.8 | H14: =+H16 -> -10826.8
F15: այդ թվում`
B16: 08 | F16: Կրթություն (այլ դասերին չպատկանող) | G16: =+G18 -> -10826.8 | H16: =+H18 -> -10826.8
F17: այդ թվում`
C18: 01 | F18: Կրթություն (այլ դասերին չպատկանող) | G18: =+G20 -> -10826.8 | H18: =+H20 -> -10826.8
F19: այդ թվում`
F20: ՀՀ կրթության, գիտության, մշակույթի և սպորտի նախարարություն | G20: =+G22 -> -10826.8 | H20: =+H22 -> -10826.8
F21: այդ թվում`
D22: 1130 | E22: Կրթության, գիտության, մշակույթի և սպորտի բնագավառի պետական քաղաքականության մշակում, ծրագրերի համակարգում և մոնիտորինգ | G22: =+G24 -> -10826.8 | H22: =+H24 -> -10826.8
F23: այդ թվում`
E24: 11001 | F24: Կրթության, գիտության, մշակույթի և սպորտի բնագավառի պետական քաղաքականության մշակման, ծրագրերի համակարգման և մոնիտորինգի ծառայություններ | G24: =G26 -> -10826.8 | H24: =H26 -> -10826.8
F25: այդ թվում` ըստ կատարողների
F26: ՀՀ կրթության, գիտության, մշակույթի և սպորտի նախարարություն | G26: =G28 -> -10826.8 | H26: =H28 -> -10826.8
F27: այդ թվում՝ բյուջետային ծախսերի տնտեսագիտական դասակարգման հոդվածներ
F28: ԸՆԴԱՄԵՆԸ ԾԱԽՍԵՐ | G28: =G29 -> -10826.8 | H28: =H29 -> -10826.8
F29: ԸՆԹԱՑԻԿ ԾԱԽՍԵՐ | G29: =+G30 -> -10826.8 | H29: =+H30 -> -10826.8
F30: ԱՇԽԱՏԱՆՔԻ ՎԱՐՁԱՏՐՈՒԹՅՈՒՆ | G30: =+G31 -> -10826.8 | H30: =+H31 -> -10826.8
F31: Դրամով վճարվող աշխատավարձեր և հավելավճարներ | G31: =+G32 -> -10826.8 | H31: =+H32 -> -10826.8
F32: - Աշխատողների աշխատավարձեր և հավելավճարներ | G32: ='Havelvats 1'!D22 -> -10826.8 | H32: ='Havelvats 1'!E22 -> -10826.8
A33: 08 | F33: ՀԱՆԳԻՍՏ, ՄՇԱԿՈՒՅԹ ԵՎ ԿՐՈՆ | G33: =+G35 -> 25724.3 | H33: =+H35 -> 25724.3
F34: այդ թվում`
B35: 01 | F35: Հանգստի և սպորտի ծառայություններ | G35: =+G37 -> 25724.3 | H35: =+H37 -> 25724.3
F36: այդ թվում`
C37: 01 | F37: Հանգստի և սպորտի ծառայություններ | G37: =+G39 -> 25724.3 | H37: =+H39 -> 25724.3
F38: այդ թվում`
F39: ՀՀ կրթության, գիտության, մշակույթի և սպորտի նախարարություն | G39: =+G41 -> 25724.3 | H39: =+H41 -> 25724.3
F40: այդ թվում`
D41: 1163 | E41: Մասսայական սպորտ | G41: =+G43 -> 25724.3 | H41: =+H43 -> 25724.3
F42: այդ թվում`
E43: 11018 | F43: «Հայաստանի Հանրապետության Վարչապետի գավաթ» սիրողական խճուղային հեծանվավազքի մրցաշարի անցկացում | G43: =G45 -> 25724.3 | H43: =H45 -> 25724.3
F44: այդ թվում` ըստ կատարողների
F45: ՀՀ կրթության, գիտության, մշակույթի և սպորտի նախարարություն | G45: =G47 -> 25724.3 | H45: =H47 -> 25724.3
F46: այդ թվում՝ բյուջետային ծախսերի տնտեսագիտական դասակարգման հոդվածներ
F47: ԸՆԴԱՄԵՆԸ ԾԱԽՍԵՐ | G47: =G48 -> 25724.3 | H47: =H48 -> 25724.3
F48: ԸՆԹԱՑԻԿ ԾԱԽՍԵՐ | G48: =+G49 -> 25724.3 | H48: =+H49 -> 25724.3
F49: ԴՐԱՄԱՇՆՈՐՀՆԵՐ | G49: =+G50 -> 25724.3 | H49: =+H50 -> 25724.3
F50: Ընթացիկ դրամաշնորհներ պետական հատվածի այլ մակարդակներին | G50: =+G51 -> 25724.3 | H50: =+H51 -> 25724.3
F51: - Այլ ընթացիկ դրամաշնորհներ | G51: ='Havelvats 1'!D35 -> 25724.3 | H51: ='Havelvats 1'!E35 -> 25724.3
F52: ՀՀ ԿԱՌԱՎԱՐՈՒԹՅՈՒՆ | G52: =+G53 -> -14897.5 | H52: =+H53 -> -14897.5
A53: 11 | F53: ՀԻՄՆԱԿԱՆ ԲԱԺԻՆՆԵՐԻՆ ՉԴԱՍՎՈՂ ՊԱՀՈՒՍՏԱՅԻՆ ՖՈՆԴԵՐ | G53: =+G55 -> -14897.5 | H53: =+H55 -> -14897.5
F54: այդ թվում`
B55: 01 | F55: ՀՀ կառավարության և համայնքների պահուստային ֆոնդ | G55: =+G57 -> -14897.5 | H55: =+H57 -> -14897.5
F56: այդ թվում`
C57: 01 | F57: ՀՀ կառավարության պահուստային ֆոնդ | G57: =+G70+G78 -> -14897.5 | H57: =+H70+H78 -> -14897.5
F58: այդ թվում`
F59: ՀՀ կառավարություն | G59: =+G61 -> -14897.5 | H59: =+H61 -> -14897.5
F60: այդ թվում`
D61: 1139 | E61: ՀՀ կառավարության պահուստային ֆոնդ | F61: ՀՀ կառավարության պահուստային ֆոնդ | G61: =+G70+G78 -> -14897.5 | H61: =+H70+H78 -> -14897.5
F62: այդ թվում`
E63: 11001 | F63: ՀՀ կառավարության պահուստային ֆոնդ | G63: =+G65 -> -25724.3 | H63: =+H65 -> -25724.3
F64: այդ թվում` ըստ կատարողների
F65: ՀՀ կառավարություն | G65: =+G67 -> -25724.3 | H65: =+H67 -> -25724.3
F66: այդ թվում` բյուջետային ծախսերի տնտեսագիտական դասակարգման հոդվածներ
F67: ԸՆԴԱՄԵՆԸ ԾԱԽՍԵՐ | G67: =+G68 -> -25724.3 | H67: =+H68 -> -25724.3
F68: ԸՆԹԱՑԻԿ ԾԱԽՍԵՐ | G68: =+G69 -> -25724.3 | H68: =+H69 -> -25724.3
F69: ԱՅԼ ԾԱԽՍԵՐ | G69: =+G70 -> -25724.3 | H69: =+H70 -> -25724.3
F70: Պահուստային միջոցներ | G70: ='Havelvats 1'!D48 -> -25724.3 | H70: ='Havelvats 1'!E48 -> -25724.3
E71: 11001 | F71: ՀՀ կառավարության պահուստային ֆոնդ | G71: =+G73 -> 10826.8 | H71: =+H73 -> 10826.8
F72: այդ թվում` ըստ կատարողների
F73: ՀՀ կառավարություն | G73: =+G75 -> 10826.8 | H73: =+H75 -> 10826.8
F74: այդ թվում` բյուջետային ծախսերի տնտեսագիտական դասակարգման հոդվածներ
F75: ԸՆԴԱՄԵՆԸ ԾԱԽՍԵՐ | G75: =+G76 -> 10826.8 | H75: =+H76 -> 10826.8
F76: ԸՆԹԱՑԻԿ ԾԱԽՍԵՐ | G76: =+G77 -> 10826.8 | H76: =+H77 -> 10826.8
F77: ԱՅԼ ԾԱԽՍԵՐ | G77: =+G78 -> 10826.8 | H77: =+H78 -> 10826.8
F78: Պահուստային միջոցներ | G78: ='Havelvats 1'!D54 -> 10826.8 | H78: ='Havelvats 1'!E54 -> 10826.8

Sheet Havelvats 3
F1: Հավելված 3
F2: ՀՀ կառավարության 2021 թվականի
F3: ______________ ի ___Ն որոշման
A6: ՀԱՅԱՍՏԱՆԻ ՀԱՆՐԱՊԵՏՈՒԹՅԱՆ ԿԱՌԱՎԱՐՈՒԹՅԱՆ 2020 ԹՎԱԿԱՆԻ ԴԵԿՏԵՄԲԵՐԻ 30-Ի N 2215-Ն ՈՐՈՇՄԱՆ N 5 ՀԱՎԵԼՎԱԾԻ N 7 ԱՂՅՈՒՍԱԿՈՒՄ ԿԱՏԱՐՎՈՂ ԼՐԱՑՈՒՄԸ
G7: հազար դրամ
A8: Ծրագրային դասիչը | C8: Բյուջետային հատկացումների գլխավոր կարգադրիչների, ծրագրերի, միջոցառումների, ծախսային ուղղությունների անվանումները | F8: Միջոցառումները կատարող պետական մարմինների և դրամաշնորհ ստացող տնտեսվարող սուբյեկտների անվանումները | G8: Ցուցանիշների փոփոխությունը (ավելացումները նշված են դրական նշանով)
A9: Ծրագիր | B9: Միջոցառում | G9: Տարի
A10: ՀՀ կրթության, գիտության, մշակույթի և սպորտի նախարարություն | G10: =+G11 -> 25724.3
A11: 1163 | B11: Մասսայական սպորտ | G11: =+G12 -> 25724.3
B12: 11018 | C12: «Հայաստանի Հանրապետության Վարչապետի գավաթ» սիրողական խճուղային հեծանվավազքի մրցաշարի անցկացում | F12: ՀՀ կրթության, գիտության, մշակույթի և սպորտի նախարարություն | G12: =+G13 -> 25724.3
F13: «Հատիս» սպորտային բարեգործական հիմնադրամ | G13: ='Havelvats 1'!E35 -> 25724.3

Sheet Havelvats 4
D1: Հավելված N 4
D2: ՀՀ կառավարության 2021 թվականի
D3: ______________ ի ___Ն որոշման
B5: ՀԱՅԱՍՏԱՆԻ ՀԱՆՐԱՊԵՏՈՒԹՅԱՆ ԿԱՌԱՎԱՐՈՒԹՅԱՆ 2020 ԹՎԱԿԱՆԻ ԴԵԿՏԵՄԲԵՐԻ 30-Ի N 2215-Ն ՈՐՈՇՄԱՆ N 9 ՀԱՎԵԼՎԱԾԻ N 9.14 ԵՎ 9․47 ԱՂՅՈՒՍԱԿՆԵՐՈՒՄ ԿԱՏԱՐՎՈՂ ՓՈՓՈԽՈՒԹՅՈՒՆՆԵՐԸ ԵՎ ԼՐԱՑՈՒՄՆԵՐԸ
A7: Աղյուսակ 9․14
C8: ՀՀ կրթության, գիտության, մշակույթի և սպորտի նախարարություն
B9: ՄԱՍ 2. ՊԵՏԱԿԱՆ ՄԱՐՄՆԻ ԳԾՈՎ ԱՐԴՅՈՒՆՔԱՅԻՆ (ԿԱՏԱՐՈՂԱԿԱՆ) ՑՈՒՑԱՆԻՇՆԵՐԸ
B11: Ծրագրի դասիչը | C11: Ծրագրի անվանումը
B12: 1130 | C12: Կրթության, գիտության, մշակույթի և սպորտի բնագավառի պետական քաղաքականության մշակում, ծրագրերի համակարգում և մոնիտորինգ
B14: Ծրագրի միջոցառումները
B15: Ծրագրի դասիչը՝ | C15: 1130 | D15: Ցուցանիշների փոփոխությունը (նվազեցումները նշված են փակագծերում)
B16: Միջոցառման դասիչը՝ | C16: 11001 | D16: Ինն ամիս | E16: Տարի
B17: Միջոցառման անվանումը՝ | C17: Կրթության, գիտության, մշակույթի և սպորտի բնագավառի պետական քաղաքականության մշակման, ծրագրերի համակարգման և մոնիտորինգի ծառայություններ
B18: Նկարագրությունը՝ | C18: Կրթության, գիտության, մշակույթի և սպորտի բնագավառի պետական քաղաքականության մշակման, ծրագրերի համակարգման և մոնիտորինգի ծառայությունների ապահովում
B19: Միջոցառման տեսակը՝ | C19: Ծառայությունների մատուցում
B20: Միջոցառումն իրականացնողի անվանումը | C20: ՀՀ կրթության, գիտության, մշակույթի և սպորտի նախարարություն
B21: Արդյունքի չափորոշիչներ
B22: Միջոցառման վրա կատարվող ծախսը (հազար դրամ) | D22: =+'Havelvats 1'!D22 -> -10826.8 | E22: =+'Havelvats 1'!E22 -> -10826.8
B24: Ծրագրի դասիչը | C24: Ծրագրի անվանումը
B25: 1163 | C25: Մասսայական սպորտ
B27: Ծրագրի միջոցառումները
B28: Ծրագրի դասիչը՝ | C28: 1163 | D28: Ցուցանիշների փոփոխությունը (ավելացումները նշված են դրական նշանով)
B29: Միջոցառման դասիչը՝ | C29: 11018 | D29: Ինն ամիս | E29: Տարի
B30: Միջոցառման անվանումը՝ | C30: «Հայաստանի Հանրապետության Վարչապետի գավաթ» սիրողական խճուղային հեծանվավազքի մրցաշարի անցկացում
B31: Նկարագրությունը՝ | C31: «Հայաստանի Հանրապետության Վարչապետի գավաթ» սիրողական խճուղային հեծանվավազքի մրցաշարի կազմակերպում և անցկացում
B32: Միջոցառման տեսակը՝ | C32: Ծառայությունների մատուցում
B33: Ծառայությունը մատուցող կազմակերպությունների անվանումը | C33: Մասնագիտացված կազմակերպություն
B34: Արդյունքի չափորոշիչներ
B35: Միջոցառումների թիվ, հատ | D35: 1 | E35: 1
B36: Միջոցառման վրա կատարվող ծախսը (հազար դրամ) | D36: ='Havelvats 1'!D35 -> 25724.3 | E36: ='Havelvats 1'!E35 -> 25724.3
A38: Աղյուսակ 9․47
C39: ՀՀ կառավարություն
B40: ՄԱՍ 2. ՊԵՏԱԿԱՆ ՄԱՐՄՆԻ ԳԾՈՎ ԱՐԴՅՈՒՆՔԱՅԻՆ (ԿԱՏԱՐՈՂԱԿԱՆ) ՑՈՒՑԱՆԻՇՆԵՐԸ
B43: Ծրագրի դասիչը | C43: Ծրագրի անվանումը
B44: 1139 | C44: ՀՀ կառավարության պահուստային ֆոնդ
B45: Ծրագրի միջոցառումները
B46: Ծրագրի դասիչը՝ | C46: 1139 | D46: Ցուցանիշների փոփոխությունը (նվազեցումները նշված են փակագծերում)
B47: Միջոցառման դասիչը՝ | C47: 11001 | D47: Ինն ամիս | E47: Տարի
B48: Միջոցառման անվանումը՝ | C48: ՀՀ կառավարության պահուստային ֆոնդ
B49: Նկարագրությունը՝ | C49: ՀՀ պետական բյուջեում նախատեսված ելքերի լրացուցիչ ֆինանսավորման՝ պետական բյուջեում չկանխատեսված ելքերի, ինչպես նաև բյուջետային երաշխիքների ապահովման ելքերի ֆինանսավորման ապահովում
B50: Միջոցառման տեսակը՝ | C50: Ծառայությունների մատուցում
B51: Միջոցառումն իրականացնողի անվանումը | C51: ՀՀ կառավարություն
C52: Արդյունքի չափորոշիչներ
B53: Միջոցառման վրա կատարվող ծախսը (հազար դրամ) | D53: =+'Havelvats 1'!D48 -> -25724.3 | E53: =+'Havelvats 1'!E48 -> -25724.3
B55: Ծրագրի դասիչը՝ | C55: 1139 | D55: Ցուցանիշների փոփոխությունը (ավելացումները նշված են դրական նշանով)
B56: Միջոցառման դասիչը՝ | C56: 11001 | D56: Ինն ամիս | E56: Տարի
B57: Միջոցառման անվանումը՝ | C57: ՀՀ կառավարության պահուստային ֆոնդ
B58: Նկարագրությունը՝ | C58: ՀՀ պետական բյուջեում նախատեսված ելքերի լրացուցիչ ֆինանսավորման՝ պետական բյուջեում չկանխատեսված ելքերի, ինչպես նաև բյուջետային երաշխիքների ապահովման ելքերի ֆինանսավորման ապահովում
B59: Միջոցառման տեսակը՝ | C59: Ծառայությունների մատուցում
B60: Միջոցառումն իրականացնողի անվանումը | C60: ՀՀ կառավարություն
C61: Արդյունքի չափորոշիչներ
B62: Միջոցառման վրա կատարվող ծախսը (հազար դրամ) | D62: =+'Havelvats 1'!D54 -> 10826.8 | E62: =+'Havelvats 1'!E54 -> 10826.8

Sheet Havelvats 5
D1: Հավելված N 5
D2: ՀՀ կառավարության 2021 թվականի
D3: ______________ ի ___Ն որոշման
B5: ՀԱՅԱՍՏԱՆԻ ՀԱՆՐԱՊԵՏՈՒԹՅԱՆ ԿԱՌԱՎԱՐՈՒԹՅԱՆ 2020 ԹՎԱԿԱՆԻ ԴԵԿՏԵՄԲԵՐԻ 30-Ի N 2215-Ն ՈՐՈՇՄԱՆ N 9.1 ՀԱՎԵԼՎԱԾԻ N 9.1.14 ԵՎ 9․1.58 ԱՂՅՈՒՍԱԿՆԵՐՈՒՄ ԿԱՏԱՐՎՈՂ ՓՈՓՈԽՈՒԹՅՈՒՆՆԵՐԸ ԵՎ ԼՐԱՑՈՒՄՆԵՐԸ
A7: Աղյուսակ 9․14
C8: ՀՀ կրթության, գիտության, մշակույթի և սպորտի նախարարություն
B9: ՄԱՍ 2. ՊԵՏԱԿԱՆ ՄԱՐՄՆԻ ԳԾՈՎ ԱՐԴՅՈՒՆՔԱՅԻՆ (ԿԱՏԱՐՈՂԱԿԱՆ) ՑՈՒՑԱՆԻՇՆԵՐԸ
B11: Ծրագրի դասիչը | C11: Ծրագրի անվանումը
B12: 1130 | C12: Կրթության, գիտության, մշակույթի և սպորտի բնագավառի պետական քաղաքականության մշակում, ծրագրերի համակարգում և մոնիտորինգ
B14: Ծրագրի միջոցառումները
B15: Ծրագրի դասիչը՝ | C15: 1130 | D15: Ցուցանիշների փոփոխությունը (նվազեցումները նշված են փակագծերում)
B16: Միջոցառման դասիչը՝ | C16: 11001 | D16: Ինն ամիս | E16: Տարի
B17: Միջոցառման անվանումը՝ | C17: Կրթության, գիտության, մշակույթի և սպորտի բնագավառի պետական քաղաքականության մշակման, ծրագրերի համակարգման և մոնիտորինգի ծառայություններ
B18: Նկարագրությունը՝ | C18: Կրթության, գիտության, մշակույթի և սպորտի բնագավառի պետական քաղաքականության մշակման, ծրագրերի համակարգման և մոնիտորինգի ծառայությունների ապահովում
B19: Միջոցառման տեսակը՝ | C19: Ծառայությունների մատուցում
B20: Միջոցառումն իրականացնողի անվանումը | C20: ՀՀ կրթության, գիտության, մշակույթի և սպորտի նախարարություն
B21: Արդյունքի չափորոշիչներ
B22: Միջոցառման վրա կատարվող ծախսը (հազար դրամ) | D22: ='Havelvats 1'!D22 -> -10826.8 | E22: ='Havelvats 1'!E22 -> -10826.8
B24: Ծրագրի դասիչը | C24: Ծրագրի անվանումը
B25: 1163 | C25: Մասսայական սպորտ
B27: Ծրագրի միջոցառումները
B28: Ծրագրի դասիչը՝ | C28: 1163 | D28: Ցուցանիշների փոփոխությունը (ավելացումները նշված են դրական նշանով)
B29: Միջոցառման դասիչը՝ | C29: 11018 | D29: Ինն ամիս | E29: Տարի
B30: Միջոցառման անվանումը՝ | C30: «Հայաստանի Հանրապետության Վարչապետի գավաթ» սիրողական խճուղային հեծանվավազքի մրցաշարի անցկացում
B31: Նկարագրությունը՝ | C31: «Հայաստանի Հանրապետության Վարչապետի գավաթ» սիրողական խճուղային հեծանվավազքի մրցաշարի կազմակերպում և անցկացում
B32: Միջոցառման տեսակը՝ | C32: Ծառայությունների մատուցում
B33: Ծառայությունը մատուցող կազմակերպությունների անվանումը | C33: Մասնագիտացված կազմակերպություն
B34: Արդյունքի չափորոշիչներ
B35: Միջոցառումների թիվ, հատ | D35: 1 | E35: 1
B36: Միջոցառման վրա կատարվող ծախսը (հազար դրամ) | D36: ='Havelvats 1'!D35 -> 25724.3 | E36: ='Havelvats 1'!E35 -> 25724.3
A38: Աղյուսակ 9․1.58
C39: ՀՀ կառավարություն
B40: ՄԱՍ 1. ՊԵՏԱԿԱՆ ՄԱՐՄՆԻ ԳԾՈՎ ԱՐԴՅՈՒՆՔԱՅԻՆ (ԿԱՏԱՐՈՂԱԿԱՆ) ՑՈՒՑԱՆԻՇՆԵՐԸ
B43: Ծրագրի դասիչը | C43: Ծրագրի անվանումը
B44: 1139 | C44: ՀՀ կառավարության պահուստային ֆոնդ
B45: Ծրագրի միջոցառումները
B46: Ծրագրի դասիչը՝ | C46: 1139 | D46: Ցուցանիշների փոփոխությունը (նվազեցումները նշված են փակագծերում)
B47: Միջոցառման դասիչը՝ | C47: 11001 | D47: Ինն ամիս | E47: Տարի
B48: Միջոցառման անվանումը՝ | C48: ՀՀ կառավարության պահուստային ֆոնդ
B49: Նկարագրությունը՝ | C49: ՀՀ պետական բյուջեում նախատեսված ելքերի լրացուցիչ ֆինանսավորման՝ պետական բյուջեում չկանխատեսված ելքերի, ինչպես նաև բյուջետային երաշխիքների ապահովման ելքերի ֆինանսավորման ապահովում
B50: Միջոցառման տեսակը՝ | C50: Ծառայությունների մատուցում
B51: Միջոցառումն իրականացնողի անվանումը | C51: ՀՀ կառավարություն
C52: Արդյունքի չափորոշիչներ
B53: Միջոցառման վրա կատարվող ծախսը (հազար դրամ) | D53: =+'Havelvats 2 '!G63 -> -25724.3 | E53: =+'Havelvats 2 '!H63 -> -25724.3
B55: Ծրագրի դասիչը՝ | C55: 1139 | D55: Ցուցանիշների փոփոխությունը (ավելացումները նշված են դրական նշանով)
B56: Միջոցառման դասիչը՝ | C56: 11001 | D56: Ինն ամիս | E56: Տարի
B57: Միջոցառման անվանումը՝ | C57: ՀՀ կառավարության պահուստային ֆոնդ
B58: Նկարագրությունը՝ | C58: ՀՀ պետական բյուջեում նախատեսված ելքերի լրացուցիչ ֆինանսավորման՝ պետական բյուջեում չկանխատեսված ելքերի, ինչպես նաև բյուջետային երաշխիքների ապահովման ելքերի ֆինանսավորման ապահովում
B59: Միջոցառման տեսակը՝ | C59: Ծառայությունների մատուցում
B60: Միջոցառումն իրականացնողի անվանումը | C60: ՀՀ կառավարություն
C61: Արդյունքի չափորոշիչներ
B62: Միջոցառման վրա կատարվող ծախսը (հազար դրամ) | D62: =+'Havelvats 2 '!G71 -> 10826.8 | E62: =+'Havelvats 2 '!H71 -> 10826.8

Sheet Havelvats 6
G1: Հավելված N 6
G2: ՀՀ կառավարության 2021 թվականի
G3: ______________ ի ___Ն որոշման
A6: ՀԱՅԱՍՏԱՆԻ ՀԱՆՐԱՊԵՏՈՒԹՅԱՆ 2021 ԹՎԱԿԱՆԻ ՊԵՏԱԿԱՆ ԲՅՈՒՋԵՈՎ ՆԱԽԱՏԵՍՎԱԾ՝ ՀԱՅԱՍՏԱՆԻ ՀԱՆՐԱՊԵՏՈՒԹՅԱՆ ԿԱՌԱՎԱՐՈՒԹՅԱՆ ՊԱՀՈՒՍՏԱՅԻՆ ՖՈՆԴԻՑ ՀԱՏԿԱՑՈՒՄՆԵՐ ԿԱՏԱՐԵԼՈՒ ՎԵՐԱԲԵՐՅԱԼ
H8: հազ. դրամներով
A9: Գործառական դասիչը | D9: Ծրագրային դասիչը | F9: Բյուջետային հատկացումների գլխավոր կարգադրիչների, ծրագրերի, միջոցառումների և միջոցառումները կատարող պետական մարմինների անվանումները | G9: Ցուցանիշների փոփոխությունը (ավելացումները նշված են դրական նշանով, իսկ նվազեցումները՝ փակագծերում)
A10: Բաժին | B10: Խումբ | C10: Դաս | D10: Ծրագիր | E10: Միջոցառում | G10: Ինն ամիս | H10: Տարի
F11: ԸՆԴԱՄԵՆԸ | G11: =+G13+G32 -> 0 | H11: =+H13+H32 -> 0
F12: այդ թվում
F13: ՀՀ կառավարություն | G13: =+G14 -> -14897.5 | H13: =+H14 -> -14897.5
A14: 11 | F14: ՀԻՄՆԱԿԱՆ ԲԱԺԻՆՆԵՐԻՆ ՉԴԱՍՎՈՂ ՊԱՀՈՒՍՏԱՅԻՆ ՖՈՆԴԵՐ | G14: =+G16 -> -14897.5 | H14: =+H16 -> -14897.5
F15: այդ թվում`
B16: 01 | F16: ՀՀ կառավարության և համայնքների պահուստային ֆոնդ | G16: =+G18 -> -14897.5 | H16: =+H18 -> -14897.5
F17: այդ թվում`
C18: 01 | F18: ՀՀ կառավարության պահուստային ֆոնդ | G18: =+G20 -> -14897.5 | H18: =+H20 -> -14897.5
F19: այդ թվում`
F20: ՀՀ կառավարություն | G20: =+G22 -> -14897.5 | H20: =+H22 -> -14897.5
F21: այդ թվում`
D22: 1139 | E22: ՀՀ կառավարության պահուստային ֆոնդ | F22: ՀՀ կառավարության պահուստային ֆոնդ | G22: =+G24 -> -14897.5 | H22: =+H24 -> -14897.5
F23: այդ թվում`
E24: 11001 | F24: ՀՀ կառավարության պահուստային ֆոնդ | G24: =+G26 -> -14897.5 | H24: =+H26 -> -14897.5
F25: այդ թվում` ըստ կատարողների
F26: ՀՀ կառավարություն | G26: =+G28 -> -14897.5 | H26: =+H28 -> -14897.5
F27: այդ թվում` բյուջետային ծախսերի տնտեսագիտական դասակարգման հոդվածներ
F28: ԸՆԴԱՄԵՆԸ ԾԱԽՍԵՐ | G28: =+G29 -> -14897.5 | H28: =+H29 -> -14897.5
F29: ԸՆԹԱՑԻԿ ԾԱԽՍԵՐ | G29: =+G30 -> -14897.5 | H29: =+H30 -> -14897.5
F30: ԱՅԼ ԾԱԽՍԵՐ | G30: =+G31 -> -14897.5 | H30: =+H31 -> -14897.5
F31: Պահուստային միջոցներ | G31: ='Havelvats 1'!D40 -> -14897.5 | H31: ='Havelvats 1'!E40 -> -14897.5
F32: ՀՀ կրթության, գիտության, մշակույթի և սպորտի նախարարություն | G32: =+G33 -> 14897.5 | H32: =+H33 -> 14897.5
A33: 08 | F33: ՀԱՆԳԻՍՏ, ՄՇԱԿՈՒՅԹ ԵՎ ԿՐՈՆ | G33: =+G35 -> 14897.5 | H33: =+H35 -> 14897.5
F34: այդ թվում`
B35: 01 | F35: Հանգստի և սպորտի ծառայություններ | G35: =+G37 -> 14897.5 | H35: =+H37 -> 14897.5
F36: այդ թվում`
C37: 01 | F37: Հանգստի և սպորտի ծառայություններ | G37: =+G39 -> 14897.5 | H37: =+H39 -> 14897.5
F38: այդ թվում`
F39: ՀՀ կրթության, գիտության, մշակույթի և սպորտի նախարարություն | G39: =+G41 -> 14897.5 | H39: =+H41 -> 14897.5
F40: այդ թվում`
D41: 1163 | E41: Մասսայական սպորտ | G41: =+G43 -> 14897.5 | H41: =+H43 -> 14897.5
E42: 11018 | F42: այդ թվում`
F43: «Հայաստանի Հանրապետության Վարչապետի գավաթ» սիրողական խճուղային հեծանվավազքի մրցաշարի անցկացում | G43: =+G45 -> 14897.5 | H43: =+H45 -> 14897.5
F44: այդ թվում` ըստ կատարողների
F45: ՀՀ կրթության, գիտության, մշակույթի և սպորտի նախարարություն | G45: =+G47 -> 14897.5 | H45: =+H47 -> 14897.5
F46: այդ թվում՝ բյուջետային ծախսերի տնտեսագիտական դասակարգման հոդվածներ
F47: ԸՆԴԱՄԵՆԸ ԾԱԽՍԵՐ | G47: =+G48 -> 14897.5 | H47: =+H48 -> 14897.5
F48: ԸՆԹԱՑԻԿ ԾԱԽՍԵՐ | G48: =+G49 -> 14897.5 | H48: =+H49 -> 14897.5
F49: ԴՐԱՄԱՇՆՈՐՀՆԵՐ | G49: =+G50 -> 14897.5 | H49: =+H50 -> 14897.5
F50: Ընթացիկ դրամաշնորհներ պետական հատվածի այլ մակարդակներին | G50: =+G51 -> 14897.5 | H50: =+H51 -> 14897.5
F51: - Այլ ընթացիկ դրամաշնորհներ | G51: =-'Havelvats 1'!D40 -> 14897.5 | H51: =-'Havelvats 1'!E40 -> 14897.5
