Workbook
Name AgencyCode: #REF!
Name AgencyCode: #REF!
Name AgencyCode: #REF!
Name AgencyCode: #REF!
Name AgencyCode: #REF!
Name AgencyCode: #REF!
Name AgencyCode: #REF!
Name AgencyCode: #REF!
Name AgencyName: #REF!
Name AgencyName: #REF!
Name AgencyName: #REF!
Name AgencyName: #REF!
Name AgencyName: #REF!
Name AgencyName: #REF!
Name AgencyName: #REF!
Name AgencyName: #REF!
Name davit: #REF!
Name davit: #REF!
Name davit: #REF!
Name davit: #REF!
Name davit: #REF!
Name davit: #REF!
Name davit: #REF!
Name Functional1: #REF!
Name Functional1: #REF!
Name Functional1: #REF!
Name Functional1: #REF!
Name Functional1: #REF!
Name Functional1: #REF!
Name Functional1: #REF!
Name Functional1: #REF!
Name ggg: #REF!
Name ggg: #REF!
Name ggg: #REF!
Name ggg: #REF!
Name ggg: #REF!
Name ggg: #REF!
Name ggg: #REF!
Name ggg: #REF!
Name PANature: #REF!
Name PANature: #REF!
Name PANature: #REF!
Name PANature: #REF!
Name PANature: #REF!
Name PANature: #REF!
Name PANature: #REF!
Name PANature: #REF!
Name PAType: #REF!
Name PAType: #REF!
Name PAType: #REF!
Name PAType: #REF!
Name PAType: #REF!
Name PAType: #REF!
Name PAType: #REF!
Name PAType: #REF!
Name Performance2: #REF!
Name Performance2: #REF!
Name Performance2: #REF!
Name Performance2: #REF!
Name Performance2: #REF!

Sheet Havelvats 1
D1: Հավելված N 1
D2: ՀՀ կառավարության 2021 թվականի | E2: ՀՀ կառավարության 2021 թվականի
D3: ______________ ի ___Ն որոշման | E3: ______________ ի ___Ն որոշման
A6: «ՀԱՅԱUՏԱՆԻ ՀԱՆՐԱՊԵՏՈՒԹՅԱՆ 2021 ԹՎԱԿԱՆԻ ՊԵՏԱԿԱՆ ԲՅՈՒՋԵԻ ՄԱUԻՆ» ՀԱՅԱUՏԱՆԻ ՀԱՆՐԱՊԵՏՈՒԹՅԱՆ OՐԵՆՔԻ N 1 ՀԱՎԵԼՎԱԾԻ N 2 ԱՂՅՈՒՍԱԿՈՒՄ ԿԱՏԱՐՎՈՂ ՎԵՐԱԲԱՇԽՈՒՄԸ ԵՎ ՀԱՅԱՍՏԱՆԻ ՀԱՆՐԱՊԵՏՈՒԹՅԱՆ ԿԱՌԱՎԱՐՈՒԹՅԱՆ 2020 ԹՎԱԿԱՆԻ ԴԵԿՏԵՄԲԵՐԻ 30-Ի ԹԻՎ 2215-Ն ՈՐՈՇՄԱՆ N 5 ՀԱՎԵԼՎԱԾԻ N 1 ԱՂՅՈՒՍԱԿՈՒՄ ԿԱՏԱՐՎՈՂ ՓՈՓՈԽՈՒԹՅՈՒՆՆԵՐԸ ԵՎ ԼՐԱՑՈՒՄԸ
E8: հազ. դրամներով
A9: Ծրագրային դասիչը | C9: Բյուջետային հատկացումների գլխավոր կարգադրիչների, ծրագրերի և միջոցառումների անվանումները | D9: Ցուցանիշների փոփոխությունը (ավելացումները նշված են դրական նշանով, իսկ նվազեցումները` փակագծերում)
A10: Ծրագիր | B10: Միջոցառում | D10: Ինն ամիս | E10: Տարի
C11: ԸՆԴԱՄԵՆԸ | D11: =+D13+D41 -> 0 | E11: =+E41+E13 -> 0
C12: այդ թվում՝
C13: ՀՀ ԿՐԹՈՒԹՅԱՆ, ԳԻՏՈՒԹՅԱՆ, ՄՇԱԿՈՒՅԹԻ ԵՎ ՍՊՈՐՏԻ ՆԱԽԱՐԱՐՈՒԹՅՈՒՆ | D13: =+D15+D28 -> 0 | E13: =+E15+E28 -> 0
A14: 1146 | C14: Ծրագրի անվանումը՝
C15: Հանրակրթության ծրագիր | D15: =+D22 -> -22565.8 | E15: =+E22 -> -22565.8
C16: Ծրագրի նպատակը՝
C17: Ապահովել անվճար և որակյալ հանրակրթություն
C18: Վերջնական արդյունքի նկարագրությունը՝
C19: Մտավոր, հոգևոր, ֆիզիկական և սոցիալական ունակությունների համակողմանի ու ներդաշնակ զարգացմամբ, հայրենասիրության, պետականության և մարդասիրության ոգով դաստիրակված, պատշաճ վարքով և վարվելակերպով անձի ձևավորում
C20: Ծրագրի միջոցառումներ
B21: 11001 | C21: Միջոցառման անվանումը`
C22: Տարրական ընդհանուր հանրակրթություն | D22: =+'havelvac 2'!G25 -> -22565.8 | E22: =+'havelvac 2'!H25 -> -22565.8
C23: Միջոցառման նկարագրությունը`
C24: Պարտադիր կրթության առաջին մակարդակում սովորողների ընդգրկվածության, գրագիտության և համակողմանի զարգացման բարձր մակարդակի ապահովում
C25: Միջոցառման տեսակը
C26: Ծառայությունների մատուցում
A27: 1183 | C27: Ծրագրի անվանումը`
C28: Ապահով դպրոց | D28: =+D35 -> 22565.8 | E28: =+E35 -> 22565.8
C29: Ծրագրի նպատակը`
C30: Դպրոցներին սպառնացող աղետների ռիսկի կառավարման կարողությունների հզորացում, դպրոցի անձնակազմի և աշակերտների անվտանգության ապահովման մակարդակի բարձրացում՛ կիրառելով ներառական և երեխայակենտրոն մոտեցում
C31: Վերջնական արդյունքի նկարագրությունը`
C32: Դպրոցական միջավայրի բարելավում
C33: Ծրագրի միջոցառումներ
B34: 32012 | C34: Միջոցառման անվանումը՝
C35: Հանրակրթական դպրոցների գույքով և տեխնիկայով ապահովում | D35: =+'havelvac 2'!G42 -> 22565.8 | E35: =+'havelvac 2'!H42 -> 22565.8
C36: Միջոցառման նկարագրությունը՝
C37: Կրթական ժամանակակից նորմերին համապատասխանող գույքի ձեռք բերում
C38: Միջոցառման տեսակը՝
C39: Այլ պետական կազմակերպությունների կողմից օգտագործվող ոչ ֆինանսական ակտիվների հետ գործառնություններ
C41: ՀՀ ԿԱՌԱՎԱՐՈՒԹՅՈՒՆ | D41: =+D43 -> 0 | E41: =+E43 -> 0
A42: 1139 | C42: Ծրագրի անվանումը`
C43: ՀՀ կառավարության պահուստային ֆոնդ | D43: =+D49+D55 -> 0 | E43: =+E49+E55 -> 0
C44: Ծրագրի նպատակը`
...

Sheet havelvac 2
H1: Հավելված N 2
F2: ՀՀ կառավարության 2021 թվականի
F3: ______________ ի ___Ն որոշման
A7: ՀԱՅԱՍՏԱՆԻ ՀԱՆՐԱՊԵՏՈՒԹՅԱՆ ԿԱՌԱՎԱՐՈՒԹՅԱՆ 2020 ԹՎԱԿԱՆԻ ԴԵԿՏԵՄԲԵՐԻ 30-Ի N 2215-Ն ՈՐՈՇՄԱՆ N 3 և N 4 ՀԱՎԵԼՎԱԾՆԵՐՈՒՄ ԿԱՏԱՐՎՈՂ ՓՈՓՈԽՈՒԹՅՈՒՆՆԵՐԸ ԵՎ ԼՐԱՑՈՒՄԸ
G9: հազ. դրամներով
A10: Գործառական դասիչը | D10: Ծրագրային դասիչը | F10: Բյուջետային ծախսերի գործառական դասակարգման բաժինների, խմբերի և դասերի, բյուջետային ծրագրերի, միջոցառումների բյուջետային հատկացումնեյի գլխավոր կարկադրիչների անվանումները | G10: Ցուցանիշների փոփոխությունը (ավելացումները նշված են դրական նշանով, իսկ նվազեցումները` փակագծերում)
A11: Բաժին | B11: Խումբ | C11: Դաս | D11: Ծրագիր | E11: Միջոցառում | G11: Ինն ամիս | H11: Տարի
F12: ԸՆԴԱՄԵՆԸ | G12: =+G14+G52 -> 0 | H12: =+H14+H52 -> 0
F13: այդ թվում`
F14: ՀՀ ԿՐԹՈՒԹՅԱՆ, ԳԻՏՈՒԹՅԱՆ, ՄՇԱԿՈՒՅԹԻ ԵՎ ՍՊՈՐՏԻ ՆԱԽԱՐԱՐՈՒԹՅՈՒՆ | G14: =+G15 -> 0 | H14: =+H15 -> 0
A15: 09 | F15: ԿՐԹՈՒԹՅՈՒՆ | G15: =+G17+G34 -> 0 | H15: =+H17+H34 -> 0
F16: այդ թվում`
B17: 01 | F17: Նախադպրոցական և տարրական ընդհանուր կրթություն | G17: =+G19 -> -22565.8 | H17: =+H19 -> -22565.8
F18: այդ թվում՝
C19: 02 | F19: Տարրական ընդհանուր կրթություն | G19: =+G21 -> -22565.8 | H19: =+H21 -> -22565.8
F20: այդ թվում`
F21: ՀՀ Կրթության , գիտության, մշակույթի և սպորտի նախարարություն | G21: =+G23 -> -22565.8 | H21: =+H23 -> -22565.8
F22: այդ թվում`
D23: 1146 | E23: Հանրակրթության ծրագիր | G23: =+G25 -> -22565.8 | H23: =+H25 -> -22565.8
F24: այդ թվում`
E25: 11001 | F25: Տարրական ընդհանուր հանրակրթություն | G25: =+G27 -> -22565.8 | H25: =+H27 -> -22565.8
F26: այդ թվում` ըստ կատարողների
F27: ՀՀ տարածքային կառավարման և ենթակառուցվածքների նախարարություն | G27: =+G29 -> -22565.8 | H27: =+H29 -> -22565.8
F28: այդ թվում` բյուջետային ծախսերի տնտեսագիտական դասակարգման հոդվածներ
F29: ԸՆԴԱՄԵՆԸ ԾԱԽՍԵՐ | G29: =+G30 -> -22565.8 | H29: =+H30 -> -22565.8
F30: ԸՆԹԱՑԻԿ ԾԱԽՍԵՐ | G30: =+G31 -> -22565.8 | H30: =+H31 -> -22565.8
F31: ՍՈՒԲՍԻԴԻԱՆԵՐ | G31: =+G32 -> -22565.8 | H31: =+H32 -> -22565.8
F32: Սուբսիդիաներ պետական կազմակերպություններին | G32: =+G33 -> -22565.8 | H32: =+H33 -> -22565.8
F33: - Սուբսիդիաներ ոչ ֆինանսական պետական կազմակերպություններին | G33: -22565.8 | H33: -22565.8
B34: 06 | F34: Կրթությանը տրամադրվող օժանդակ ծառայություններ | G34: =+G36 -> 22565.8 | H34: =+H36 -> 22565.8
F35: այդ թվում՝
C36: 01 | F36: Կրթությանը տրամադրվող օժանդակ ծառայություններ | G36: =+G38 -> 22565.8 | H36: =+H38 -> 22565.8
F37: այդ թվում`
F38: ՀՀ Կրթության , գիտության, մշակույթի և սպորտի նախարարություն | G38: =+G40 -> 22565.8 | H38: =+H40 -> 22565.8
F39: այդ թվում`
D40: 1183 | E40: Ապահով դպրոց | G40: =+G42 -> 22565.8 | H40: =+H42 -> 22565.8
F41: այդ թվում`
E42: 32012 | F42: Հանրակրթական դպրոցների գույքով և տեխնիկայով ապահովում | G42: =+G44 -> 22565.8 | H42: =+H44 -> 22565.8
F43: այդ թվում` ըստ կատարողների
F44: ՀՀ տարածքային կառավարման և ենթակառուցվածքների նախարարություն | G44: =+G46 -> 22565.8 | H44: =+H46 -> 22565.8
...

Sheet havelvac 3
G2: Հավելված N 3
G3: ՀՀ կառավարության 2021 թվականի
G4: ______________ ի ___Ն որոշման
B7: ՀԱՅԱՍՏԱՆԻ ՀԱՆՐԱՊԵՏՈՒԹՅԱՆ ԿԱՌԱՎԱՐՈՒԹՅԱՆ 2020 ԹՎԱԿԱՆԻ ԴԵԿՏԵՄԲԵՐԻ 30-Ի N2215-Ն ՈՐՈՇՄԱՆ N5 ՀԱՎԵԼՎԱԾԻ N7 ԱՂՅՈՒՍԱԿՈՒՄ ԿԱՏԱՐՎՈՂ ԼՐԱՑՈՒՄԸ
H9: հազ. դրամներով
B10: Ծրագրային դասիչ | D10: Բյուջետային հատկացումների գլխավոր կարգադրիչների, ծրագրերի, միջոցառումների, ծախսային ուղղությունների անվանումները | G10: Միջոցառումները կատարող պետական մարմինների և դրամաշնորհ ստացող տնտեսվարող սուբյեկտների անվանումները | H10: Ցուցանիշների փոփոխությունը (ավելացումները նշված են դրական նշանով)
B11: Ծրագիր | C11: Միջոցառում | H11: Տարի
B12: 1 | C12: 2 | D12: 3 | G12: 4
B13: ՀՀ կրթության, գիտության, մշակույթի և սպորտի նախարարություն | H13: =H14 -> 22565.8
B14: 1183 | C14: Ապահով դպրոց | H14: =H15 -> 22565.8
C15: 32012 | D15: Հանրակրթական դպրոցների գույքով և տեխնիկայով ապահովում | G15: ՀՀ տարածքային կառավարման և ենթակառուցվածքների նախարարություն | H15: =H16 -> 22565.8
G16: «Երևանի Վ. Պետրոսյանի անվան հ.51 հիմնական դպրոց» ՊՈԱԿ | H16: 22565.8

Sheet havelvac  4
F1: Հավելված N 4
F2: ՀՀ կառավարության 2021թվականի
F3: ______________ ի ___Ն որոշման
A7: ՀԱՅԱՍՏԱՆԻ ՀԱՆՐԱՊԵՏՈՒԹՅԱՆ ԿԱՌԱՎԱՐՈՒԹՅԱՆ 2020 ԹՎԱԿԱՆԻ ԴԵԿՏԵՄԲԵՐԻ 30-Ի N 2215-Ն ՈՐՈՇՄԱՆ N 8 ՀԱՎԵԼՎԱԾԻ ՑԱՆԿՈՒՄ ԿԱՏԱՐՎՈՂ ԼՐԱՑՈՒՄԸ
A10: Գործառական դասիչ | D10: Ծրագրային դասիչ | F10: Բյուջետային հատակացումների գլխավոր կարգադրիչներ, ծրագրերի, միջոցառումների և միջոցառումներն իրականացնող պետական մարմինների անվանումները
A11: Բաժին | B11: Խումբ | C11: Դաս | D11: Ծրագիր | E11: Միջոցառում
A12: 09 | F12: ԿՐԹՈՒԹՅՈՒՆ
B13: 06 | F13: Կրթությանը տրամադրվող օժանդակ ծառայություններ
C14: 01 | F14: Կրթությանը տրամադրվող օժանդակ ծառայություններ
D15: 1183 | F15: Ապահով դպրոց
E16: 32012 | F16: =+'havelvac 2'!F42 -> Հանրակրթական դպրոցների գույքով և տեխնիկայով ապահովում
B20: ՀԱՅԱՍՏԱՆԻ ՀԱՆՐԱՊԵՏՈՒԹՅԱՆ
B21: ՎԱՐՉԱՊԵՏԻ ԱՇԽԱՏԱԿԱԶՄԻ
B22: ՂԵԿԱՎԱՐ | F22: Ա. Հարությունյան

Sheet Havelvats 5
E2: Հավելված N 5
E3: ՀՀ կառավարության 2021 թվականի
E4: ______________ ի ___Ն որոշման
A7: ՀԱՅԱՍՏԱՆԻ ՀԱՆՐԱՊԵՏՈՒԹՅԱՆ ԿԱՌԱՎԱՐՈՒԹՅԱՆ 2020 ԹՎԱԿԱՆԻ ԴԵԿՏԵՄԲԵՐԻ 30-Ի ԹԻՎ 2215-Ն ՈՐՈՇՄԱՆ N 9 ՀԱՎԵԼՎԱԾԻ 9.14 ԵՎ 9.47 ԱՂՅՈՒՍԱԿՆԵՐՈՒՄ ԿԱՏԱՐՎՈՂ ՓՈՓՈԽՈՒԹՅՈՒՆՆԵՐԸ ԵՎ ԼՐԱՑՈՒՄՆԵՐԸ
A9: Աղյուսակ 9․14
C10: ՀՀ Կրթության, գիտության, մշակույթի և սպորտի նախարարություն
B11: ՄԱՍ 2. ՊԵՏԱԿԱՆ ՄԱՐՄՆԻ ԳԾՈՎ ԱՐԴՅՈՒՆՔԱՅԻՆ (ԿԱՏԱՐՈՂԱԿԱՆ) ՑՈՒՑԱՆԻՇՆԵՐԸ
B14: Ծրագրի դասիչը | C14: Ծրագրի անվանումը
B15: 1146 | C15: =+'Havelvats 1'!C15 -> Հանրակրթության ծրագիր
B16: Ծրագրի միջոցառումները
B17: Ծրագրի դասիչը՝ | C17: 1146 | D17: Ցուցանիշների փոփոխությունը (նվազեցումները նշված են փակագծերում)
B18: Միջոցառման դասիչը՝ | C18: 11001 | D18: Ինն ամիս | E18: Տարի
B19: Միջոցառման անվանումը՝ | C19: Տարրական ընդհանուր հանրակրթություն
B20: Նկարագրությունը՝ | C20: Պարտադիր կրթության առաջին մակարդակում սովորողների ընդգրկվածության, գրագիտության և համակողմանի զարգացման բարձր մակարդակի ապահովում
B21: Միջոցառման տեսակը՝ | C21: Ծառայությունների մատուցում
B22: Ծառայությունը մատուցող կազմակերպության(ների) անվանում(ներ)ը՛ | C22: ՀՀ կրթության, գիտության,մշակույթի և սպորտի նախարարության, ՀՀ մարզպետարանների, Երևանի քաղաքապետարանի ենթակայության ուսումնական հաստատություններ
B23: Արդյունքի չափորոշիչներ
B24: Միջոցառման վրա կատարվող ծախսը (հազար դրամ) | D24: =+'Havelvats 1'!D22 -> -22565.8 | E24: =+'Havelvats 1'!E22 -> -22565.8
B26: Ծրագրի դասիչը | C26: Ծրագրի անվանումը
B27: 1183 | C27: =+'Havelvats 1'!C28 -> Ապահով դպրոց
B28: Ծրագրի միջոցառումները
B29: Ծրագրի դասիչը՝ | C29: 1183 | D29: Ցուցանիշների փոփոխությունը (ավելացումները նշված են դրական նշանով)
B30: Միջոցառման դասիչը՝ | C30: 32012 | D30: Ինն ամիս | E30: Տարի
B31: Միջոցառման անվանումը՝ | C31: Հանրակրթական դպրոցների գույքով և տեխնիկայով ապահովում
B32: Նկարագրությունը՝ | C32: Կրթական ժամանակակից նորմերին համապատասխանող գույքի ձեռք բերում
B33: Միջոցառման տեսակը՝ | C33: Այլ պետական կազմակերպությունների կողմից օգտագործվող ոչ ֆինանսական ակտիվների հետ գործառնություններ
B34: Ակտիվն օգտագործող կազմակերպություններիանվանումները | C34: Հանրակրթական դպրոցներ
B35: Արդյունքի չափորոշիչներ
B36: Կազմակերպությունների թիվը, որտեղ կատարվում են ներդրումները (հատ) | D36: 1 | E36: 1
B37: Սեղաններ, հատ | D37: 582 | E37: 582
B38: Աթոռներ և բազկաթոռներ, հատ | D38: 190 | E38: 190
B39: Պահարաններ, հատ | D39: 53 | E39: 53
B40: Գրատախտակ, հատ | D40: 30 | E40: 30
B41: Ղեկավարի սենյակի գույքի հավաքածու, հատ | D41: 1 | E41: 1
B42: Կախիչ լամինատե, հատ | D42: 60 | E42: 60
B43: Միջոցառման վրա կատարվող ծախսը (հազար դրամ) | D43: =+'Havelvats 1'!D35 -> 22565.8 | E43: =+'Havelvats 1'!E35 -> 22565.8
A47: Աղյուսակ 9․47
C48: ՀՀ կառավարություն
B49: ՄԱՍ 2. ՊԵՏԱԿԱՆ ՄԱՐՄՆԻ ԳԾՈՎ ԱՐԴՅՈՒՆՔԱՅԻՆ (ԿԱՏԱՐՈՂԱԿԱՆ) ՑՈՒՑԱՆԻՇՆԵՐԸ
A52: ՀՀ կառավարություն
...

Sheet Havelvats 6
E2: Հավելված N 6
E3: ՀՀ կառավարության 2021 թվականի
E4: ______________ ի ___Ն որոշման
A7: ՀԱՅԱՍՏԱՆԻ ՀԱՆՐԱՊԵՏՈՒԹՅԱՆ ԿԱՌԱՎԱՐՈՒԹՅԱՆ 2020 ԹՎԱԿԱՆԻ ԴԵԿՏԵՄԲԵՐԻ 30-Ի ԹԻՎ 2215-Ն ՈՐՈՇՄԱՆ N 9.1 ՀԱՎԵԼՎԱԾԻ 9.1.8 ԵՎ 9.1.58 ԱՂՅՈՒՍԱԿՆԵՐՈՒՄ ԿԱՏԱՐՎՈՂ ՓՈՓՈԽՈՒԹՅՈՒՆՆԵՐԸ ԵՎ ԼՐԱՑՈՒՄՆԵՐԸ
A9: Աղյուսակ 9․1.8
C10: ՀՀ տարածքային կառավարման և ենթակառուցվածքների նախարարություն
B11: ՄԱՍ 1. ՊԵՏԱԿԱՆ ՄԱՐՄՆԻ ԳԾՈՎ ԱՐԴՅՈՒՆՔԱՅԻՆ (ԿԱՏԱՐՈՂԱԿԱՆ) ՑՈՒՑԱՆԻՇՆԵՐԸ
B14: Ծրագրի դասիչը | C14: Ծրագրի անվանումը
B15: 1146 | C15: =+'Havelvats 1'!C15 -> Հանրակրթության ծրագիր
B16: Ծրագրի միջոցառումները
B17: Ծրագրի դասիչը՝ | C17: 1146 | D17: Ցուցանիշների փոփոխությունը (նվազեցումները նշված են փակագծերում)
B18: Միջոցառման դասիչը՝ | C18: 11001 | D18: Ինն ամիս | E18: Տարի
B19: Միջոցառման անվանումը՝ | C19: Տարրական ընդհանուր հանրակրթություն
B20: Նկարագրությունը՝ | C20: Պարտադիր կրթության առաջին մակարդակում սովորողների ընդգրկվածության, գրագիտության և համակողմանի զարգացման բարձր մակարդակի ապահովում
B21: Միջոցառման տեսակը՝ | C21: Ծառայությունների մատուցում
B22: Ծառայությունը մատուցող կազմակերպության(ների) անվանում(ներ)ը՛ | C22: Երևանի քաղաքապետարանի ենթակայության հանրակրթական դպրոցներ
B23: Արդյունքի չափորոշիչներ
B24: Միջոցառման վրա կատարվող ծախսը (հազար դրամ) | D24: =+'havelvac 2'!G27 -> -22565.8 | E24: =+'havelvac 2'!H27 -> -22565.8
B26: Ծրագրի դասիչը | C26: Ծրագրի անվանումը
B27: 1183 | C27: =+'Havelvats 1'!C28 -> Ապահով դպրոց
B28: Ծրագրի միջոցառումները
B29: Ծրագրի դասիչը՝ | C29: 1183 | D29: Ցուցանիշների փոփոխությունը (ավելացումները նշված են դրական նշանով)
B30: Միջոցառման դասիչը՝ | C30: 32012 | D30: Ինն ամիս | E30: Տարի
B31: Միջոցառման անվանումը՝ | C31: Հանրակրթական դպրոցների գույքով և տեխնիկայով ապահովում
B32: Նկարագրությունը՝ | C32: Կրթական ժամանակակից նորմերին համապատասխանող գույքի ձեռք բերում
B33: Միջոցառման տեսակը՝ | C33: Այլ պետական կազմակերպությունների կողմից օգտագործվող ոչ ֆինանսական ակտիվների հետ գործառնություններ
B34: Ակտիվն օգտագործող կազմակերպություններիանվանումները | C34: Հանրակրթական դպրոցներ
B35: Արդյունքի չափորոշիչներ
B36: Կազմակերպությունների թիվը, որտեղ կատարվում են ներդրումները (հատ) | D36: 1 | E36: 1
B37: Սեղաններ, հատ | D37: 582 | E37: 582
B38: Աթոռներ և բազկաթոռներ, հատ | D38: 190 | E38: 190
B39: Պահարաններ, հատ | D39: 53 | E39: 53
B40: Գրատախտակ, հատ | D40: 30 | E40: 30
B41: Ղեկավարի սենյակի գույքի հավաքածու, հատ | D41: 1 | E41: 1
B42: Կախիչ լամինատե, հատ | D42: 60 | E42: 60
B43: Միջոցառման վրա կատարվող ծախսը (հազար դրամ) | D43: =+'havelvac 2'!G44 -> 22565.8 | E43: =+'havelvac 2'!H44 -> 22565.8
A47: Աղյուսակ 9․1.58
C48: ՀՀ կառավարություն
B49: ՄԱՍ 2. ՊԵՏԱԿԱՆ ՄԱՐՄՆԻ ԳԾՈՎ ԱՐԴՅՈՒՆՔԱՅԻՆ (ԿԱՏԱՐՈՂԱԿԱՆ) ՑՈՒՑԱՆԻՇՆԵՐԸ
A52: ՀՀ կառավարություն
...

Sheet Havelvats 7
G1: Հավելված N 7
G2: ՀՀ կառավարության 2021 թվականի | H2: ՀՀ կառավարության 2021 թվականի
G3: ______________ ի ___Ն որոշման | H3: ______________ ի ___Ն որոշման
A6: ՀԱՅԱՍՏԱՆԻ ՀԱՆՐԱՊԵՏՈՒԹՅԱՆ 2021 ԹՎԱԿԱՆԻ ՊԵՏԱԿԱՆ ԲՅՈՒՋԵՈՎ ՆԱԽԱՏԵՍՎԱԾ՝ ՀԱՅԱՍՏԱՆԻ ՀԱՆՐԱՊԵՏՈՒԹՅԱՆ ԿԱՌԱՎԱՐՈՒԹՅԱՆ ՊԱՀՈՒՍՏԱՅԻՆ ՖՈՆԴԻՑ ՀԱՏԿԱՑՈՒՄՆԵՐ ԿԱՏԱՐԵԼՈՒ ՎԵՐԱԲԵՐՅԱԼ
G8: հազ. դրամներով
A9: Գործառական դասիչը | D9: Ծրագրային դասիչը | F9: Բյուջետային հատկացումների գլխավոր կարգադրիչների, ծրագրերի, միջոցառումների և միջոցառումները կատարող պետական մարմինների անվանումները | G9: Ցուցանիշների փոփոխությունը (ավելացումները նշված են դրական նշանով, իսկ նվազեցումները` փակագծերում)
A10: Բաժին | B10: Խումբ | C10: Դաս | D10: Ծրագիր | E10: Միջոցառում | G10: Ինն ամիս | H10: Տարի
F11: ԸՆԴԱՄԵՆԸ | G11: =+G13+G33 -> 0 | H11: =+H13+H33 -> 0
F12: այդ թվում
F13: ՀՀ ԿԱՌԱՎԱՐՈՒԹՅՈՒՆ | G13: =+G14 -> -22565.8 | H13: =+H14 -> -22565.8
A14: 11 | F14: ՀԻՄՆԱԿԱՆ ԲԱԺԻՆՆԵՐԻՆ ՉԴԱՍՎՈՂ ՊԱՀՈՒՍՏԱՅԻՆ ՖՈՆԴԵՐ | G14: =+G16 -> -22565.8 | H14: =+H16 -> -22565.8
F15: այդ թվում`
B16: 01 | F16: ՀՀ կառավարության և համայնքների պահուստային ֆոնդ | G16: =+G18 -> -22565.8 | H16: =+H18 -> -22565.8
F17: այդ թվում`
C18: 01 | F18: ՀՀ կառավարության պահուստային ֆոնդ | G18: =+G20 -> -22565.8 | H18: =+H20 -> -22565.8
F19: այդ թվում`
F20: ՀՀ կառավարություն | G20: =+G22 -> -22565.8 | H20: =+H22 -> -22565.8
F21: այդ թվում`
D22: 1139 | E22: ՀՀ կառավարության պահուստային ֆոնդ | F22: ՀՀ կառավարության պահուստային ֆոնդ | G22: =+G24 -> -22565.8 | H22: =+H24 -> -22565.8
F23: այդ թվում`
E24: 11001 | F24: ՀՀ կառավարության պահուստային ֆոնդ | G24: =+G26 -> -22565.8 | H24: =+H26 -> -22565.8
F25: այդ թվում` ըստ կատարողների
F26: ՀՀ կառավարություն | G26: =+G28 -> -22565.8 | H26: =+H28 -> -22565.8
F27: այդ թվում` բյուջետային ծախսերի տնտեսագիտական դասակարգման հոդվածներ
F28: ԸՆԴԱՄԵՆԸ ԾԱԽՍԵՐ | G28: =+G29 -> -22565.8 | H28: =+H29 -> -22565.8
F29: ԸՆԹԱՑԻԿ ԾԱԽՍԵՐ | G29: =+G30 -> -22565.8 | H29: =+H30 -> -22565.8
F30: ԱՅԼ ԾԱԽՍԵՐ | G30: =+G31 -> -22565.8 | H30: =+H31 -> -22565.8
F31: - Պահուստային միջոցներ | G31: =+'havelvac 2'!G78 -> -22565.8 | H31: =+'havelvac 2'!H78 -> -22565.8
F33: ՀՀ ԿՐԹՈՒԹՅԱՆ, ԳԻՏՈՒԹՅԱՆ, ՄՇԱԿՈՒՅԹԻ ԵՎ ՍՊՈՐՏԻ ՆԱԽԱՐԱՐՈՒԹՅՈՒՆ | G33: =+G34 -> 22565.8 | H33: =+H34 -> 22565.8
A34: 09 | F34: ԿՐԹՈՒԹՅՈՒՆ | G34: =+G36 -> 22565.8 | H34: =+H36 -> 22565.8
F35: այդ թվում`
B36: 06 | F36: Կրթությանը տրամադրվող օժանդակ ծառայություններ | G36: =+G38 -> 22565.8 | H36: =+H38 -> 22565.8
F37: այդ թվում`
C38: 01 | F38: Կրթությանը տրամադրվող օժանդակ ծառայություններ | G38: =+G40 -> 22565.8 | H38: =+H40 -> 22565.8
F39: այդ թվում`
F40: ՀՀ կրթության, գիտության, մշակույթի և սպորտի նախարարություն | G40: =+G42 -> 22565.8 | H40: =+H42 -> 22565.8
F41: այդ թվում`
D42: 1183 | E42: Ապահով դպրոց | G42: =+G43 -> 22565.8 | H42: =+H43 -> 22565.8
E43: 32012 | F43: =+'havelvac 2'!F42 -> Հանրակրթական դպրոցների գույքով և տեխնիկայով ապահովում | G43: =G45 -> 22565.8 | H43: =H45 -> 22565.8
F44: այդ թվում` ըստ կատարողների
...
