Workbook
Name AgencyCode: #REF!
Name AgencyName: #REF!
Name åû: #REF!
Name davit: #REF!
Name Functional1: #REF!
Name ggg: #REF!
Name mas: #REF!
Name mass: #REF!
Name PANature: #REF!
Name PAType: #REF!
Name Performance2: #REF!
Name PerformanceType: #REF!
Name x: #REF!
Name Հավելված: #REF!
Name Մաս: #REF!
Name շախմատիստ: #REF!

Sheet 1
E1: Հավելված N 1
D2: ՀՀ կառավարության 2021 թվականի
D3: -----------------ի N -----------Ն որոշման
A5: ՀԱՅԱՍՏԱՆԻ ՀԱՆՐԱՊԵՏՈՒԹՅԱՆ 2021 ԹՎԱԿԱՆԻ ՊԵՏԱԿԱՆ ԲՅՈՒՋԵԻ ՄԱՍԻՆ» ՀԱՅԱՍՏԱՆԻ ՀԱՆՐԱՊԵՏՈՒԹՅԱՆ ՕՐԵՆՔԻ N 1 ՀԱՎԵԼՎԱԾԻ N 2 ԱՂՅՈՒՍԱԿՈՒՄ ԿԱՏԱՐՎՈՂ ՎԵՐԱԲԱՇԽՈՒՄԸ ԵՎ ՀԱՅԱՍՏԱՆԻ ՀԱՆՐԱՊԵՏՈՒԹՅԱՆ ԿԱՌԱՎԱՐՈՒԹՅԱՆ 2020 ԹՎԱԿԱՆԻ ԴԵԿՏԵՄԲԵՐԻ 30-Ի N 2215-Ն ՈՐՈՇՄԱՆ N 5 ՀԱՎԵԼՎԱԾԻ N 1 ԱՂՅՈՒՍԱԿՈՒՄ ԿԱՏԱՐՎՈՂ ՓՈՓՈԽՈՒԹՅՈՒՆՆԵՐԸ
E6: հազ. դրամ
A7: Ծրագրային դասիչը | C7: Բյուջետային հատկացումների գլխավոր կարգադրիչների, ծրագրերի և միջոցառումների անվանումները | D7: Ցուցանիշների փոփոխությունները ավելացումները նշված են դրական նշանով, իսկ նվազեցումները՝ փակագծերում
A8: Ծրագիր | B8: Միջոցառում | D8: Ինն ամիս | E8: Տարի
C9: ԸՆԴԱՄԵՆԸ | D9: =D10+D163 -> 0 | E9: =E10+E163 -> 0
C10: ՀՀ աշխատանքի և սոցիալական հարցերի նախարարություն | D10: =D11+D24+D37+D56+D75+D88+D101+D144 -> -1286625 | E10: =E11+E24+E37+E56+E75+E88+E101+E144 -> -1296225
A11: 1005 | C11: Ծրագրի անվանումը` | D11: =D18 -> -416200 | E11: =E18 -> -416200
C12: Պարգևավճարներ և պատվովճարներ
C13: Ծրագրի նպատակը`
C14: Պետական հոգածության դրսևորում, առանձին կատեգորիայի քաղաքացիներին և նրանց ընտանիքներին սոցիալական երաշխիքների տրամադրում
C15: Վերջնական արդյունքի նկարագրությունը`
C16: Առանձին կատեգորիայի քաղաքացիներին և նրանց ընտանիքի անդամների սոցիալական պաշտպանվածության մակարդակի բարձրացում
A17: Ծրագրի միջոցառումներ
B18: 12001 | C18: Միջոցառման անվանումը` | D18: =D23 -> -416200 | E18: =E23 -> -416200
C19: Զինծառայողներին, ՀՄՊ մասնակիցներին, այլ պետություններում մարտական գործողությունների մասնակիցներին, զոհված (մահացած) զինծառայողի ընտանիքի անդամներին, ընտանիքներին տրվող պարգևավճարներ
C20: Միջոցառման նկարագրությունը`
C21: Զինծառայողներին, ՀՄՊ մասնակիցներին, այլ պետություններում մարտական գործողությունների մասնակիցներին, զոհված (մահացած) զինծառայողի ընտանիքի անդամներին, ընտանիքներին, պարգևավճարների տրամադրում
C22: Միջոցառման տեսակը
C23: Տրանսֆերտների տրամադրում | D23: -416200 | E23: -416200
A24: 1011 | C24: Ծրագրի անվանումը` | D24: =D31 -> -57000 | E24: =E31 -> -57000
C25: Անապահով սոցիալական խմբերին աջակցություն
C26: Ծրագրի նպատակը`
C27: Օժանդակել անապահով ընտանիքների կենսամակարդակի բարձրացմանը
C28: Վերջնական արդյունքի նկարագրությունը`
C29: Աղքատության մեղմում և ծայրահեղ աղքատության կրճատում
A30: Ծրագրի միջոցառումներ
B31: 11001 | C31: Միջոցառման անվանումը` | D31: =D36 -> -57000 | E31: =E36 -> -57000
C32: Ընտանիքի կենսամակարդակի բարձրացմանն ուղղված նպաստների իրականացման ապահովում
C33: Միջոցառման նկարագրությունը`
C34: Ընտանիքների անապահովության գնահատման համակարգում հաշվառված, ընդգրկված անապահով ճանաչված ընտանիքներին նպաստի, սոցիալական նպաստի և հրատապ օգնության վճարման ծառայությունների ձեռքբերում
C35: Միջոցառման տեսակը
C36: Ծառայությունների մատուցում | D36: -57000 | E36: -57000
A37: 1032 | C37: Ծրագրի անվանումը` | D37: =D44+D50 -> -67600 | E37: =E44+E50 -> -67600
C38: Խնամքի ծառայություններ 18 տարեկանից բարձր տարիքի անձանց
C39: Ծրագրի նպատակը`
C40: Խնամքի կարիք ունեցող 18 տարեկանից բարձր տարիքի անձանց բնականոն կենսագործունեության ապահովում
C41: Վերջնական արդյունքի նկարագրությունը`
C42: Խնամքի ծառայություններ ստացած առավել կարիքավոր անձանց ընդգրկվածության աճ
A43: Ծրագրի միջոցառումներ
B44: 11001 | C44: Միջոցառման անվանումը` | D44: =D49 -> -40000 | E44: =E49 -> -40000
C45: Տարեցների և հաշմանդամություն ունեցող 18 տարին լրացած անձանց շուրջօրյա խնամքի ծառայություններ
C46: Միջոցառման նկարագրությունը`
C47: Շուրջօրյա խն. ծառ. ստացող տարեց և հաշմանդ. ունեցող 18 տարին լրացած անձանց տեսակարար կշիռը շուրջօրյա խն. ծառ. համար դիմած տարեց և հաշմանդ. ունեցող 18 տարին լրացած անձանց թվի մեջ (տոկոս՝ վերաբերում է ընդհանուր տիպի հաստատ-ին)
C48: Միջոցառման տեսակը
C49: Ծառայությունների մատուցում | D49: -40000 | E49: -40000
B50: 11003 | C50: Միջոցառման անվանումը` | D50: =D55 -> -27600 | E50: =E55 -> -27600
C51: Տարեցներին, հաշմանդամություն ունեցող անձանց ցերեկային խնամքի ծառայություններ (սննդի տրամադրման գծով)
C52: Միջոցառման նկարագրությունը`
C53: ՀՀ մարզերում և Երևան քաղաքում տարեցներին և հաշմանդամություն ունեցող անձանց սննդի տրամադրում սոցիալական հոգածության ցերեկային կենտրոններում
C54: Միջոցառման տեսակը
C55: Ծառայությունների մատուցում | D55: -27600 | E55: -27600
A56: 1102 | C56: Ծրագրի անվանումը` | D56: =D63+D69 -> -515000 | E56: =E63+E69 -> -521000
C57: Կենսաթոշակային ապահովություն
C58: Ծրագրի նպատակը`
C59: Կենսաթոշակի իրավունքի իրացում
C60: Վերջնական արդյունքի նկարագրությունը`
C61: Կենսաթոշակների նշանակման և վճարման գործընթացի ապահովում
A62: Ծրագրի միջոցառումներ
B63: 12002 | C63: Միջոցառման անվանումը` | D63: =D68 -> -15000 | E63: =E68 -> -21000
C64: Շարքային զինծառայողների և նրանց ընտանիքների անդամների զինվորական կենսաթոշակներ
C65: Միջոցառման նկարագրությունը`
C66: ԽՍՀՄ զինված ուժերի շարքային կազմի զինծառայողներին հաշմանդամության, նրանց մահվան դեպքում ընտանիքների անդամներին կերակրողին կորցնելու դեպքում զինվորական կենսաթոշակների տրամադրում
C67: Միջոցառման տեսակը
C68: Տրանսֆերտների տրամադրում | D68: -15000 | E68: -21000
B69: 12003 | C69: Միջոցառման անվանումը` | D69: =D74 -> -500000 | E69: =E74 -> -500000
C70: Աշխատանքային կենսաթոշակներ
C71: Միջոցառման նկարագրությունը`
C72: Աշխատանքային կենսաթոշակների (տարիքային, հաշմանդամության, արտոնյալ պայմաններով, երկարամյա ծառայության, մասնակի, կերակրողին կորցնելու դեպքում կենսաթոշակների) տրամադրում
C73: Միջոցառման տեսակը
C74: Տրանսֆերտների տրամադրում | D74: -500000 | E74: =D74 -> -500000
A75: 1117 | C75: Ծրագրի անվանումը` | D75: =D82 -> -26100 | E75: =E82 -> -26100
C76: Սոցիալական պաշտպանության բնագավառում պետական քաղաքականության մշակում, ծրագրերի համակարգում և մոնիթորինգ
C77: Ծրագրի նպատակը`
C78: Աղքատության մեղմման և անհավասարության նվազեցման, աշխատաշուկայի պահանջարկի և գործազրկության անհմպ. կրճատման, զբաղվածության աճի, ժողովրդագրական իրավիճակի բարելավման և քաղաքացիների սոց.իրավունքի իրացմանն ուղղված քաղաքականության մշակմ. և իրականացմ. ապահովում
C79: Վերջնական արդյունքի նկարագրությունը`
C80: Սոցիալական պաշտպանության ոլորտում իրականացվող ծրագրերի ազդեցության և արդյունավետության բարելավում
A81: Ծրագրի միջոցառումներ
B82: 11004 | C82: Միջոցառման անվանումը` | D82: =D87 -> -26100 | E82: =E87 -> -26100
C83: Սոցիալական պաշտպանության ոլորտի տեղեկատվական համակարգի սպասարկման (կատարելագործման), շահագործման և տեղեկատվության տրամադրման ծառայություններ
C84: Միջոցառման նկարագրությունը`
C85: Սոցիալական պաշտպանության ոլորտի տեղեկատվական բազաների սպասարկում և շահագործում
C86: Միջոցառման տեսակը
C87: Ծառայությունների մատուցում | D87: -26100 | E87: -26100
A88: 1141 | C88: Ծրագրի անվանումը` | D88: =D95 -> -70000 | E88: =E95 -> -70000
C89: Ընտանիքներին, կանանց և երեխաներին աջակցություն
C90: Ծրագրի նպատակը`
C91: Կյանքի դժվարին իրավիճակում հայտնված ընտանիքների, կանանց և երեխաների հիմնական պահանջմունքների և սոցիալական կարիքների բավարարում և ինտեգրում հասարակություն
C92: Վերջնական արդյունքի նկարագրությունը`
C93: Ընտանիքներին, կանանց և երեխաներին մատուցվող սոցիալական ծառայությունների և դրանց հասցեականության բարելավում, կյանքի դժվարին իրավիճակում հայտնված ընտանիքների, կանանց և երեխաների ինտեգրում հասարկություն
A94: Ծրագրի միջոցառումներ
B95: 11007 | C95: Միջոցառման անվանումը` | D95: =D100 -> -70000 | E95: =E100 -> -70000
C96: Կյանքի դժվարին իրավիճակում հայտնված երեխաներին ժամանակավոր խնամքի տրամադրման ծառայություններ
C97: Միջոցառման նկարագրությունը`
C98: Կյանքի դժվարին իրավիճակում հայտնված 3-18 տարեկան առանց ծնողական խնամքի մնացած երեխաների շուրջօրյա խնամքի կազմակերում մինչև նրանց նկատմամբ խնամակալ, hոգաբարձու նշանակելը, իսկ դրա անհրարինության դեպքում` շուրջօրյա խնամքի հաստատություններ տեղավորելը
C99: Միջոցառման տեսակը
C100: Ծառայությունների մատուցում | D100: -70000 | E100: -70000
A101: 1160 | C101: Ծրագրի անվանումը` | D101: =D108+D114+D120+D126+D132+D138 -> -45600 | E101: =E108+E114+E120+E126+E132+E138 -> -49200
...

Sheet 2
H1: Հավելված N 2
H2: ՀՀ կառավարության 2021 թվականի
H3: -----------------ի N -----------Ն որոշման
A4: ՀԱՅԱՍՏԱՆԻ ՀԱՆՐԱՊԵՏՈՒԹՅԱՆ ԿԱՌԱՎԱՐՈՒԹՅԱՆ 2020 ԹՎԱԿԱՆԻ ԴԵԿՏԵՄԲԵՐԻ 30-Ի N 2215-Ն ՈՐՈՇՄԱՆ N 3 և N 4 ՀԱՎԵԼՎԱԾՆԵՐՈՒՄ ԿԱՏԱՐՎՈՂ ՓՈՓՈԽՈՒԹՅՈՒՆՆԵՐԸ
G5: հազ. դրամ
A6: Գործառական դասիչը | D6: Ծրագրային դասիչը | F6: Բյուջետային ծախսերի գործառական դասակարգման բաժինների, խմբերի և դասերի, բյուջետային ծրագրերի միջոցառումների, բյուջետային հատկացումների գլխավոր կարգադրիչների անվանումները | G6: Ցուցանիշների փոփոխությունները (ավելացումները նշված են դրական, իսկ նվազեցումները՝ փակագծերում)
A7: Բաժինը | B7: Խումբը | C7: Դասը | D7: Ծրագիր | E7: Միջոցառում | G7: Ինն ամիս | H7: Տարի
F8: ԸՆԴԱՄԵՆԸ | G8: =G9+G197 -> 0 | H8: =H9+H197 -> 0
F9: ԸՆԴԱՄԵՆԸ ԾԱԽՍԵՐ | G9: =G11 -> -1286625 | H9: =H11 -> -1296225
F10: այդ թվում`
A11: 10 | F11: ՍՈՑԻԱԼԱԿԱՆ ՊԱՇՏՊԱՆՈՒԹՅՈՒՆ | G11: =G13+G64+G119+G145+G160 -> -1286625 | H11: =H13+H64+H119+H145+H160 -> -1296225
F12: այդ թվում`
B13: ՛01 | F13: Վատառողջություն և անաշխատունակություն | G13: =G15 -> -44000 | H13: =H15 -> -47600
F14: այդ թվում`
C15: ՛02 | F15: Անաշխատունակություն | G15: =G17 -> -44000 | H15: =H17 -> -47600
F16: այդ թվում`
D17: ='1'!A101 -> 1160 | F17: Հաշմանդամություն ունեցող անձանց աջակցություն | G17: =G19+G28+G37+G46+G55 -> -44000 | H17: =H19+H28+H37+H46+H55 -> -47600
F18: այդ թվում`
E19: 11006 | F19: Մտավոր և հոգեկան խնդիրներով հաշմանդամություն ունեցող անձանց ցերեկային սոցիալ-վերականգնողական ծառայություններ | G19: =G21 -> -14500 | H19: =H21 -> -14500
F20: այդ թվում` ըստ կատարողների
F21: ՀՀ աշխատանքի և սոցիալական հարցերի նախարարություն | G21: =G23 -> -14500 | H21: =H23 -> -14500
F22: այդ թվում` բյուջետային ծախսերի տնտեսագիտական դասակարգման հոդվածներ
F23: ԸՆԴԱՄԵՆԸ ԾԱԽՍԵՐ | G23: =G24 -> -14500 | H23: =H24 -> -14500
F24: ԸՆԹԱՑԻԿ ԾԱԽՍԵՐ | G24: =G25 -> -14500 | H24: =H25 -> -14500
F25: ԴՐԱՄԱՇՆՈՐՀՆԵՐ | G25: =G26 -> -14500 | H25: =H26 -> -14500
F26: Ընթացիկ դրամաշնորհներ պետական հատվածի այլ մակարդակներին | G26: =G27 -> -14500 | H26: =H27 -> -14500
F27: - Այլ ընթացիկ դրամաշնորհներ | G27: ='1'!D113 -> -14500 | H27: ='1'!E113 -> -14500
E28: 11007 | F28: Հաշմանդամություն ունեցող անձանց սոցիալ-հոգեբանական աջակցություն ցերեկային կենտրոնում | G28: =+G29 -> -2900 | H28: =+H29 -> -2900
F29: այդ թվում` ըստ կատարողների | G29: =+G31 -> -2900 | H29: =+H31 -> -2900
F30: ՀՀ աշխատանքի և սոցիալական հարցերի նախարարություն
F31: այդ թվում` բյուջետային ծախսերի տնտեսագիտական դասակարգման հոդվածներ | G31: =+G33 -> -2900 | H31: =+H33 -> -2900
F32: ԸՆԴԱՄԵՆԸ ԾԱԽՍԵՐ
F33: ԸՆԹԱՑԻԿ ԾԱԽՍԵՐ | G33: =+G34 -> -2900 | H33: =+H34 -> -2900
F34: ԴՐԱՄԱՇՆՈՐՀՆԵՐ | G34: =+G35 -> -2900 | H34: =+H35 -> -2900
F35: Ընթացիկ դրամաշնորհներ պետական հատվածի այլ մակարդակներին | G35: =+G36 -> -2900 | H35: =+H36 -> -2900
F36: - Այլ ընթացիկ դրամաշնորհներ | G36: ='1'!D119 -> -2900 | H36: ='1'!E119 -> -2900
E37: 11008 | F37: Աուտիզմ ունեցող անձանց սոցիալ-հոգեբանական աջակցություն ցերեկային կենտրոնում | G37: =+G38 -> -16100 | H37: =+H38 -> -16100
F38: այդ թվում` ըստ կատարողների | G38: =+G40 -> -16100 | H38: =+H40 -> -16100
F39: ՀՀ աշխատանքի և սոցիալական հարցերի նախարարություն
F40: այդ թվում` բյուջետային ծախսերի տնտեսագիտական դասակարգման հոդվածներ | G40: =+G42 -> -16100 | H40: =+H42 -> -16100
F41: ԸՆԴԱՄԵՆԸ ԾԱԽՍԵՐ
F42: ԸՆԹԱՑԻԿ ԾԱԽՍԵՐ | G42: =+G43 -> -16100 | H42: =+H43 -> -16100
F43: ԴՐԱՄԱՇՆՈՐՀՆԵՐ | G43: =+G44 -> -16100 | H43: =+H44 -> -16100
F44: Ընթացիկ դրամաշնորհներ պետական հատվածի այլ մակարդակներին | G44: =+G45 -> -16100 | H44: =+H45 -> -16100
F45: - Այլ ընթացիկ դրամաշնորհներ | G45: ='1'!D125 -> -16100 | H45: ='1'!E125 -> -16100
E46: 11010 | F46: Մտավոր խնդիրներ ունեցող անձանց շուրջօրյա խնամքի ծառայություններ | G46: =+G47 -> -5500 | H46: =+H47 -> -5500
F47: այդ թվում` ըստ կատարողների | G47: =+G49 -> -5500 | H47: =+H49 -> -5500
F48: ՀՀ աշխատանքի և սոցիալական հարցերի նախարարություն
F49: այդ թվում` բյուջետային ծախսերի տնտեսագիտական դասակարգման հոդվածներ | G49: =+G51 -> -5500 | H49: =+H51 -> -5500
F50: ԸՆԴԱՄԵՆԸ ԾԱԽՍԵՐ
F51: ԸՆԹԱՑԻԿ ԾԱԽՍԵՐ | G51: =+G52 -> -5500 | H51: =+H52 -> -5500
F52: ԴՐԱՄԱՇՆՈՐՀՆԵՐ | G52: =+G53 -> -5500 | H52: =+H53 -> -5500
F53: Ընթացիկ դրամաշնորհներ պետական հատվածի այլ մակարդակներին | G53: =+G54 -> -5500 | H53: =+H54 -> -5500
F54: - Այլ ընթացիկ դրամաշնորհներ | G54: ='1'!D137 -> -5500 | H54: ='1'!E137 -> -5500
E55: 11011 | F55: Հոգեկան առողջության խնդիրներ ունեցող անձանց շուրջօրյա խնամքի ծառայություններ | G55: =G57 -> -5000 | H55: =H57 -> -8600
F56: այդ թվում` ըստ կատարողների
F57: ՀՀ աշխատանքի և սոցիալական հարցերի նախարարություն | G57: =G59 -> -5000 | H57: =H59 -> -8600
F58: այդ թվում` բյուջետային ծախսերի տնտեսագիտական դասակարգման հոդվածներ
F59: ԸՆԴԱՄԵՆԸ ԾԱԽՍԵՐ | G59: =G60 -> -5000 | H59: =H60 -> -8600
F60: ԸՆԹԱՑԻԿ ԾԱԽՍԵՐ | G60: =G61 -> -5000 | H60: =H61 -> -8600
F61: ԴՐԱՄԱՇՆՈՐՀՆԵՐ | G61: =G62 -> -5000 | H61: =H62 -> -8600
F62: Ընթացիկ դրամաշնորհներ պետական հատվածի այլ մակարդակներին | G62: =G63 -> -5000 | H62: =H63 -> -8600
F63: - Այլ ընթացիկ դրամաշնորհներ | G63: ='1'!D138 -> -5000 | H63: ='1'!E143 -> -8600
B64: ՛02 | F64: Ծերություն | G64: =G66 -> -584200 | H64: =H66 -> -590200
F65: այդ թվում`
C66: ՛01 | F66: Ծերություն | G66: =G68+G88+G108 -> -584200 | H66: =H68+H88+H108 -> -590200
F67: այդ թվում`
D68: ='1'!A37 -> 1032 | F68: Խնամքի ծառայություններ 18 տարեկանից բարձր տարիքի անձանց | G68: =G70+G79 -> -67600 | H68: =H70+H79 -> -67600
F69: այդ թվում`
E70: ='1'!B44 -> 11001 | F70: Տարեցների և հաշմանդամություն ունեցող 18 տարին լրացած անձանց շուրջօրյա խնամքի ծառայություններ | G70: =G72 -> -40000 | H70: =H72 -> -40000
F71: այդ թվում` ըստ կատարողների
F72: ՀՀ աշխատանքի և սոցիալական հարցերի նախարարություն | G72: =G74 -> -40000 | H72: =H74 -> -40000
F73: այդ թվում` բյուջետային ծախսերի տնտեսագիտական դասակարգման հոդվածներ
F74: ԸՆԴԱՄԵՆԸ ԾԱԽՍԵՐ | G74: =G75 -> -40000 | H74: =H75 -> -40000
F75: ԸՆԹԱՑԻԿ ԾԱԽՍԵՐ | G75: =G76 -> -40000 | H75: =H76 -> -40000
F76: ԴՐԱՄԱՇՆՈՐՀՆԵՐ | G76: =G77 -> -40000 | H76: =H77 -> -40000
F77: Ընթացիկ դրամաշնորհներ պետական հատվածի այլ մակարդակներին | G77: ='1'!D49 -> -40000 | H77: ='1'!E49 -> -40000
F78: - Ընթացիկ դրամաշնորհներ պետական և համայնքային ոչ առևտրային կազմակերպություններին | G78: ='1'!D49 -> -40000 | H78: ='1'!E49 -> -40000
E79: 11003 | F79: Տարեցներին, հաշմանդամություն ունեցող անձանց ցերեկային խնամքի ծառայություններ (սննդի տրամադրման գծով) | G79: =G81 -> -27600 | H79: =H81 -> -27600
F80: այդ թվում` ըստ կատարողների
F81: ՀՀ աշխատանքի և սոցիալական հարցերի նախարարություն | G81: =G83 -> -27600 | H81: =H83 -> -27600
F82: այդ թվում` բյուջետային ծախսերի տնտեսագիտական դասակարգման հոդվածներ
F83: ԸՆԴԱՄԵՆԸ ԾԱԽՍԵՐ | G83: =G84 -> -27600 | H83: =H84 -> -27600
F84: ԸՆԹԱՑԻԿ ԾԱԽՍԵՐ | G84: =G85 -> -27600 | H84: =H85 -> -27600
F85: ԴՐԱՄԱՇՆՈՐՀՆԵՐ | G85: =G86 -> -27600 | H85: =H86 -> -27600
F86: Ընթացիկ դրամաշնորհներ պետական հատվածի այլ մակարդակներին | G86: =G87 -> -27600 | H86: =H87 -> -27600
F87: - Այլ ընթացիկ դրամաշնորհներ | G87: ='1'!D55 -> -27600 | H87: ='1'!E55 -> -27600
D88: 1102 | F88: Կենսաթոշակային ապահովություն | G88: =G90+G99 -> -515000 | H88: =H90+H99 -> -521000
F89: այդ թվում`
E90: 12002 | F90: Շարքային զինծառայողների և նրանց ընտանիքների անդամների զինվորական կենսաթոշակներ | G90: =G92 -> -15000 | H90: =H92 -> -21000
F91: այդ թվում` ըստ կատարողների
F92: ՀՀ աշխատանքի և սոցիալական հարցերի նախարարության միասնական սոցիալական ծառայություն | G92: =G94 -> -15000 | H92: =H94 -> -21000
F93: այդ թվում` բյուջետային ծախսերի տնտեսագիտական դասակարգման հոդվածներ
F94: ԸՆԴԱՄԵՆԸ ԾԱԽՍԵՐ | G94: =G95 -> -15000 | H94: =H95 -> -21000
F95: ԸՆԹԱՑԻԿ ԾԱԽՍԵՐ | G95: =G96 -> -15000 | H95: =H96 -> -21000
F96: ՍՈՑԻԱԼԱԿԱՆ ՆՊԱՍՏՆԵՐ ԵՎ ԿԵՆՍԱԹՈՇԱԿՆԵՐ | G96: =G97 -> -15000 | H96: =H97 -> -21000
F97: Կենսաթոշակներ | G97: =G98 -> -15000 | H97: =H98 -> -21000
F98: - Կենսաթոշակներ | G98: ='1'!D63 -> -15000 | H98: ='1'!E63 -> -21000
E99: 12003 | F99: Աշխատանքային կենսաթոշակներ | G99: =G101 -> -500000 | H99: =H101 -> -500000
F100: այդ թվում` ըստ կատարողների
...

Sheet 3
D1: Հավելված N 3
D2: ՀՀ կառավարության 2021 թվականի
D3: -----------------ի N -----------Ն որոշման
A5: ՀԱՅԱՍՏԱՆԻ ՀԱՆՐԱՊԵՏՈՒԹՅԱՆ ԿԱՌԱՎԱՐՈՒԹՅԱՆ 2020 ԹՎԱԿԱՆԻ ԴԵԿՏԵՄԲԵՐԻ 30-Ի N 2215-Ն ՈՐՈՇՄԱՆ N 5 ՀԱՎԵԼՎԱԾԻ N 7 ԱՂՅՈՒՍԱԿՈՒՄ ԿԱՏԱՐՎՈՂ ՓՈՓՈԽՈՒԹՅՈՒՆՆԵՐԸ
F6: հազ. դրամ
A7: Ծրագրային դասիչ | C7: Բյուջետային հատկացումների գլխավոր կարգադրիչների, ծրագրերի, միջոցառումների, ծախսային ուղղությունների անվանումները | F7: Միջոցառումները կատարող պետական մարմինների և դրամաշնորհ ստացող տնտեսվարող սուբյեկտների անվանումները | G7: Ցուցանիշների փոփոխությունները (նվազեցումները նշված են փակագծերում)
A8: Ծրագիր | B8: Միջոցառում | G8: Տարի
A9: ՀՀ աշխատանքի և սոցիալական հարցերի նախարարություն | G9: =G10+G18+G21+G34 -> -212900
A10: 1032 | B10: Խնամքի ծառայություններ 18 տարեկանից բարձր տարիքի անձանց | G10: =G11+G16 -> -67600
B11: 11001 | C11: Տարեցների և հաշմանդամություն ունեցող 18 տարին լրացած անձանց շուրջօրյա խնամքի ծառայություններ | F11: ՀՀ աշխատանքի և սոցիալական հարցերի նախարարություն | G11: =SUM(G12:G15) -> -40000
F12: «Երևանի թիվ 1 տուն-ինտերնատ» ՊՈԱԿ | G12: -6463
F13: «Նորքի տուն-ինտերնատ» ՊՈԱԿ | G13: -11047
F14: «Վարդենիսի նյարդահոգեբանական տուն-ինտերնատ» ՊՈԱԿ | G14: -21855
F15: «Ձորակ» հոգեկան առողջության խնդիրներ ունեցող անձանց խնամքի կենտրոն» ՊՈԱԿ | G15: -635
B16: 11003 | E16: Տարեցներին, հաշմանդամություն ունեցող անձանց ցերեկային խնամքի ծառայություններ (սննդի տրամադրման գծով) | F16: ՀՀ աշխատանքի և սոցիալական հարցերի նախարարություն | G16: =G17 -> -27600
F17: Մրցույթով ընտրված կազմակերպություն | G17: ='1'!D55 -> -27600
A18: 1141 | B18: Ընտանիքներին, կանանց և երեխաներին աջակցություն | G18: =G19 -> -70000
B19: 11007 | C19: Կյանքի դժվարին իրավիճակում հայտնված երեխաներին ժամանակավոր խնամքի տրամադրման ծառայություններ | F19: ՀՀ աշխատանքի և սոցիալական հարցերի նախարարություն | G19: =G20 -> -70000
F20: «Սյունիքի մարզի երեխայի և ընտանիքի աջակցության կենտրոն» ՊՈԱԿ* | G20: ='1'!E100 -> -70000
A21: 1160 | B21: Հաշմանդամություն ունեցող անձանց աջակցություն | G21: =G22+G24+G26+G28+G30+G32 -> -49200
B22: 11006 | C22: Մտավոր և հոգեկան խնդիրներով հաշմանդամություն ունեցող անձանց ցերեկային սոցիալ-վերականգնողական ծառայություններ | F22: ՀՀ աշխատանքի և սոցիալական հարցերի նախարարություն | G22: =G23 -> -14500
F23: Մրցույթով ընտրված կազմակերպություն | G23: ='1'!E108 -> -14500
B24: 11007 | C24: Հաշմանդամություն ունեցող անձանց սոցիալ-հոգեբանական աջակցություն ցերեկային կենտրոնում | F24: ՀՀ աշխատանքի և սոցիալական հարցերի նախարարություն | G24: =G25 -> -2900
F25: Մրցույթով ընտրված կազմակերպություն | G25: ='1'!E114 -> -2900
B26: 11008 | C26: Աուտիզմ ունեցող անձանց սոցիալ-հոգեբանական աջակցություն ցերեկային կենտրոնում | F26: ՀՀ աշխատանքի և սոցիալական հարցերի նախարարություն | G26: =G27 -> -16100
F27: Մրցույթով ընտրված կազմակերպություն | G27: ='1'!E120 -> -16100
B28: 11009 | C28: Տեսողության խնդիրներ ունեցող անձանց սոցիալ-հոգեբանական վերականգնում | F28: ՀՀ աշխատանքի և սոցիալական հարցերի նախարարություն | G28: =G29 -> -1600
F29: Մրցույթով ընտրված կազմակերպություն | G29: ='1'!E126 -> -1600
B30: 11010 | C30: Մտավոր խնդիրներ ունեցող անձանց շուրջօրյա խնամքի ծառայություններ | F30: ՀՀ աշխատանքի և սոցիալական հարցերի նախարարություն | G30: =G31 -> -5500
F31: Մրցույթով ընտրված կազմակերպություն | G31: ='1'!E132 -> -5500
B32: 11011 | C32: Հոգեկան առողջության խնդիրներ ունեցող անձանց շուրջօրյա խնամքի ծառայություններ | F32: ՀՀ աշխատանքի և սոցիալական հարցերի նախարարություն | G32: =G33 -> -8600
F33: Մրցույթով ընտրված կազմակերպություն | G33: ='1'!E138 -> -8600
A34: 1117 | B34: Սոցիալական պաշտպանության բնագավառում պետական քաղաքականության մշակում, ծրագրերի համակարգում և մոնիթորինգ | G34: =G35 -> -26100
B35: 11004 | C35: Սոցիալական պաշտպանության ոլորտի տեղեկատվական համակարգի սպասարկման, կատարելագործման, շահագործման և տեղեկատվության տրամադրման ծառայություններ | F35: ՀՀ աշխատանքի և սոցիալական հարցերի նախարարություն | G35: =G36 -> -26100
F36: «Նորք» սոցիալական ծառայությունների տեխնոլոգիական և իրազեկման կենտրոն» հիմնադրամ | G36: ='1'!E82 -> -26100

Sheet 4
D1: Հավելված N4
D2: ՀՀ կառավարության 2021 թվականի
D3: -----------------ի N -----------Ն որոշման
A5: ՀԱՅԱՍՏԱՆԻ ՀԱՆՐԱՊԵՏՈՒԹՅԱՆ ԿԱՌԱՎԱՐՈՒԹՅԱՆ 2020 ԹՎԱԿԱՆԻ ԴԵԿՏԵՄԲԵՐԻ 30-Ի N 2215-Ն N 9 ՀԱՎԵԼՎԱԾԻ N 9.16 ԵՎ 9.47 ԱՂՅՈՒՍԱԿՆԵՐՈՒՄ ԿԱՏԱՐՎՈՂ ՓՈՓՈԽՈՒԹՅՈՒՆՆԵՐԸ
A6: ՀՀ աշխատանքի և սոցիալական հարցերի նախարարություն
A7: ՄԱՍ 2. ՊԵՏԱԿԱՆ ՄԱՐՄՆԻ ԳԾՈՎ ԱՐԴՅՈՒՆՔԱՅԻՆ (ԿԱՏԱՐՈՂԱԿԱՆ) ՑՈՒՑԱՆԻՇՆԵՐԸ
A9: Ծրագրի դասիչը | B9: Ծրագրի անվանումը
A10: 1005 | B10: Պարգևավճարներ և պատվովճարներ
A12: Ծրագրի միջոցառումները
A14: Ծրագրի դասիչը` | B14: 1005 | C14: Ցուցանիշների փոփոխությունները (Նվազեցումները նշված են փակագծերում)
A15: Միջոցառման դասիչը` | B15: 12001 | C15: Ինն ամիս | D15: Տարի
A16: Միջոցառման անվանումը` | B16: Զինծառայողներին, ՀՄՊ մասնակիցներին, այլ պետություններում մարտական գործողությունների մասնակիցներին, զոհված (մահացած) զինծառայողի ընտանիքի անդամներին, ընտանիքներին տրվող պարգևավճարներ
A17: Նկարագրությունը` | B17: Զինծառայողներին, ՀՄՊ մասնակիցներին, այլ պետություններում մարտական գործողությունների մասնակիցներին, զոհված (մահացած) զինծառայողի ընտանիքի անդամներին, ընտանիքներին, պարգևավճարների տրամադրում
A18: Միջոցառման տեսակը` | B18: Տրանսֆերտների տրամադրում
A19: Շահառուների ընտրության չափանիշները | B19: ՀՄՊ մասնակիցներ, ՀՄՊ և այլ պետություններում մարտական գործողությունների ընթացքում զոհված զինծառայողների ընտանիքներ
A20: Արդյունքի չափորոշիչներ
A21: Միջոցառման վրա կատարվող ծախսը (հազար դրամ) | C21: ='1'!D18 -> -416200 | D21: ='1'!E18 -> -416200
A23: Ծրագրի դասիչը | B23: Ծրագրի անվանումը
A24: 1011 | B24: Անապահով սոցիալական խմբերին աջակցություն
A26: Ծրագրի միջոցառումները
A28: Ծրագրի դասիչը` | B28: 1011 | C28: Ցուցանիշների փոփոխությունները (Նվազեցումները նշված են փակագծերում)
A29: Միջոցառման դասիչը` | B29: 11001 | C29: Ինն ամիս | D29: Տարի
A30: Միջոցառման անվանումը` | B30: Ընտանիքի կենսամակարդակի բարձրացմանն ուղղված նպաստների իրականացման ապահովում
A31: Նկարագրությունը` | B31: Ընտանիքների անապահովության գնահատման համակարգում հաշվառված, ընդգրկված անապահով ճանաչված ընտանիքներին նպաստի, սոցիալական նպաստի և հրատապ օգնության վճարման ծառայությունների ձեռքբերում
A32: Միջոցառման տեսակը` | B32: Ծառայությունների մատուցում
A33: Շահառուների ընտրության չափանիշները | B33: «Գնումների մասին» ՀՀ օրենքի համաձայն ընտրված կազմակերպություն
A34: Արդյունքի չափորոշիչներ
A35: Միջոցառման վրա կատարվող ծախսը (հազար դրամ) | C35: ='1'!D36 -> -57000 | D35: ='1'!E36 -> -57000
A37: Ծրագրի դասիչը | B37: Ծրագրի անվանումը
A38: 1032 | B38: Խնամքի ծառայություններ 18 տարեկանից բարձր տարիքի անձանց
A40: Ծրագրի միջոցառումները
A42: Ծրագրի դասիչը` | B42: 1032 | C42: Ցուցանիշների փոփոխությունները (Նվազեցումները նշված են փակագծերում)
A43: Միջոցառման դասիչը` | B43: 11001 | C43: Ինն ամիս | D43: Տարի
A44: Միջոցառման անվանումը` | B44: Տարեցների և հաշմանդամություն ունեցող 18 տարին լրացած անձանց շուրջօրյա խնամքի ծառայություններ
A45: Նկարագրությունը` | B45: Շուրջօրյա խն. ծառ. ստացող տարեց և հաշմանդ. ունեցող 18 տարին լրացած անձանց տեսակարար կշիռը շուրջօրյա խն. ծառ. համար դիմած տարեց և հաշմանդ. ունեցող 18 տարին լրացած անձանց թվի մեջ (տոկոս? վերաբերում է ընդհանուր տիպի հաստատ-ին)
A46: Միջոցառման տեսակը` | B46: Ծառայությունների մատուցում
A47: Միջոցառումն իրականացնողի անվանումը? | B47: Մասնագիտացված կազմակերպություններ
A48: Արդյունքի չափորոշիչներ
A49: Սպասարկվող անձանց (խնամվողների) թիվ, մարդ
A50: Միջոցառման վրա կատարվող ծախսը (հազար դրամ) | C50: ='1'!D44 -> -40000 | D50: ='1'!E44 -> -40000
A52: Ծրագրի դասիչը` | B52: 1032 | C52: Ցուցանիշների փոփոխությունները (Նվազեցումները նշված են փակագծերում)
A53: Միջոցառման դասիչը` | B53: 11003 | C53: Ինն ամիս | D53: Տարի
A54: Միջոցառման անվանումը` | B54: Տարեցներին, հաշմանդամություն ունեցող անձանց ցերեկային խնամքի ծառայություններ (սննդի տրամադրման գծով)
A55: Նկարագրությունը` | B55: ՀՀ մարզերում և Երևա քաղաքում տարեցներին և հաշմանդամություն ունեցող անձանց սննդի տրամադրում սոցիալական հոգածության ցերեկային կենտրոններում
A56: Միջոցառման տեսակը` | B56: Ծառայությունների մատուցում
A57: Միջոցառումն իրականացնողի անվանումը | B57: Մասնագիտացված կազմակերպություններ
A58: Արդյունքի չափորոշիչներ
A59: Սպասարկվող անձանց (խնամվողների) թիվ, մարդ
A60: Միջոցառման վրա կատարվող ծախսը (հազար դրամ) | C60: ='1'!D55 -> -27600 | D60: ='1'!E55 -> -27600
A62: Ծրագրի դասիչը | B62: Ծրագրի անվանումը
A63: 1102 | B63: Կենսաթոշակային ապահովություն
A65: Ծրագրի միջոցառումները
A67: Ծրագրի դասիչը` | B67: 1102 | C67: Ցուցանիշների փոփոխությունները (Նվազեցումները նշված են փակագծերում)
A68: Միջոցառման դասիչը` | B68: 12002 | C68: Ինն ամիս | D68: Տարի
A69: Միջոցառման անվանումը` | B69: Շարքային զինծառայողների և նրանց ընտանիքների անդամների զինվորական կենսաթոշակներ
A70: Նկարագրությունը` | B70: ԽՍՀՄ զինված ուժերի շարքային կազմի զինծառայողներին հաշմանդամության, նրանց մահվան դեպքում ընտանիքների անդամներին կերակրողին կորցնելու դեպքում զինվորական կենսաթոշակների տրամադրում
A71: Միջոցառման տեսակը` | B71: Տրանսֆերտների տրամադրում
A72: Շահառուների ընտրության չափանիշները | B72: 22.12.2010թ. ՀՕ-243-Ն օրենքով սահմանված կարգով հաշմանդամ ճանաչված շարքային զինծառայողներ, ծառայության ընթացքում զոհված (մահացած) շարքային զինծառայողների ընտանիքների անդամներ
A73: Արդյունքի չափորոշիչներ
A74: Միջոցառման վրա կատարվող ծախսը (հազար դրամ) | C74: ='1'!D68 -> -15000 | D74: ='1'!E68 -> -21000
A76: Ծրագրի դասիչը` | B76: 1102 | C76: Ցուցանիշների փոփոխությունները (Նվազեցումները նշված են փակագծերում)
A77: Միջոցառման դասիչը` | B77: 12003 | C77: Ինն ամիս | D77: Տարի
A78: Միջոցառման անվանումը` | B78: Աշխատանքային կենսաթոշակներ
A79: Նկարագրությունը` | B79: Աշխատանքային կենսաթոշակների (տարիքային, հաշմանդամության, արտոնյալ պայմաններով, երկարամյա ծառայության, մասնակի, կերակրողին կորցնելու դեպքում կենսաթոշակների) տրամադրում
A80: Միջոցառման տեսակը` | B80: Տրանսֆերտների տրամադրում
A81: Շահառուների ընտրության չափանիշները | B81: Տարիքային աշխատանքային` առնվազն 10 տարվա աշխատանքային ստաժ, հաշմանդամության աշխատանքային` ըստ սանդղակի աշխատանքային ստաժ, արտոնյալ, մասնակի երկարամյա ծառայության` պահանջվող մասնագիտությամբ աշխատանքային ստաժ
A82: Արդյունքի չափորոշիչներ
A83: Միջոցառման վրա կատարվող ծախսը (հազար դրամ) | C83: ='1'!D74 -> -500000 | D83: ='1'!E74 -> -500000
A85: Ծրագրի դասիչը | B85: Ծրագրի անվանումը
A86: 1117 | B86: Սոցիալական պաշտպանության բնագավառում պետական քաղաքականության մշակում, ծրագրերի համակարգում և մոնիթորինգ
A88: Ծրագրի միջոցառումները
A90: Ծրագրի դասիչը` | B90: 1117 | C90: Ցուցանիշների փոփոխությունները (Նվազեցումները նշված են փակագծերում)
A91: Միջոցառման դասիչը` | B91: 11004 | C91: Ինն ամիս | D91: Տարի
A92: Միջոցառման անվանումը` | B92: Սոցիալական պաշտպանության ոլորտի տեղեկատվական համակարգի սպասարկման (կատարելագործման), շահագործման և տեղեկատվության տրամադրման ծառայություններ
A93: Նկարագրությունը` | B93: Սոցիալական պաշտպանության ոլորտի տեղեկատվական բազաների սպասարկում և շահագործում
A94: Միջոցառման տեսակը` | B94: Ծառայությունների մատուցում
A95: Միջոցառումն իրականացնողի անվանումը | B95: «Գնումների մասին» ՀՀ օրենքի համաձայն ընտրված կազմակերպություն
A96: Արդյունքի չափորոշիչներ
A97: Շահառուների թվաքանակ
A98: Միջոցառման վրա կատարվող ծախսը (հազար դրամ) | C98: ='1'!D87 -> -26100 | D98: ='1'!E87 -> -26100
A100: Ծրագրի դասիչը | B100: Ծրագրի անվանումը
A101: 1141 | B101: Ընտանիքներին, կանանց և երեխաներին աջակցություն
A103: Ծրագրի միջոցառումները
A105: Ծրագրի դասիչը` | B105: 1141 | C105: Ցուցանիշների փոփոխությունները (Նվազեցումները նշված են փակագծերում)
A106: Միջոցառման դասիչը` | B106: 11007 | C106: Ինն ամիս | D106: Տարի
A107: Միջոցառման անվանումը` | B107: Կյանքի դժվարին իրավիճակում հայտնված երեխաներին ժամանակավոր խնամքի տրամադրման ծառայություններ
A108: Նկարագրությունը` | B108: Կյանքի դժվարին իրավիճակում հայտնված 3-18 տարեկան առանց ծնողական խնամքի մնացած երեխաների շուրջօրյա խնամքի կազմակերում մինչև նրանց նկատմամբ խնամակալ, hոգաբարձու նշանակելը, իսկ դրա անհրարինության դեպքում` շուրջօրյա խնամքի հաստատություններ տեղավորելը
A109: Միջոցառման տեսակը` | B109: Ծառայությունների մատուցում
A110: Միջոցառումն իրականացնողի անվանումը | B110: Մասնագիտացված կազմակերպություն
A111: Արդյունքի չափորոշիչներ
A112: Միջոցառման վրա կատարվող ծախսը (հազար դրամ) | C112: ='1'!D100 -> -70000 | D112: ='1'!E100 -> -70000
A114: Ծրագրի դասիչը | B114: Ծրագրի անվանումը
A115: 1160 | B115: Հաշմանդամություն ունեցող անձանց աջակցություն
A117: Ծրագրի միջոցառումները
A119: Ծրագրի դասիչը` | B119: 1160 | C119: Ցուցանիշների փոփոխությունները (Նվազեցումները նշված են փակագծերում)
A120: Միջոցառման դասիչը` | B120: 11006 | C120: Ինն ամիս | D120: Տարի
A121: Միջոցառման անվանումը` | B121: Մտավոր և հոգեկան խնդիրներով հաշմանդամություն ունեցող անձանց ցերեկային սոցիալ-վերականգնողական ծառայություններ
A122: Նկարագրությունը` | B122: Մտավոր և հոգեկան խնդիրներով հաշմանդամություն ունեցող անձանց սոցիալական վերականգնում ցերեկային կենտրոնում
A123: Միջոցառման տեսակը` | B123: Ծառայությունների մատուցում
A124: Միջոցառումն իրականացնողի անվանումը՝ | B124: Մասնագիտացված կազմակերպություններ
...

Sheet 5
D1: Հավելված N5
D2: ՀՀ կառավարության 2021 թվականի
D3: -----------------ի N -----------Ն որոշման
A5: ՀԱՅԱՍՏԱՆԻ ՀԱՆՐԱՊԵՏՈՒԹՅԱՆ ԿԱՌԱՎԱՐՈՒԹՅԱՆ 2020 ԹՎԱԿԱՆԻ ԴԵԿՏԵՄԲԵՐԻ 30-Ի N 2215-Ն ՈՐՈՇՄԱՆ N 9.1 ՀԱՎԵԼՎԱԾԻ N 9.1.16, N 9.1.20 ԵՎ 9.1.58 ԱՂՅՈՒՍԱԿՆԵՐՈՒՄ ԿԱՏԱՐՎՈՂ ՓՈՓՈԽՈՒԹՅՈՒՆՆԵՐԸ
A7: ՀՀ աշխատանքի և սոցիալական հարցերի նախարարություն
A8: ՄԱՍ 1. ՊԵՏԱԿԱՆ ՄԱՐՄՆԻ ԳԾՈՎ ԱՐԴՅՈՒՆՔԱՅԻՆ (ԿԱՏԱՐՈՂԱԿԱՆ) ՑՈՒՑԱՆԻՇՆԵՐԸ
A10: Ծրագրի դասիչը | B10: Ծրագրի անվանումը
A11: 1032 | B11: ='4'!B38 -> Խնամքի ծառայություններ 18 տարեկանից բարձր տարիքի անձանց
A13: Ծրագրի միջոցառումները
A15: Ծրագրի դասիչը` | B15: 1032 | C15: Ցուցանիշների փոփոխությունները (Նվազեցումները նշված են փակագծերում)
A16: Միջոցառման դասիչը` | B16: 11001 | C16: Ինն ամիս | D16: Տարի
A17: Միջոցառման անվանումը` | B17: Տարեցների և հաշմանդամություն ունեցող 18 տարին լրացած անձանց շուրջօրյա խնամքի ծառայություններ
A18: Նկարագրությունը` | B18: Շուրջօրյա խն. ծառ. ստացող տարեց և հաշմանդ. ունեցող 18 տարին լրացած անձանց տեսակարար կշիռը շուրջօրյա խն. ծառ. համար դիմած տարեց և հաշմանդ. ունեցող 18 տարին լրացած անձանց թվի մեջ (տոկոս` վերաբերում է ընդհանուր տիպի հաստատ-ին)
A19: Միջոցառման տեսակը` | B19: Ծառայությունների մատուցում
A20: Միջոցառումն իրականացնողի անվանումը՝ | B20: Մասնագիտացված կազմակերպություններ
A21: Արդյունքի չափորոշիչներ
A22: Միջոցառման վրա կատարվող ծախսը (հազար դրամ) | C22: ='1'!D49 -> -40000 | D22: ='1'!E49 -> -40000
A24: Ծրագրի դասիչը` | B24: 1032 | C24: Ցուցանիշների փոփոխությունները (Նվազեցումները նշված են փակագծերում)
A25: Միջոցառման դասիչը` | B25: 11003 | C25: Ինն ամիս | D25: Տարի
A26: Միջոցառման անվանումը` | B26: Տարեցներին, հաշմանդամություն ունեցող անձանց ցերեկային խնամքի ծառայություններ (սննդի տրամադրման գծով)
A27: Նկարագրությունը` | B27: ՀՀ մարզերում և Երևա քաղաքում տարեցներին և հաշմանդամություն ունեցող անձանց սննդի տրամադրում սոցիալական հոգածության ցերեկային կենտրոններում
A28: Միջոցառման տեսակը` | B28: Ծառայությունների մատուցում
A29: Միջոցառումն իրականացնողի անվանումը՝ | B29: Մասնագիտացված կազմակերպություններ
A30: Արդյունքի չափորոշիչներ
A31: Միջոցառման վրա կատարվող ծախսը (հազար դրամ) | C31: ='1'!D55 -> -27600 | D31: ='1'!E55 -> -27600
A33: Ծրագրի դասիչը | B33: Ծրագրի անվանումը
A34: 1117 | B34: ='4'!B86 -> Սոցիալական պաշտպանության բնագավառում պետական քաղաքականության մշակում, ծրագրերի համակարգում և մոնիթորինգ
A36: Ծրագրի միջոցառումները
A38: Ծրագրի դասիչը` | B38: 1117 | C38: Ցուցանիշների փոփոխությունները (Նվազեցումները նշված են փակագծերում)
A39: Միջոցառման դասիչը` | B39: 11004 | C39: Ինն ամիս | D39: Տարի
A40: Միջոցառման անվանումը` | B40: Սոցիալական պաշտպանության ոլորտի տեղեկատվական համակարգի սպասարկման (կատարելագործման), շահագործման և տեղեկատվության տրամադրման ծառայություններ
A41: Նկարագրությունը` | B41: Սոցիալական պաշտպանության ոլորտի տեղեկատվական բազաների սպասարկում և շահագործում
A42: Միջոցառման տեսակը` | B42: Ծառայությունների մատուցում
A43: Միջոցառումն իրականացնողի անվանումը` | B43: «Գնումների մասին» ՀՀ օրենքի համաձայն ընտրված կազմակերպություն
A44: Արդյունքի չափորոշիչներ
A45: Միջոցառման վրա կատարվող ծախսը (հազար դրամ) | C45: ='1'!D87 -> -26100 | D45: ='1'!E87 -> -26100
A47: Ծրագրի դասիչը | B47: Ծրագրի անվանումը
A48: 1141 | B48: ='4'!B101 -> Ընտանիքներին, կանանց և երեխաներին աջակցություն
A50: Ծրագրի միջոցառումները
A52: Ծրագրի դասիչը` | B52: 1141 | C52: Ցուցանիշների փոփոխությունները (Նվազեցումները նշված են փակագծերում)
A53: Միջոցառման դասիչը` | B53: 11007 | C53: Ինն ամիս | D53: Տարի
A54: Միջոցառման անվանումը` | B54: Կյանքի դժվարին իրավիճակում հայտնված երեխաներին ժամանակավոր խնամքի տրամադրման ծառայություններ
A55: Նկարագրությունը` | B55: Կյանքի դժվարին իրավիճակում հայտնված 3-18 տարեկան առանց ծնողական խնամքի մնացած երեխաների շուրջօրյա խնամքի կազմակերում մինչև նրանց նկատմամբ խնամակալ, hոգաբարձու նշանակելը, իսկ դրա անհրարինության դեպքում` շուրջօրյա խնամքի հաստատություններ տեղավորելը
A56: Միջոցառման տեսակը` | B56: Ծառայությունների մատուցում
A57: Միջոցառումն իրականացնողի անվանումը` | B57: Մասնագիտացված կազմակերպություն
A58: Արդյունքի չափորոշիչներ
A59: Միջոցառման վրա կատարվող ծախսը (հազար դրամ) | C59: ='1'!D100 -> -70000 | D59: ='1'!E100 -> -70000
A61: Ծրագրի դասիչը | B61: Ծրագրի անվանումը
A62: 1160 | B62: ='4'!B115 -> Հաշմանդամություն ունեցող անձանց աջակցություն
A64: Ծրագրի միջոցառումները
A66: Ծրագրի դասիչը` | B66: 1160 | C66: Ցուցանիշների փոփոխությունները (Նվազեցումները նշված են փակագծերում)
A67: Միջոցառման դասիչը` | B67: 11006 | C67: Ինն ամիս | D67: Տարի
A68: Միջոցառման անվանումը` | B68: Մտավոր և հոգեկան խնդիրներով հաշմանդամություն ունեցող անձանց ցերեկային սոցիալ-վերականգնողական ծառայություններ
A69: Նկարագրությունը` | B69: Մտավոր և հոգեկան խնդիրներով հաշմանդամություն ունեցող անձանց սոցիալական վերականգնում ցերեկային կենտրոնում
A70: Միջոցառման տեսակը` | B70: Ծառայությունների մատուցում
A71: Միջոցառումն իրականացնողի անվանումը` | B71: Մասնագիտացված կազմակերպություններ
A72: Արդյունքի չափորոշիչներ
A73: Միջոցառման վրա կատարվող ծախսը (հազար դրամ) | C73: ='1'!D113 -> -14500 | D73: ='1'!E113 -> -14500
A75: Ծրագրի դասիչը` | B75: 1160 | C75: Ցուցանիշների փոփոխությունները (Նվազեցումները նշված են փակագծերում)
A76: Միջոցառման դասիչը` | B76: 11007 | C76: Ինն ամիս | D76: Տարի
A77: Միջոցառման անվանումը` | B77: Հաշմանդամություն ունեցող անձանց սոցիալ-հոգեբանական աջակցություն ցերեկային կենտրոնում
A78: Նկարագրությունը` | B78: Հաշմանդամություն ունեցող անձանց 6-24 տարեկան երեխաների և երիտասարդների սոցիալ-հոգեբանական աջակցության տրամադրում` կիրառական բնույթի գիտելիքների տրամադրում, անկախ և ինքնուրույն կյանք վարելու կարողությունների զարգացում
A79: Միջոցառման տեսակը` | B79: Ծառայությունների մատուցում
A80: Միջոցառումն իրականացնողի անվանումը` | B80: Մասնագիտացված կազմակերպություններ
A81: Արդյունքի չափորոշիչներ
A82: Շահառուների թվաքանակ
A83: Միջոցառման վրա կատարվող ծախսը (հազար դրամ) | C83: ='1'!D119 -> -2900 | D83: ='1'!E119 -> -2900
A85: Ծրագրի դասիչը` | B85: 1160 | C85: Ցուցանիշների փոփոխությունները (Նվազեցումները նշված են փակագծերում)
A86: Միջոցառման դասիչը` | B86: 11008 | C86: Ինն ամիս | D86: Տարի
A87: Միջոցառման անվանումը` | B87: Աուտիզմ ունեցող անձանց սոցիալ-հոգեբանական աջակցություն ցերեկային կենտրոնում
A88: Նկարագրությունը` | B88: 18 տարին լրացած աուտիզմ ունեցող 80 անձանց զբաղվածության և սոցիալ-հոգեբանական ծառայությունների տրամադրում
A89: Միջոցառման տեսակը` | B89: Ծառայությունների մատուցում
A90: Միջոցառումն իրականացնողի անվանումը` | B90: Մասնագիտացված կազմակերպություններ
A91: Արդյունքի չափորոշիչներ
A92: Շահառուների թվաքանակ
A93: Միջոցառման վրա կատարվող ծախսը (հազար դրամ) | C93: ='1'!D125 -> -16100 | D93: ='1'!E125 -> -16100
A95: Ծրագրի դասիչը` | B95: 1160 | C95: Ցուցանիշների փոփոխությունները (Նվազեցումները նշված են փակագծերում)
A96: Միջոցառման դասիչը` | B96: 11009 | C96: Ինն ամիս | D96: Տարի
A97: Միջոցառման անվանումը` | B97: Տեսողության խնդիրներ ունեցող անձանց սոցիալ-հոգեբանական վերականգնում
A98: Նկարագրությունը` | B98: Չտեսնող անձանց համապատասխան հմտությունների ուսուցում` տարածության մեջ սպիտակ ձեռնափայտերի օգնությամբ ինքնուրույն տեղաշարժվելու և հասարակության մեջ ներառվելու համար
A99: Միջոցառման տեսակը` | B99: Ծառայությունների մատուցում
A100: Միջոցառումն իրականացնողի անվանումը` | B100: Մասնագիտացված կազմակերպություններ
A101: Արդյունքի չափորոշիչներ
A102: Միջոցառման վրա կատարվող ծախսը (հազար դրամ) | C102: ='1'!D131 -> -1600 | D102: ='1'!E131 -> -1600
A104: Ծրագրի դասիչը` | B104: 1160 | C104: Ցուցանիշների փոփոխությունները (Նվազեցումները նշված են փակագծերում)
A105: Միջոցառման դասիչը` | B105: 11010 | C105: Ինն ամիս | D105: Տարի
A106: Միջոցառման անվանումը` | B106: Մտավոր խնդիրներ ունեցող անձանց շուրջօրյա խնամքի ծառայություններ
A107: Նկարագրությունը` | B107: Մտավոր խնդիրներ ունեցող անձանց կացարանով ապահովում և շուրջօրյա խնամքի և սոցիալ-հոգեբանական վերականգնման ծառայությունների տրամադրում
A108: Միջոցառման տեսակը` | B108: Ծառայությունների մատուցում
A109: Միջոցառումն իրականացնողի անվանումը` | B109: Մասնագիտացված կազմակերպություններ
A110: Արդյունքի չափորոշիչներ
A111: Միջոցառման վրա կատարվող ծախսը (հազար դրամ) | C111: ='1'!D137 -> -5500 | D111: ='1'!E137 -> -5500
A113: Ծրագրի դասիչը` | B113: 1160 | C113: Ցուցանիշների փոփոխությունները (Նվազեցումները նշված են փակագծերում)
A114: Միջոցառման դասիչը` | B114: 11011 | C114: Ինն ամիս | D114: Տարի
A115: Միջոցառման անվանումը` | B115: Հոգեկան առողջության խնդիրներ ունեցող անձանց շուրջօրյա խնամքի ծառայություններ
A116: Նկարագրությունը` | B116: Հոգեկան առողջության խնդիրներ ունեցող անձանց կացարանով ապահովում և շուրջօրյա խնամքի ծառայությունների տրամադրում
A117: Միջոցառման տեսակը` | B117: Ծառայությունների մատուցում
A118: Միջոցառումն իրականացնողի անվանումը` | B118: Մասնագիտացված կազմակերպություններ
A119: Արդյունքի չափորոշիչներ
A120: Միջոցառման վրա կատարվող ծախսը (հազար դրամ) | C120: ='1'!D143 -> -5000 | D120: ='1'!E143 -> -8600
...

Sheet 6
I1: Հավելված N 6
I2: ՀՀ կառավարության 2021 թվականի
I3: -----------------ի N -----------Ն որոշման
A5: ՀԱՅԱՍՏԱՆԻ ՀԱՆՐԱՊԵՏՈՒԹՅԱՆ ԿԱՌԱՎԱՐՈՒԹՅԱՆ 2020 ԹՎԱԿԱՆԻ ԴԵԿՏԵՄԲԵՐԻ 30-Ի N 2215-Ն ՈՐՈՇՄԱՆ N 10 ՀԱՎԵԼՎԱԾՈՒՄ ԿԱՏԱՐՎՈՂ ՓՈՓՈԽՈՒԹՅՈՒՆՆԵՐԸ
A9: Կոդը | B9: Անվանումը | E9: Գնման ձևը | F9: Չափման միավորը | G9: Ցուցանիշների փոփոխությունները (Նվազեցումները նշված են փակագծերում)
G10: Միավորի գինը | H10: Քանակը | I10: Գումարը (հազար դրամով)
A11: ՀՀ աշխատանքի և սոցիալական հարցերի նախարարության միասնական սոցիալական ծառայություն | I11: =I15 -> -57000
A12: Բաժին N 10 | B12: Խումբ N 09 | C12: Դաս N 02 | D12: Սոցիալական պաշտպանությանը տրամադրվող օժանդակ ծառայություններ (այլ դասերին չպատկանող) | I12: =I13 -> -57000
A13: 1011 11001 | B13: Ընտանիքի կենսամակարդակի բարձրացմանն ուղղված նպաստների իրականացման ապահովում | I13: =I14 -> -57000
A14: ՄԱՍ III ԾԱՌԱՅՈՒԹՅՈՒՆՆԵՐ | I14: =I15 -> -57000
A15: 79571100-1 | B15: փոստային առաքման ծառայություններ | E15: ՄԱ | F15: դրամ | I15: -57000
