Workbook
Name AgencyCode: #REF!
Name AgencyName: #REF!
Name åû: #REF!
Name davit: #REF!
Name Functional1: #REF!
Name ggg: #REF!
Name mas: #REF!
Name mass: #REF!
Name PANature: #REF!
Name PAType: #REF!
Name Performance2: #REF!
Name PerformanceType: #REF!
Name x: #REF!
Name Հավելված: #REF!
Name Մաս: #REF!
Name շախմատիստ: #REF!

Sheet 1
E1: Հավելված N 1
D2: ՀՀ կառավարության 2021 թվականի
D3: -----------------ի N -----------Ն որոշման
A5: ՀԱՅԱՍՏԱՆԻ ՀԱՆՐԱՊԵՏՈՒԹՅԱՆ 2021 ԹՎԱԿԱՆԻ ՊԵՏԱԿԱՆ ԲՅՈՒՋԵԻ ՄԱՍԻՆ» ՀԱՅԱՍՏԱՆԻ ՀԱՆՐԱՊԵՏՈՒԹՅԱՆ ՕՐԵՆՔԻ N 1 ՀԱՎԵԼՎԱԾԻ N 2 ԱՂՅՈՒՍԱԿՈՒՄ ԿԱՏԱՐՎՈՂ ՎԵՐԱԲԱՇԽՈՒՄԸ ԵՎ ՀԱՅԱՍՏԱՆԻ ՀԱՆՐԱՊԵՏՈՒԹՅԱՆ ԿԱՌԱՎԱՐՈՒԹՅԱՆ 2020 ԹՎԱԿԱՆԻ ԴԵԿՏԵՄԲԵՐԻ 30-Ի N 2215-Ն ՈՐՈՇՄԱՆ N 5 ՀԱՎԵԼՎԱԾԻ N 1 ԱՂՅՈՒՍԱԿՈՒՄ ԿԱՏԱՐՎՈՂ ՓՈՓՈԽՈՒԹՅՈՒՆՆԵՐԸ
E6: հազ. դրամ
A7: Ծրագրային դասիչը | C7: Բյուջետային հատկացումների գլխավոր կարգադրիչների, ծրագրերի և միջոցառումների անվանումները | D7: Ցուցանիշների փոփոխությունները ավելացումները նշված են դրական նշանով, իսկ նվազեցումները՝ փակագծերում
A8: Ծրագիր | B8: Միջոցառում | D8: Ինն ամիս | E8: Տարի
C9: ԸՆԴԱՄԵՆԸ | D9: =D10+D163 -> 0 | E9: =E10+E163 -> 0
C10: ՀՀ աշխատանքի և սոցիալական հարցերի նախարարություն | D10: =D11+D24+D37+D56+D75+D88+D101+D144 -> -1286625 | E10: =E11+E24+E37+E56+E75+E88+E101+E144 -> -1296225
A11: 1005 | C11: Ծրագրի անվանումը` | D11: =D18 -> -416200 | E11: =E18 -> -416200
C12: Պարգևավճարներ և պատվովճարներ
C13: Ծրագրի նպատակը`
C14: Պետական հոգածության դրսևորում, առանձին կատեգորիայի քաղաքացիներին և նրանց ընտանիքներին սոցիալական երաշխիքների տրամադրում
C15: Վերջնական արդյունքի նկարագրությունը`
C16: Առանձին կատեգորիայի քաղաքացիներին և նրանց ընտանիքի անդամների սոցիալական պաշտպանվածության մակարդակի բարձրացում
A17: Ծրագրի միջոցառումներ
B18: 12001 | C18: Միջոցառման անվանումը` | D18: =D23 -> -416200 | E18: =E23 -> -416200
C19: Զինծառայողներին, ՀՄՊ մասնակիցներին, այլ պետություններում մարտական գործողությունների մասնակիցներին, զոհված (մահացած) զինծառայողի ընտանիքի անդամներին, ընտանիքներին տրվող պարգևավճարներ
C20: Միջոցառման նկարագրությունը`
C21: Զինծառայողներին, ՀՄՊ մասնակիցներին, այլ պետություններում մարտական գործողությունների մասնակիցներին, զոհված (մահացած) զինծառայողի ընտանիքի անդամներին, ընտանիքներին, պարգևավճարների տրամադրում
C22: Միջոցառման տեսակը
C23: Տրանսֆերտների տրամադրում | D23: -416200 | E23: -416200
A24: 1011 | C24: Ծրագրի անվանումը` | D24: =D31 -> -57000 | E24: =E31 -> -57000
C25: Անապահով սոցիալական խմբերին աջակցություն
C26: Ծրագրի նպատակը`
C27: Օժանդակել անապահով ընտանիքների կենսամակարդակի բարձրացմանը
C28: Վերջնական արդյունքի նկարագրությունը`
C29: Աղքատության մեղմում և ծայրահեղ աղքատության կրճատում
A30: Ծրագրի միջոցառումներ
B31: 11001 | C31: Միջոցառման անվանումը` | D31: =D36 -> -57000 | E31: =E36 -> -57000
C32: Ընտանիքի կենսամակարդակի բարձրացմանն ուղղված նպաստների իրականացման ապահովում
C33: Միջոցառման նկարագրությունը`
C34: Ընտանիքների անապահովության գնահատման համակարգում հաշվառված, ընդգրկված անապահով ճանաչված ընտանիքներին նպաստի, սոցիալական նպաստի և հրատապ օգնության վճարման ծառայությունների ձեռքբերում
C35: Միջոցառման տեսակը
C36: Ծառայությունների մատուցում | D36: -57000 | E36: -57000
A37: 1032 | C37: Ծրագրի անվանումը` | D37: =D44+D50 -> -67600 | E37: =E44+E50 -> -67600
C38: Խնամքի ծառայություններ 18 տարեկանից բարձր տարիքի անձանց
C39: Ծրագրի նպատակը`
C40: Խնամքի կարիք ունեցող 18 տարեկանից բարձր տարիքի անձանց բնականոն կենսագործունեության ապահովում
C41: Վերջնական արդյունքի նկարագրությունը`
...

Sheet 2
H1: Հավելված N 2
H2: ՀՀ կառավարության 2021 թվականի
H3: -----------------ի N -----------Ն որոշման
A4: ՀԱՅԱՍՏԱՆԻ ՀԱՆՐԱՊԵՏՈՒԹՅԱՆ ԿԱՌԱՎԱՐՈՒԹՅԱՆ 2020 ԹՎԱԿԱՆԻ ԴԵԿՏԵՄԲԵՐԻ 30-Ի N 2215-Ն ՈՐՈՇՄԱՆ N 3 և N 4 ՀԱՎԵԼՎԱԾՆԵՐՈՒՄ ԿԱՏԱՐՎՈՂ ՓՈՓՈԽՈՒԹՅՈՒՆՆԵՐԸ
G5: հազ. դրամ
A6: Գործառական դասիչը | D6: Ծրագրային դասիչը | F6: Բյուջետային ծախսերի գործառական դասակարգման բաժինների, խմբերի և դասերի, բյուջետային ծրագրերի միջոցառումների, բյուջետային հատկացումների գլխավոր կարգադրիչների անվանումները | G6: Ցուցանիշների փոփոխությունները (ավելացումները նշված են դրական, իսկ նվազեցումները՝ փակագծերում)
A7: Բաժինը | B7: Խումբը | C7: Դասը | D7: Ծրագիր | E7: Միջոցառում | G7: Ինն ամիս | H7: Տարի
F8: ԸՆԴԱՄԵՆԸ | G8: =G9+G197 -> 0 | H8: =H9+H197 -> 0
F9: ԸՆԴԱՄԵՆԸ ԾԱԽՍԵՐ | G9: =G11 -> -1286625 | H9: =H11 -> -1296225
F10: այդ թվում`
A11: 10 | F11: ՍՈՑԻԱԼԱԿԱՆ ՊԱՇՏՊԱՆՈՒԹՅՈՒՆ | G11: =G13+G64+G119+G145+G160 -> -1286625 | H11: =H13+H64+H119+H145+H160 -> -1296225
F12: այդ թվում`
B13: ՛01 | F13: Վատառողջություն և անաշխատունակություն | G13: =G15 -> -44000 | H13: =H15 -> -47600
F14: այդ թվում`
C15: ՛02 | F15: Անաշխատունակություն | G15: =G17 -> -44000 | H15: =H17 -> -47600
F16: այդ թվում`
D17: ='1'!A101 -> 1160 | F17: Հաշմանդամություն ունեցող անձանց աջակցություն | G17: =G19+G28+G37+G46+G55 -> -44000 | H17: =H19+H28+H37+H46+H55 -> -47600
F18: այդ թվում`
E19: 11006 | F19: Մտավոր և հոգեկան խնդիրներով հաշմանդամություն ունեցող անձանց ցերեկային սոցիալ-վերականգնողական ծառայություններ | G19: =G21 -> -14500 | H19: =H21 -> -14500
F20: այդ թվում` ըստ կատարողների
F21: ՀՀ աշխատանքի և սոցիալական հարցերի նախարարություն | G21: =G23 -> -14500 | H21: =H23 -> -14500
F22: այդ թվում` բյուջետային ծախսերի տնտեսագիտական դասակարգման հոդվածներ
F23: ԸՆԴԱՄԵՆԸ ԾԱԽՍԵՐ | G23: =G24 -> -14500 | H23: =H24 -> -14500
F24: ԸՆԹԱՑԻԿ ԾԱԽՍԵՐ | G24: =G25 -> -14500 | H24: =H25 -> -14500
F25: ԴՐԱՄԱՇՆՈՐՀՆԵՐ | G25: =G26 -> -14500 | H25: =H26 -> -14500
F26: Ընթացիկ դրամաշնորհներ պետական հատվածի այլ մակարդակներին | G26: =G27 -> -14500 | H26: =H27 -> -14500
F27: - Այլ ընթացիկ դրամաշնորհներ | G27: ='1'!D113 -> -14500 | H27: ='1'!E113 -> -14500
E28: 11007 | F28: Հաշմանդամություն ունեցող անձանց սոցիալ-հոգեբանական աջակցություն ցերեկային կենտրոնում | G28: =+G29 -> -2900 | H28: =+H29 -> -2900
F29: այդ թվում` ըստ կատարողների | G29: =+G31 -> -2900 | H29: =+H31 -> -2900
F30: ՀՀ աշխատանքի և սոցիալական հարցերի նախարարություն
F31: այդ թվում` բյուջետային ծախսերի տնտեսագիտական դասակարգման հոդվածներ | G31: =+G33 -> -2900 | H31: =+H33 -> -2900
F32: ԸՆԴԱՄԵՆԸ ԾԱԽՍԵՐ
F33: ԸՆԹԱՑԻԿ ԾԱԽՍԵՐ | G33: =+G34 -> -2900 | H33: =+H34 -> -2900
F34: ԴՐԱՄԱՇՆՈՐՀՆԵՐ | G34: =+G35 -> -2900 | H34: =+H35 -> -2900
F35: Ընթացիկ դրամաշնորհներ պետական հատվածի այլ մակարդակներին | G35: =+G36 -> -2900 | H35: =+H36 -> -2900
F36: - Այլ ընթացիկ դրամաշնորհներ | G36: ='1'!D119 -> -2900 | H36: ='1'!E119 -> -2900
E37: 11008 | F37: Աուտիզմ ունեցող անձանց սոցիալ-հոգեբանական աջակցություն ցերեկային կենտրոնում | G37: =+G38 -> -16100 | H37: =+H38 -> -16100
F38: այդ թվում` ըստ կատարողների | G38: =+G40 -> -16100 | H38: =+H40 -> -16100
F39: ՀՀ աշխատանքի և սոցիալական հարցերի նախարարություն
F40: այդ թվում` բյուջետային ծախսերի տնտեսագիտական դասակարգման հոդվածներ | G40: =+G42 -> -16100 | H40: =+H42 -> -16100
...

Sheet 3
D1: Հավելված N 3
D2: ՀՀ կառավարության 2021 թվականի
D3: -----------------ի N -----------Ն որոշման
A5: ՀԱՅԱՍՏԱՆԻ ՀԱՆՐԱՊԵՏՈՒԹՅԱՆ ԿԱՌԱՎԱՐՈՒԹՅԱՆ 2020 ԹՎԱԿԱՆԻ ԴԵԿՏԵՄԲԵՐԻ 30-Ի N 2215-Ն ՈՐՈՇՄԱՆ N 5 ՀԱՎԵԼՎԱԾԻ N 7 ԱՂՅՈՒՍԱԿՈՒՄ ԿԱՏԱՐՎՈՂ ՓՈՓՈԽՈՒԹՅՈՒՆՆԵՐԸ
F6: հազ. դրամ
A7: Ծրագրային դասիչ | C7: Բյուջետային հատկացումների գլխավոր կարգադրիչների, ծրագրերի, միջոցառումների, ծախսային ուղղությունների անվանումները | F7: Միջոցառումները կատարող պետական մարմինների և դրամաշնորհ ստացող տնտեսվարող սուբյեկտների անվանումները | G7: Ցուցանիշների փոփոխությունները (նվազեցումները նշված են փակագծերում)
A8: Ծրագիր | B8: Միջոցառում | G8: Տարի
A9: ՀՀ աշխատանքի և սոցիալական հարցերի նախարարություն | G9: =G10+G18+G21+G34 -> -212900
A10: 1032 | B10: Խնամքի ծառայություններ 18 տարեկանից բարձր տարիքի անձանց | G10: =G11+G16 -> -67600
B11: 11001 | C11: Տարեցների և հաշմանդամություն ունեցող 18 տարին լրացած անձանց շուրջօրյա խնամքի ծառայություններ | F11: ՀՀ աշխատանքի և սոցիալական հարցերի նախարարություն | G11: =SUM(G12:G15) -> -40000
F12: «Երևանի թիվ 1 տուն-ինտերնատ» ՊՈԱԿ | G12: -6463
F13: «Նորքի տուն-ինտերնատ» ՊՈԱԿ | G13: -11047
F14: «Վարդենիսի նյարդահոգեբանական տուն-ինտերնատ» ՊՈԱԿ | G14: -21855
F15: «Ձորակ» հոգեկան առողջության խնդիրներ ունեցող անձանց խնամքի կենտրոն» ՊՈԱԿ | G15: -635
B16: 11003 | E16: Տարեցներին, հաշմանդամություն ունեցող անձանց ցերեկային խնամքի ծառայություններ (սննդի տրամադրման գծով) | F16: ՀՀ աշխատանքի և սոցիալական հարցերի նախարարություն | G16: =G17 -> -27600
F17: Մրցույթով ընտրված կազմակերպություն | G17: ='1'!D55 -> -27600
A18: 1141 | B18: Ընտանիքներին, կանանց և երեխաներին աջակցություն | G18: =G19 -> -70000
B19: 11007 | C19: Կյանքի դժվարին իրավիճակում հայտնված երեխաներին ժամանակավոր խնամքի տրամադրման ծառայություններ | F19: ՀՀ աշխատանքի և սոցիալական հարցերի նախարարություն | G19: =G20 -> -70000
F20: «Սյունիքի մարզի երեխայի և ընտանիքի աջակցության կենտրոն» ՊՈԱԿ* | G20: ='1'!E100 -> -70000
A21: 1160 | B21: Հաշմանդամություն ունեցող անձանց աջակցություն | G21: =G22+G24+G26+G28+G30+G32 -> -49200
B22: 11006 | C22: Մտավոր և հոգեկան խնդիրներով հաշմանդամություն ունեցող անձանց ցերեկային սոցիալ-վերականգնողական ծառայություններ | F22: ՀՀ աշխատանքի և սոցիալական հարցերի նախարարություն | G22: =G23 -> -14500
F23: Մրցույթով ընտրված կազմակերպություն | G23: ='1'!E108 -> -14500
B24: 11007 | C24: Հաշմանդամություն ունեցող անձանց սոցիալ-հոգեբանական աջակցություն ցերեկային կենտրոնում | F24: ՀՀ աշխատանքի և սոցիալական հարցերի նախարարություն | G24: =G25 -> -2900
F25: Մրցույթով ընտրված կազմակերպություն | G25: ='1'!E114 -> -2900
B26: 11008 | C26: Աուտիզմ ունեցող անձանց սոցիալ-հոգեբանական աջակցություն ցերեկային կենտրոնում | F26: ՀՀ աշխատանքի և սոցիալական հարցերի նախարարություն | G26: =G27 -> -16100
F27: Մրցույթով ընտրված կազմակերպություն | G27: ='1'!E120 -> -16100
B28: 11009 | C28: Տեսողության խնդիրներ ունեցող անձանց սոցիալ-հոգեբանական վերականգնում | F28: ՀՀ աշխատանքի և սոցիալական հարցերի նախարարություն | G28: =G29 -> -1600
F29: Մրցույթով ընտրված կազմակերպություն | G29: ='1'!E126 -> -1600
B30: 11010 | C30: Մտավոր խնդիրներ ունեցող անձանց շուրջօրյա խնամքի ծառայություններ | F30: ՀՀ աշխատանքի և սոցիալական հարցերի նախարարություն | G30: =G31 -> -5500
F31: Մրցույթով ընտրված կազմակերպություն | G31: ='1'!E132 -> -5500
B32: 11011 | C32: Հոգեկան առողջության խնդիրներ ունեցող անձանց շուրջօրյա խնամքի ծառայություններ | F32: ՀՀ աշխատանքի և սոցիալական հարցերի նախարարություն | G32: =G33 -> -8600
F33: Մրցույթով ընտրված կազմակերպություն | G33: ='1'!E138 -> -8600
A34: 1117 | B34: Սոցիալական պաշտպանության բնագավառում պետական քաղաքականության մշակում, ծրագրերի համակարգում և մոնիթորինգ | G34: =G35 -> -26100
B35: 11004 | C35: Սոցիալական պաշտպանության ոլորտի տեղեկատվական համակարգի սպասարկման, կատարելագործման, շահագործման և տեղեկատվության տրամադրման ծառայություններ | F35: ՀՀ աշխատանքի և սոցիալական հարցերի նախարարություն | G35: =G36 -> -26100
F36: «Նորք» սոցիալական ծառայությունների տեխնոլոգիական և իրազեկման կենտրոն» հիմնադրամ | G36: ='1'!E82 -> -26100

Sheet 4
D1: Հավելված N4
D2: ՀՀ կառավարության 2021 թվականի
D3: -----------------ի N -----------Ն որոշման
A5: ՀԱՅԱՍՏԱՆԻ ՀԱՆՐԱՊԵՏՈՒԹՅԱՆ ԿԱՌԱՎԱՐՈՒԹՅԱՆ 2020 ԹՎԱԿԱՆԻ ԴԵԿՏԵՄԲԵՐԻ 30-Ի N 2215-Ն N 9 ՀԱՎԵԼՎԱԾԻ N 9.16 ԵՎ 9.47 ԱՂՅՈՒՍԱԿՆԵՐՈՒՄ ԿԱՏԱՐՎՈՂ ՓՈՓՈԽՈՒԹՅՈՒՆՆԵՐԸ
A6: ՀՀ աշխատանքի և սոցիալական հարցերի նախարարություն
A7: ՄԱՍ 2. ՊԵՏԱԿԱՆ ՄԱՐՄՆԻ ԳԾՈՎ ԱՐԴՅՈՒՆՔԱՅԻՆ (ԿԱՏԱՐՈՂԱԿԱՆ) ՑՈՒՑԱՆԻՇՆԵՐԸ
A9: Ծրագրի դասիչը | B9: Ծրագրի անվանումը
A10: 1005 | B10: Պարգևավճարներ և պատվովճարներ
A12: Ծրագրի միջոցառումները
A14: Ծրագրի դասիչը` | B14: 1005 | C14: Ցուցանիշների փոփոխությունները (Նվազեցումները նշված են փակագծերում)
A15: Միջոցառման դասիչը` | B15: 12001 | C15: Ինն ամիս | D15: Տարի
A16: Միջոցառման անվանումը` | B16: Զինծառայողներին, ՀՄՊ մասնակիցներին, այլ պետություններում մարտական գործողությունների մասնակիցներին, զոհված (մահացած) զինծառայողի ընտանիքի անդամներին, ընտանիքներին տրվող պարգևավճարներ
A17: Նկարագրությունը` | B17: Զինծառայողներին, ՀՄՊ մասնակիցներին, այլ պետություններում մարտական գործողությունների մասնակիցներին, զոհված (մահացած) զինծառայողի ընտանիքի անդամներին, ընտանիքներին, պարգևավճարների տրամադրում
A18: Միջոցառման տեսակը` | B18: Տրանսֆերտների տրամադրում
A19: Շահառուների ընտրության չափանիշները | B19: ՀՄՊ մասնակիցներ, ՀՄՊ և այլ պետություններում մարտական գործողությունների ընթացքում զոհված զինծառայողների ընտանիքներ
A20: Արդյունքի չափորոշիչներ
A21: Միջոցառման վրա կատարվող ծախսը (հազար դրամ) | C21: ='1'!D18 -> -416200 | D21: ='1'!E18 -> -416200
A23: Ծրագրի դասիչը | B23: Ծրագրի անվանումը
A24: 1011 | B24: Անապահով սոցիալական խմբերին աջակցություն
A26: Ծրագրի միջոցառումները
A28: Ծրագրի դասիչը` | B28: 1011 | C28: Ցուցանիշների փոփոխությունները (Նվազեցումները նշված են փակագծերում)
A29: Միջոցառման դասիչը` | B29: 11001 | C29: Ինն ամիս | D29: Տարի
A30: Միջոցառման անվանումը` | B30: Ընտանիքի կենսամակարդակի բարձրացմանն ուղղված նպաստների իրականացման ապահովում
A31: Նկարագրությունը` | B31: Ընտանիքների անապահովության գնահատման համակարգում հաշվառված, ընդգրկված անապահով ճանաչված ընտանիքներին նպաստի, սոցիալական նպաստի և հրատապ օգնության վճարման ծառայությունների ձեռքբերում
A32: Միջոցառման տեսակը` | B32: Ծառայությունների մատուցում
A33: Շահառուների ընտրության չափանիշները | B33: «Գնումների մասին» ՀՀ օրենքի համաձայն ընտրված կազմակերպություն
A34: Արդյունքի չափորոշիչներ
A35: Միջոցառման վրա կատարվող ծախսը (հազար դրամ) | C35: ='1'!D36 -> -57000 | D35: ='1'!E36 -> -57000
A37: Ծրագրի դասիչը | B37: Ծրագրի անվանումը
A38: 1032 | B38: Խնամքի ծառայություններ 18 տարեկանից բարձր տարիքի անձանց
A40: Ծրագրի միջոցառումները
A42: Ծրագրի դասիչը` | B42: 1032 | C42: Ցուցանիշների փոփոխությունները (Նվազեցումները նշված են փակագծերում)
A43: Միջոցառման դասիչը` | B43: 11001 | C43: Ինն ամիս | D43: Տարի
A44: Միջոցառման անվանումը` | B44: Տարեցների և հաշմանդամություն ունեցող 18 տարին լրացած անձանց շուրջօրյա խնամքի ծառայություններ
A45: Նկարագրությունը` | B45: Շուրջօրյա խն. ծառ. ստացող տարեց և հաշմանդ. ունեցող 18 տարին լրացած անձանց տեսակարար կշիռը շուրջօրյա խն. ծառ. համար դիմած տարեց և հաշմանդ. ունեցող 18 տարին լրացած անձանց թվի մեջ (տոկոս? վերաբերում է ընդհանուր տիպի հաստատ-ին)
A46: Միջոցառման տեսակը` | B46: Ծառայությունների մատուցում
A47: Միջոցառումն իրականացնողի անվանումը? | B47: Մասնագիտացված կազմակերպություններ
A48: Արդյունքի չափորոշիչներ
A49: Սպասարկվող անձանց (խնամվողների) թիվ, մարդ
A50: Միջոցառման վրա կատարվող ծախսը (հազար դրամ) | C50: ='1'!D44 -> -40000 | D50: ='1'!E44 -> -40000
...

Sheet 5
D1: Հավելված N5
D2: ՀՀ կառավարության 2021 թվականի
D3: -----------------ի N -----------Ն որոշման
A5: ՀԱՅԱՍՏԱՆԻ ՀԱՆՐԱՊԵՏՈՒԹՅԱՆ ԿԱՌԱՎԱՐՈՒԹՅԱՆ 2020 ԹՎԱԿԱՆԻ ԴԵԿՏԵՄԲԵՐԻ 30-Ի N 2215-Ն ՈՐՈՇՄԱՆ N 9.1 ՀԱՎԵԼՎԱԾԻ N 9.1.16, N 9.1.20 ԵՎ 9.1.58 ԱՂՅՈՒՍԱԿՆԵՐՈՒՄ ԿԱՏԱՐՎՈՂ ՓՈՓՈԽՈՒԹՅՈՒՆՆԵՐԸ
A7: ՀՀ աշխատանքի և սոցիալական հարցերի նախարարություն
A8: ՄԱՍ 1. ՊԵՏԱԿԱՆ ՄԱՐՄՆԻ ԳԾՈՎ ԱՐԴՅՈՒՆՔԱՅԻՆ (ԿԱՏԱՐՈՂԱԿԱՆ) ՑՈՒՑԱՆԻՇՆԵՐԸ
A10: Ծրագրի դասիչը | B10: Ծրագրի անվանումը
A11: 1032 | B11: ='4'!B38 -> Խնամքի ծառայություններ 18 տարեկանից բարձր տարիքի անձանց
A13: Ծրագրի միջոցառումները
A15: Ծրագրի դասիչը` | B15: 1032 | C15: Ցուցանիշների փոփոխությունները (Նվազեցումները նշված են փակագծերում)
A16: Միջոցառման դասիչը` | B16: 11001 | C16: Ինն ամիս | D16: Տարի
A17: Միջոցառման անվանումը` | B17: Տարեցների և հաշմանդամություն ունեցող 18 տարին լրացած անձանց շուրջօրյա խնամքի ծառայություններ
A18: Նկարագրությունը` | B18: Շուրջօրյա խն. ծառ. ստացող տարեց և հաշմանդ. ունեցող 18 տարին լրացած անձանց տեսակարար կշիռը շուրջօրյա խն. ծառ. համար դիմած տարեց և հաշմանդ. ունեցող 18 տարին լրացած անձանց թվի մեջ (տոկոս` վերաբերում է ընդհանուր տիպի հաստատ-ին)
A19: Միջոցառման տեսակը` | B19: Ծառայությունների մատուցում
A20: Միջոցառումն իրականացնողի անվանումը՝ | B20: Մասնագիտացված կազմակերպություններ
A21: Արդյունքի չափորոշիչներ
A22: Միջոցառման վրա կատարվող ծախսը (հազար դրամ) | C22: ='1'!D49 -> -40000 | D22: ='1'!E49 -> -40000
A24: Ծրագրի դասիչը` | B24: 1032 | C24: Ցուցանիշների փոփոխությունները (Նվազեցումները նշված են փակագծերում)
A25: Միջոցառման դասիչը` | B25: 11003 | C25: Ինն ամիս | D25: Տարի
A26: Միջոցառման անվանումը` | B26: Տարեցներին, հաշմանդամություն ունեցող անձանց ցերեկային խնամքի ծառայություններ (սննդի տրամադրման գծով)
A27: Նկարագրությունը` | B27: ՀՀ մարզերում և Երևա քաղաքում տարեցներին և հաշմանդամություն ունեցող անձանց սննդի տրամադրում սոցիալական հոգածության ցերեկային կենտրոններում
A28: Միջոցառման տեսակը` | B28: Ծառայությունների մատուցում
A29: Միջոցառումն իրականացնողի անվանումը՝ | B29: Մասնագիտացված կազմակերպություններ
A30: Արդյունքի չափորոշիչներ
A31: Միջոցառման վրա կատարվող ծախսը (հազար դրամ) | C31: ='1'!D55 -> -27600 | D31: ='1'!E55 -> -27600
A33: Ծրագրի դասիչը | B33: Ծրագրի անվանումը
A34: 1117 | B34: ='4'!B86 -> Սոցիալական պաշտպանության բնագավառում պետական քաղաքականության մշակում, ծրագրերի համակարգում և մոնիթորինգ
A36: Ծրագրի միջոցառումները
A38: Ծրագրի դասիչը` | B38: 1117 | C38: Ցուցանիշների փոփոխությունները (Նվազեցումները նշված են փակագծերում)
A39: Միջոցառման դասիչը` | B39: 11004 | C39: Ինն ամիս | D39: Տարի
A40: Միջոցառման անվանումը` | B40: Սոցիալական պաշտպանության ոլորտի տեղեկատվական համակարգի սպասարկման (կատարելագործման), շահագործման և տեղեկատվության տրամադրման ծառայություններ
A41: Նկարագրությունը` | B41: Սոցիալական պաշտպանության ոլորտի տեղեկատվական բազաների սպասարկում և շահագործում
A42: Միջոցառման տեսակը` | B42: Ծառայությունների մատուցում
A43: Միջոցառումն իրականացնողի անվանումը` | B43: «Գնումների մասին» ՀՀ օրենքի համաձայն ընտրված կազմակերպություն
A44: Արդյունքի չափորոշիչներ
A45: Միջոցառման վրա կատարվող ծախսը (հազար դրամ) | C45: ='1'!D87 -> -26100 | D45: ='1'!E87 -> -26100
A47: Ծրագրի դասիչը | B47: Ծրագրի անվանումը
A48: 1141 | B48: ='4'!B101 -> Ընտանիքներին, կանանց և երեխաներին աջակցություն
A50: Ծրագրի միջոցառումները
A52: Ծրագրի դասիչը` | B52: 1141 | C52: Ցուցանիշների փոփոխությունները (Նվազեցումները նշված են փակագծերում)
...

Sheet 6
I1: Հավելված N 6
I2: ՀՀ կառավարության 2021 թվականի
I3: -----------------ի N -----------Ն որոշման
A5: ՀԱՅԱՍՏԱՆԻ ՀԱՆՐԱՊԵՏՈՒԹՅԱՆ ԿԱՌԱՎԱՐՈՒԹՅԱՆ 2020 ԹՎԱԿԱՆԻ ԴԵԿՏԵՄԲԵՐԻ 30-Ի N 2215-Ն ՈՐՈՇՄԱՆ N 10 ՀԱՎԵԼՎԱԾՈՒՄ ԿԱՏԱՐՎՈՂ ՓՈՓՈԽՈՒԹՅՈՒՆՆԵՐԸ
A9: Կոդը | B9: Անվանումը | E9: Գնման ձևը | F9: Չափման միավորը | G9: Ցուցանիշների փոփոխությունները (Նվազեցումները նշված են փակագծերում)
G10: Միավորի գինը | H10: Քանակը | I10: Գումարը (հազար դրամով)
A11: ՀՀ աշխատանքի և սոցիալական հարցերի նախարարության միասնական սոցիալական ծառայություն | I11: =I15 -> -57000
A12: Բաժին N 10 | B12: Խումբ N 09 | C12: Դաս N 02 | D12: Սոցիալական պաշտպանությանը տրամադրվող օժանդակ ծառայություններ (այլ դասերին չպատկանող) | I12: =I13 -> -57000
A13: 1011 11001 | B13: Ընտանիքի կենսամակարդակի բարձրացմանն ուղղված նպաստների իրականացման ապահովում | I13: =I14 -> -57000
A14: ՄԱՍ III ԾԱՌԱՅՈՒԹՅՈՒՆՆԵՐ | I14: =I15 -> -57000
A15: 79571100-1 | B15: փոստային առաքման ծառայություններ | E15: ՄԱ | F15: դրամ | I15: -57000
