Workbook
Name AgencyCode: #REF!
Name AgencyCode: #REF!
Name AgencyCode: #REF!
Name AgencyName: #REF!
Name AgencyName: #REF!
Name AgencyName: #REF!
Name davit: #REF!
Name davit: #REF!
Name davit: #REF!
Name Functional1: #REF!
Name Functional1: #REF!
Name Functional1: #REF!
Name ggg: #REF!
Name ggg: #REF!
Name ggg: #REF!
Name PANature: #REF!
Name PANature: #REF!
Name PANature: #REF!
Name PAType: #REF!
Name PAType: #REF!
Name PAType: #REF!
Name Performance2: #REF!
Name Performance2: #REF!
Name Performance2: #REF!
Name PerformanceType: #REF!
Name PerformanceType: #REF!
Name PerformanceType: #REF!
Name Հավելված: #REF!
Name Հավելված: #REF!
Name Հավելված: #REF!
Name Մաս: #REF!
Name Մաս: #REF!
Name Մաս: #REF!
Name շախմատիստ: #REF!
Name շախմատիստ: #REF!
Name շախմատիստ: #REF!

Sheet Havelvats 1
C1: Հավելված N 1
C2: ՀՀ կառավարության 2021 թվականի
C3: ______________ ի ___Ն որոշման
A5: «ՀԱՅԱUՏԱՆԻ ՀԱՆՐԱՊԵՏՈՒԹՅԱՆ 2021 ԹՎԱԿԱՆԻ ՊԵՏԱԿԱՆ ԲՅՈՒՋԵԻ ՄԱUԻՆ» ՀԱՅԱUՏԱՆԻ ՀԱՆՐԱՊԵՏՈՒԹՅԱՆ OՐԵՆՔԻ N 1 ՀԱՎԵԼՎԱԾԻ N 2 ԱՂՅՈՒՍԱԿՈՒՄ ԿԱՏԱՐՎՈՂ ՎԵՐԱԲԱՇԽՈՒՄԸ ԵՎ ՀԱՅԱՍՏԱՆԻ ՀԱՆՐԱՊԵՏՈՒԹՅԱՆ ԿԱՌԱՎԱՐՈՒԹՅԱՆ 2020 ԹՎԱԿԱՆԻ ԴԵԿՏԵՄԲԵՐԻ 30-Ի N 2215-Ն ՈՐՈՇՄԱՆ N 5 ՀԱՎԵԼՎԱԾԻ N 1 ԱՂՅՈՒՍԱԿՈՒՄ ԿԱՏԱՐՎՈՂ ՓՈՓՈԽՈՒԹՅՈՒՆԸ ԵՎ ԼՐԱՑՈՒՄԸ
E7: հազ. դրամներով
A8: Ծրագրային դասիչը | C8: Բյուջետային հատկացումների գլխավոր կարգադրիչների, ծրագրերի և միջոցառումների անվանումները | D8: Ցուցանիշների փոփոխությունը (ավելացումները նշված են դրական նշանով, իսկ նվազեցումները՝ փակագծերում)
A9: Ծրագիր | B9: Միջոցառում | D9: Ինն ամիս | E9: Տարի
C10: ԸՆԴԱՄԵՆԸ | D10: =+D12+D26 -> 0 | E10: =+E12+E26 -> 0
C11: այդ թվում
C12: ՀՀ ԿՐԹՈՒԹՅԱՆ, ԳԻՏՈՒԹՅԱՆ, ՄՇԱԿՈՒՅԹԻ ԵՎ ՍՊՈՐՏԻ ՆԱԽԱՐԱՐՈՒԹՅՈՒՆ | D12: =+D14 -> 25000 | E12: =+E14 -> 100000
A13: 1183 | C13: Ծրագրի անվանումը`
C14: Ապահով դպրոց | D14: =+D21 -> 25000 | E14: =+E21 -> 100000
C15: Ծրագրի նպատակը`
C16: Դպրոցներին սպառնացող աղետների ռիսկի կառավարման կարողությունների հզորացում, դպրոցի անձնակազմի և աշակերտների անվտանգության ապահովման մակարդակի բարձրացում՛ կիրառելով ներառական և երեխայակենտրոն մոտեցում
C17: Վերջնական արդյունքի նկարագրությունը`
C18: Դպրոցական միջավայրի բարելավում
C19: Ծրագրի միջոցառումներ
B20: 32003 | C20: Միջոցառման անվանումը`
C21: Փոքրաքանակ երեխաներով համալրված հանրակրթական դպրոցների մոդուլային շենքերի կառուցում | D21: =+'Havelvats 2'!G22 -> 25000 | E21: =+'Havelvats 2'!H22 -> 100000
C22: Միջոցառման նկարագրությունը`
C23: Կրթական հաստատությունների կառուցում համայնքային կենտրոնների մոդելով _x000D_
C24: Միջոցառման տեսակը
C25: Այլ պետական կազմակերպությունների կողմից օգտագործվող ոչ ֆինանսական ակտիվների հետ գործառնություններ
C26: ՀՀ ԿԱՌԱՎԱՐՈՒԹՅՈՒՆ | D26: =+D28 -> -25000 | E26: =+E28 -> -100000
A27: 1139 | C27: Ծրագրի անվանումը`
C28: ՀՀ կառավարության պահուստային ֆոնդ | D28: =+D35 -> -25000 | E28: =+E35 -> -100000
C29: Ծրագրի նպատակը`
C30: Պետական բյուջեում չկանխատեսված, ինչպես նաև բյուջետային երաշխիքների ապահովման ծախսերի ֆինանսավորման ապահովում
C31: Վերջնական արդյունքի նկարագրությունը`
C32: Պահուստային ֆոնդի կառավարման արդյունավետության և թափանցիկության ապահովում
C33: Ծրագրի միջոցառումներ
B34: 11001 | C34: Միջոցառման անվանումը`
C35: ՀՀ կառավարության պահուստային ֆոնդ | D35: =+'Havelvats 2'!G42 -> -25000 | E35: =+'Havelvats 2'!H42 -> -100000
C36: Միջոցառման նկարագրությունը`
C37: ՀՀ պետական բյուջեում նախատեսված ելքերի լրացուցիչ ֆինանսավորման՝ պետական բյուջեում չկանխատեսված ելքերի, ինչպես նաև բյուջետային երաշխիքների ապահովման ելքերի ֆինանսավորման ապահովում
C38: Միջոցառման տեսակը
C39: Ծառայությունների մատուցում

Sheet Havelvats 2
F1: Հավելված N 2
F2: ՀՀ կառավարության 2021 թվականի
F3: ______________ ի ___Ն որոշման
A5: ՀԱՅԱՍՏԱՆԻ ՀԱՆՐԱՊԵՏՈՒԹՅԱՆ ԿԱՌԱՎԱՐՈՒԹՅԱՆ 2020 ԹՎԱԿԱՆԻ ԴԵԿՏԵՄԲԵՐԻ 30-Ի N 2215-Ն ՈՐՈՇՄԱՆ N 3 ԵՎ N 4 ՀԱՎԵԼՎԱԾՆԵՐՈՒՄ ԿԱՏԱՐՎՈՂ ՓՈՓՈԽՈՒԹՅՈՒՆԸ ԵՎ ԼՐԱՑՈՒՄԸ
H6: հազ. դրամներով
A7: Գործառական դասիչը | D7: Ծրագրային դասիչը | F7: Բյուջետային հատկացումների գլխավոր կարգադրիչների, ծրագրերի, միջոցառումների և միջոցառումները կատարող պետական մարմինների անվանումները | G7: Ցուցանիշների փոփոխությունը (ավելացումները նշված են դրական նշանով, իսկ նվազեցումները՝ փակագծերում)
A8: Բաժին | B8: Խումբ | C8: Դաս | D8: Ծրագիր | E8: Միջոցառում | G8: Ինն ամիս | H8: Տարի
F9: ԸՆԴԱՄԵՆԸ | G9: =+G11+G31 -> 0 | H9: =+H11+H31 -> 0
F10: այդ թվում
F11: ՀՀ ԿՐԹՈՒԹՅԱՆ, ԳԻՏՈՒԹՅԱՆ, ՄՇԱԿՈՒՅԹԻ ԵՎ ՍՊՈՐՏԻ ՆԱԽԱՐԱՐՈՒԹՅՈՒՆ | G11: =+G12 -> 25000 | H11: =+H12 -> 100000
A12: 09 | F12: ԿՐԹՈՒԹՅՈՒՆ | G12: =+G14 -> 25000 | H12: =+H14 -> 100000
F13: այդ թվում`
B14: 06 | F14: Կրթությանը տրամադրվող օժանդակ ծառայություններ | G14: =+G16 -> 25000 | H14: =+H16 -> 100000
F15: այդ թվում`
C16: 01 | F16: Կրթությանը տրամադրվող օժանդակ ծառայություններ | G16: =+G18 -> 25000 | H16: =+H18 -> 100000
F17: այդ թվում`
F18: ՀՀ կրթության, գիտության, մշակույթի և սպորտի նախարարություն | G18: =+G20 -> 25000 | H18: =+H20 -> 100000
F19: այդ թվում`
D20: 1183 | E20: Ապահով դպրոց | G20: =+G22 -> 25000 | H20: =+H22 -> 100000
F21: այդ թվում`
E22: 32003 | F22: Փոքրաքանակ երեխաներով համալրված հանրակրթական դպրոցների մոդուլային շենքերի կառուցում | G22: =+G24 -> 25000 | H22: =+H24 -> 100000
F23: այդ թվում` ըստ կատարողների
F24: ՀՀ քաղաքաշինության կոմիտե | G24: =+G26 -> 25000 | H24: =+H26 -> 100000
F25: այդ թվում՝ բյուջետային ծախսերի տնտեսագիտական դասակարգման հոդվածներ
F26: ԸՆԴԱՄԵՆԸ ԾԱԽՍԵՐ | G26: =+G27 -> 25000 | H26: =+H27 -> 100000
F27: ՈՉ ՖԻՆԱՆՍԱԿԱՆ ԱԿՏԻՎՆԵՐԻ ԳԾՈՎ ԾԱԽՍԵՐ | G27: =+G28 -> 25000 | H27: =+H28 -> 100000
F28: ՀԻՄՆԱԿԱՆ ՄԻՋՈՑՆԵՐ | G28: =+G29 -> 25000 | H28: =+H29 -> 100000
F29: ՇԵՆՔԵՐ ԵՎ ՇԻՆՈՒԹՅՈՒՆՆԵՐ | G29: =+G30 -> 25000 | H29: =+H30 -> 100000
F30: -Շենքերի և շինությունների շինարարություն | G30: =+'Havelvats 4'!E14 -> 25000 | H30: =+'Havelvats 4'!F14 -> 100000
F31: ՀՀ ԿԱՌԱՎԱՐՈՒԹՅՈՒՆ | G31: =+G32 -> -25000 | H31: =+H32 -> -100000
A32: 11 | F32: ՀԻՄՆԱԿԱՆ ԲԱԺԻՆՆԵՐԻՆ ՉԴԱՍՎՈՂ ՊԱՀՈՒՍՏԱՅԻՆ ՖՈՆԴԵՐ | G32: =+G34 -> -25000 | H32: =+H34 -> -100000
F33: այդ թվում`
B34: 01 | F34: ՀՀ կառավարության և համայնքների պահուստային ֆոնդ | G34: =+G36 -> -25000 | H34: =+H36 -> -100000
F35: այդ թվում`
C36: 01 | F36: ՀՀ կառավարության պահուստային ֆոնդ | G36: =+G38 -> -25000 | H36: =+H38 -> -100000
F37: այդ թվում`
F38: ՀՀ կառավարություն | G38: =+G40 -> -25000 | H38: =+H40 -> -100000
F39: այդ թվում`
D40: 1139 | E40: ՀՀ կառավարության պահուստային ֆոնդ | F40: ՀՀ կառավարության պահուստային ֆոնդ | G40: =+G42 -> -25000 | H40: =+H42 -> -100000
F41: այդ թվում`
E42: 11001 | F42: ՀՀ կառավարության պահուստային ֆոնդ | G42: =+G44 -> -25000 | H42: =+H44 -> -100000
F43: այդ թվում` ըստ կատարողների
F44: ՀՀ կառավարություն | G44: =+G46 -> -25000 | H44: =+H46 -> -100000
F45: այդ թվում` բյուջետային ծախսերի տնտեսագիտական դասակարգման հոդվածներ
F46: ԸՆԴԱՄԵՆԸ ԾԱԽՍԵՐ | G46: =+G47 -> -25000 | H46: =+H47 -> -100000
F47: ԸՆԹԱՑԻԿ ԾԱԽՍԵՐ | G47: =+G48 -> -25000 | H47: =+H48 -> -100000
F48: ԱՅԼ ԾԱԽՍԵՐ | G48: =+G49 -> -25000 | H48: =+H49 -> -100000
F49: -Պահուստային միջոցներ | G49: -25000 | H49: -100000

Sheet Havelvats 3
F1: Հավելված N 3
F2: ՀՀ կառավարության 2021 թվականի
F3: ______________ ի ___Ն որոշման
A5: «ՀԱՅԱUՏԱՆԻ ՀԱՆՐԱՊԵՏՈՒԹՅԱՆ 2021 ԹՎԱԿԱՆԻ ՊԵՏԱԿԱՆ ԲՅՈՒՋԵԻ ՄԱUԻՆ» ՀԱՅԱUՏԱՆԻ ՀԱՆՐԱՊԵՏՈՒԹՅԱՆ OՐԵՆՔԻ N 1 ՀԱՎԵԼՎԱԾԻ N 3 ԱՂՅՈՒՍԱԿՈՒՄ ԿԱՏԱՐՎՈՂ ԼՐԱՑՈՒՄԸ
G8: հազ. դրամներով
A9: Ծրագրային դասիչ | C9: Բյուջետային գլխավոր կարգադրիչների, ծրագրերի, միջոցառումների, միջոցառումները կատարող պետական մարմինների և ուղղությունների անվանումները | D9: Ընդամենը | E9: Ցուցանիշների փոփոխությունը (ավելացումները նշված են դրական նշանով)
A10: Ծրագիր | B10: Միջոցառում | E10: Կառուցման աշխատանքներ | F10: Վերակառուցման, վերանորոգման և վերականգնման աշխատանքներ | G10: Նախագծահե- տազոտական, գեոդեզիա- քարտեզագրա- կան աշխա- տանքներ | H10: Ոչ ֆինանսական այլ ակտիվների ձեռքբերում
C11: ԸՆԴԱՄԵՆԸ | D11: =SUM(E11:H11) -> 100000 | E11: =+E13 -> 100000 | F11: =+F13 -> 0 | G11: =+G13 -> 0 | H11: =+H13 -> 0
C12: այդ թվում՝
C13: ՀՀ ԿՐԹՈՒԹՅԱՆ, ԳԻՏՈՒԹՅԱՆ, ՄՇԱԿՈՒՅԹԻ ԵՎ ՍՊՈՐՏԻ ՆԱԽԱՐԱՐՈՒԹՅՈՒՆ | D13: =SUM(E13:H13) -> 100000 | E13: =+E15 -> 100000 | F13: =+F15 -> 0 | G13: =+G15 -> 0 | H13: =+H15 -> 0
C14: այդ թվում`
A15: 1183 | B15: 32003 | C15: Փոքրաքանակ երեխաներով համալրված հանրակրթական դպրոցների մոդուլային շենքերի կառուցում | D15: =SUM(E15:H15) -> 100000 | E15: =+E17 -> 100000 | F15: =+F17 -> 0 | G15: =+G17 -> 0 | H15: =+H17 -> 0
C16: այդ թվում`
C17: ՀՀ Տավուշի մարզ | D17: =SUM(E17:H17) -> 100000 | E17: =+E18 -> 100000
C18: «Կիրանցի Գ.Վարդանյանի անվ. հիմնական դպրոց» ՊՈԱԿ | D18: =SUM(E18:H18) -> 100000 | E18: 100000

Sheet Havelvats 4
E1: Հավելված N 4
E2: ՀՀ կառավարության 2021 թվականի
E3: ______________ ի ___Ն որոշման
B5: ՀԱՅԱՍՏԱՆԻ ՀԱՆՐԱՊԵՏՈՒԹՅԱՆ ԿԱՌԱՎԱՐՈՒԹՅԱՆ 2020 ԹՎԱԿԱՆԻ ԴԵԿՏԵՄԲԵՐԻ 30-Ի N 2215-Ն ՈՐՈՇՄԱՆ N 5 ՀԱՎԵԼՎԱԾԻ N 2 ԱՂՅՈՒՍԱԿՈՒՄ ԿԱՏԱՐՎՈՂ ԼՐԱՑՈՒՄԸ
F7: հազ. դրամներով
B8: Ծրագրային դասիչ | D8: Բյուջետային գլխավոր կարգադրիչների, ծրագրերի, միջոցառումների, միջոցառումները կատարող պետական մարմինների և ուղղությունների անվանումները | E8: Ցուցանիշների փոփոխությունը (ավելացումները նշված են դրական նշանով)
B9: Ծրագիր | C9: Միջոցառում | E9: Ինն ամիս | F9: Տարի
D10: ՀՀ ԿՐԹՈՒԹՅԱՆ, ԳԻՏՈՒԹՅԱՆ, ՄՇԱԿՈՒՅԹԻ ԵՎ ՍՊՈՐՏԻ ՆԱԽԱՐԱՐՈՒԹՅՈՒՆ | E10: =+E12 -> 25000 | F10: =+F12 -> 100000
D11: այդ թվում՝
B12: 1183 | C12: 32003 | D12: Փոքրաքանակ երեխաներով համալրված հանրակրթական դպրոցների մոդուլային շենքերի կառուցում | E12: =+E14 -> 25000 | F12: =+F14 -> 100000
D13: այդ թվում` ըստ կատարողների
D14: ՀՀ քաղաքաշինության կոմիտե | E14: =+E16 -> 25000 | F14: =+F16 -> 100000
D15: այդ թվում`ըստ ուղղությունների
D16: ՀՀ Տավուշի մարզ | E16: =+E17 -> 25000 | F16: =+F17 -> 100000
D17: «Կիրանցի Գ.Վարդանյանի անվ. հիմնական դպրոց» ՊՈԱԿ | E17: 25000 | F17: =+'Havelvats 3'!D18 -> 100000

Sheet Havelvats 5
D1: Հավելված N 5
D2: ՀՀ կառավարության 2021 թվականի
D3: ______________ ի ___Ն որոշման
B5: ՀԱՅԱՍՏԱՆԻ ՀԱՆՐԱՊԵՏՈՒԹՅԱՆ ԿԱՌԱՎԱՐՈՒԹՅԱՆ 2020 ԹՎԱԿԱՆԻ ԴԵԿՏԵՄԲԵՐԻ 30-Ի N 2215-Ն ՈՐՈՇՄԱՆ N 9 ՀԱՎԵԼՎԱԾԻ N 9.14 ԱՂՅՈՒՍԱԿՈՒՄ ԿԱՏԱՐՎՈՂ ԼՐԱՑՈՒՄԸ ԵՎ N 9.47 ԱՂՅՈՒՍԱԿՈՒՄ ԿԱՏԱՐՎՈՂ ՓՈՓՈԽՈՒԹՅՈՒՆԸ
A7: Աղյուսակ 9.14
C8: ՀՀ կրթության, գիտության, մշակույթի և սպորտի նախարարություն
B9: ՄԱՍ 2. ՊԵՏԱԿԱՆ ՄԱՐՄՆԻ ԳԾՈՎ ԱՐԴՅՈՒՆՔԱՅԻՆ (ԿԱՏԱՐՈՂԱԿԱՆ) ՑՈՒՑԱՆԻՇՆԵՐԸ
B12: Ծրագրի դասիչը | C12: Ծրագրի անվանումը
B13: 1183 | C13: Ապահով դպրոց
B14: Ծրագրի միջոցառումները
B15: Ծրագրի դասիչը՝ | C15: 1183 | D15: Ցուցանիշների փոփոխությունը (ավելացումները նշված են դրական նշանով)
B16: Միջոցառման դասիչը՝ | C16: 32003 | D16: Ինն ամիս | E16: Տարի
B17: Միջոցառման անվանումը` | C17: Փոքրաքանակ երեխաներով համալրված հանրակրթական դպրոցների մոդուլային շենքերի կառուցում
B18: Նկարագրությունը` | C18: Կրթական հաստատությունների կառուցում համայնքային կենտրոնների մոդելով
B19: Միջոցառման տեսակը` | C19: Այլ պետական կազմակերպությունների կողմից օգտագործվող ոչ ֆինանսական ակտիվների հետ գործառնություններ
B20: Ակտիվն օգտագործող կազմակերպությունների անվանումները | C20: Փոքրաքանակ երեխաներով համալրված հանրակրթական դպրոցներ
B21: Արդյունքի չափորոշիչներ
B22: Կառուցված ուսումնական հաստատությունների քանակ, հատ | D22: 1 | E22: 1
B23: Միջոցառման վրա կատարվող ծախսը (հազար դրամ) | D23: =+'Havelvats 1'!D21 -> 25000 | E23: =+'Havelvats 1'!E21 -> 100000
A27: Աղյուսակ 9.47
C28: ՀՀ կառավարություն
B29: ՄԱՍ 2. ՊԵՏԱԿԱՆ ՄԱՐՄՆԻ ԳԾՈՎ ԱՐԴՅՈՒՆՔԱՅԻՆ (ԿԱՏԱՐՈՂԱԿԱՆ) ՑՈՒՑԱՆԻՇՆԵՐԸ
B32: Ծրագրի դասիչը | C32: Ծրագրի անվանումը
B33: 1139 | C33: ՀՀ կառավարության պահուստային ֆոնդ
B34: Ծրագրի միջոցառումները
B35: Ծրագրի դասիչը՝ | C35: 1139 | D35: Ցուցանիշների փոփոխությունը (նվազեցումները նշված են փակագծերում)
B36: Միջոցառման դասիչը՝ | C36: 11001 | D36: Ինն ամիս | E36: Տարի
B37: Միջոցառման անվանումը՝ | C37: ՀՀ կառավարության պահուստային ֆոնդ
B38: Նկարագրությունը՝ | C38: ՀՀ պետական բյուջեում նախատեսված ելքերի լրացուցիչ ֆինանսավորման՝ պետական բյուջեում չկանխատեսված ելքերի, ինչպես նաև բյուջետային երաշխիքների ապահովման ելքերի ֆինանսավորման ապահովում
B39: Միջոցառման տեսակը՝ | C39: Ծառայությունների մատուցում
B40: Միջոցառումն իրականացնողի անվանումը | C40: ՀՀ կառավարություն
C41: Արդյունքի չափորոշիչներ
B42: Միջոցառման վրա կատարվող ծախսը (հազար դրամ) | D42: =+'Havelvats 1'!D35 -> -25000 | E42: =+'Havelvats 1'!E35 -> -100000

Sheet Havelvats 6
D1: Հավելված N6
D2: ՀՀ կառավարության 2021 թվականի
D3: ______________ ի ___Ն որոշման
B5: ՀԱՅԱՍՏԱՆԻ ՀԱՆՐԱՊԵՏՈՒԹՅԱՆ ԿԱՌԱՎԱՐՈՒԹՅԱՆ 2020 ԹՎԱԿԱՆԻ ԴԵԿՏԵՄԲԵՐԻ 30-Ի N 2215-Ն ՈՐՈՇՄԱՆ N 9.1 ՀԱՎԵԼՎԱԾԻ N 9.1.42 ԱՂՅՈՒՍԱԿՈՒՄ ԿԱՏԱՐՎՈՂ ԼՐԱՑՈՒՄԸ ԵՎ N 9.1.58 ԱՂՅՈՒՍԱԿՈՒՄ ԿԱՏԱՐՎՈՂ ՓՈՓՈԽՈՒԹՅՈՒՆԸ
A7: Աղյուսակ 9.1.42
C8: ՀՀ քաղաքաշինության կոմիտե
B9: ՄԱՍ 1. ՊԵՏԱԿԱՆ ՄԱՐՄՆԻ ԳԾՈՎ ԱՐԴՅՈՒՆՔԱՅԻՆ (ԿԱՏԱՐՈՂԱԿԱՆ) ՑՈՒՑԱՆԻՇՆԵՐԸ
B12: Ծրագրի դասիչը | C12: Ծրագրի անվանումը
B13: 1183 | C13: Ապահով դպրոց
B14: Ծրագրի միջոցառումները
B15: Ծրագրի դասիչը՝ | C15: 1183 | D15: Ցուցանիշների փոփոխությունը (ավելացումները նշված են դրական նշանով)
B16: Միջոցառման դասիչը՝ | C16: 32003 | D16: Ինն ամիս | E16: Տարի
B17: Միջոցառման անվանումը` | C17: Փոքրաքանակ երեխաներով համալրված հանրակրթական դպրոցների մոդուլային շենքերի կառուցում
B18: Նկարագրությունը` | C18: Կրթական հաստատությունների կառուցում համայնքային կենտրոնների մոդելով
B19: Միջոցառման տեսակը` | C19: Այլ պետական կազմակերպությունների կողմից օգտագործվող ոչ ֆինանսական ակտիվների հետ գործառնություններ
B20: Ակտիվն օգտագործող կազմակերպությունների անվանումները | C20: Փոքրաքանակ երեխաներով համալրված հանրակրթական դպրոցներ
B21: Արդյունքի չափորոշիչներ
B22: Կառուցված ուսումնական հաստատությունների քանակ, հատ | D22: 1 | E22: 1
B23: Միջոցառման վրա կատարվող ծախսը (հազար դրամ) | D23: =+'Havelvats 2'!G24 -> 25000 | E23: =+'Havelvats 2'!H24 -> 100000
A27: Աղյուսակ 9.1.58
C28: ՀՀ կառավարություն
B29: ՄԱՍ 1. ՊԵՏԱԿԱՆ ՄԱՐՄՆԻ ԳԾՈՎ ԱՐԴՅՈՒՆՔԱՅԻՆ (ԿԱՏԱՐՈՂԱԿԱՆ) ՑՈՒՑԱՆԻՇՆԵՐԸ
B32: Ծրագրի դասիչը | C32: Ծրագրի անվանումը
B33: 1139 | C33: ՀՀ կառավարության պահուստային ֆոնդ
B34: Ծրագրի միջոցառումները
B35: Ծրագրի դասիչը՝ | C35: 1139 | D35: Ցուցանիշների փոփոխությունը (նվազեցումները նշված են փակագծերում)
B36: Միջոցառման դասիչը՝ | C36: 11001 | D36: Ինն ամիս | E36: Տարի
B37: Միջոցառման անվանումը՝ | C37: ՀՀ կառավարության պահուստային ֆոնդ
B38: Նկարագրությունը՝ | C38: ՀՀ պետական բյուջեում նախատեսված ելքերի լրացուցիչ ֆինանսավորման՝ պետական բյուջեում չկանխատեսված ելքերի, ինչպես նաև բյուջետային երաշխիքների ապահովման ելքերի ֆինանսավորման ապահովում
B39: Միջոցառման տեսակը՝ | C39: Ծառայությունների մատուցում
B40: Միջոցառումն իրականացնողի անվանումը | C40: ՀՀ կառավարություն
C41: Արդյունքի չափորոշիչներ
B42: Միջոցառման վրա կատարվող ծախսը (հազար դրամ) | D42: =+'Havelvats 2'!G44 -> -25000 | E42: =+'Havelvats 2'!H44 -> -100000

Sheet Havelvats 7
H1: Հավելված N 7
H2: ՀՀ կառավարության 2021 թվականի
H3: ______________ ի ___Ն որոշման
A5: ՀԱՅԱՍՏԱՆԻ ՀԱՆՐԱՊԵՏՈՒԹՅԱՆ ԿԱՌԱՎԱՐՈՒԹՅԱՆ 2020 ԹՎԱԿԱՆԻ ԴԵԿՏԵՄԲԵՐԻ 30-Ի N 2215-Ն ՈՐՈՇՄԱՆ N 10 ՀԱՎԵԼՎԱԾՈՒՄ ԿԱՏԱՐՎՈՂ ԼՐԱՑՈՒՄՆԵՐԸ
A7: Կոդը | B7: Անվանումը | E7: Գնման ձևը | F7: Չափման միավորը | G7: Միավորի գինը | H7: Ցուցանիշների փոփոխությունը (ավելացումները նշված են դրական նշանով)
H8: Քանակը | I8: Գումարը (հազար դրամ)
A10: 1 | B10: 2 | E10: 3 | F10: 4 | G10: 5 | H10: 6 | I10: 7
A11: ՀՀ քաղաքաշինության կոմիտե | I11: =+I12 -> 100000
A12: Բաժին N 09 | B12: Խումբ N 06 | C12: Դաս N 01 | D12: Կրթությանը տրամադրվող օժանդակ ծառայություններ | I12: =+I13 -> 100000
A13: 1183-32003 | B13: Փոքրաքանակ երեխաներով համալրված հանրակրթական դպրոցների մոդուլային շենքերի կառուցում | I13: =+I14+I16 -> 100000
B14: ՄԱՍ II. ԱՇԽԱՏԱՆՔՆԵՐ | I14: =+I15 -> 98052
A15: 45211231 | B15: միջնակարգ դպրոցների կառուցման աշխատանքներ | E15: ԲՄ | F15: դրամ | G15: 98052000 | H15: 1 | I15: 98052
B16: ՄԱՍ III. ԾԱՌԱՅՈՒԹՅՈՒՆՆԵՐ | I16: =SUM(I17:I18) -> 1948
A17: 71351540-10 | B17: տեխնիկական հսկողության ծառայություններ | E17: ԳՀ | F17: դրամ | G17: 1307200 | H17: 1 | I17: 1307.2
A18: 98111140-1 | B18: հեղինակային հսկողության ծառայություններ | E18: ՄԱ | F18: դրամ | G18: 640800 | H18: 1 | I18: 640.8

Sheet Havelvats 8
C1: Հավելված N 8
C2: ՀՀ կառավարության 2021 թվականի
C3: ______________ ի ___Ն որոշման
A6: «ՀԱՅԱUՏԱՆԻ ՀԱՆՐԱՊԵՏՈՒԹՅԱՆ 2021 ԹՎԱԿԱՆԻ ՊԵՏԱԿԱՆ ԲՅՈՒՋԵԻ ՄԱUԻՆ» ՀԱՅԱUՏԱՆԻ ՀԱՆՐԱՊԵՏՈՒԹՅԱՆ OՐԵՆՔԻ N 6 ՀԱՎԵԼՎԱԾԻ N 2 ԱՂՅՈՒՍԱԿՈՒՄ ԿԱՏԱՐՎՈՂ ՓՈՓՈԽՈՒԹՅՈՒՆԸ
C7: հազար դրամներով
A8: Ծրագրային դասիչ | C8: Բյուջետային գլխավոր կարգադրիչների, ծրագրերի, միջոցառումների և ուղղությունների անվանումները | D8: Ընդամենը
A9: Ծրագիր | B9: Միջոցառում
C10: ԸՆԴԱՄԵՆԸ | D10: =+D12 -> -100000
C11: այդ թվում՝
C12: ՀՀ ԿՐԹՈՒԹՅԱՆ, ԳԻՏՈՒԹՅԱՆ, ՄՇԱԿՈՒՅԹԻ ԵՎ ՍՊՈՐՏԻ ՆԱԽԱՐԱՐՈՒԹՅՈՒՆ | D12: =+D14 -> -100000
C13: այդ թվում`
A14: 1183 | B14: 32003 | C14: Փոքրաքանակ երեխաներով համալրված հանրակրթական դպրոցների մոդուլային շենքերի կառուցում | D14: =-'Havelvats 1'!E21 -> -100000

Sheet Havelvats 9
G1: Հավելված N 9
G2: ՀՀ կառավարության 2021 թվականի
G3: ______________ ի ___Ն որոշման
A6: ՀԱՅԱՍՏԱՆԻ ՀԱՆՐԱՊԵՏՈՒԹՅԱՆ 2021 ԹՎԱԿԱՆԻ ՊԵՏԱԿԱՆ ԲՅՈՒՋԵՈՎ ՆԱԽԱՏԵՍՎԱԾ՝ ՀԱՅԱՍՏԱՆԻ ՀԱՆՐԱՊԵՏՈՒԹՅԱՆ ԿԱՌԱՎԱՐՈՒԹՅԱՆ ՊԱՀՈՒՍՏԱՅԻՆ ՖՈՆԴԻՑ ՀԱՏԿԱՑՈՒՄՆԵՐ ԿԱՏԱՐԵԼՈՒ ՎԵՐԱԲԵՐՅԱԼ
H8: հազ. դրամներով
A9: Գործառական դասիչը | D9: Ծրագրային դասիչը | F9: Բյուջետային հատկացումների գլխավոր կարգադրիչների, ծրագրերի, միջոցառումների և միջոցառումները կատարող պետական մարմինների անվանումները | G9: Ցուցանիշների փոփոխությունը (ավելացումները նշված են դրական նշանով, իսկ նվազեցումները՝ փակագծերում)
A10: Բաժին | B10: Խումբ | C10: Դաս | D10: Ծրագիր | E10: Միջոցառում | G10: Ինն ամիս | H10: Տարի
F11: ԸՆԴԱՄԵՆԸ | G11: =+G13+G32 -> 0 | H11: =+H13+H32 -> 0
F12: այդ թվում
F13: ՀՀ կառավարություն | G13: =+G14 -> -25000 | H13: =+H14 -> -100000
A14: 11 | F14: ՀԻՄՆԱԿԱՆ ԲԱԺԻՆՆԵՐԻՆ ՉԴԱՍՎՈՂ ՊԱՀՈՒՍՏԱՅԻՆ ՖՈՆԴԵՐ | G14: =+G16 -> -25000 | H14: =+H16 -> -100000
F15: այդ թվում`
B16: 01 | F16: ՀՀ կառավարության և համայնքների պահուստային ֆոնդ | G16: =+G18 -> -25000 | H16: =+H18 -> -100000
F17: այդ թվում`
C18: 01 | F18: ՀՀ կառավարության պահուստային ֆոնդ | G18: =+G20 -> -25000 | H18: =+H20 -> -100000
F19: այդ թվում`
F20: ՀՀ կառավարություն | G20: =+G22 -> -25000 | H20: =+H22 -> -100000
F21: այդ թվում`
D22: 1139 | E22: ՀՀ կառավարության պահուստային ֆոնդ | F22: ՀՀ կառավարության պահուստային ֆոնդ | G22: =+G24 -> -25000 | H22: =+H24 -> -100000
F23: այդ թվում`
E24: 11001 | F24: ՀՀ կառավարության պահուստային ֆոնդ | G24: =+G26 -> -25000 | H24: =+H26 -> -100000
F25: այդ թվում` ըստ կատարողների
F26: ՀՀ կառավարություն | G26: =+G28 -> -25000 | H26: =+H28 -> -100000
F27: այդ թվում` բյուջետային ծախսերի տնտեսագիտական դասակարգման հոդվածներ
F28: ԸՆԴԱՄԵՆԸ ԾԱԽՍԵՐ | G28: =+G29 -> -25000 | H28: =+H29 -> -100000
F29: ԸՆԹԱՑԻԿ ԾԱԽՍԵՐ | G29: =+G30 -> -25000 | H29: =+H30 -> -100000
F30: ԱՅԼ ԾԱԽՍԵՐ | G30: =+G31 -> -25000 | H30: =+H31 -> -100000
F31: -Պահուստային միջոցներ | G31: =+'Havelvats 2'!G49 -> -25000 | H31: =+'Havelvats 2'!H49 -> -100000
F32: ՀՀ կրթության, գիտության, մշակույթի և սպորտի նախարարություն | G32: =+G33 -> 25000 | H32: =+H33 -> 100000
A33: 09 | F33: ԿՐԹՈՒԹՅՈՒՆ | G33: =+G35 -> 25000 | H33: =+H35 -> 100000
F34: այդ թվում`
B35: 06 | F35: Կրթությանը տրամադրվող օժանդակ ծառայություններ | G35: =+G37 -> 25000 | H35: =+H37 -> 100000
F36: այդ թվում`
C37: 01 | F37: Կրթությանը տրամադրվող օժանդակ ծառայություններ | G37: =+G39 -> 25000 | H37: =+H39 -> 100000
F38: այդ թվում`
F39: ՀՀ կրթության, գիտության, մշակույթի և սպորտի նախարարություն | G39: =+G41 -> 25000 | H39: =+H41 -> 100000
F40: այդ թվում`
D41: 1183 | E41: Ապահով դպրոց | G41: =+G43 -> 25000 | H41: =+H43 -> 100000
E42: 32003 | F42: այդ թվում`
F43: Փոքրաքանակ երեխաներով համալրված հանրակրթական դպրոցների մոդուլային շենքերի կառուցում | G43: =+G45 -> 25000 | H43: =+H45 -> 100000
F44: այդ թվում` ըստ կատարողների
F45: ՀՀ քաղաքաշինության կոմիտե | G45: =+G47 -> 25000 | H45: =+H47 -> 100000
F46: այդ թվում՝ բյուջետային ծախսերի տնտեսագիտական դասակարգման հոդվածներ
F47: ԸՆԴԱՄԵՆԸ ԾԱԽՍԵՐ | G47: =+G48 -> 25000 | H47: =+H48 -> 100000
F48: ՈՉ ՖԻՆԱՆՍԱԿԱՆ ԱԿՏԻՎՆԵՐԻ ԳԾՈՎ ԾԱԽՍԵՐ | G48: =+G49 -> 25000 | H48: =+H49 -> 100000
F49: ՀԻՄՆԱԿԱՆ ՄԻՋՈՑՆԵՐ | G49: =+G50 -> 25000 | H49: =+H50 -> 100000
F50: ՇԵՆՔԵՐ ԵՎ ՇԻՆՈՒԹՅՈՒՆՆԵՐ | G50: =+G51 -> 25000 | H50: =+H51 -> 100000
F51: -Շենքերի և շինությունների շինարարություն | G51: =+'Havelvats 2'!G30 -> 25000 | H51: =+'Havelvats 2'!H30 -> 100000
