Workbook

Sheet Հավելված 1
C1: Հավելված 1
C2: ՀՀ կառավարության 2021 թվականի
C3: ___________ ___-ի N _______ -Ն որոշման
A5: ՀԱՅԱՍՏԱՆԻ ՀԱՆՐԱՊԵՏՈՒԹՅԱՆ ԿԱՌԱՎԱՐՈՒԹՅԱՆ 2020 ԹՎԱԿԱՆԻ ԴԵԿՏԵՄԲԵՐԻ 30-Ի N 2215-Ն ՈՐՈՇՄԱՆ N1 ՀԱՎԵԼՎԱԾԻ N1 ԱՂՅՈՒՍԱԿՈՒՄ ԿԱՏԱՐՎՈՂ ՓՈՓՈԽՈՒԹՅՈՒՆՆԵՐԸ
C6: հազար դրամներով
A7: Պետական բյուջեի դեֆիցիտի ֆինանսավորման աղբյուրներն ու դրանց տարրերի անվանումները | B7: Ինն ամիս | C7: Տարի
A8: ԸՆԴԱՄԵՆԸ | B8: =B10 -> 361749.42 | C8: =C10 -> 0
A9: այդ թվում՝
A10: Ա.Ներքին աղբյուրներ-ընդամենը | B10: =+B12 -> 361749.42 | C10: =+C12 -> 0
A11: այդ թվում՝
A12: 2. Ֆինանսական զուտ ակտիվներ | B12: =B14 -> 361749.42 | C12: =C14 -> 0
A13: այդ թվում՝
A14: 2.6.Այլ | B14: =B15 -> 361749.42 | C14: =C15 -> 0
A15: ժամանակավորապես ազատ միջոցներ | B15: 361749.42 | C15: 0

Sheet Հավելված 2
E1: Հավելված 2
E2: ՀՀ կառավարության 2021 թվականի
E3: ___________ ___-ի N _______ -Ն որոշման
A4: «ՀԱՅԱՍՏԱՆԻ ՀԱՆՐԱՊԵՏՈՒԹՅԱՆ 2021 ԹՎԱԿԱՆԻ ՊԵՏԱԿԱՆ ԲՅՈՒՋԵԻ ՄԱՍԻՆ» ՀԱՅԱՍՏԱՆԻ ՀԱՆՐԱՊԵՏՈՒԹՅԱՆ ՕՐԵՆՔԻ N 1 ՀԱՎԵԼՎԱԾԻ N 2 ԱՂՅՈՒՍԱԿՈՒՄ ԿԱՏԱՐՎՈՂ ՎԵՐԱԲԱՇԽՈՒՄԸ ԵՎ ՀԱՅԱՍՏԱՆԻ ՀԱՆՐԱՊԵՏՈՒԹՅԱՆ ԿԱՌԱՎԱՐՈՒԹՅԱՆ 2020 ԹՎԱԿԱՆԻ ԴԵԿՏԵՄԲԵՐԻ 30-Ի N 2215-Ն ՈՐՈՇՄԱՆ N 5 ՀԱՎԵԼՎԱԾԻ N 1 ԱՂՅՈՒՍԱԿՈՒՄ ԿԱՏԱՐՎՈՂ ՓՈՓՈԽՈՒԹՅՈՒՆՆԵՐԸ
E6: հազար դրամներով
A7: Ծրագրային դասիչը | C7: Բյուջետային գլխավոր կարգադրիչների, ծրագրերի և միջոցառումների անվանումները | D7: Ցուցանիշների փոփոխությունը (ավելացումները նշված են դրական նշանով, իսկ նվազեցումները փակագծերում)
A8: Ծրագիր | B8: Միջոցա ռում | D8: Ինն ամիս | E8: Տարի
C10: ԸՆԴԱՄԵՆԸ | D10: =D11+D31 -> 361749.42 | E10: =E11+E31 -> 0
C11: ՀՀ ազգային անվտանգության ծառայություն | D11: =+D12 -> 361749.42 | E11: =+E12 -> 361749.42
A12: 1138 | C12: Ծրագրի անվանումը` | D12: =D19+D25 -> 361749.42 | E12: =E19+E25 -> 361749.42
C13: Ազգային անվտանգություն
C14: Ծրագրի նպատակը`
C15: Ներքին և արտաքին սպառնալիքներից անձի՝ հասարակության ու պետության անվտանգության ապահովում
C16: Վերջնական արդյունքի նկարագրությունը`
C17: Այլ պետությունների կողմից հետախուզական գործունեության կասեցում՝պետական սահմանի անձեռնամխելիության ապահովում՝ կոռուպցիոն ռիսկերի շեշտակի նվազեցում
A18: Ծրագրի միջոցառումներ | C18: Ծրագրի միջոցառումներ
B19: 11001 | C19: Միջոցառման անվանումը` | D19: =-202819.0859+4800+51834+476542.658 -> 330357.57 | E19: =-202819.0859+4800+51834+476542.658 -> 330357.57
C20: Հետախուզական՝ հակահետախուզական՝ ռազմական հակահետախուզության՝ հանցագործությունների դեմ պայքարի և պետական սահմանի պահպանության գործունեության կազմակերպում
C21: Միջոցառման նկարագրությունը`
C22: ՀՀ անվտանգությանը սպառնացող վտանգի մասին տեղեկատվության ստացում՝ վերլուծում՝ վտանգի կանխատեսում, վտանգի կանխման ու չեզոքացման վերաբերյալ առաջարկությունների մշակում_x000D_
C23: Միջոցառման տեսակը
C24: Ծառայությունների մատուցում
B25: 31001 | C25: Միջոցառման անվանումը` | D25: =-6410.05005+15815.4+21986.5 -> 31391.85 | E25: =-6410.05005+15815.4+21986.5 -> 31391.85
C26: Ազգային անվտանգության համակարգի տեխնիկական հագեցվածության բարելավում
C27: Միջոցառման նկարագրությունը`
C28: Ազգային անվտանգության համակարգի ստորաբաժանումների համար վարչական սարքավորումների ձեռքբերում
C29: Միջոցառման տեսակը
C30: Պետական մարմինների կողմից օգտագործվող ոչ ֆինանսական ակտիվների հետ գործառնություններ
C31: ՀՀ կառավարություն | D31: =D32 -> 0 | E31: =E32 -> -361749.42
A32: 1139 | C32: Ծրագրի անվանումը` | D32: =D39+D45 -> 0 | E32: =E39+E45 -> -361749.42
C33: ՀՀ կառավարության պահուստային ֆոնդ
C34: Ծրագրի նպատակը`
C35: Պետական բյուջեում չկանխատեսված, ինչպես նաեւ բյուջետային երաշխիքների ապահովման ծախսերի ֆինանսավորման ապահովում_x000D_
C36: Վերջնական արդյունքի նկարագրությունը`
C37: Պահուստային ֆոնդի կառավարման արդյունավետության և թափանցիկության ապահովում
C38: Ծրագրի միջոցառումներ
B39: 11001 | C39: Միջոցառման անվանումը` | D39: =-D45 -> -361749.42 | E39: =D39 -> -361749.42
C40: ՀՀ կառավարության պահուստային ֆոնդ
C41: Միջոցառման նկարագրությունը`
C42: ՀՀ պետական բյուջեում նախատեսված ելքերի լրացուցիչ ֆինանսավորման՝ պետական բյուջեում չկանխատեսված ելքերի՝ ինչպես նաև բյուջետային երաշխիքների ապահովման ելքերի ֆինանսավորման ապահովում
...

Sheet Հավելված 3
H1: Հավելված 3
F2: ՀՀ կառավարության 2021 թվականի
F3: ___________ ___-ի N _______ -Ն որոշման
A5: «ՀԱՅԱՍՏԱՆԻ ՀԱՆՐԱՊԵՏՈՒԹՅԱՆ 2021 ԹՎԱԿԱՆԻ ՊԵՏԱԿԱՆ ԲՅՈՒՋԵԻ ՄԱՍԻՆ» ՀԱՅԱՍՏԱՆԻ ՀԱՆՐԱՊԵՏՈՒԹՅԱՆ ՕՐԵՆՔԻ N 1 ՀԱՎԵԼՎԱԾԻ N 3 ԱՂՅՈՒՍԱԿՈՒՄ ԿԱՏԱՐՎՈՂ ՓՈՓՈԽՈՒԹՅՈՒՆՆԵՐԸ
G6: հազար դրամներով
A7: Ծրագրային դասիչ | C7: Բյուջետային գլխավոր կարգադրիչների, ծրագրերի, միջոցառումների և ուղղությունների անվանումները | D7: Ընդամենը | E7: Ցուցանիշների փոփոխությունը (ավելացումները նշված են դրական նշանով)
E8: այդ թվում՝
A9: Ծրագիր | B9: Միջոցառում | E9: Կառուցման աշխատանքներ | F9: Վերակառուցման, վերանորոգման և վերականգնման աշխատանքներ | G9: Նախագծահե- տազոտական, գեոդեզիա- քարտեզագրա- կան աշխա- տանքներ | H9: Ոչ ֆինանսական այլ ակտիվների ձեռքբերում
C10: ԸՆԴԱՄԵՆԸ | D10: =D12 -> 31391.85 | E10: =E12 -> 0 | F10: =F12 -> 0 | G10: =G12 -> 0 | H10: =H12 -> 31391.85
C11: այդ թվում՝
C12: ՀՀ ԱԶԳԱՅԻՆ ԱՆՎՏԱՆԳՈՒԹՅԱՆ ԾԱՌԱՅՈՒԹՅՈՒՆ | D12: =D14 -> 31391.85 | E12: =E14 -> 0 | F12: =F14 -> 0 | G12: =G14 -> 0 | H12: =H14 -> 31391.85
C13: այդ թվում`
A14: 1138 | B14: 31001 | C14: Ազգային անվտանգության համակարգի տեխնիկական հագեցվածության բարելավում | D14: =E14+F14+G14+H14 -> 31391.85 | E14: 0 | F14: 0 | G14: 0 | H14: ='Հավելված 2'!D25 -> 31391.85

Sheet Հավելված 4
H1: Հավելված 4
G2: ՀՀ կառավարության 2021 թվականի
G3: ___________ ___-ի N _______ -Ն որոշման
A5: ՀԱՅԱՍՏԱՆԻ ՀԱՆՐԱՊԵՏՈՒԹՅԱՆ ԿԱՌԱՎԱՐՈՒԹՅԱՆ 2020 ԹՎԱԿԱՆԻ ԴԵԿՏԵՄԲԵՐԻ 30-Ի N 2215-Ն ՈՐՈՇՄԱՆ N 3 ԵՎ N 4 ՀԱՎԵԼՎԱԾՆԵՐՈՒՄ ԿԱՏԱՐՎՈՂ ՓՈՓՈԽՈՒԹՅՈՒՆՆԵՐԸ
G7: հազար դրամներով
A8: Գործառական դասիչը | D8: Ծրագրային դասիչը | F8: Բյուջետային հատկացումների գլխավոր կարգադրիչների, ծրագրերի, միջոցառումների և միջոցառումները կատարող պետական մարմինների անվանումները | G8: Ցուցանիշների փոփոխությունը (ավելացումները նշված են դրական նշանով, իսկ նվազեցումները` փակագծերում)
A9: Բաժին | B9: Խումբ | C9: Դաս | D9: Ծրագիր | E9: Միջոց առում | G9: Ինն ամիս | H9: Տարի
F11: ԸՆԴԱՄԵՆԸ ԾԱԽՍԵՐ | G11: =+G13+G51 -> 361749.42 | H11: =+H13+H51 -> 0
F12: այդ թվում`
A13: 03 | F13: ՀԱՍԱՐԱԿԱԿԱՆ ԿԱՐԳ, ԱՆՎՏԱՆԳՈՒԹՅՈՒՆ ԵՎ ԴԱՏԱԿԱՆ ԳՈՐԾՈՒՆԵՈՒԹՅՈՒՆ | G13: =+G15 -> 361749.42 | H13: =+H15 -> 361749.42
F14: այդ թվում`
B15: 01 | F15: Հասարակական կարգ և անվտանգություն | G15: =+G17 -> 361749.42 | H15: =+H17 -> 361749.42
F16: այդ թվում`
C17: 02 | F17: Ազգային անվտանգություն | G17: =+G19 -> 361749.42 | H17: =+H19 -> 361749.42
F18: այդ թվում`
D19: 1138 | F19: Ազգային անվտանգություն | G19: =G21 -> 361749.42 | H19: =H21 -> 361749.42
F20: այդ թվում`
F21: ՀՀ ազգային անվտանգության ծառայություն | G21: =G22+G41 -> 361749.42 | H21: =H22+H41 -> 361749.42
E22: 11001 | F22: Հետախուզական, հակահետախուզական, ռազմական հակահետախուզության, հանցագործությունների դեմ պայքարի և պետական սահմանի պահպանության գործունեության կազմակերպում | G22: =G24 -> 330357.57 | H22: =H24 -> 330357.57
F23: այդ թվում` ըստ կատարողների
F24: ՀՀ ազգային անվտանգության ծառայություն | G24: =G26 -> 330357.57 | H24: =H26 -> 330357.57
F25: այդ թվում` բյուջետային ծախսերի տնտեսագիտական դասակարգման հոդվածներ
F26: ԸՆԴԱՄԵՆԸ ԾԱԽՍԵՐ | G26: =G27 -> 330357.57 | H26: =H27 -> 330357.57
F27: ԸՆԹԱՑԻԿ ԾԱԽՍԵՐ | G27: =G28 -> 330357.57 | H27: =H28 -> 330357.57
F28: ԾԱՌԱՅՈՒԹՅՈՒՆՆԵՐԻ ԵՎ ԱՊՐԱՆՔՆԵՐԻ ՁԵՌՔԲԵՐՈՒՄ | G28: =G35+G29+G31 -> 330357.57 | H28: =H35+H29+H31 -> 330357.57
F29: Շարունակական ծախսեր | G29: =G30 -> -4054.5 | H29: =H30 -> -4054.5
F30: - Կոմունալ ծառայություններ | G30: =-4054.5 -> -4054.5 | H30: =-4054.5 -> -4054.5
F31: Պայմանագրային այլ ծառայությունների ձեռքբերում | G31: =G32+G33+G34 -> 2565.024 | H31: =H32+H33+H34 -> 2565.024
F32: - Համակարգչային ծառայություններ | G32: =-2209.8 -> -2209.8 | H32: =-2209.8 -> -2209.8
F33: - Տեղեկատվական ծառայություններ | G33: =-25.176 -> -25.176 | H33: =-25.176 -> -25.176
F34: - Կենցաղային և հանրային սննդի ծառայություններ | G34: 4800 | H34: 4800
F35: Նյութեր (Ապրանքներ) | G35: =G36+G37+G38+G39+G40 -> 331847.05 | H35: =H36+H37+H38+H39+H40 -> 331847.05
F36: - Գրասենյակային նյութեր և հագուստ | G36: =-31283.912+51834 -> 20550.088 | H36: =-31283.912+51834 -> 20550.088
F37: - Գյուղատնտեսական ապրանքներ | G37: -435 | H37: -435
F38: - Տրանսպորտային նյութեր | G38: -121110.43 | H38: -121110.43
F39: - Կենցաղային և հանրային սննդի նյութեր | G39: =-25005.343+476542.658 -> 451537.32 | H39: =-25005.343+476542.658 -> 451537.32
F40: - Հատուկ նպատակային այլ նյութեր | G40: -18694.927 | H40: -18694.927
E41: 31001 | F41: Ազգային անվտանգության համակարգի տեխնիկական հագեցվածության բարելավում | G41: =G43 -> 31391.85 | H41: =H43 -> 31391.85
F42: այդ թվում` ըստ կատարողների
F43: ՀՀ ազգային անվտանգության ծառայություն | G43: =G45 -> 31391.85 | H43: =H45 -> 31391.85
...

Sheet Հավելված 5
E1: Հավելված 5
D2: ՀՀ կառավարության 2021 թվականի
D3: ___________ ___-ի N _______ -Ն որոշման
A5: ՀԱՅԱՍՏԱՆԻ ՀԱՆՐԱՊԵՏՈՒԹՅԱՆ ԿԱՌԱՎԱՐՈՒԹՅԱՆ 2020 ԹՎԱԿԱՆԻ ԴԵԿՏԵՄԲԵՐԻ 30-Ի N 2215-Ն ՈՐՈՇՄԱՆ N 5 ՀԱՎԵԼՎԱԾԻ N 2 ԱՂՅՈՒՍԱԿՈՒՄ ԿԱՏԱՐՎՈՂ ՓՈՓՈԽՈՒԹՅՈՒՆՆԵՐԸ
D6: հազար դրամներով
A7: Ծրագրային դասիչ | C7: Բյուջետային գլխավոր կարգադրիչների, ծրագրերի, միջոցառումների, միջոցառումները կատարող պետական մարմինների և ուղղությունների անվանումները | D7: Ցուցանիշների փոփոխությունը (ավելացումները նշված են դրական նշանով)
D8: Ինն ամիս | E8: Տարի
A9: Ծրագիր | B9: Միջոցառում
C10: ԸՆԴԱՄԵՆԸ | D10: =D11 -> 31391.85 | E10: =E11 -> 31391.85
C11: ՀՀ ԱԶԳԱՅԻՆ ԱՆՎՏԱՆԳՈՒԹՅԱՆ ԾԱՌԱՅՈՒԹՅՈՒՆ | D11: =D15 -> 31391.85 | E11: =E15 -> 31391.85
C12: այդ թվում`
A13: 1138 | B13: 31001 | C13: Ազգային անվտանգության համակարգի տեխնիկական հագեցվածության բարելավում | D13: ='Հավելված 2'!D25 -> 31391.85 | E13: =D13 -> 31391.85
C14: այդ թվում` ըստ կատարողների
C15: ՀՀ ազգային անվտանգության ծառայություն | D15: =D13 -> 31391.85 | E15: =E13 -> 31391.85

Sheet Հավելված 6
D1: Հավելված 6
C2: ՀՀ կառավարության 2021 թվականի
C3: ___________ ___-ի N _______ -Ն որոշման
A5: ՀԱՅԱՍՏԱՆԻ ՀԱՆՐԱՊԵՏՈՒԹՅԱՆ ԿԱՌԱՎԱՐՈՒԹՅԱՆ 2020 ԹՎԱԿԱՆԻ ԴԵԿՏԵՄԲԵՐԻ 30-Ի N 2215-Ն ՈՐՈՇՄԱՆ N 9 ՀԱՎԵԼՎԱԾԻ N9.27 ԵՎ N9.47 ԱՂՅՈՒՍԱԿՆԵՐՈՒՄ ԿԱՏԱՐՎՈՂ ՓՈՓՈԽՈՒԹՅՈՒՆՆԵՐԸ
A7: ՀՀ ազգային անվտանգության ծառայություն
A8: ՄԱՍ 2. ՊԵՏԱԿԱՆ ՄԱՐՄՆԻ ԳԾՈՎ ԱՐԴՅՈՒՆՔԱՅԻՆ (ԿԱՏԱՐՈՂԱԿԱՆ) ՑՈՒՑԱՆԻՇՆԵՐԸ
A10: Ծրագրի դասիչը | B10: Ծրագրի անվանումը
A11: 1138 | B11: Ազգային անվտանգություն
A13: Ծրագրի միջոցառումները
A14: Ծրագրի դասիչը` | B14: 1138 | C14: Ցուցանիշների փոփոխությունը (ավելացումները նշված են դրական նշանով)
A15: Միջոցառման դասիչը` | B15: 11001 | C15: Ինն ամիս | D15: Տարի
A16: Միջոցառման անվանումը` | B16: Հետախուզական, հակահետախուզական, ռազմական հակահետախուզության, հանցագործությունների դեմ պայքարի և պետական սահմանի պահպանության գործունեության կազմակերպում
A17: Նկարագրությունը` | B17: ՀՀ անվտանգությանը սպառնացող վտանգի մասին տեղեկատվության ստացում, վերլուծում, վտանգի կանխատեսում, վտանգի կանխման ու չեզոքացման վերաբերյալ առաջարկությունների մշակում_x000D_
A18: Միջոցառման տեսակը` | B18: Ծառայությունների մատուցում
A19: Միջոցառումն իրականացնողի անվանումը | B19: ՀՀ ազգային անվտանգության ծառայություն
A20: Արդյունքի չափորոշիչներ
A21: Միջոցառման վրա կատարվող ծախսը (հազար դրամ) | C21: ='Հավելված 2'!D19 -> 330357.57 | D21: ='Հավելված 2'!E19 -> 330357.57
A23: Ծրագրի դասիչը` | B23: 1138 | C23: Ցուցանիշների փոփոխությունը (ավելացումները նշված են դրական նշանով)
A24: Միջոցառման դասիչը` | B24: 31001 | C24: Ինն ամիս | D24: Տարի
A25: Միջոցառման անվանումը` | B25: Ազգային անվտանգության համակարգի տեխնիկական հագեցվածության բարելավում
A26: Նկարագրությունը` | B26: Ազգային անվտանգության համակարգի ստորաբաժանումների համար վարչական սարքավորումների ձեռքբերում
A27: Միջոցառման տեսակը` | B27: Պետական մարմինների կողմից օգտագործվող ոչ ֆինանսական ակտիվների հետ գործառնություններ
A28: Միջոցառումն իրականացնողի անվանումը | B28: ՀՀ ազգային անվտանգության ծառայություն
A29: Արդյունքի չափորոշիչներ
A30: Գրասենյակային գույքի միավոր քանակ, հատ | C30: 625 | D30: =C30 -> 625
A31: Այլ սարքավորումների քանակ, հատ | C31: 135 | D31: =C31 -> 135
A32: Միջոցառման վրա կատարվող ծախսը (հազար դրամ) | C32: ='Հավելված 2'!D25 -> 31391.85 | D32: ='Հավելված 2'!E25 -> 31391.85
A36: ՀՀ Կառավարություն
A37: ՄԱՍ 2. ՊԵՏԱԿԱՆ ՄԱՐՄՆԻ ԳԾՈՎ ԱՐԴՅՈՒՆՔԱՅԻՆ (ԿԱՏԱՐՈՂԱԿԱՆ) ՑՈՒՑԱՆԻՇՆԵՐԸ
A39: Ծրագրի դասիչը | B39: Ծրագրի անվանումը
A40: 1139 | B40: ՀՀ կառավարության պահուստային ֆոնդ
A42: Ծրագրի միջոցառումները
A43: Ծրագրի դասիչը` | B43: 1139 | C43: Ցուցանիշների փոփոխությունը (նվազեցումները նշված են փակագծերում)
A44: Միջոցառման դասիչը` | B44: 11001 | C44: Ինն ամիս | D44: Տարի
A45: Միջոցառման անվանումը` | B45: ՀՀ կառավարության պահուստային ֆոնդ
A46: Նկարագրությունը` | B46: ՀՀ պետական բյուջեում նախատեսված ելքերի լրացուցիչ ֆինանսավորման, պետական բյուջեում չկանխատեսված ելքերի, ինչպես նաև բյուջետային երաշխիքների ապահովման ելքերի ֆինանսավորման ապահովում
A47: Միջոցառման տեսակը` | B47: Ծառայությունների մատուցում
A48: Միջոցառումն իրականացնողի անվանումը | B48: ՀՀ կառավարություն
A49: Արդյունքի չափորոշիչներ
A50: Միջոցառման վրա կատարվող ծախսը (հազար դրամ) | C50: ='Հավելված 2'!D39 -> -361749.42 | D50: ='Հավելված 2'!E39 -> -361749.42
...

Sheet Հավելված 7
D1: Հավելված 7
C2: ՀՀ կառավարության 2021 թվականի
C3: ___________ ___-ի N _______ -Ն որոշման
A5: ՀԱՅԱՍՏԱՆԻ ՀԱՆՐԱՊԵՏՈՒԹՅԱՆ ԿԱՌԱՎԱՐՈՒԹՅԱՆ 2020 ԹՎԱԿԱՆԻ ԴԵԿՏԵՄԲԵՐԻ 30-Ի N 2215-Ն ՈՐՈՇՄԱՆ N 9.1 ՀԱՎԵԼՎԱԾԻ N9.1.32 ԵՎ N9.1.58 ԱՂՅՈՒՍԱԿՆԵՐՈՒՄ ԿԱՏԱՐՎՈՂ ՓՈՓՈԽՈՒԹՅՈՒՆՆԵՐԸ ԵՎ ԼՐԱՑՈՒՄՆԵՐԸ
A7: ՀՀ ազգային անվտանգության ծառայություն
A8: ՄԱՍ 1. ՊԵՏԱԿԱՆ ՄԱՐՄՆԻ ԳԾՈՎ ԱՐԴՅՈՒՆՔԱՅԻՆ (ԿԱՏԱՐՈՂԱԿԱՆ) ՑՈՒՑԱՆԻՇՆԵՐԸ
A10: Ծրագրի դասիչը | B10: Ծրագրի անվանումը
A11: 1138 | B11: Ազգային անվտանգություն
A13: Ծրագրի միջոցառումները
A14: Ծրագրի դասիչը` | B14: 1138 | C14: Ցուցանիշների փոփոխությունը (ավելացումները նշված են դրական նշանով)
A15: Միջոցառման դասիչը` | B15: 11001 | C15: Ինն ամիս | D15: Տարի
A16: Միջոցառման անվանումը` | B16: Հետախուզական, հակահետախուզական, ռազմական հակահետախուզության, հանցագործությունների դեմ պայքարի և պետական սահմանի պահպանության գործունեության կազմակերպում
A17: Նկարագրությունը` | B17: ՀՀ անվտանգությանը սպառնացող վտանգի մասին տեղեկատվության ստացում, վերլուծում, վտանգի կանխատեսում, վտանգի կանխման ու չեզոքացման վերաբերյալ առաջարկությունների մշակում_x000D_
A18: Միջոցառման տեսակը` | B18: Ծառայությունների մատուցում
A19: Միջոցառումն իրականացնողի անվանումը | B19: ՀՀ ազգային անվտանգության ծառայություն
A20: Արդյունքի չափորոշիչներ
A21: Միջոցառման վրա կատարվող ծախսը (հազար դրամ) | C21: ='Հավելված 2'!D19 -> 330357.57 | D21: ='Հավելված 2'!E19 -> 330357.57
A23: Ծրագրի դասիչը` | B23: 1138 | C23: Ցուցանիշների փոփոխությունը (ավելացումները նշված են դրական նշանով)
A24: Միջոցառման դասիչը` | B24: 31001 | C24: Ինն ամիս | D24: Տարի
A25: Միջոցառման անվանումը` | B25: Ազգային անվտանգության համակարգի տեխնիկական հագեցվածության բարելավում
A26: Նկարագրությունը` | B26: Ազգային անվտանգության համակարգի ստորաբաժանումների համար վարչական սարքավորումների ձեռքբերում
A27: Միջոցառման տեսակը` | B27: Պետական մարմինների կողմից օգտագործվող ոչ ֆինանսական ակտիվների հետ գործառնություններ
A28: Միջոցառումն իրականացնողի անվանումը | B28: ՀՀ ազգային անվտանգության ծառայություն
A29: Արդյունքի չափորոշիչներ
A30: Գրասենյակային գույքի միավոր քանակ, հատ | C30: ='Հավելված 6'!C30 -> 625 | D30: ='Հավելված 6'!D30 -> 625
A31: Այլ սարքավորումների քանակ, հատ | C31: ='Հավելված 6'!C31 -> 135 | D31: ='Հավելված 6'!D31 -> 135
A32: Միջոցառման վրա կատարվող ծախսը (հազար դրամ) | C32: ='Հավելված 2'!D25 -> 31391.85 | D32: ='Հավելված 2'!E25 -> 31391.85
A35: ՀՀ Կառավարություն
A36: ՄԱՍ 1. ՊԵՏԱԿԱՆ ՄԱՐՄՆԻ ԳԾՈՎ ԱՐԴՅՈՒՆՔԱՅԻՆ (ԿԱՏԱՐՈՂԱԿԱՆ) ՑՈՒՑԱՆԻՇՆԵՐԸ
A38: Ծրագրի դասիչը | B38: Ծրագրի անվանումը
A39: 1139 | B39: ՀՀ կառավարության պահուստային ֆոնդ
A41: Ծրագրի միջոցառումները
A42: Ծրագրի դասիչը` | B42: 1139 | C42: Ցուցանիշների փոփոխությունը (նվազեցումները նշված են փակագծերում)
A43: Միջոցառման դասիչը` | B43: 11001 | C43: Ինն ամիս | D43: Տարի
A44: Միջոցառման անվանումը` | B44: ՀՀ կառավարության պահուստային ֆոնդ
A45: Նկարագրությունը` | B45: ՀՀ պետական բյուջեում նախատեսված ելքերի լրացուցիչ ֆինանսավորման, պետական բյուջեում չկանխատեսված ելքերի, ինչպես նաև բյուջետային երաշխիքների ապահովման ելքերի ֆինանսավորման ապահովում
A46: Միջոցառման տեսակը` | B46: Ծառայությունների մատուցում
A47: Միջոցառումն իրականացնողի անվանումը | B47: ՀՀ կառավարություն
A48: Արդյունքի չափորոշիչներ
A49: Միջոցառման վրա կատարվող ծախսը (հազար դրամ) | C49: ='Հավելված 6'!C50 -> -361749.42 | D49: ='Հավելված 6'!D50 -> -361749.42
...

Sheet Հավելված 8
G1: Հավելված 8
E2: ՀՀ կառավարության 2021 թվականի
E3: ___________ ___-ի N _______ -Ն որոշման
A5: ՀԱՅԱՍՏԱՆԻ ՀԱՆՐԱՊԵՏՈՒԹՅԱՆ ԿԱՌԱՎԱՐՈՒԹՅԱՆ 2020 ԹՎԱԿԱՆԻ ԴԵԿՏԵՄԲԵՐԻ 30-Ի N 2215-Ն ՈՐՈՇՄԱՆ N 10 ՀԱՎԵԼՎԱԾՈՒՄ ԿԱՏԱՐՎՈՂ ՓՈՓՈԽՈՒԹՅՈՒՆՆԵՐԸ
A6: Կոդը | B6: Անվանումը | C6: Գնման ձևը | D6: Չափման միավորը | E6: Միավորի գինը | F6: Ցուցանիշների փոփոխությունը (ավելացումները նշված են դրական նշանով, իսկ նվազեցումները՝ փակագծերում)
F7: Քանակը | G7: Գումարը (հազար դրամով)
A8: ՀՀ ազգային անվտանգության ծառայություն
A9: Բաժին N 03 | B9: Խումբ N 01 | C9: Դաս N 02 | D9: Ազգային անվտանգություն | G9: =G10+G820 -> 361749.42
A10: 1138 11001 | B10: Հետախուզական, հակահետախուզական, ռազմական հակահետախուզության, հանցագործությունների դեմ պայքարի և պետական սահմանի պահպանության գործունեության կազմակերպում | G10: =G11 -> 330357.57
A11: ՄԱՍ I. Ա Պ Ր Ա Ն Ք Ն Ե Ր | G11: =SUM(G12:G819) -> 330357.57
A12: 22211300/511 | B12: պարբերական մամուլ | C12: ԳՀ | D12: հատ | E12: - | F12: - | G12: -4.488
A13: 22211300/516 | B13: պարբերական մամուլ | C13: ԳՀ | D13: հատ | E13: - | F13: - | G13: -3.9
A14: 22211300/519 | B14: պարբերական մամուլ | C14: ԳՀ | D14: հատ | E14: - | F14: - | G14: -3.696
A15: 22211300/534 | B15: պարբերական մամուլ | C15: ԳՀ | D15: հատ | E15: - | F15: - | G15: -0.2
A16: 22211300/508 | B16: պարբերական մամուլ | C16: ԳՀ | D16: հատ | E16: - | F16: - | G16: -1.248
A17: 22211300/538 | B17: պարբերական մամուլ | C17: ԳՀ | D17: հատ | E17: - | F17: - | G17: -0.32
A18: 22211300/537 | B18: պարբերական մամուլ | C18: ԳՀ | D18: հատ | E18: - | F18: - | G18: -0.6
A19: 22211300/529 | B19: պարբերական մամուլ | C19: ԳՀ | D19: հատ | E19: - | F19: - | G19: -0.4
A20: 22211300/540 | B20: պարբերական մամուլ | C20: ԳՀ | D20: հատ | E20: - | F20: - | G20: -0.2
A21: 22211300/532 | B21: պարբերական մամուլ | C21: ԳՀ | D21: հատ | E21: - | F21: - | G21: -0.4
A22: 22211300/524 | B22: պարբերական մամուլ | C22: ԳՀ | D22: հատ | E22: - | F22: - | G22: -1.04
A23: 22211300/507 | B23: պարբերական մամուլ | C23: ԳՀ | D23: հատ | E23: - | F23: - | G23: -0.624
... A740: 30237460/2 | B740: համակարգչային ստեղնաշարեր | C740: ԳՀ | D740: հատ | E740: - | F740: - | G740: -5
A741: 18221200/501 | B741: անջրանցիկ թիկնոցներ | C741: ԳՀ | D741: հատ | E741: 3998 | F741: 500 | G741: =E741*F741/1000 -> 1999
A742: 18311120/501 | B742: կիսավարտիքներ | C742: ԳՀ | D742: հատ | E742: 425 | F742: 1500 | G742: =E742*F742/1000 -> 637.5
A743: 18311160/501 | B743: գուլպաներ | C743: ԳՀ | D743: զույգ | E743: 144 | F743: 2500 | G743: =E743*F743/1000 -> 360
A744: 18311160/502 | B744: գուլպաներ | C744: ԳՀ | D744: զույգ | E744: 450 | F744: 2250 | G744: =E744*F744/1000 -> 1012.5
A745: 18311210/501 | B745: ներքնաշապիկներ | C745: ԳՀ | D745: հատ | E745: 400 | F745: 1500 | G745: =E745*F745/1000 -> 600
A746: 18341200/502 | B746: շապիկ և վարտիք | C746: ԳՀ | D746: լրակազմ | E746: 2480 | F746: 500 | G746: =E746*F746/1000 -> 1240
A747: 18421100/501 | B747: թաշկինակներ | C747: ԳՀ | D747: հատ | E747: 90 | F747: 2000 | G747: =E747*F747/1000 -> 180
A748: 18421130/501 | B748: ձեռնոցներ | C748: ԳՀ | D748: զույգ | E748: 1100 | F748: 500 | G748: =E748*F748/1000 -> 550
A749: 18421130/502 | B749: ձեռնոցներ | C749: ԳՀ | D749: զույգ | E749: 900 | F749: 500 | G749: =E749*F749/1000 -> 450
A750: 18421170/501 | B750: գոտիներ | C750: ԳՀ | D750: հատ | E750: 1450 | F750: 500 | G750: =E750*F750/1000 -> 725
A751: 18421170/502 | B751: գոտիներ | C751: ԳՀ | D751: հատ | E751: 600 | F751: 500 | G751: =E751*F751/1000 -> 300
A752: 18421200/501 | B752: ենթաօձիքներ | C752: ԳՀ | D752: հատ | E752: 20 | F752: 6000 | G752: =E752*F752/1000 -> 120
... A800: 39831244/501 | B800: օճառ, տնտեսական | C800: ԳՀ | D800: կիլոգրամ | E800: 547.58 | F800: 1240 | G800: =E800*F800/1000 -> 678.9992
A801: ՄԱՍ III. ԾԱՌԱՅՈՒԹՅՈՒՆՆԵՐ
A802: 48211200/502 | B802: լիցենզիաների կառավարման համակարգչային ծրագրային փաթեթներ | C802: ԳՀ | D802: դրամ | E802: - | F802: - | G802: -930
A803: 48211200/504 | B803: լիցենզիաների կառավարման համակարգչային ծրագրային փաթեթներ | C803: ԳՀ | D803: դրամ | E803: - | F803: - | G803: -5.8
A804: 48211200/501 | B804: լիցենզիաների կառավարման համակարգչային ծրագրային փաթեթներ | C804: ԳՀ | D804: դրամ | E804: - | F804: - | G804: -1270
...

Sheet Հավելված 9
H1: Հավելված 9
G2: ՀՀ կառավարության 2021 թվականի
G3: ___________ ___-ի N _______ -Ն որոշման
A5: ՀԱՅԱՍՏԱՆԻ ՀԱՆՐԱՊԵՏՈՒԹՅԱՆ 2021 ԹՎԱԿԱՆԻ ՊԵՏԱԿԱՆ ԲՅՈՒՋԵՈՎ ՆԱԽԱՏԵՍՎԱԾ՝ ՀԱՅԱՍՏԱՆԻ ՀԱՆՐԱՊԵՏՈՒԹՅԱՆ ԿԱՌԱՎԱՐՈՒԹՅԱՆ ՊԱՀՈՒՍՏԱՅԻՆ ՖՈՆԴԻՑ ՀԱՏԿԱՑՈՒՄՆԵՐ ԿԱՏԱՐԵԼՈՒ ՎԵՐԱԲԵՐՅԱԼ
G7: հազար դրամներով
A8: Գործառական դասիչը | D8: Ծրագրային դասիչը | F8: Բյուջետային հատկացումների գլխավոր կարգադրիչների, ծրագրերի, միջոցառումների և միջոցառումները կատարող պետական մարմինների անվանումները | G8: Ցուցանիշների փոփոխությունը (ավելացումները նշված են դրական նշանով, իսկ նվազեցումները՝ փակագծերում)
A9: Բաժին | B9: Խումբ | C9: Դաս | D9: Ծրագիր | E9: Միջոց առում | G9: Ինն ամիս | H9: Տարի
F11: ԸՆԴԱՄԵՆԸ ԾԱԽՍԵՐ | G11: =+G38+G13 -> 361749.42 | H11: =+H38+H13 -> 0
F12: այդ թվում`
A13: 11 | F13: ՀԻՄՆԱԿԱՆ ԲԱԺԻՆՆԵՐԻՆ ՉԴԱՍՎՈՂ ՊԱՀՈՒՍՏԱՅԻՆ ՖՈՆԴԵՐ | G13: =+G15 -> 0 | H13: =+H15 -> -361749.42
F14: այդ թվում`
B15: 01 | F15: ՀՀ կառավարության և համայնքների պահուստային ֆոնդ | G15: =+G17 -> 0 | H15: =+H17 -> -361749.42
F16: այդ թվում`
C17: 01 | F17: ՀՀ կառավարության պահուստային ֆոնդ | G17: =+G19 -> 0 | H17: =+H19 -> -361749.42
F18: այդ թվում`
D19: 1139 | F19: ՀՀ կառավարության պահուստային ֆոնդ | G19: =G21 -> 0 | H19: =H21 -> -361749.42
F20: այդ թվում`
F21: ՀՀ կառավարություն | G21: =+G22+G30 -> 0 | H21: =+H22+H30 -> -361749.42
E22: 11001 | F22: ՀՀ կառավարության պահուստային ֆոնդ | G22: =+G24 -> -361749.42 | H22: =+H24 -> -361749.42
F23: այդ թվում` ըստ կատարողների
F24: ՀՀ կառավարություն | G24: =+G26 -> -361749.42 | H24: =+H26 -> -361749.42
F25: այդ թվում` բյուջետային ծախսերի տնտեսագիտական դասակարգման հոդվածներ
F26: ԸՆԴԱՄԵՆԸ ԾԱԽՍԵՐ | G26: =+G27 -> -361749.42 | H26: =+H27 -> -361749.42
F27: ԸՆԹԱՑԻԿ ԾԱԽՍԵՐ | G27: =+G28 -> -361749.42 | H27: =+H28 -> -361749.42
F28: ԱՅԼ ԾԱԽՍԵՐ | G28: =+G29 -> -361749.42 | H28: =+H29 -> -361749.42
F29: Պահուստային միջոցներ | G29: =-G37 -> -361749.42 | H29: =G29 -> -361749.42
E30: 11001 | F30: ՀՀ կառավարության պահուստային ֆոնդ | G30: =+G32 -> 361749.42 | H30: =+H32 -> 0
F31: այդ թվում` ըստ կատարողների
F32: ՀՀ կառավարություն | G32: =+G34 -> 361749.42 | H32: =+H34 -> 0
F33: այդ թվում` բյուջետային ծախսերի տնտեսագիտական դասակարգման հոդվածներ
F34: ԸՆԴԱՄԵՆԸ ԾԱԽՍԵՐ | G34: =+G35 -> 361749.42 | H34: =+H35 -> 0
F35: ԸՆԹԱՑԻԿ ԾԱԽՍԵՐ | G35: =+G36 -> 361749.42 | H35: =+H36 -> 0
F36: ԱՅԼ ԾԱԽՍԵՐ | G36: =+G37 -> 361749.42 | H36: =+H37 -> 0
F37: Պահուստային միջոցներ | G37: ='Հավելված 1'!B15 -> 361749.42 | H37: ='Հավելված 1'!C15 -> 0
A38: 03 | F38: ՀԱՍԱՐԱԿԱԿԱՆ ԿԱՐԳ, ԱՆՎՏԱՆԳՈՒԹՅՈՒՆ ԵՎ ԴԱՏԱԿԱՆ ԳՈՐԾՈՒՆԵՈՒԹՅՈՒՆ | G38: =+G40 -> 361749.42 | H38: =+H40 -> 361749.42
F39: այդ թվում`
B40: 01 | F40: Հասարակական կարգ և անվտանգություն | G40: =+G42 -> 361749.42 | H40: =+H42 -> 361749.42
F41: այդ թվում`
C42: 02 | F42: Ազգային անվտանգություն | G42: =+G44 -> 361749.42 | H42: =+H44 -> 361749.42
F43: այդ թվում`
...
