Workbook
Name AgencyCode: #REF!
Name AgencyName: #REF!
Name åû: #REF!
Name davit: #REF!
Name Functional1: #REF!
Name ggg: #REF!
Name mas: #REF!
Name mass: #REF!
Name PANature: #REF!
Name PAType: #REF!
Name Performance2: #REF!
Name PerformanceType: #REF!
Name x: #REF!
Name Հավելված: #REF!
Name Մաս: #REF!
Name շախմատիստ: #REF!

Sheet 1
E1: Հավելված N 1
D2: ՀՀ կառավարության 2021 թվականի
D3: -----------------ի N -----------Ն որոշման
A5: ՀԱՅԱՍՏԱՆԻ ՀԱՆՐԱՊԵՏՈՒԹՅԱՆ 2021 ԹՎԱԿԱՆԻ ՊԵՏԱԿԱՆ ԲՅՈՒՋԵԻ ՄԱՍԻՆ» ՀԱՅԱՍՏԱՆԻ ՀԱՆՐԱՊԵՏՈՒԹՅԱՆ ՕՐԵՆՔԻ N 1 ՀԱՎԵԼՎԱԾԻ N 2 ԱՂՅՈՒՍԱԿՈՒՄ ԿԱՏԱՐՎՈՂ ՎԵՐԱԲԱՇԽՈՒՄՆ ԵՎ ՀԱՅԱՍՏԱՆԻ ՀԱՆՐԱՊԵՏՈՒԹՅԱՆ ԿԱՌԱՎԱՐՈՒԹՅԱՆ 2020 ԹՎԱԿԱՆԻ ԴԵԿՏԵՄԲԵՐԻ 30-Ի N 2215-Ն ՈՐՈՇՄԱՆ N 5 ՀԱՎԵԼՎԱԾԻ N 1 ԱՂՅՈՒՍԱԿՈՒՄ ԿԱՏԱՐՎՈՂ ՓՈՓՈԽՈՒԹՅՈՒՆՆԵՐԸ
E6: հազ. դրամ
A7: Ծրագրային դասիչը | C7: Բյուջետային հատկացումների գլխավոր կարգադրիչների, ծրագրերի և միջոցառումների անվանումները | D7: Ցուցանիշների փոփոխությունները ավելացումները նշված են դրական նշանով, իսկ նվազեցումները՝ փակագծերում
A8: Ծրագիր | B8: Միջոցառում | D8: Ինն ամիս | E8: Տարի
C9: ԸՆԴԱՄԵՆԸ | D9: =D10 -> 0 | E9: =E10 -> 0
C10: ՀՀ աշխատանքի և սոցիալական հարցերի նախարարություն | D10: =D11+D24 -> 0 | E10: =E11+E24 -> 0
A11: 1102 | C11: Ծրագրի անվանումը` | D11: =D18 -> -280000 | E11: =E18 -> -420000
C12: Կենսաթոշակային ապահովություն
C13: Ծրագրի նպատակը`
C14: Կենսաթոշակի իրավունքի իրացում
C15: Վերջնական արդյունքի նկարագրությունը`
C16: Կենսաթոշակների նշանակման և վճարման գործընթացի ապահովում
A17: Ծրագրի միջոցառումներ
B18: 12003 | C18: Միջոցառման անվանումը` | D18: =D23 -> -280000 | E18: =E23 -> -420000
C19: Աշխատանքային կենսաթոշակներ
C20: Միջոցառման նկարագրությունը`
C21: Աշխատանքային կենսաթոշակների (տարիքային, հաշմանդամության, արտոնյալ պայմաններով, երկարամյա ծառայության, մասնակի, կերակրողին կորցնելու դեպքում կենսաթոշակների) տրամադրում
C22: Միջոցառման տեսակը
C23: Տրանսֆերտների տրամադրում | D23: -280000 | E23: =-280000-140000 -> -420000
A24: 1068 | C24: Ծրագրի անվանումը` | D24: =D31 -> 280000 | E24: =E31 -> 420000
C25: Ժողովրդագրական վիճակի բարելավում
C26: Ծրագրի նպատակը`
C27: Խթանել ժողովրդագրական վիճակի բարելավումը
C28: Վերջնական արդյունքի նկարագրությունը`
C29: Ժողովրդագրական վիճակի բարելավում և բազմազավակության աճ
A30: Ծրագրի միջոցառումներ
B31: 12003 | C31: Միջոցառման անվանումը` | D31: =D36 -> 280000 | E31: =E36 -> 420000
C32: Երեխա ունեցող ընտանիքների բնակարանային ապահովման աջակցություն
C33: Միջոցառման նկարագրությունը`
C34: Երեխա ունեցող ընտանիքների բնակարանային ապահովման աջակցության տրամադրում
C35: Միջոցառման տեսակը
C36: Տրանսֆերտների տրամադրում | D36: 280000 | E36: 420000

Sheet 2
H1: Հավելված N 2
H2: ՀՀ կառավարության 2021 թվականի
H3: -----------------ի N -----------Ն որոշման
A4: ՀԱՅԱՍՏԱՆԻ ՀԱՆՐԱՊԵՏՈՒԹՅԱՆ ԿԱՌԱՎԱՐՈՒԹՅԱՆ 2020 ԹՎԱԿԱՆԻ ԴԵԿՏԵՄԲԵՐԻ 30-Ի N 2215-Ն ՈՐՈՇՄԱՆ N 3 և N 4 ՀԱՎԵԼՎԱԾՆԵՐՈՒՄ ԿԱՏԱՐՎՈՂ ՓՈՓՈԽՈՒԹՅՈՒՆՆԵՐԸ
G5: հազ. դրամ
A6: Գործառական դասիչը | D6: Ծրագրային դասիչը | F6: Բյուջետային ծախսերի գործառական դասակարգման բաժինների, խմբերի և դասերի, բյուջետային ծրագրերի միջոցառումների, բյուջետային հատկացումների գլխավոր կարգադրիչների անվանումները | G6: Ցուցանիշների փոփոխությունները (ավելացումները նշված են դրական, իսկ նվազեցումները՝ փակագծերում)
A7: Բաժինը | B7: Խումբը | C7: Դասը | D7: Ծրագիր | E7: Միջոցառում | G7: Ինն ամիս | H7: Տարի
F8: ԸՆԴԱՄԵՆԸ ԾԱԽՍԵՐ | G8: =G10 -> 0 | H8: =H10 -> 0
F9: այդ թվում`
A10: 10 | F10: ՍՈՑԻԱԼԱԿԱՆ ՊԱՇՏՊԱՆՈՒԹՅՈՒՆ | G10: =G27+G12 -> 0 | H10: =H27+H12 -> 0
F11: այդ թվում`
B12: 02 | F12: Ծերություն | G12: =+G14 -> -280000 | H12: =+H14 -> -420000
F13: այդ թվում`
C14: 01 | F14: Ծերություն | G14: =G16 -> -280000 | H14: =H16 -> -420000
F15: այդ թվում`
D16: 1102 | F16: Կենսաթոշակային ապահովություն | G16: =G18 -> -280000 | H16: =H18 -> -420000
F17: այդ թվում`
E18: 12003 | F18: Աշխատանքային կենսաթոշակներ | G18: =+G20 -> -280000 | H18: =+H20 -> -420000
F19: այդ թվում` ըստ կատարողների
F20: ՀՀ աշխատանքի և սոցիալական հարցերի նախարարության միասնական սոցիալական ծառայություն | G20: =+G21 -> -280000 | H20: =+H21 -> -420000
F21: այդ թվում` բյուջետային ծախսերի տնտեսագիտական դասակարգման հոդվածներ | G21: =+G23 -> -280000 | H21: =+H23 -> -420000
F22: ԸՆԴԱՄԵՆԸ ԾԱԽՍԵՐ
F23: ԸՆԹԱՑԻԿ ԾԱԽՍԵՐ | G23: =+G25 -> -280000 | H23: =+H25 -> -420000
F24: ՍՈՑԻԱԼԱԿԱՆ ՆՊԱՍՏՆԵՐ ԵՎ ԿԵՆՍԱԹՈՇԱԿՆԵՐ
F25: Կենսաթոշակներ | G25: =+G26 -> -280000 | H25: =+H26 -> -420000
F26: - Կենսաթոշակներ | G26: ='1'!D18 -> -280000 | H26: ='1'!E18 -> -420000
B27: 04 | F27: Ընտանիքի անդամներ և զավակներ | G27: =+G29 -> 280000 | H27: =+H29 -> 420000
F28: այդ թվում`
C29: 01 | F29: Ընտանիքի անդամներ և զավակներ | G29: =G31 -> 280000 | H29: =H31 -> 420000
F30: այդ թվում`
D31: 1068 | F31: Ժողովրդագրական վիճակի բարելավում | G31: =G33 -> 280000 | H31: =H33 -> 420000
F32: այդ թվում`
E33: 12003 | F33: Երեխա ունեցող ընտանիքների բնակարանային ապահովման աջակցություն | G33: =G35 -> 280000 | H33: =H35 -> 420000
F34: այդ թվում` ըստ կատարողների
F35: ՀՀ աշխատանքի և սոցիալական հարցերի նախարարություն | G35: =G37 -> 280000 | H35: =H37 -> 420000
F36: այդ թվում` բյուջետային ծախսերի տնտեսագիտական դասակարգման հոդվածներ
F37: ԸՆԴԱՄԵՆԸ ԾԱԽՍԵՐ | G37: =G38 -> 280000 | H37: =H38 -> 420000
F38: ԸՆԹԱՑԻԿ ԾԱԽՍԵՐ | G38: =G39 -> 280000 | H38: =H39 -> 420000
F39: ՍՈՑԻԱԼԱԿԱՆ ՆՊԱՍՏՆԵՐ ԵՎ ԿԵՆՍԱԹՈՇԱԿՆԵՐ | G39: =G40 -> 280000 | H39: =H40 -> 420000
F40: Սոցիալական օգնության դրամական արտահայտությամբ նպաստներ (բյուջեից) | G40: =G41 -> 280000 | H40: =H41 -> 420000
F41: - Այլ նպաստներ բյուջեից | G41: ='1'!D36 -> 280000 | H41: ='1'!E36 -> 420000

Sheet 3
D1: Հավելված N 3
D2: ՀՀ կառավարության 2021 թվականի
D3: -----------------ի N -----------Ն որոշման
A5: ՀԱՅԱՍՏԱՆԻ ՀԱՆՐԱՊԵՏՈՒԹՅԱՆ ԿԱՌԱՎԱՐՈՒԹՅԱՆ 2020 ԹՎԱԿԱՆԻ ԴԵԿՏԵՄԲԵՐԻ 30-Ի N 2215-Ն N 9 ՀԱՎԵԼՎԱԾԻ N 9.16 ԱՂՅՈՒՍԱԿՈՒՄ ԿԱՏԱՐՎՈՂ ՓՈՓՈԽՈՒԹՅՈՒՆՆԵՐԸ
A6: Հայաստանի Հանրապետության աշխատանքի և սոցիալական հարցերի նախարարություն
A7: ՄԱՍ 2. ՊԵՏԱԿԱՆ ՄԱՐՄՆԻ ԳԾՈՎ ԱՐԴՅՈՒՆՔԱՅԻՆ (ԿԱՏԱՐՈՂԱԿԱՆ) ՑՈՒՑԱՆԻՇՆԵՐԸ
A10: Ծրագրի դասիչը | B10: Ծրագրի անվանումը
A11: 1068 | B11: Ժողովրդագրական վիճակի բարելավում
A13: Ծրագրի միջոցառումները
A15: Ծրագրի դասիչը` | B15: 1068 | C15: Ցուցանիշների փոփոխությունները (Ավելացումները նշված են դրական նշանով)
A16: Միջոցառման դասիչը` | B16: 12003 | C16: Ինն ամիս | D16: Տարի
A17: Միջոցառման անվանումը` | B17: Երեխա ունեցող ընտանիքների բնակարանային ապահովման աջակցություն
A18: Նկարագրությունը` | B18: Երեխա ունեցող ընտանիքների բնակարանային ապահովման աջակցության տրամադրում
A19: Միջոցառման տեսակը` | B19: Տրանսֆերտների տրամադրում
A20: Շահառուների ընտրության չափանիշները | B20: Երեխա ունեցող ընտանիքներ, ովքեր ցանկանում են ձեռք բերել բնակարան, կանխավճարի ապահովագրության ձեռք բերում երիտասարդ ընտանիքների համար, երեխայի ծննդով պայմանավորված հիփոթեքային վարկ մարող ընտանիքներ
A21: Արդյունքի չափորոշիչներ
A22: Շահառուների թվաքանակ (մարզային բնակավայրերում բնակարան ձեռք բերելու համար միանվագ դրամական աջակցության բաղադրիչ) | C22: 85 | D22: 110
A23: Շահառուների թվաքանակ (երեխա ունեցող ընտանիքների համար կանխավճարի ապահովագրության բաղադրիչ) | C23: 125 | D23: 165
A24: Շահառուների թվաքանակ (երեխայի ծննդով պայմանավորված` հիփոթեքային վարկ մարող ընտանիքներին դրամական աջակցության բաղադրիչ) | C24: 265 | D24: 355
A25: Միջոցառման վրա կատարվող ծախսը (հազար դրամ) | C25: ='1'!D36 -> 280000 | D25: ='1'!E36 -> 420000
A28: Ծրագրի դասիչը | B28: Ծրագրի անվանումը
A29: 1102 | B29: Կենսաթոշակային ապահովություն
A31: Ծրագրի միջոցառումները
A34: Ծրագրի դասիչը` | B34: 1102 | C34: Ցուցանիշների փոփոխությունները (Նվազեցումները նշված են փակագծերում)
A35: Միջոցառման դասիչը` | B35: 12003 | C35: Ինն ամիս | D35: Տարի
A36: Միջոցառման անվանումը` | B36: Աշխատանքային կենսաթոշակներ
A37: Նկարագրությունը` | B37: Աշխատանքային կենսաթոշակների (տարիքային, հաշմանդամության, արտոնյալ պայմաններով, երկարամյա ծառայության, մասնակի, կերակրողին կորցնելու դեպքում կենսաթոշակների) տրամադրում
A38: Միջոցառման տեսակը` | B38: Տրանսֆերտների տրամադրում
A39: Շահառուների ընտրության չափանիշները | B39: Տարիքային աշխատանքային` առնվազն 10 տարվա աշխատանքային ստաժ, հաշմանդամության աշխատանքային` ըստ սանդղակի աշխատանքային ստաժ, արտոնյալ, մասնակի երկարամյա ծառայության` պահանջվող մասնագիտությամբ աշխատանքային ստաժ
A40: Արդյունքի չափորոշիչներ
A41: Կենսաթոշակառուների թիվ, մարդ | C41: =ROUND(C42/12/43763*1000,0) -> -533 | D41: =ROUND(D42/12/43763*1000,0) -> -800
A42: Միջոցառման վրա կատարվող ծախսը (հազար դրամ) | C42: ='1'!D18 -> -280000 | D42: ='1'!E18 -> -420000

Sheet 4
D1: Հավելված N 4
D2: ՀՀ կառավարության 2021 թվականի
D3: -----------------ի N -----------Ն որոշման
A4: ՀԱՅԱՍՏԱՆԻ ՀԱՆՐԱՊԵՏՈՒԹՅԱՆ ԿԱՌԱՎԱՐՈՒԹՅԱՆ 2020 ԹՎԱԿԱՆԻ ԴԵԿՏԵՄԲԵՐԻ 30-Ի N 2215-Ն ՈՐՈՇՄԱՆ N 9 ՀԱՎԵԼՎԱԾԻ N 9.1.20 ԱՂՅՈՒՍԱԿՈՒՄ ԿԱՏԱՐՎՈՂ ՓՈՓՈԽՈՒԹՅՈՒՆՆԵՐԸ
A5: ՀԱՅԱՍՏԱՆԻ ՀԱՆՐԱՊԵՏՈՒԹՅԱՆ ԿԱՌԱՎԱՐՈՒԹՅԱՆ 2021 ԹՎԱԿԱՆԻ ԴԵԿՏԵՄԲԵՐԻ307Ի N 2215-Ն ՈՐՈՇՄԱՆ N 9.1 ՀԱՎԵԼՎԱԾԻ N 9.1.16 ԵՎ 9.1.20 ԱՂՅՈՒՍԱԿՆԵՐՈՒՄ ԿԱՏԱՐՎՈՂ ՓՈՓՈԽՈՒԹՅՈՒՆՆԵՐԸ
A7: ՀՀ աշխատանքի և սոցիալական հարցերի նախարարություն
A8: ՄԱՍ 1. ՊԵՏԱԿԱՆ ՄԱՐՄՆԻ ԳԾՈՎ ԱՐԴՅՈՒՆՔԱՅԻՆ (ԿԱՏԱՐՈՂԱԿԱՆ) ՑՈՒՑԱՆԻՇՆԵՐԸ
A10: Ծրագրի դասիչը | B10: Ծրագրի անվանումը
A11: 1068 | B11: Ժողովրդագրական վիճակի բարելավում
A13: Ծրագրի միջոցառումները
A15: Ծրագրի դասիչը` | B15: 1068 | C15: Ցուցանիշների փոփոխությունները (Ավելացումները նշված են դրական նշանով)
A16: Միջոցառման դասիչը` | B16: 12003 | C16: Ինն ամիս | D16: Տարի
A17: Միջոցառման անվանումը` | B17: Երեխա ունեցող ընտանիքների բնակարանային ապահովման աջակցություն
A18: Նկարագրությունը` | B18: Երեխա ունեցող ընտանիքների բնակարանային ապահովման աջակցության տրամադրում
A19: Միջոցառման տեսակը` | B19: Տրանսֆերտների տրամադրում
A20: Շահառուների ընտրության չափանիշները | B20: Երեխա ունեցող ընտանիքներ, ովքեր ցանկանում են ձեռք բերել բնակարան, կանխավճարի ապահովագրության ձեռք բերում երիտասարդ ընտանիքների համար, երեխայի ծննդով պայմանավորված հիփոթեքային վարկ մարող ընտանիքներ
A21: Արդյունքի չափորոշիչներ
A22: Շահառուների թվաքանակ (մարզային բնակավայրերում բնակարան ձեռք բերելու համար միանվագ դրամական աջակցության բաղադրիչ) | C22: 85 | D22: 110
A23: Շահառուների թվաքանակ (երեխա ունեցող ընտանիքների համար կանխավճարի ապահովագրության բաղադրիչ) | C23: 125 | D23: 165
A24: Շահառուների թվաքանակ (երեխայի ծննդով պայմանավորված` հիփոթեքային վարկ մարող ընտանիքներին դրամական աջակցության բաղադրիչ) | C24: 265 | D24: 355
A25: Միջոցառման վրա կատարվող ծախսը (հազար դրամ) | C25: ='3'!C25 -> 280000 | D25: ='3'!D25 -> 420000
A27: Հայաստանի Հանրապետության աշխատանքի և սոցիալական հարցերի նախարարության միասնական սոցիալական ծառայություն
A30: ՄԱՍ 1. ՊԵՏԱԿԱՆ ՄԱՐՄՆԻ ԳԾՈՎ ԱՐԴՅՈՒՆՔԱՅԻՆ (ԿԱՏԱՐՈՂԱԿԱՆ) ՑՈՒՑԱՆԻՇՆԵՐԸ
A32: Ծրագրի դասիչը | B32: Ծրագրի անվանումը
A33: 1102 | B33: Կենսաթոշակային ապահովություն
A35: Ծրագրի միջոցառումները
A37: Ծրագրի դասիչը` | B37: 1102 | C37: Ցուցանիշների փոփոխությունները (Նվազեցումները նշված են փակագծերում)
A38: Միջոցառման դասիչը` | B38: 12003 | C38: Ինն ամիս | D38: Տարի
A39: Միջոցառման անվանումը` | B39: Աշխատանքային կենսաթոշակներ
A40: Նկարագրությունը` | B40: Աշխատանքային կենսաթոշակների (տարիքային, հաշմանդամության, արտոնյալ պայմաններով, երկարամյա ծառայության, մասնակի, կերակրողին կորցնելու դեպքում կենսաթոշակների) տրամադրում
A41: Միջոցառման տեսակը` | B41: Տրանսֆերտների տրամադրում
A42: Շահառուների ընտրության չափանիշները | B42: Տարիքային աշխատանքային` առնվազն 10 տարվա աշխատանքային ստաժ, հաշմանդամության աշխատանքային` ըստ սանդղակի աշխատանքային ստաժ, արտոնյալ, մասնակի երկարամյա ծառայության` պահանջվող մասնագիտությամբ աշխատանքային ստաժ
A43: Արդյունքի չափորոշիչներ
A44: Կենսաթոշակառուների թիվ, մարդ | C44: =+'3'!C41 -> -533 | D44: =+'3'!D41 -> -800
A45: Միջոցառման վրա կատարվող ծախսը (հազար դրամ) | C45: ='3'!C42 -> -280000 | D45: ='3'!D42 -> -420000
