Workbook

Sheet 1
A1: Հավելված N 1
E2: ՀՀ կառավարության 2021 թվականի
E3: -ի N -Ն որոշման
A5: «ՀԱՅԱՍՏԱՆԻ ՀԱՆՐԱՊԵՏՈՒԹՅԱՆ 2021 ԹՎԱԿԱՆԻ ՊԵՏԱԿԱՆ ԲՅՈՒՋԵԻ ՄԱՍԻՆ» ՀԱՅԱՍՏԱՆԻ ՀԱՆՐԱՊԵՏՈՒԹՅԱՆ ՕՐԵՆՔԻ N 1 ՀԱՎԵԼՎԱԾԻ 2 ԱՂՅՈՒՍԱԿՈՒՄ ԿԱՏԱՐՎՈՂ ՎԵՐԱԲԱՇԽՈՒՄԸ ԵՎ ՓՈՓՈԽՈՒԹՅՈՒՆՆԵՐԸ ԵՎ ՀԱՅԱՍՏԱՆԻ ՀԱՆՐԱՊԵՏՈՒԹՅԱՆ ԿԱՌԱՎԱՐՈՒԹՅԱՆ 2020 ԹՎԱԿԱՆԻ ԴԵԿՏԵՄԲԵՐԻ 30-Ի N 2215-Ն ՈՐՈՇՄԱՆ N 5 ՀԱՎԵԼՎԱԾԻ N 1 ԱՂՅՈՒՍԱԿՈՒՄ ԿԱՏԱՐՎՈՂ ՓՈՓՈԽՈՒԹՅՈՒՆՆԵՐԸ
E6: հազ.դրամ
A7: Ծրագրային դասիչը | C7: Բյուջետային ծախսերի գործառական դասակարգման բաժինների, խմբերի և դասերի, բյուջետային ծրագրերի միջոցառումների, բյուջետային հատկացումների գլխավոր կարգադրիչների անվանումները | D7: Ցուցանիշների փոփոխությունը (ավելացումները նշված են դրական նշանով, իսկ նվազեցումները` փակագծերում)
A9: Ծրագիր | B9: Միջոցա ռում | D9: Ինն ամիս | E9: Տարի
C10: ԸՆԴԱՄԵՆԸ
C11: ՀՀ ԱՌՈՂՋԱՊԱՀՈՒԹՅԱՆ ՆԱԽԱՐԱՐՈՒԹՅՈՒՆ | D11: =+D19+D25 -> 0 | E11: =+E19+E25 -> 0
A12: 1053 | C12: Ծրագրի անվանումը` | D12: =+D11 -> 0 | E12: =+E11 -> 0
C13: Առողջապահության համակարգի արդիականացման և արդյունավետության բարձրացման ծրագիր | D13: =+D12 -> 0 | E13: =+E12 -> 0
C14: Ծրագրի նպատակը` | D14: =+D13 -> 0 | E14: =+E13 -> 0
C15: Առողջապահության համակարգի արդիականացում և զարգացում | D15: =+D14 -> 0 | E15: =+E14 -> 0
C16: Վերջնական արդյունքի նկարագրությունը՝ | D16: =+D15 -> 0 | E16: =+E15 -> 0
C17: Առողջապահական ենթակառուցվածքների բարելավում՝ կարողությունների զարգացում | D17: =+D16 -> 0 | E17: =+E16 -> 0
A18: Ծրագրի միջոցառումներ
B19: 11004 | C19: Միջոցառման անվանումը` | D19: -250000 | E19: -250000
C20: Գլոբալ հիմնադրամի աջակցությամբ իրականացվող «Հայաստանի Հանրապետությունում տուբերկուլյոզի և ՄԻԱՎ/ՁԻԱՀ-ի ծրագրերի հզորացում» դրամաշնորհային ծրագիր
C21: Միջոցառման նկարագրությունը`
C22: Հայաստանի Հանրապետությունուն տուբերկուլյոզի բեռի կրճատում, տուբերկուլյոզի բոլոր ձևերի որոկյալ ախտորոշման և բուժման մատչելիության ապահովում_x000D_
C23: Միջոցառման տեսակը
C24: Ծառայությունների մատուցում
B25: 11006 | C25: Միջոցառման անվանումը` | D25: 250000 | E25: 250000
C26: Գլոբալ հիմնադրամի աջակցությամբ իրականացվող «Հայաստանի Հանրապետությունում ՄԻԱՎ/ՁԻԱՀ-ի դեմ պայքարի ազգային ծրագրին աջակցություն» դրամաշնորհային շարունակության ծրագիր
C27: Միջոցառման նկարագրությունը`
C28: Խորհրդատվության և հետազոտության կետերին և լաբորատորիաներին տեխնիկական աջակցություն, հակառետրովիրուսային և օպորտունիստական վարակների բուժում և կանխարգելում, ՄԻԱՎ/ՁԻԱՀ-ի ազգային ծրագրի հիմնական բաղադրիչների գնահատում_x000D_
C29: Միջոցառման տեսակը
C30: Ծառայությունների մատուցում

Sheet 2
H1: Հավելված N 2
H2: ՀՀ կառավարության 2021 թվականի
H3: -ի N -Ն որոշման
A4: ՀԱՅԱՍՏԱՆԻ ՀԱՆՐԱՊԵՏՈՒԹՅԱՆ ԿԱՌԱՎԱՐՈՒԹՅԱՆ 2020 ԹՎԱԿԱՆԻ ԴԵԿՏԵՄԲԵՐԻ 30-Ի N 2215-Ն ՈՐՈՇՄԱՆ N 3 և N 4 ՀԱՎԵԼՎԱԾՆԵՐՈՒՄ ԿԱՏԱՐՎՈՂ ՓՈՓՈԽՈՒԹՅՈՒՆՆԵՐԸ
H6: հազ.դրամ
A7: Գործառական դասիչը | D7: Ծրագրային դասիչը | F7: Բյուջետային ծախսերի գործառական դասակարգման բաժինների, խմբերի և դասերի, բյուջետային հատկացումների գլխավոր կարգադրիչների, ծրագրերի, միջոցառումների և միջոցառումները կատարող պետական մարմինների անվանումները | G7: Ցուցանիշների փոփոխությունը (ավելացումները նշված են դրական նշանով, իսկ նվազեցումները` փակագծերում)
A9: Բաժին | B9: Խումբ | C9: Դաս | D9: Ծրագիր | E9: Միջոցա ռում | G9: Ինն ամիս | H9: Տարի
F10: ԸՆԴԱՄԵՆԸ ԾԱԽՍԵՐ | G10: =+G18 -> 0 | H10: =+H18 -> 0
F11: այդ թվում`
A12: 07 | F12: ԱՌՈՂՋԱՊԱՀՈՒԹՅՈՒՆ | G12: =+G14 -> 0 | H12: =+H14 -> 0
F13: այդ թվում`
B14: 06 | F14: Առողջապահություն (այլ դասերին չպատկանող) | G14: =+G16 -> 0 | H14: =+H16 -> 0
F15: այդ թվում՝
C16: 01 | F16: Առողջապահական հարակից ծառայություններ և ծրագրեր | G16: =+G18 -> 0 | H16: =+H18 -> 0
F17: այդ թվում`
F18: =+'1'!C11 -> ՀՀ ԱՌՈՂՋԱՊԱՀՈՒԹՅԱՆ ՆԱԽԱՐԱՐՈՒԹՅՈՒՆ | G18: =+G20 -> 0 | H18: =+H20 -> 0
F19: այդ թվում՝
D20: 1053 | F20: =+[1]Gorcarakan!$C$3138 -> Առողջապահության համակարգի արդիականացման և արդյունավետության բարձրացման ծրագիր | G20: 0 | H20: =+H22+H44+H53+H62+H71+H80+H89 -> 0
F21: այդ թվում`
E22: 11004 | F22: =+'1'!C20 -> Գլոբալ հիմնադրամի աջակցությամբ իրականացվող «Հայաստանի Հանրապետությունում տուբերկուլյոզի և ՄԻԱՎ/ՁԻԱՀ-ի ծրագրերի հզորացում» դրամաշնորհային ծրագիր | G22: =+G27 -> -250000 | H22: =+H27 -> -250000
F23: այդ թվում` ըստ կատարողների
F24: ՀՀ առողջապահության նախարարություն
F25: այդ թվում` բյուջետային ծախսերի տնտեսագիտական դասակարգման հոդվածներ
F26: ԸՆԴԱՄԵՆԸ ԾԱԽՍԵՐ | G26: =+G27 -> -250000 | H26: =+H27 -> -250000
F27: ԸՆԹԱՑԻԿ ԾԱԽՍԵՐ | G27: =+G43++G30+G37+G42 -> -250000 | H27: =+H43++H30+H37+H42 -> -250000
F28: ԱՇԽԱՏԱՆՔԻ ՎԱՐՁԱՏՐՈՒԹՅՈՒՆ
F29: Դրամով վճարվող աշխատավարձեր և հավելավճարներ
F30: - Աշխատողների աշխատավարձեր և հավելավճարներ
F31: ԾԱՌԱՅՈՒԹՅՈՒՆՆԵՐԻ ԵՎ ԱՊՐԱՆՔՆԵՐԻ ՁԵՌՔԲԵՐՈՒՄ | G31: =+G32+G40 -> -250000 | H31: =+H32+H40 -> -250000
F32: Շարունակական ծախսեր | G32: =+G37 -> 0 | H32: =+H37 -> 0
F33: - Էներգետիկ ծառայություններ
F34: - Ապահովագրական ծախսեր
F35: - Ծառայողական գործուղումների գծով ծախսեր
F36: - Ներքին գործուղումներ
F37: - Արտասահմանյան գործուղումների գծով ծախսեր
F38: Ընթացիկ նորոգում և պահպանում (ծառայություններ և նյութեր)
F39: - Մեքենաների և սարքավորումների ընթացիկ նորոգում և պահպանում
F40: Նյութեր (Ապրանքներ) | G40: =+G42+G43 -> -250000 | H40: =+H42+H43 -> -250000
F41: - Գրասենյակային նյութեր և հագուստ
F42: - Տրանսպորտային նյութեր
F43: - Առողջապահական և լաբորատոր նյութեր | G43: -250000 | H43: -250000
E44: 11006 | F44: =+'1'!C26 -> Գլոբալ հիմնադրամի աջակցությամբ իրականացվող «Հայաստանի Հանրապետությունում ՄԻԱՎ/ՁԻԱՀ-ի դեմ պայքարի ազգային ծրագրին աջակցություն» դրամաշնորհային շարունակության ծրագիր | G44: =+$H$52 -> 250000 | H44: =+$H$52 -> 250000
F45: այդ թվում` ըստ կատարողների
F46: ՀՀ առողջապահության նախարարություն | G46: =$H$52 -> 250000 | H46: =$H$52 -> 250000
F47: այդ թվում` բյուջետային ծախսերի տնտեսագիտական դասակարգման հոդվածներ
F48: ԸՆԴԱՄԵՆԸ ԾԱԽՍԵՐ | G48: =$H$52 -> 250000 | H48: =$H$52 -> 250000
F49: ԸՆԹԱՑԻԿ ԾԱԽՍԵՐ | G49: =$H$52 -> 250000 | H49: =$H$52 -> 250000
F50: ԴՐԱՄԱՇՆՈՐՀՆԵՐ | G50: =$H$52 -> 250000 | H50: =$H$52 -> 250000
F51: Ընթացիկ դրամաշնորհներ պետական հատվածի այլ մակարդակներին | G51: =$H$52 -> 250000 | H51: =$H$52 -> 250000
F52: - Ընթացիկ դրամաշնորհներ պետական և համայնքային առևտրային կազմակերպություններին | G52: 250000 | H52: 250000
E53: 11008 | F53: =+'1'!#REF! -> #REF! | H53: =+H61 -> 0
F54: այդ թվում` ըստ կատարողների
F55: ՀՀ առողջապահության նախարարություն | H55: =+H61 -> 0
F56: այդ թվում` բյուջետային ծախսերի տնտեսագիտական դասակարգման հոդվածներ
F57: ԸՆԴԱՄԵՆԸ ԾԱԽՍԵՐ | H57: =+$H$61 -> 0
F58: ԸՆԹԱՑԻԿ ԾԱԽՍԵՐ | H58: =+$H$61 -> 0
F59: ԴՐԱՄԱՇՆՈՐՀՆԵՐ | H59: =+$H$61 -> 0
F60: Ընթացիկ դրամաշնորհներ պետական հատվածի այլ մակարդակներին | H60: =+$H$61 -> 0
F61: - Ընթացիկ դրամաշնորհներ պետական և համայնքային ոչ առևտրային կազմակերպություններին
E62: 11010 | F62: =+'1'!#REF! -> #REF! | H62: =+H70 -> 0
F63: այդ թվում` ըստ կատարողների
F64: ՀՀ առողջապահության նախարարություն | H64: =+$H$70 -> 0
F65: այդ թվում` բյուջետային ծախսերի տնտեսագիտական դասակարգման հոդվածներ | H65: =+$H$70 -> 0
F66: ԸՆԴԱՄԵՆԸ ԾԱԽՍԵՐ | H66: =+$H$70 -> 0
F67: ԸՆԹԱՑԻԿ ԾԱԽՍԵՐ | H67: =+$H$70 -> 0
F68: ԴՐԱՄԱՇՆՈՐՀՆԵՐ | H68: =+$H$70 -> 0
F69: Ընթացիկ դրամաշնորհներ պետական հատվածի այլ մակարդակներին | H69: =+$H$70 -> 0
F70: - Ընթացիկ դրամաշնորհներ պետական և համայնքային ոչ առևտրային կազմակերպություններին
E71: 11011 | F71: =+'1'!#REF! -> #REF! | H71: =+H79 -> 0
F72: այդ թվում` ըստ կատարողների
F73: ՀՀ առողջապահության նախարարություն | H73: =+$H$79 -> 0
F74: այդ թվում` բյուջետային ծախսերի տնտեսագիտական դասակարգման հոդվածներ | H74: =+$H$79 -> 0
F75: ԸՆԴԱՄԵՆԸ ԾԱԽՍԵՐ | H75: =+$H$79 -> 0
F76: ԸՆԹԱՑԻԿ ԾԱԽՍԵՐ | H76: =+$H$79 -> 0
F77: ԴՐԱՄԱՇՆՈՐՀՆԵՐ | H77: =+$H$79 -> 0
F78: Ընթացիկ դրամաշնորհներ պետական հատվածի այլ մակարդակներին | H78: =+$H$79 -> 0
F79: - Ընթացիկ դրամաշնորհներ պետական և համայնքային ոչ առևտրային կազմակերպություններին
E80: 11012 | F80: =+'1'!#REF! -> #REF! | H80: =+H88 -> 0
F81: այդ թվում` ըստ կատարողների
F82: ՀՀ առողջապահության նախարարություն | H82: =+$H$88 -> 0
F83: այդ թվում` բյուջետային ծախսերի տնտեսագիտական դասակարգման հոդվածներ | H83: =+$H$88 -> 0
F84: ԸՆԴԱՄԵՆԸ ԾԱԽՍԵՐ | H84: =+$H$88 -> 0
F85: ԸՆԹԱՑԻԿ ԾԱԽՍԵՐ | H85: =+$H$88 -> 0
F86: ԴՐԱՄԱՇՆՈՐՀՆԵՐ | H86: =+$H$88 -> 0
F87: Ընթացիկ դրամաշնորհներ պետական հատվածի այլ մակարդակներին | H87: =+$H$88 -> 0
F88: - Ընթացիկ դրամաշնորհներ պետական և համայնքային առևտրային կազմակերպություններին
E89: =+'1'!#REF! -> #REF! | F89: =+'1'!#REF! -> #REF! | H89: =+H93 -> 0
F90: այդ թվում` ըստ կատարողների
F91: ՀՀ առողջապահության նախարարություն | H91: =+H97 -> 0
F92: այդ թվում` բյուջետային ծախսերի տնտեսագիտական դասակարգման հոդվածներ
F93: ԸՆԴԱՄԵՆԸ ԾԱԽՍԵՐ | H93: =+$H$97 -> 0
F94: ՈՉ ՖԻՆԱՆՍԱԿԱՆ ԱԿՏԻՎՆԵՐԻ ԳԾՈՎ ԾԱԽՍԵՐ | H94: =+$H$97 -> 0
F95: ՀԻՄՆԱԿԱՆ ՄԻՋՈՑՆԵՐ | H95: =+$H$97 -> 0
F96: ՄԵՔԵՆԱՆԵՐ ԵՎ ՍԱՐՔԱՎՈՐՈՒՄՆԵՐ | H96: =+$H$97 -> 0
F97: - Այլ մեքենաներ և սարքավորումներ

Sheet 3
I1: Հավելված 3
I2: ՀՀ կառավարության 2021 թվականի
I3: ______________ ի ___Ն որոշման
A5: «ՀԱՅԱՍՏԱՆԻ ՀԱՆՐԱՊԵՏՈՒԹՅԱՆ 2021 ԹՎԱԿԱՆԻ ՊԵՏԱԿԱՆ ԲՅՈՒՋԵԻ ՄԱՍԻՆ» ՀԱՅԱՍՏԱՆԻ ՀԱՆՐԱՊԵՏՈՒԹՅԱՆ ՕՐԵՆՔԻ N 1 ՀԱՎԵԼՎԱԾԻ N 5 ԱՂՅՈՒՍԱԿՈՒՄ ԵՎ ՀԱՅԱՍՏԱՆԻ ՀԱՆՐԱՊԵՏՈՒԹՅԱՆ ԿԱՌԱՎԱՐՈՒԹՅԱՆ 2020 ԹՎԱԿԱՆԻ ԴԵԿՏԵՄԲԵՐԻ 30-Ի N 2215-Ն ՈՐՈՇՄԱՆ N5 ՀԱՎԵԼՎԱԾԻ N 4 ԱՂՅՈՒՍԱԿՈՒՄ ԿԱՏԱՐՎՈՂ ՓՈՓՈԽՈՒԹՅՈՒՆՆԵՐԸ
I7: հազ. դրամ
A9: Ծրագրային դասիչը | C9: Բյուջետային հատկացումների գլխավոր կարգադրիչների, ծրագրերի, միջոցառումների և միջոցառումները կատարող պետական մարմինների անվանումները | D9: Ցուցանիշների փոփոխությունը (ավելացումները նշված են դրական նշանով, իսկ նվազեցումները` փակագծերում)
D10: Ինն ամիս | G10: Տարի
A13: ծրագիրը | B13: միջոցառումը | D13: ընդամենը | E13: այդ թվում՝ | G13: ընդամենը | H13: այդ թվում՝
E14: Դրամաշնոր հային միջոցներ | F14: համաֆինան_x000D_ սավորում | H14: Դրամաշնոր հային միջոցներ | I14: համաֆինան_x000D_ սավորում
C15: ԸՆԴԱՄԵՆԸ այդ թվում` | D15: =D16+D17 -> 0 | E15: =E16+E17 -> 0 | F15: =F16+F17 -> 0 | G15: =G16+G17 -> 0 | H15: =H16+H17 -> 0 | I15: =I16+I17 -> 0
C16: - ԸՆԹԱՑԻԿ ԾԱԽՍԵՐ | D16: =D25+D34+D40+D46+D52+D58 -> 0 | E16: =E25+E34+E40+E46+E52+E58 -> 0 | F16: =F25+F34+F40+F46+F52+F58 -> 0 | G16: =G25+G34+G40+G46+G52+G58 -> 0 | H16: =H25+H34+H40+H46+H52+H58 -> 0 | I16: =+I28+I37 -> 0
C17: - ՈՉ ՖԻՆԱՆՍԱԿԱՆ ԱԿՏԻՎՆԵՐԻ ԳԾՈՎ ԾԱԽՍԵՐ | D17: =D64 -> 0 | E17: =E64 -> 0 | F17: =F64 -> 0 | G17: =G64 -> 0 | H17: =H64 -> 0 | I17: =+I48+I54 -> 0
C18: ՀՀ ԱՌՈՂՋԱՊԱՀՈՒԹՅԱՆ ՆԱԽԱՐԱՐՈՒԹՅՈՒՆ
C19: այդ թվում`
A20: 1053 | C20: Առողջապահության համակարգի արդիականացման և արդյունավետության բարձրացման ծրագիր | D20: =+D21+D30+D36+D42+D48+D54+D60 -> 0 | E20: =+E21+E30+E36+E42+E48+E54+E60 -> 0 | F20: =+F21+F30+F36+F42+F48+F54+F60 -> 0 | G20: =+G21+G30+G36+G42+G48+G54+G60 -> 0 | H20: =+H21+H30+H36+H42+H48+H54+H60 -> 0 | I20: =+I21+I30+I36+I48+I54 -> 0
B21: 11004 | C21: =+'2'!F22 -> Գլոբալ հիմնադրամի աջակցությամբ իրականացվող «Հայաստանի Հանրապետությունում տուբերկուլյոզի և ՄԻԱՎ/ՁԻԱՀ-ի ծրագրերի հզորացում» դրամաշնորհային ծրագիր | D21: =SUM(D26:D29) -> -250000 | E21: =SUM(E26:E29) -> -250000 | F21: =SUM(F26:F29) -> 0 | G21: =SUM(G26:G29) -> -250000 | H21: =SUM(H26:H29) -> -250000 | I21: =SUM(I26:I29) -> 0
C22: այդ թվում` ըստ կատարողների
C23: ՀՀ առողջապահության նախարարություն
C24: այդ թվում` բյուջետային ծախսերի տնտեսագիտական դասակարգման հոդվածներ
C25: ԸՆԹԱՑԻԿ ԾԱԽՍԵՐ | D25: =+D26+D27+D28+D29 -> -250000 | E25: =+E26+E27+E28+E29 -> -250000 | F25: =+F26+F27+F28+F29 -> 0 | G25: =+G26+G27+G28+G29 -> -250000 | H25: =+H26+H27+H28+H29 -> -250000
C26: - Աշխատողների աշխատավարձեր և հավելավճարներ | G26: =SUM(H26:I26) -> 0 | H26: =+'2'!H30 -> 0 | I26: 0
C27: =+'2'!F37 -> - Արտասահմանյան գործուղումների գծով ծախսեր | G27: =SUM(H27:I27) -> 0 | H27: =+'2'!H37 -> 0 | I27: 0
C28: =+'2'!F42 -> - Տրանսպորտային նյութեր | G28: =SUM(H28:I28) -> 0 | H28: =+'2'!H42 -> 0 | I28: 0
C29: =+'2'!F43 -> - Առողջապահական և լաբորատոր նյութեր | D29: =+'2'!G43 -> -250000 | E29: =SUM(F29:G29) -> -250000 | F29: 0 | G29: =SUM(H29:I29) -> -250000 | H29: =+'2'!H43 -> -250000 | I29: 0
B30: 11006 | C30: =+'2'!F44 -> Գլոբալ հիմնադրամի աջակցությամբ իրականացվող «Հայաստանի Հանրապետությունում ՄԻԱՎ/ՁԻԱՀ-ի դեմ պայքարի ազգային ծրագրին աջակցություն» դրամաշնորհային շարունակության ծրագիր | D30: =SUM(E30:F30) -> 250000 | E30: =SUM(F30:G30) -> 250000 | F30: 0 | G30: =SUM(H30:I30) -> 250000 | H30: =+H35 -> 250000 | I30: =+I35 -> 0
C31: այդ թվում` ըստ կատարողների
C32: ՀՀ առողջապահության նախարարություն | D32: =+D35 -> 250000 | E32: =+E35 -> 250000 | F32: =+F35 -> 0 | G32: =+G35 -> 250000 | H32: =+H35 -> 250000
C33: այդ թվում` բյուջետային ծախսերի տնտեսագիտական դասակարգման հոդվածներ
C34: ԸՆԹԱՑԻԿ ԾԱԽՍԵՐ | D34: =+D35 -> 250000 | E34: =+E35 -> 250000 | F34: =+F35 -> 0 | G34: =+G35 -> 250000 | H34: =+H35 -> 250000
C35: - Ընթացիկ դրամաշնորհներ պետական և համայնքային առևտրային կազմակերպություններին | D35: =+'2'!G44 -> 250000 | E35: =SUM(F35:G35) -> 250000 | F35: 0 | G35: =SUM(H35:I35) -> 250000 | H35: =+'2'!H44 -> 250000
B36: 11008 | C36: =+'2'!F53 -> #REF! | G36: =+G41 -> 0 | H36: =+H41 -> 0 | I36: =+I39 -> 0
C37: այդ թվում` ըստ կատարողների
C38: ՀՀ առողջապահության նախարարություն | G38: =+G41 -> 0 | H38: =+H41 -> 0
C39: այդ թվում` բյուջետային ծախսերի տնտեսագիտական դասակարգման հոդվածներ | I39: 0
C40: ԸՆԹԱՑԻԿ ԾԱԽՍԵՐ | G40: =+G41 -> 0 | H40: =+H41 -> 0
C41: - ընթացիկ դրամաշնորհներ պետական և համայնքային ոչ առևտրային կազմակերպություններին | G41: =+'2'!H53 -> 0 | H41: =+G41 -> 0
B42: 11010 | C42: =+'2'!F62 -> #REF! | G42: =+H42 -> 0 | H42: =+'2'!H62 -> 0
C43: այդ թվում` ըստ կատարողների
C44: ՀՀ առողջապահության նախարարություն | G44: =+G42 -> 0 | H44: =+H42 -> 0
C45: այդ թվում` բյուջետային ծախսերի տնտեսագիտական դասակարգման հոդվածներ
C46: ԸՆԹԱՑԻԿ ԾԱԽՍԵՐ | G46: =+G42 -> 0 | H46: =+H42 -> 0
C47: - Ընթացիկ դրամաշնորհներ պետական և համայնքային ոչ առևտրային կազմակերպություններին | G47: =+G42 -> 0 | H47: =+H42 -> 0
B48: 11011 | C48: =+'2'!F71 -> #REF! | G48: =+'2'!H71 -> 0 | H48: =+G48 -> 0 | I48: =+I53 -> 0
C49: այդ թվում` ըստ կատարողների
C50: ՀՀ առողջապահության նախարարություն | G50: =+G48 -> 0 | H50: =+H48 -> 0
C51: այդ թվում` բյուջետային ծախսերի տնտեսագիտական դասակարգման հոդվածներ
C52: ԸՆԹԱՑԻԿ ԾԱԽՍԵՐ | G52: =+G48 -> 0 | H52: =+H48 -> 0
C53: - Ընթացիկ դրամաշնորհներ պետական և համայնքային ոչ առևտրային կազմակերպություններին | G53: =+G48 -> 0 | H53: =+H48 -> 0 | I53: 0
B54: 11012 | C54: =+'2'!F80 -> #REF! | G54: =+'2'!H80 -> 0 | H54: =+G54 -> 0 | I54: =+I55 -> 0
C55: այդ թվում` ըստ կատարողների | H55: . | I55: 0
C56: ՀՀ առողջապահության նախարարություն | G56: =+G54 -> 0 | H56: =+H54 -> 0
C57: այդ թվում` բյուջետային ծախսերի տնտեսագիտական դասակարգման հոդվածներ
C58: ԸՆԹԱՑԻԿ ԾԱԽՍԵՐ | G58: =+G54 -> 0 | H58: =+H54 -> 0
C59: - Ընթացիկ դրամաշնորհներ պետական և համայնքային ոչ առևտրային կազմակերպություններին | G59: =+G54 -> 0 | H59: =+H54 -> 0
B60: 32004 | C60: =+'2'!F89 -> #REF! | G60: =+'2'!H89 -> 0 | H60: =+G60 -> 0 | I60: =+I61 -> 0
C61: այդ թվում` ըստ կատարողների | H61: . | I61: 0
C62: ՀՀ առողջապահության նախարարություն | G62: =+G60 -> 0 | H62: =+H60 -> 0
C63: այդ թվում` բյուջետային ծախսերի տնտեսագիտական դասակարգման հոդվածներ
C64: ՈՉ ՖԻՆԱՆՍԱԿԱՆ ԱԿՏԻՎՆԵՐԻ ԳԾՈՎ ԾԱԽՍԵՐ | G64: =+G60 -> 0 | H64: =+H60 -> 0
C65: - Այլ մեքենաներ և սարքավորումներ | G65: =+'2'!H89 -> 0 | H65: =+H60 -> 0

Sheet 4-1
A1: Հավելված N 4
A2: Աղյուսակ N 1
A3: ՀՀ կառավարության 2021 թվականի
A4: -ի N -Ն որոշման
A5: ՀԱՅԱՍՏԱՆԻ ՀԱՆՐԱՊԵՏՈՒԹՅԱՆ ԿԱՌԱՎԱՐՈՒԹՅԱՆ 2020 ԹՎԱԿԱՆԻ ԴԵԿՏԵՄԲԵՐԻ 30-Ի N 2215-Ն ՈՐՈՇՄԱՆ N 9 ՀԱՎԵԼՎԱԾԻ N 9.9 ԱՂՅՈՒՍԱԿՈՒՄ ԿԱՏԱՐՎՈՂ ՓՈՓՈԽՈՒԹՅՈՒՆՆԵՐԸ
A8: ՀՀ առողջապահության նախարարություն
A9: ՄԱՍ 2. ՊԵՏԱԿԱՆ ՄԱՐՄՆԻ ԳԾՈՎ ԱՐԴՅՈՒՆՔԱՅԻՆ (ԿԱՏԱՐՈՂԱԿԱՆ) ՑՈՒՑԱՆԻՇՆԵՐԸ
F10: 9.9
A11: Ծրագրի դասիչը | B11: Ծրագրի անվանումը
A12: 1053 | B12: =+'1'!C13 -> Առողջապահության համակարգի արդիականացման և արդյունավետության բարձրացման ծրագիր
A14: Ծրագրի միջոցառումները
A15: Ծրագրի դասիչը` | B15: 1053 | C15: Ցուցանիշների փոփոխությունը (ավելացումները նշված են դրական նշանով, իսկ նվազեցումները՝ փակագծերում)
A17: Միջոցառման դասիչը` | B17: 11004 | C17: Ինն ամիս | E17: Տարի
A18: Միջոցառման անվանումը` | B18: =+'1'!C20 -> Գլոբալ հիմնադրամի աջակցությամբ իրականացվող «Հայաստանի Հանրապետությունում տուբերկուլյոզի և ՄԻԱՎ/ՁԻԱՀ-ի ծրագրերի հզորացում» դրամաշնորհային ծրագիր
A19: Նկարագրությունը` | B19: Հայաստանի Հանրապետությունում տուբերկուլյոզի բեռի կրճատում« տուբերկուլյոզով բոլոր ձևերի որակյալ ախտորոշման և բուժման մատչելիության ապահովում
A20: Միջոցառման տեսակը` | B20: Ծառայությունների մատուցում
A21: Միջոցառումն իրականացնողի անվանումը | B21: ՀՀ առողջապահության նախարարություն
A22: Արդյունքի չափորոշիչներ
A23: Թվով ավելի քան 1500 տուբերկուլյոզով և 2700 ՄԻԱՎ/ՁԻԱՀ-ով հիվանդների ախտորոշիչ հետազոտությունների և բուժման նպատակով ախտորոշիչ նյութերի և դեղերի ձեռք բերում, մեթադոն դեղի ձեռք բերում, թվով 11 աշխատակիցների աշխատավարձ, գրասենյակային և պահպանման ծախսեր, ամիս
A24: Միջոցառման վրա կատարվող ծախսը (հազար դրամ) | C24: =+'2'!G22 -> -250000 | E24: =+'2'!H22 -> -250000
A27: Ծրագրի դասիչը` | B27: 1053 | C27: Ցուցանիշների փոփոխությունը (ավելացումները նշված են դրական նշանով, իսկ նվազեցումները՝ փակագծերում)
A29: Միջոցառման դասիչը` | B29: 11006 | C29: Ինն ամիս | E29: Տարի
A30: Միջոցառման անվանումը` | B30: =+'2'!F44 -> Գլոբալ հիմնադրամի աջակցությամբ իրականացվող «Հայաստանի Հանրապետությունում ՄԻԱՎ/ՁԻԱՀ-ի դեմ պայքարի ազգային ծրագրին աջակցություն» դրամաշնորհային շարունակության ծրագիր
A31: Նկարագրությունը` | B31: Խորհրդատվության և հետազոտության կետերին և լաբորատորիաներին տեխնիկական աջակցություն« հակառետրովիրուսային և օպորտունիստական վարակների բուժում և կանխարգելում« ՄԻԱՎ/ՁԻԱՀ-ի ազգային ծրագրի հիմնական բաղադրիչների գնահատում
A32: Միջոցառման տեսակը` | B32: Ծառայությունների մատուցում
A33: Միջոցառումն իրականացնողի անվանումը | B33: «Ինֆեկցիոն հիվանդությունների ազգային կենտրոն» ՓԲԸ
A34: Արդյունքի չափորոշիչներ
A35: ՄԻԱՎ-ի հայտնաբերված դեպքերի թիվ, հատ | C35: 10 | E35: 10
A36: ՄԻԱՎ-ի վերաբերյալ հետազոտության թիվ, հատ | C36: 8000 | E36: 8000
A37: Միջոցառման վրա կատարվող ծախսը (հազար դրամ) | C37: =+'3'!D30 -> 250000 | E37: =+'3'!G30 -> 250000
A39: Ծրագրի դասիչը` | B39: 1053 | E39: Ցուցանիշների փոփոխությունը (ավելացումները նշված են դրական նշանով, իսկ նվազեցումները՝ փակագծերում)
A40: Միջոցառման դասիչը` | B40: 11008 | E40: Տարի
A41: Միջոցառման անվանումը` | B41: Գլոբալ հիմնադրամի աջակցությամբ իրականացվող «Հայաստանի Հանրապետությունում տուբերկուլյոզի դեմ պայքարի ազգային ծրագրին աջակցություն» դրամաշնորհային ծրագիր
A42: Նկարագրությունը` | B42: Դեղակայուն տուբերկուլյոզով հիվանդների ամբուլատոր բուժումն իրականացնող մասնագետների վերապատրաստում, դեղակայուն տուբերկուլյոզի կառավարման վերաբերյալ վերապատրաստում արտասահմանում, ՏԲ դեղորայքի կառավարման ոլորտում տեխնիկական աջակցություն
A43: Միջոցառման տեսակը` | B43: Ծառայությունների մատուցում
A44: Միջոցառումն իրականացնողի անվանումը | B44: «Թոքաբանության ազգային կենտրոն» ՊՈԱԿ
A45: Արդյունքի չափորոշիչներ
A46: Տուբերկուլոզի բուժման վերաբերյալ տեսա-ՈՒՎԲ ընդլայնում | E46: 40
A47: Ազգային ռեֆերենս լաբորատորիայի ընթացիկ նորոգման աշխատանքների նախագծում | E47: 1
A48: Միջոցառման վրա կատարվող ծախսը (հազար դրամ) | E48: =+'2'!H53 -> 0
A50: Ծրագրի դասիչը` | B50: 1053 | E50: Ցուցանիշների փոփոխությունը (ավելացումները նշված են դրական նշանով, իսկ նվազեցումները՝ փակագծերում)
A52: Միջոցառման դասիչը` | B52: 11010 | E52: Տարի
A53: Միջոցառման անվանումը` | B53: =+'2'!F62 -> #REF!
A54: Նկարագրությունը` | B54: =+'1'!#REF! -> #REF!
A55: Միջոցառման տեսակը` | B55: Ծառայությունների մատուցում
A56: Միջոցառումն իրականացնողի անվանումը | B56: «Մարդասիրական օգնության հանրապետական կենտրոն» ՊՈԱԿ
A57: Արդյունքի չափորոշիչներ
A58: Ուղղակի գնման եղանակով ներմուծվող բեռների պահպանում, բաշխում | E58: -12
A59: Միջոցառման վրա կատարվող ծախսը (հազար դրամ) | E59: =+'2'!H62 -> 0
A61: Ծրագրի դասիչը` | B61: 1053 | E61: Ցուցանիշների փոփոխությունը (ավելացումները նշված են դրական նշանով, իսկ նվազեցումները՝ փակագծերում)
A62: Միջոցառման դասիչը` | B62: 11011 | E62: Տարի
A63: Միջոցառման անվանումը` | B63: =+'2'!F71 -> #REF!
A64: Նկարագրությունը` | B64: =+'1'!#REF! -> #REF!
A65: Միջոցառման տեսակը` | B65: Ծառայությունների մատուցում
A66: Միջոցառումն իրականացնողի անվանումը | B66: «Քրեակատարողական բժշկության կենտրոն» ՊՈԱԿ
A67: Արդյունքի չափորոշիչներ
A68: Հաշվետու ժամանակաշրջանում ՄԻԱՎ հետազոտություն անցած և արդյունքներին տեղյակ դատապարտյալների ու կալանավորների թիվ, մարդ
A69: Միջոցառման վրա կատարվող ծախսը (հազար դրամ) | E69: ='2'!H71 -> 0
A71: Ծրագրի դասիչը` | B71: 1053 | E71: Ցուցանիշների փոփոխությունը (ավելացումները նշված են դրական նշանով, իսկ նվազեցումները՝ փակագծերում)
A72: Միջոցառման դասիչը` | B72: 11012 | E72: Տարի
A73: Միջոցառման անվանումը` | B73: =+B30 -> Գլոբալ հիմնադրամի աջակցությամբ իրականացվող «Հայաստանի Հանրապետությունում ՄԻԱՎ/ՁԻԱՀ-ի դեմ պայքարի ազգային ծրագրին աջակցություն» դրամաշնորհային շարունակության ծրագիր
A74: Նկարագրությունը` | B74: ՄԻԱՎ/ՁԻԱՀ-ի կանխարգելման և բուժման միջոցառումների իրականացում, լաբորատոր հետազոտությունների իրականացում, սեռավարակների բուժում առավել ռիսկային բակչության խմբերում (ԿՍԿ, ՏՍՏ, ԹՆՈ), խնամք և աջակցություն ՄԻԱՎ-ով ապրող մարդկանց
A75: Միջոցառման տեսակը` | B75: Ծառայությունների մատուցում
A76: Միջոցառումն իրականացնողի անվանումը | B76: «Ինֆեկցիոն հիվանդությունների ազգային կենտրոն» փակ բաժնետիրական ընկերություն (ՓԲԸ)
A77: Արդյունքի չափորոշիչներ
A78: Միգրանտների շրջանում ՄԻԱՎ հետազոտություն | E78: 8000
A79: Միջոցառման վրա կատարվող ծախսը (հազար դրամ) | E79: =+'2'!H80 -> 0
A81: Ծրագրի դասիչը` | B81: 1053 | E81: Ցուցանիշների փոփոխությունը (ավելացումները նշված են դրական նշանով, իսկ նվազեցումները՝ փակագծերում)
A82: Միջոցառման դասիչը` | B82: =+'1'!#REF! -> #REF! | E82: Տարի
A83: Միջոցառման անվանումը` | B83: =+'1'!#REF! -> #REF!
A84: Նկարագրությունը` | B84: =+'1'!#REF! -> #REF!
A85: Միջոցառման տեսակը` | B85: Այլ պետական կազմակերպությունների կողմից օգտագործվող ոչ ֆինանսական ակտիվների հետ գործառնություններ
A86: Ակտիվն օգտագործող կազմակերպությունների անվանումները | B86: «Ինֆեկցիոն հիվանդությունների ազգային կենտրոն» փակ բաժնետիրական ընկերություն (ՓԲԸ)
A87: Արդյունքի չափորոշիչներ
B88: Պացիենտի մոնիտոր | E88: 10
B89: Թթվածնի մատակարարման (CPAP) սարքեր | E89: 10
B90: Ուլտրամանուշակագույն ճառագայթման լամպ (օդի ռեցիրկուլյատորներ) | E90: 150
B91: Թթվածնային կայան | E91: 1
B92: Ռենտգեն սարք | E92: 1
B93: Թորակոսկոպիկ վիրաբուժական հավաքածու | E93: 1
B94: Սառնարաններ | E94: 5
B95: ՊՇՌ պահարան | E95: 1
B96: Անզգայացման սարք | E96: 1
B97: Թոքերի արհեստական օդափոխության սարքեր | E97: 2
A98: Միջոցառման վրա կատարվող ծախսը (հազար դրամ) | E98: =+'2'!H89 -> 0

Sheet 4-2
F1: Հավելված N 4
F2: Աղյուսակ N 2
F3: ՀՀ կառավարության 2021 թվականի
F4: -ի N -Ն որոշման
A5: ՀԱՅԱՍՏԱՆԻ ՀԱՆՐԱՊԵՏՈՒԹՅԱՆ ԿԱՌԱՎԱՐՈՒԹՅԱՆ 2020 ԹՎԱԿԱՆԻ ԴԵԿՏԵՄԲԵՐԻ 30-Ի N 2215-Ն ՈՐՈՇՄԱՆ N 9.1 ՀԱՎԵԼՎԱԾԻ N 9.1.9 ԱՂՅՈՒՍԱԿՈՒՄ ԿԱՏԱՐՎՈՂ ՓՈՓՈԽՈՒԹՅՈՒՆՆԵՐԸ
A7: ՀՀ առողջապահության նախարարություն
F8: 9.1.9
A10: ՄԱՍ 1. ՊԵՏԱԿԱՆ ՄԱՐՄՆԻ ԳԾՈՎ ԱՐԴՅՈՒՆՔԱՅԻՆ (ԿԱՏԱՐՈՂԱԿԱՆ) ՑՈՒՑԱՆԻՇՆԵՐԸ
A12: Ծրագրի դասիչը | B12: Ծրագրի անվանումը
A13: 1053 | B13: Առողջապահության համակարգի արդիականացման և արդյունավետության բարձրացման ծրագիր
A15: Ծրագրի միջոցառումները
A16: Ծրագրի դասիչը` | B16: 1053 | C16: Ցուցանիշների փոփոխությունը (ավելացումները նշված են դրական նշանով, իսկ նվազեցումները՝ փակագծերում)
A18: Միջոցառման դասիչը` | B18: 11004 | C18: Ինն ամիս | E18: Տարի
A19: Միջոցառման անվանումը` | B19: Գլոբալ հիմնադրամի աջակցությամբ իրականացվող «Հայաստանի Հանրապետությունում տուբերկուլյոզի և ՄԻԱՎ/ՁԻԱՀ-ի ծրագրերի հզորացում» դրամաշնորհային ծրագիր
A20: Նկարագրությունը` | B20: Հայաստանի Հանրապետությունում տուբերկուլյոզի բեռի կրճատում« տուբերկուլյոզով բոլոր ձևերի որակյալ ախտորոշման և բուժման մատչելիության ապահովում
A21: Միջոցառման տեսակը` | B21: Ծառայությունների մատուցում
A22: Միջոցառումն իրականացնողի անվանումը | B22: ՀՀ առողջապահության նախարարություն
A23: Արդյունքի չափորոշիչներ
A24: Թվով ավելի քան 1500 տուբերկուլյոզով և 2700 ՄԻԱՎ/ՁԻԱՀ-ով հիվանդների ախտորոշիչ հետազոտությունների և բուժման նպատակով ախտորոշիչ նյութերի և դեղերի ձեռք բերում, մեթադոն դեղի ձեռք բերում, թվով 11 աշխատակիցների աշխատավարձ, գրասենյակային և պահպանման ծախսեր, ամիս
A25: Միջոցառման վրա կատարվող ծախսը (հազար դրամ) | C25: -250000 | E25: -250000
A27: Ծրագրի դասիչը` | B27: 1053 | C27: Ցուցանիշների փոփոխությունը (ավելացումները նշված են դրական նշանով, իսկ նվազեցումները՝ փակագծերում)
A28: Միջոցառման դասիչը` | B28: 11006 | C28: Ինն ամիս | E28: Տարի
A29: Միջոցառման անվանումը` | B29: Գլոբալ հիմնադրամի աջակցությամբ իրականացվող «Հայաստանի Հանրապետությունում ՄԻԱՎ/ՁԻԱՀ-ի դեմ պայքարի ազգային ծրագրին աջակցություն» դրամաշնորհային շարունակության ծրագիր
A30: Նկարագրությունը` | B30: Խորհրդատվության և հետազոտության կետերին և լաբորատորիաներին տեխնիկական աջակցություն« հակառետրովիրուսային և օպորտունիստական վարակների բուժում և կանխարգելում« ՄԻԱՎ/ՁԻԱՀ-ի ազգային ծրագրի հիմնական բաղադրիչների գնահատում
A31: Միջոցառման տեսակը` | B31: Ծառայությունների մատուցում
A32: Միջոցառումն իրականացնողի անվանումը | B32: «Ինֆեկցիոն հիվանդությունների ազգային կենտրոն» ՓԲԸ
A33: Արդյունքի չափորոշիչներ
A34: ՄԻԱՎ-ի հայտնաբերված դեպքերի թիվ, հատ | C34: 10 | E34: 10
A35: ՄԻԱՎ-ի վերաբերյալ հետազոտության թիվ, հատ | C35: 8000 | E35: 8000
A36: Միջոցառման վրա կատարվող ծախսը (հազար դրամ) | C36: 250000 | E36: 250000
A38: Ծրագրի դասիչը` | B38: 1053 | E38: Ցուցանիշների փոփոխությունը (ավելացումները նշված են դրական նշանով, իսկ նվազեցումները՝ փակագծերում)
A39: Միջոցառման դասիչը` | B39: 11008 | E39: Տարի
A40: Միջոցառման անվանումը` | B40: Գլոբալ հիմնադրամի աջակցությամբ իրականացվող «Հայաստանի Հանրապետությունում տուբերկուլյոզի դեմ պայքարի ազգային ծրագրին աջակցություն» դրամաշնորհային ծրագիր
A41: Նկարագրությունը` | B41: Դեղակայուն տուբերկուլյոզով հիվանդների ամբուլատոր բուժումն իրականացնող մասնագետների վերապատրաստում, դեղակայուն տուբերկուլյոզի կառավարման վերաբերյալ վերապատրաստում արտասահմանում, ՏԲ դեղորայքի կառավարման ոլորտում տեխնիկական աջակցություն
A42: Միջոցառման տեսակը` | B42: Ծառայությունների մատուցում
A43: Միջոցառումն իրականացնողի անվանումը | B43: «Թոքաբանության ազգային կենտրոն» ՊՈԱԿ
A44: Արդյունքի չափորոշիչներ
A45: Տուբերկուլոզի բուժման վերաբերյալ տեսա-ՈՒՎԲ ընդլայնում | E45: 40
A46: Ազգային ռեֆերենս լաբորատորիայի ընթացիկ նորոգման աշխատանքների նախագծում | E46: 1
A47: Միջոցառման վրա կատարվող ծախսը (հազար դրամ)
A49: Ծրագրի դասիչը` | B49: 1053 | E49: Ցուցանիշների փոփոխությունը (ավելացումները նշված են դրական նշանով, իսկ նվազեցումները՝ փակագծերում)
A50: Միջոցառման դասիչը` | B50: 11010 | E50: Տարի
A51: Միջոցառման անվանումը` | B51: Գլոբալ հիմնադրամի աջակցությամբ իրականացվող «Հայաստանի Հանրապետությունում տուբերկուլյոզի և ՄԻԱՎ/ՁԻԱՀ-ի ախտորոշման և բուժման նպատակով ստացվող բեռների պահեստավորում և բաշխում» դրամաշնորհային ծրագիր
A52: Նկարագրությունը` | B52: ՄԻԱՎ/ՁԻԱՀ-ի կանխարգելման միջոցառումների իրականացում, ախտորոշիչ լաբորատոր հետազոտությունների իրականացում, սեռավարակների բուժում առավել ռիսկային բնակչության խմբերում (ԿՍԿ, ՏՍՏ, ԹՆՕ), խնամք և աջակցություն ՄԱԻՎ-ով ապրող մարդկանց_x000D_ _x000D_ _x000D_
A53: Միջոցառման տեսակը` | B53: Ծառայությունների մատուցում
A54: Միջոցառումն իրականացնողի անվանումը | B54: «Մարդասիրական օգնության հանրապետական կենտրոն» ՊՈԱԿ
A55: Արդյունքի չափորոշիչներ
A56: Ուղղակի գնման եղանակով ներմուծվող բեռների պահպանում, բաշխում | E56: -12
A57: Միջոցառման վրա կատարվող ծախսը (հազար դրամ)
A59: Ծրագրի դասիչը` | B59: 1053 | E59: Ցուցանիշների փոփոխությունը (ավելացումները նշված են դրական նշանով, իսկ նվազեցումները՝ փակագծերում)
A60: Միջոցառման դասիչը` | B60: 11011 | E60: Տարի
A61: Միջոցառման անվանումը` | B61: Գլոբալ հիմնադրամի աջակցությամբ իրականացվող «Հայաստանի Հանրապետությունում տուբերկուլյոզի և ՄԻԱՎ/ՁԻԱՀ-ի կանխարգելում, ախտորոշում և բուժում քրեակատարողական համակարգում» դրամաշնորհային ծրագիր
A62: Նկարագրությունը` | B62: ՄԻԱՎ/ՁԻԱՀ-ի կանխարգելման միջոցառումների իրականացում, ախտորոշիչ լաբորատոր հետազոտությունների իրականացում դատապարտյալների ու կալանավորների շրջանում_x000D_ _x000D_
A63: Միջոցառման տեսակը` | B63: Ծառայությունների մատուցում
A64: Միջոցառումն իրականացնողի անվանումը | B64: «Քրեակատարողական բժշկության կենտրոն» ՊՈԱԿ
A65: Արդյունքի չափորոշիչներ
A66: Հաշվետու ժամանակաշրջանում ՄԻԱՎ հետազոտություն անցած և արդյունքներին տեղյակ դատապարտյալների ու կալանավորների թիվ, մարդ
A67: Միջոցառման վրա կատարվող ծախսը (հազար դրամ)
A69: Ծրագրի դասիչը` | B69: 1053 | E69: Ցուցանիշների փոփոխությունը (ավելացումները նշված են դրական նշանով, իսկ նվազեցումները՝ փակագծերում)
A70: Միջոցառման դասիչը` | B70: 11012 | E70: Տարի
A71: Միջոցառման անվանումը` | B71: Գլոբալ հիմնադրամի աջակցությամբ իրականացվող «Հայաստանի Հանրապետությունում ՄԻԱՎ/ՁԻԱՀ-ի դեմ պայքարի ազգային ծրագրին աջակցություն» դրամաշնորհային շարունակության ծրագիր
A72: Նկարագրությունը` | B72: ՄԻԱՎ/ՁԻԱՀ-ի կանխարգելման և բուժման միջոցառումների իրականացում, լաբորատոր հետազոտությունների իրականացում, սեռավարակների բուժում առավել ռիսկային բակչության խմբերում (ԿՍԿ, ՏՍՏ, ԹՆՈ), խնամք և աջակցություն ՄԻԱՎ-ով ապրող մարդկանց
A73: Միջոցառման տեսակը` | B73: Ծառայությունների մատուցում
A74: Միջոցառումն իրականացնողի անվանումը | B74: «Ինֆեկցիոն հիվանդությունների ազգային կենտրոն» փակ բաժնետիրական ընկերություն (ՓԲԸ)
A75: Արդյունքի չափորոշիչներ
A76: Միգրանտների շրջանում ՄԻԱՎ հետազոտություն | E76: 8000
A77: Միջոցառման վրա կատարվող ծախսը (հազար դրամ)
A79: Ծրագրի դասիչը` | B79: 1053 | E79: Ցուցանիշների փոփոխությունը (ավելացումները նշված են դրական նշանով, իսկ նվազեցումները՝ փակագծերում)
A80: Միջոցառման դասիչը` | B80: 32004 | E80: Տարի
A81: Միջոցառման անվանումը` | B81: Գլոբալ հիմնադրամի աջակցությամբ իրականացվող «Հայաստանի Հանրապետությունում տուբերկուլյոզի և ՄԻԱՎ/ՁԻԱՀ-ի ծրագրերի հզորացում» դրամաշնորհային ծրագրի շրջանակներում ՀՀ պետական առողջապահական համակարգի կարողությունների զարգացում և տեխնիկական հագեցվածության ապահովում
A82: Նկարագրությունը` | B82: ՀՀ առողջապահության նախարարության հիվանդանոցային ծառայությունների բարելավման համար բժշկական սարքավորումների ձեռք բերում
A83: Միջոցառման տեսակը` | B83: Այլ պետական կազմակերպությունների կողմից օգտագործվող ոչ ֆինանսական ակտիվների հետ գործառնություններ
A84: Ակտիվն օգտագործող կազմակերպությունների անվանումները | B84: «Ինֆեկցիոն հիվանդությունների ազգային կենտրոն» փակ բաժնետիրական ընկերություն (ՓԲԸ)
A85: Արդյունքի չափորոշիչներ
B86: Պացիենտի մոնիտոր | E86: 10
B87: Թթվածնի մատակարարման (CPAP) սարքեր | E87: 10
B88: Ուլտրամանուշակագույն ճառագայթման լամպ (օդի ռեցիրկուլյատորներ) | E88: 150
B89: Թթվածնային կայան | E89: 1
B90: Ռենտգեն սարք | E90: 1
B91: Թորակոսկոպիկ վիրաբուժական հավաքածու | E91: 1
B92: Սառնարաններ | E92: 5
B93: ՊՇՌ պահարան | E93: 1
B94: Անզգայացման սարք | E94: 1
B95: Թոքերի արհեստական օդափոխության սարքեր | E95: 2
A96: Միջոցառման վրա կատարվող ծախսը (հազար դրամ)
