Workbook
Name _GoBack: '4'!#REF!
Name _tab10: #REF!
Name _tab10: #REF!
Name _tab10: #REF!
Name _tab11: #REF!
Name _tab11: #REF!
Name _tab11: #REF!
Name _tab12: #REF!
Name _tab12: #REF!
Name _tab12: #REF!
Name _tab13: #REF!
Name _tab13: #REF!
Name _tab13: #REF!
Name _tab14: #REF!
Name _tab14: #REF!
Name _tab14: #REF!
Name _tab15: #REF!
Name _tab15: #REF!
Name _tab15: #REF!
Name _tab16: #REF!
Name _tab16: #REF!
Name _tab16: #REF!
Name _tab17: #REF!
Name _tab17: #REF!
Name _tab17: #REF!
Name _tab18: #REF!
Name _tab18: #REF!
Name _tab18: #REF!
Name _tab19: #REF!
Name _tab19: #REF!
Name _tab19: #REF!
Name _tab20: #REF!
Name _tab20: #REF!
Name _tab20: #REF!
Name _tab21: #REF!
Name _tab21: #REF!
Name _tab21: #REF!
Name _tab22: #REF!
Name _tab22: #REF!
Name _tab22: #REF!
Name _tab23: #REF!
Name _tab23: #REF!
Name _tab23: #REF!
Name _tab24: #REF!
Name _tab24: #REF!
Name _tab24: #REF!
Name _tab5: #REF!
Name _tab5: #REF!
Name _tab5: #REF!
Name _tab6: #REF!
Name _tab6: #REF!
Name _tab6: #REF!
Name _tab7: #REF!
Name _tab7: #REF!
Name _tab7: #REF!
Name _tab8: #REF!
Name _tab8: #REF!
Name _tab8: #REF!
Name _tab9: #REF!
Name _tab9: #REF!

Sheet 1
F2: Հավելված № 1
D3: ՀՀ կառավարության 2021 թվականի
F4: № ------------ -Ն որոշման
B6: ՀԱՅԱՍՏԱՆԻ ՀԱՆՐԱՊԵՏՈՒԹՅԱՆ 2021 ԹՎԱԿԱՆԻ ՊԵՏԱԿԱՆ ԲՅՈՒՋԵԻ ՄԱՍԻՆ» ՀԱՅԱՍՏԱՆԻ ՀԱՆՐԱՊԵՏՈՒԹՅԱՆ ՕՐԵՆՔԻ N 1 ՀԱՎԵԼՎԱԾԻ N 2 ԱՂՅՈՒՍԱԿՈՒՄ ԿԱՏԱՐՎՈՂ ՎԵՐԱԲԱՇԽՈՒՄԸ ԵՎ ՀԱՅԱՍՏԱՆԻ ՀԱՆՐԱՊԵՏՈՒԹՅԱՆ ԿԱՌԱՎԱՐՈՒԹՅԱՆ 2020 ԹՎԱԿԱՆԻ ԴԵԿՏԵՄԲԵՐԻ 30-Ի № 2215-Ն ՈՐՈՇՄԱՆ № 5 ՀԱՎԵԼՎԱԾԻ № 1 ԱՂՅՈՒՍԱԿՈՒՄ ԿԱՏԱՐՎՈՂ ՓՈՓՈԽՈՒԹՅՈՒՆՆԵՐԸ ԵՎ ԼՐԱՑՈՒՄԸ
B8: Ծրագրային դասիչը | D8: Բյուջետային հատկացումների գլխավոր կարգադրիչների, ծրագրերի և միջոցառումների անվանումները | E8: Ցուցանիշների փոփոխությունները (ավելացումները նշված են դրական նշանով, իսկ նվազեցումները` փակագծերում)
B9: Ծրագիր | C9: Միջոցառում | E9: Ինը ամիս | F9: Տարի
D10: ԸՆԴԱՄԵՆԸ | E10: =E11+E25 -> 0 | F10: =F11+F25 -> 0
D11: Հայաստանի Հանրապետության քաղաքաշինության կոմիտե | E11: =E13 -> -199936 | F11: =F13 -> 0
B12: 1103 | D12: Ծրագրի անվանումը`
D13: Քաղաքաշինության և ճարտարապետության բնագավառում պետական քաղաքականության իրականացում և կանոնակարգում | E13: =E20 -> -199936 | F13: =F20 -> 0
D14: Ծրագրի նպատակը`
D15: Քաղաքաշինության և ճարտարապետության բնագավառում պետական քաղաքականության մշակմանն աջակցություն և իրականացման ապահովում
D16: Վերջնական արդյունքի նկարագրությունը`
D17: Քաղաքաշինության գործունեության կանոնակարգում, քաղաքաշինական տեղեկատվական համակարգի ձևավորում և քաղաքաշինության բնագավառում պետական ծրագրերի իրականացման ապահովում
B18: Ծրագրի միջոցառումներ
C19: 11003 | D19: Միջոցառման անվանումը`
D20: Միկրոռեգիոնալ մակարդակի համակցված տարածական պլանավորման փաստաթղթերի մշակում | E20: =+'3'!G27 -> -199936 | F20: =+'3'!H27 -> 0
D21: Միջոցառման նկարագրությունը`
D22: Միկրոռեգիոնների տարածքային հատակագծման նախագծերի և բնակավայրերի գոտևորման նախագծերի մշակում: Նշված փաստաթղթերը համարժեք են համայնքի գլխավոր հատակագծին և հիմք են հողօգտագործման գործառույթներն իրականացնելու համար
D23: Միջոցառման տեսակը
D24: Ծառայությունների մատուցում
D25: ՀՀ կառավարություն | E25: =E27 -> 199936 | F25: =F27 -> 0
B26: 1139 | D26: Ծրագրի անվանումը
D27: ՀՀ կառավարության պահուստային ֆոնդ | E27: =E34 -> 199936 | F27: =F34 -> 0
D28: Ծրագրի նպատակը
D29: Պետական բյուջեում չկանխատեսված, ինչպես նաեւ բյուջետային երաշխիքների ապահովման ծախսերի ֆինանսավորման ապահովում
D30: Վերջնական արդյունքի նկարագրությունը
D31: Պահուստային ֆոնդի կառավարման արդյունավետության և թափանցիկության ապահովում
B32: Ծրագրի միջոցառումներ
C33: 11001 | D33: Միջոցառման անվանումը
D34: ՀՀ կառավարության պահուստային ֆոնդ | E34: =+'3'!G45 -> 199936 | F34: =+'3'!H45 -> 0
D35: Միջոցառման նկարագրությունը
D36: ՀՀ պետական բյուջեում նախատեսված ելքերի լրացուցիչ ֆինանսավորման, պետական բյուջեում չկանխատեսված ելքերի, ինչպես նաև բյուջետային երաշխիքների ապահովման ելքերի ֆինանսավորման ապահովում
D37: Միջոցառման տեսակը
D38: Ծառայությունների մատուցում

Sheet 2
E1: Հավելված № 2
D2: ՀՀ կառավարության 2021 թվականի
E3: № ------------ -Ն որոշման
A4: ՀԱՅԱՍՏԱՆԻ ՀԱՆՐԱՊԵՏՈՒԹՅԱՆ ԿԱՌԱՎԱՐՈՒԹՅԱՆ 2020 ԹՎԱԿԱՆԻ ԴԵԿՏԵՄԲԵՐԻ 30-Ի № 2215-Ն ՈՐՈՇՄԱՆ N 5 ՀԱՎԵԼՎԱԾԻ N 2 ԱՂՅՈՒՍԱԿՈՒՄ ԿԱՏԱՐՎՈՂ ԼՐԱՑՈՒՄՆԵՐԸ
E5: (հազ. դրամ)
A7: Ծրագրային դասիչը | C7: Բյուջետային գլխավոր կարգադրիչների, ծրագրերի, միջոցառումների, միջոցառումները կատարող պետական մարմինների և ուղղությունների անվանումները | D7: Ցուցանիշների փոփոխությունները (ավելացումները նշված են դրական նշանով, իսկ նվազեցումները` փակագծերում)
A9: ծրագիրը | B9: միջոցառումը | D9: ինն ամիս | E9: տարի
C10: ԸՆԴԱՄԵՆԸ | D10: =+D12 -> -199936 | E10: =+E12 -> 0
C11: այդ թվում`
A12: 1103 | B12: 11003 | C12: Միկրոռեգիոնալ մակարդակի համակցված տարածական պլանավորման փաստաթղթերի մշակում | D12: =+D14 -> -199936 | E12: =+E14 -> 0
C13: այդ թվում` ըստ կատարողների
C14: ՀՀ քաղաքաշինության կոմիտե | D14: =SUM(D17:D25) -> -199936 | E14: =SUM(E17:E25) -> 0
C15: այդ թվում` ըստ ուղղությունների
C16: ՀՀ Գեղարքունիքի մարզի համայնքների (մասամբ) միկրոռեգիոնալ մակարդակի` համակցված տարածական պլանավորման թվով 5 փաստաթղթերի նախագծերի մշակում (տարածքային հատակագծման նախագծերի և փորձաքննությունների մասով)
C17: ՀՀ Լոռու մարզի համայնքների (մասամբ) միկրոռեգիոնալ մակարդակի` համակցված տարածական պլանավորման թվով 2 փաստաթղթերի նախագծի մշակում (տարածքային հատակագծման նախագծի և փորձաքննությունների մասով) | D17: -54400 | E17: -54400
C18: ՀՀ Կոտայքի մարզի համայնքների միկրոռեգիոնալ մակարդակի` համակցված տարածական պլանավորման թվով 7 փաստաթղթերի նախագծի մշակում (տարածքային հատակագծման նախագծի և փորձաքննությունների մասով) | D18: =-146200+42264 -> -103936 | E18: =-146200+42264 -> -103936
C19: ՀՀ Շիրակի մարզի համայնքների (մասամբ) միկրոռեգիոնալ մակարդակի` համակցված տարածական պլանավորման թվով 4 փաստաթղթերի նախագծի մշակում (տարածքային հատակագծման նախագծի և փորձաքննությունների մասով) | D19: =-41600 -> -41600 | E19: =-41600 -> -41600
C20: ՀՀ Արմավիրի մարզի միկրոռեգիոնալ մակարդակի` համակցված տարածական պլանավորման թվով 9 փաստաթղթերի նախագծերի մշակում (տարածքային հատակագծման նախագծերի և փորձաքննությունների մասով) | E20: 38625
C21: ՀՀ Վայոց ձորի մարզի միկրոռեգիոնալ մակարդակի` համակցված տարածական պլանավորման թվով 6 փաստաթղթերի նախագծերի մշակում (տարածքային հատակագծման նախագծերի և փորձաքննությունների մասով) | E21: 29000
C22: ՀՀ Արագածոտնի մարզի համայնքների միկրոռեգիոնալ մակարդակի` համակցված տարածական պլանավորման թվով 11 փաստաթղթերի նախագծերի մշակում (տարածքային հատակագծման նախագծերի և փորձաքննությունների մասով) | E22: 89211
C23: ՀՀ Գեղարքունիքի մարզի համայնքների (մասնակի) միկրոռեգիոնալ մակարդակի` համակցված տարածական պլանավորման թվով 3 փաստաթղթերի նախագծերի մշակում (տարածքային հատակագծման նախագծերի և փորձաքննությունների մասով) | E23: =64400-56400 -> 8000
C24: ՀՀ Շիրակի մարզի համայնքների (մասնակի) միկրոռեգիոնալ մակարդակի` համակցված տարածական պլանավորման թվով 6 փաստաթղթերի նախագծի մշակում (տարածքային հատակագծման նախագծի և փորձաքննությունների մասով)
C25: ՀՀ Շիրակի մարզի Աշոցքի համայնքի միկրոռեգիոնալ մակարդակի համակցված տարածական պլանավորման փաստաթղթի նախագծի մշակում | E25: =46800-11700 -> 35100

Sheet 3
G1: Հավելված № 3
F2: ՀՀ կառավարության 2021 թվականի
G3: № ------------ -Ն որոշման
A5: ՀԱՅԱՍՏԱՆԻ ՀԱՆՐԱՊԵՏՈՒԹՅԱՆ ԿԱՌԱՎԱՐՈՒԹՅԱՆ 2020 ԹՎԱԿԱՆԻ ԴԵԿՏԵՄԲԵՐԻ 30-Ի № 2215-Ն ՈՐՈՇՄԱՆ NN 3 և 4 ՀԱՎԵԼՎԱԾՆԵՐՈՒՄ ԿԱՏԱՐՎՈՂ ՓՈՓՈԽՈՒԹՅՈՒՆՆԵՐԸ ԵՎ ԼՐԱՑՈՒՄՆԵՐԸ
A7: Գործառական դասիչը | D7: Ծրագրային դասիչը | F7: Բյուջետային հատկացումների գլխավոր կարգադրիչների, ծրագրերի, միջոցառումների և միջոցառումները կատարող պետական մարմինների անվանումները | G7: Ցուցանիշների փոփոխությունները (ավելացումները նշված են դրական նշանով, իսկ նվազեցումները` փակագծերում)
A8: բաժին | B8: խումբ | C8: դաս | D8: Ծրագիր | E8: Միջոցառում | G8: Ինը ամիս | H8: Տարի
A9: ԸՆԴԱՄԵՆԸ | G9: =+G10+G28 -> 0 | H9: =+H10+H28 -> 0
A10: 06 | F10: ԲՆԱԿԱՐԱՆԱՅԻՆ ՇԻՆԱՐԱՐՈՒԹՅՈՒՆ ԵՎ ԿՈՄՈՒՆԱԼ ԾԱՌԱՅՈՒԹՅՈՒՆՆԵՐ | G10: =G12 -> -199936 | H10: =H12 -> 0
F11: այդ թվում՝
B12: 02 | F12: Համայնքային զարգացում | G12: =G14 -> -199936 | H12: =H14 -> 0
F13: այդ թվում՝
C14: 01 | F14: Համայնքային զարգացում | G14: =G18 -> -199936 | H14: =H18 -> 0
F15: այդ թվում՝
F16: ՀՀ քաղաքաշինության կոմիտե | G16: =G18 -> -199936 | H16: =H18 -> 0
F17: այդ թվում՝
D18: 1103 | F18: Քաղաքաշինության և ճարտարապետության բնագավառում պետական քաղաքականության իրականացում և կանոնակարգում | G18: =G20 -> -199936 | H18: =H20 -> 0
F19: այդ թվում`
E20: 11003 | F20: Միկրոռեգիոնալ մակարդակի համակցված տարածական պլանավորման փաստաթղթերի մշակում | G20: =G22 -> -199936 | H20: =H22 -> 0
F21: այդ թվում ըստ կատարողների
F22: Հայաստանի Հանրապետության քաղաքաշինության կոմիտե | G22: =G24 -> -199936 | H22: =H24 -> 0
F23: այդ թվում` բյուջետային ծախսերի տնտեսագիտական դասակարգման հոդվածներ
F24: ԸՆԴԱՄԵՆԸ ԾԱԽՍԵՐ | G24: =G26 -> -199936 | H24: =H26 -> 0
F25: ՈՉ ՖԻՆԱՆՍԱԿԱՆ ԱԿՏԻՎՆԵՐԻ ԳԾՈՎ ԾԱԽՍԵՐ | G25: =G26 -> -199936 | H25: =H26 -> 0
F26: ԱՅԼ ՀԻՄՆԱԿԱՆ ՄԻՋՈՑՆԵՐ | G26: =G27 -> -199936 | H26: =H27 -> 0
F27: -Նախագծահետազոտական ծախսեր | G27: =+'2'!D14 -> -199936 | H27: =+'2'!E14 -> 0
A28: 11 | F28: ՀԻՄՆԱԿԱՆ ԲԱԺԻՆՆԵՐԻՆ ՉԴԱՍՎՈՂ ՊԱՀՈՒՍՏԱՅԻՆ ՖՈՆԴԵՐ | G28: =G30 -> 199936 | H28: =H30 -> 0
F29: այդ թվում՝
B30: 01 | F30: ՀՀ կառավարության և համայնքների պահուստային ֆոնդ | G30: =G32 -> 199936 | H30: =H32 -> 0
F31: այդ թվում՝
C32: 01 | F32: ՀՀ կառավարության պահուստային ֆոնդ | G32: =G36 -> 199936 | H32: =H36 -> 0
F33: այդ թվում՝
F34: ՀՀ կառավարություն | G34: =G36 -> 199936 | H34: =H36 -> 0
F35: այդ թվում՝
D36: 1139 | F36: ՀՀ կառավարության պահուստային ֆոնդ | G36: =G38 -> 199936 | H36: =H38 -> 0
F37: այդ թվում`
E38: 11001 | F38: ՀՀ կառավարության պահուստային ֆոնդ | G38: =G40 -> 199936 | H38: =H40 -> 0
F39: այդ թվում ըստ կատարողների
F40: ՀՀ կառավարություն | G40: =G42 -> 199936 | H40: =H42 -> 0
F41: այդ թվում` բյուջետային ծախսերի տնտեսագիտական դասակարգման հոդվածներ
F42: ԸՆԴԱՄԵՆԸ ԾԱԽՍԵՐ | G42: =G44 -> 199936 | H42: =H44 -> 0
F43: ԸՆԹԱՑԻԿ ԾԱԽՍԵՐ | G43: =G44 -> 199936 | H43: =H44 -> 0
F44: ԱՅԼ ԾԱԽՍԵՐ | G44: =G45 -> 199936 | H44: =H45 -> 0
F45: Պահուստային միջոցներ | G45: =-G27 -> 199936 | H45: =-H27 -> 0

Sheet 4
F1: Հավելված № 4
D2: ՀՀ կառավարության 2021 թվականի
E3: № ------------ -Ն որոշման
A5: «ՀԱՅԱՍՏԱՆԻ ՀԱՆՐԱՊԵՏՈՒԹՅԱՆ 2021 ԹՎԱԿԱՆԻ ՊԵՏԱԿԱՆ ԲՅՈՒՋԵԻ ՄԱՍԻՆ» ՀԱՅԱՍՏԱՆԻ ՀԱՆՐԱՊԵՏՈՒԹՅԱՆ ՕՐԵՆՔԻ ՀԱՎԵԼՎԱԾ 1-Ի N 3 ԱՂՅՈՒՍԱԿՈՒՄ ԿԱՏԱՐՎՈՂ ՓՈՓՈԽՈՒԹՅՈՒՆՆԵՐԸ ԵՎ ԼՐԱՑՈՒՄՆԵՐԸ
H6: (հազ. դրամ)
A7: Ծրագրային դասիչը | C7: Բյուջետային գլխավոր կարգադրիչների, ծրագրերի, միջոցառումների, միջոցառումները կատարող պետական մարմինների և ուղղությունների անվանումները | D7: Ցուցանիշների փոփոխությունները (ավելացումները նշված են դրական նշանով, իսկ նվազեցումները` փակագծերում)
D8: Ընդամենը | E8: Կառուցման աշխատանքներ | F8: Վերակառուցմա,Վերակառուցմա, վերանորոգման և վերականգնման աշխատանքներ | G8: Նախագծահետազոտական, գեոդեզիա-քարտեզագրական աշխատանքներ | H8: Ոչ ֆինանսական այլ ակտիվերի ձեռքբերում
A9: ծրագիրը | B9: միջոցառումը | C9: ԸՆԴԱՄԵՆԸ | D9: =+E9+F9+G9+H9 -> 0 | E9: =+E11 -> 0 | F9: =+F11 -> 0 | G9: =+G11 -> 0 | H9: =+H11 -> 0
C10: այդ թվում`
C11: ՀՀ քաղաքաշինության կոմիտե | D11: =+E11+F11+G11+H11 -> 0 | E11: =+E13 -> 0 | F11: =+F13 -> 0 | G11: =+G13 -> 0 | H11: =+H13 -> 0
C12: այդ թվում`
A13: 1103 | B13: 11003 | C13: Միկրոռեգիոնալ մակարդակի համակցված տարածական պլանավորման փաստաթղթերի մշակում | D13: =+E13+F13+G13+H13 -> 0 | E13: =+E14+E15+E16+E17+E18+E19+E20+E21+E23 -> 0 | F13: =+F14+F15+F16+F17+F18+F19+F20+F21+F23 -> 0 | G13: =+G14+G15+G16+G17+G18+G19+G20+G21+G23 -> 0 | H13: =+H14+H15+H16+H17+H18+H19+H20+H21+H23 -> 0
C14: ՀՀ Գեղարքունիքի մարզի համայնքների (մասամբ) միկրոռեգիոնալ մակարդակի` համակցված տարածական պլանավորման թվով 5 փաստաթղթերի նախագծերի մշակում (տարածքային հատակագծման նախագծերի և փորձաքննությունների մասով) | D14: =+E14+F14+G14+H14 -> 0 | E14: 0 | F14: 0 | H14: 0
C15: ՀՀ Լոռու մարզի համայնքների (մասամբ) միկրոռեգիոնալ մակարդակի` համակցված տարածական պլանավորման թվով 2 փաստաթղթերի նախագծի մշակում (տարածքային հատակագծման նախագծի և փորձաքննությունների մասով) | D15: =+E15+F15+G15+H15 -> -54400 | G15: -54400
C16: ՀՀ Կոտայքի մարզի համայնքների միկրոռեգիոնալ մակարդակի` համակցված տարածական պլանավորման թվով 7 փաստաթղթերի նախագծի մշակում (տարածքային հատակագծման նախագծի և փորձաքննությունների մասով) | D16: =+E16+F16+G16+H16 -> -103936 | G16: =-146200+42264 -> -103936
C17: ՀՀ Շիրակի մարզի համայնքների (մասամբ) միկրոռեգիոնալ մակարդակի` համակցված տարածական պլանավորման թվով 4 փաստաթղթերի նախագծի մշակում (տարածքային հատակագծման նախագծի և փորձաքննությունների մասով) | D17: =+E17+F17+G17+H17 -> -41600 | G17: -41600
C18: ՀՀ Արմավիրի մարզի միկրոռեգիոնալ մակարդակի` համակցված տարածական պլանավորման թվով 9 փաստաթղթերի նախագծերի մշակում (տարածքային հատակագծման նախագծերի և փորձաքննությունների մասով) | D18: =+E18+F18+G18+H18 -> 38625 | G18: 38625
C19: ՀՀ Վայոց ձորի մարզի միկրոռեգիոնալ մակարդակի` համակցված տարածական պլանավորման թվով 6 փաստաթղթերի նախագծերի մշակում (տարածքային հատակագծման նախագծերի և փորձաքննությունների մասով) | D19: =+E19+F19+G19+H19 -> 29000 | G19: 29000
C20: ՀՀ Արագածոտնի մարզի համայնքների միկրոռեգիոնալ մակարդակի` համակցված տարածական պլանավորման թվով 11 փաստաթղթերի նախագծերի մշակում (տարածքային հատակագծման նախագծերի և փորձաքննությունների մասով) | D20: =+E20+F20+G20+H20 -> 89211 | G20: =+'2'!E22 -> 89211
C21: ՀՀ Գեղարքունիքի մարզի համայնքների (մասնակի) միկրոռեգիոնալ մակարդակի` համակցված տարածական պլանավորման թվով 3 փաստաթղթերի նախագծերի մշակում (տարածքային հատակագծման նախագծերի և փորձաքննությունների մասով) | D21: =+E21+F21+G21+H21 -> 8000 | G21: =+'2'!E23 -> 8000
C22: ՀՀ Շիրակի մարզի համայնքների (մասնակի) միկրոռեգիոնալ մակարդակի` համակցված տարածական պլանավորման թվով 6 փաստաթղթերի նախագծի մշակում (տարածքային հատակագծման նախագծի և փորձաքննությունների մասով) | D22: =+E22+F22+G22+H22 -> 0
C23: ՀՀ Շիրակի մարզի Աշոցքի համայնքի միկրոռեգիոնալ մակարդակի համակցված տարածական պլանավորման փաստաթղթի նախագծի մշակում | D23: =+E23+F23+G23+H23 -> 35100 | G23: =46800-11700 -> 35100

Sheet 6
D1: Հավելված № 8
B2: ՀՀ կառավարության 2021 թվականի
C3: № ------------ -Ն որոշման
A6: ՀԱՅԱՍՏԱՆԻ ՀԱՆՐԱՊԵՏՈՒԹՅԱՆ ԿԱՌԱՎԱՐՈՒԹՅԱՆ 2020 ԹՎԱԿԱՆԻ ԴԵԿՏԵՄԲԵՐԻ 30-Ի N 2215-Ն ՈՐՈՇՄԱՆ N 9.1 ՀԱՎԵԼՎԱԾԻ NN 9.1.42 ԵՎ 9.1.58 ԱՂՅՈՒՍԱԿՆԵՐՈՒՄ ԿԱՏԱՐՎՈՂ ՓՈՓՈԽՈՒԹՅՈՒՆՆԵՐԸ ԵՎ ԼՐԱՑՈՒՄՆԵՐԸ
A7: ՀՀ քաղաքաշինության կոմիտե
A8: ՄԱՍ 1. ՊԵՏԱԿԱՆ ՄԱՐՄՆԻ ԳԾՈՎ ԱՐԴՅՈՒՆՔԱՅԻՆ (ԿԱՏԱՐՈՂԱԿԱՆ) ՑՈՒՑԱՆԻՇՆԵՐԸ
A9: Ծրագրի դասիչը | B9: Ծրագրի անվանումը
A10: 1103 | B10: Քաղաքաշինության և ճարտարապետության բնագավառում պետական քաղաքականության իրականացում և կանոնակարգում
A12: Ծրագրի միջոցառումները
A14: Ծրագրի դասիչը` | B14: 1103 | C14: Ցուցանիշների փոփոխությունները (ավելացումները նշված են դրական նշանով, իսկ նվազեցումները` փակագծերում)
A15: Միջոցառման դասիչը` | B15: 11003 | C15: Ինն ամիս | D15: Տարի
A16: Միջոցառման անվանումը` | B16: Միկրոռեգիոնալ մակարդակի համակցված տարածական պլանավորման փաստաթղթերի մշակում
A17: Նկարագրությունը` | B17: Միկրոռեգիոնների տարածքային հատակագծման նախագծերի և բնակավայրերի գոտևորման նախագծերի մշակում: Նշված փաստաթղթերը համարժեք են համայնքի գլխավոր հատակագծին և հիմք են հողօգտագործման գործառույթներն իրականացնելու համար
A18: Միջոցառման տեսակը` | B18: Ծառայությունների մատուցում
A19: Միջոցառումն իրականացնողի անվանումը | B19: ՀՀ քաղաքաշինության կոմիտե
A20: Արդյունքի չափորոշիչներ
A21: ՀՀ Գեղարքունիքի մարզի համայնքների (մասամբ) համակցված տարածական պլանավորման փաստաթղթերի նախագծերի մշակման համար ձևավորված միկրոռեգիոնալ միավորների քանակ, հատ
A22: ՀՀ Լոռու մարզի համայնքների (մասամբ) համակցված տարածական պլանավորման փաստաթղթերի նախագծերի մշակման համար ձևավորված միկրոռեգիոնալ միավորների քանակ, հատ | C22: -2 | D22: -2
A23: ՀՀ Կոտայքի մարզի համայնքների համակցված տարածական պլանավորման փաստաթղթերի նախագծերի մշակման համար ձևավորված միկրոռեգիոնալ միավորների քանակ, հատ | C23: -7 | D23: -7
A24: ՀՀ Շիրակի մարզի համայնքների (մասամբ) համակցված տարածական պլանավորման փաստաթղթերի նախագծերի մշակման համար ձևավորված միկրոռեգիոնալ միավորների քանակ, հատ | C24: =-4+1 -> -3 | D24: =-4+1 -> -3
A25: ՀՀ Արմավիրի մարզի մհամայնքների համակցված տարածական պլանավորման փաստաթղթերի նախագծերի մշակման համար ձևավորված միկրոռեգիոնալ միավորների քանակ, հատ | D25: 9
A26: ՀՀ Վայոց ձորի մարզի համայնքների ( համակցված տարածական պլանավորման փաստաթղթերի նախագծերի մշակման համար ձևավորված միկրոռեգիոնալ միավորների քանակ, հատ | D26: 6
A27: ՀՀ Արագածոտնի մարզի համայնքների համակցված տարածական պլանավորման փաստաթղթերի նախագծերի մշակման համար ձևավորված միկրոռեգիոնալ միավորների քանակ, հատ | D27: 11
A28: Միջոցառման վրա կատարվող ծախսը (հազար դրամ) | C28: =+'3'!G22 -> -199936 | D28: =+'3'!H22 -> 0
A31: ՀՀ Կառավարություն
A32: ՄԱՍ 1. ՊԵՏԱԿԱՆ ՄԱՐՄՆԻ ԳԾՈՎ ԱՐԴՅՈՒՆՔԱՅԻՆ (ԿԱՏԱՐՈՂԱԿԱՆ) ՑՈՒՑԱՆԻՇՆԵՐԸ
A33: Ծրագրի դասիչը | B33: Ծրագրի անվանումը
A34: 1139 | B34: ՀՀ կառավարության պահուստային ֆոնդ
A36: Ծրագրի միջոցառումները
A37: Ծրագրի դասիչը` | B37: 1139 | C37: Ցուցանիշների փոփոխությունները (ավելացումները նշված են դրական նշանով)
A38: Միջոցառման դասիչը` | B38: 11001 | C38: Ինը ամիս | D38: Տարի
A39: Միջոցառման անվանումը` | B39: ՀՀ կառավարության պահուստային ֆոնդ
A40: Նկարագրությունը` | B40: ՀՀ պետական բյուջեում նախատեսված ելքերի լրացուցիչ ֆինանսավորման, պետական բյուջեում չկանխատեսված ելքերի, ինչպես նաև բյուջետային երաշխիքների ապահովման ելքերի ֆինանսավորման ապահովում
A41: Միջոցառման տեսակը` | B41: Ծառայությունների մատուցում
A42: Արդյունքի չափորոշիչներ
A43: Միջոցառման վրա կատարվող ծախսը (հազար դրամ) | C43: =+'3'!G45 -> 199936 | D43: =+'3'!H45 -> 0

Sheet 5
C1: Հավելված № 5
B2: ՀՀ կառավարության 2021 թվականի
C3: № ------------ -Ն որոշման
A5: ՀԱՅԱՍՏԱՆԻ ՀԱՆՐԱՊԵՏՈՒԹՅԱՆ ԿԱՌԱՎԱՐՈՒԹՅԱՆ 2020 ԹՎԱԿԱՆԻ ԴԵԿՏԵՄԲԵՐԻ 30-Ի N 2215-Ն ՈՐՈՇՄԱՆ N 9 ՀԱՎԵԼՎԱԾԻ NN 9.34 ԵՎ 9.47 ԱՂՅՈՒՍԱԿՆԵՐՈՒՄ ԿԱՏԱՐՎՈՂ ԼՐԱՑՈՒՄՆԵՐԸ ԵՎ ՓՈՓՈԽՈՒԹՅՈՒՆՆԵՐԸ
A6: ՀՀ Քաղաքաշինության կոմիտե
A7: ՄԱՍ 2. ՊԵՏԱԿԱՆ ՄԱՐՄՆԻ ԳԾՈՎ ԱՐԴՅՈՒՆՔԱՅԻՆ (ԿԱՏԱՐՈՂԱԿԱՆ) ՑՈՒՑԱՆԻՇՆԵՐԸ
A8: Ծրագրի դասիչը | B8: Ծրագրի անվանումը
A9: 1103 | B9: Քաղաքաշինության և ճարտարապետության բնագավառում պետական քաղաքականության իրականացում և կանոնակարգում
A11: Ծրագրի միջոցառումները
A13: Ծրագրի դասիչը` | B13: 1103 | C13: Ցուցանիշների փոփոխությունները (ավելացումները նշված են դրական նշանով, իսկ նվազեցումները` փակագծերում)
A14: Միջոցառման դասիչը` | B14: 11003 | C14: Ինն ամիս | D14: Տարի
A15: Միջոցառման անվանումը` | B15: Միկրոռեգիոնալ մակարդակի համակցված տարածական պլանավորման փաստաթղթերի մշակում
A16: Նկարագրությունը` | B16: Միկրոռեգիոնների տարածքային հատակագծման նախագծերի և բնակավայրերի գոտևորման նախագծերի մշակում: Նշված փաստաթղթերը համարժեք են համայնքի գլխավոր հատակագծին և հիմք են հողօգտագործման գործառույթներն իրականացնելու համար
A17: Միջոցառման տեսակը` | B17: Ծառայությունների մատուցում
A18: Միջոցառումն իրականացնողի անվանումը | B18: ՀՀ քաղաքաշինության կոմիտե
A19: Արդյունքի չափորոշիչներ
A20: ՀՀ Գեղարքունիքի մարզի համայնքների (մասամբ) համակցված տարածական պլանավորման փաստաթղթերի նախագծերի մշակման համար ձևավորված միկրոռեգիոնալ միավորների քանակ, հատ
A21: ՀՀ Լոռու մարզի համայնքների (մասամբ) համակցված տարածական պլանավորման փաստաթղթերի նախագծերի մշակման համար ձևավորված միկրոռեգիոնալ միավորների քանակ, հատ | C21: -2 | D21: -2
A22: ՀՀ Կոտայքի մարզի համայնքների համակցված տարածական պլանավորման փաստաթղթերի նախագծերի մշակման համար ձևավորված միկրոռեգիոնալ միավորների քանակ, հատ | C22: -7 | D22: -7
A23: ՀՀ Շիրակի մարզի համայնքների (մասամբ) համակցված տարածական պլանավորման փաստաթղթերի նախագծերի մշակման համար ձևավորված միկրոռեգիոնալ միավորների քանակ, հատ | C23: =-4+1 -> -3 | D23: =-4+1 -> -3
A24: ՀՀ Արմավիրի մարզի մհամայնքների համակցված տարածական պլանավորման փաստաթղթերի նախագծերի մշակման համար ձևավորված միկրոռեգիոնալ միավորների քանակ, հատ | D24: 9
A25: ՀՀ Վայոց ձորի մարզի համայնքների համակցված տարածական պլանավորման փաստաթղթերի նախագծերի մշակման համար ձևավորված միկրոռեգիոնալ միավորների քանակ, հատ | D25: 6
A26: ՀՀ Արագածոտնի մարզի համայնքների համակցված տարածական պլանավորման փաստաթղթերի նախագծերի մշակման համար ձևավորված միկրոռեգիոնալ միավորների քանակ, հատ | D26: 11
A27: Միջոցառման վրա կատարվող ծախսը (հազար դրամ) | C27: =+'3'!G27 -> -199936 | D27: =+'3'!H27 -> 0
A31: ՀՀ Կառավարություն
A32: ՄԱՍ 2. ՊԵՏԱԿԱՆ ՄԱՐՄՆԻ ԳԾՈՎ ԱՐԴՅՈՒՆՔԱՅԻՆ (ԿԱՏԱՐՈՂԱԿԱՆ) ՑՈՒՑԱՆԻՇՆԵՐԸ
A33: Ծրագրի դասիչը | B33: Ծրագրի անվանումը
A34: 1139 | B34: ՀՀ կառավարության պահուստային ֆոնդ
A36: Ծրագրի միջոցառումները
A37: Ծրագրի դասիչը` | B37: 1139 | C37: Ցուցանիշների փոփոխությունները (ավելացումները նշված են դրական նշանով)
A38: Միջոցառման դասիչը` | B38: 11001 | C38: Ինը ամիս | D38: Տարի
A39: Միջոցառման անվանումը` | B39: ՀՀ կառավարության պահուստային ֆոնդ
A40: Նկարագրությունը` | B40: ՀՀ պետական բյուջեում նախատեսված ելքերի լրացուցիչ ֆինանսավորման, պետական բյուջեում չկանխատեսված ելքերի, ինչպես նաև բյուջետային երաշխիքների ապահովման ելքերի ֆինանսավորման ապահովում
A41: Միջոցառման տեսակը` | B41: Ծառայությունների մատուցում
A42: Արդյունքի չափորոշիչներ
A43: Միջոցառման վրա կատարվող ծախսը (հազար դրամ) | C43: =+'3'!G45 -> 199936 | D43: =+'3'!H45 -> 0

Sheet 7
G1: Հավելված № 7
E2: ՀՀ կառավարության 2021 թվականի
F3: № ------------ -Ն որոշման
A6: ՀԱՅԱՍՏԱՆԻ ՀԱՆՐԱՊԵՏՈՒԹՅԱՆ ԿԱՌԱՎԱՐՈՒԹՅԱՆ 2020 ԹՎԱԿԱՆԻ ԴԵԿՏԵՄԲԵՐԻ 30-Ի № 2215-Ն ՈՐՈՇՄԱՆ N 10 ՀԱՎԵԼՎԱԾՈՒՄ ԿԱՏԱՐՎՈՂ ՓՈՓՈԽՈՒԹՅՈՒՆՆԵՐԸ ԵՎ ԼՐԱՑՈՒՄՆԵՐԸ
A9: Կոդը | B9: Անվանումը | C9: Գնման ձևը | E9: Չափման միավորը | G9: Միավորի գինը | H9: Ցուցանիշների փոփոխությունը (ավելացումները նշված են դրական նշանով, իսկ նվազեցումները՝ փակագծերում)
H10: Քանակը | I10: Գումարը (հազար դրամով)
A11: 1 | B11: 2 | C11: 3 | E11: 4 | G11: 5 | H11: 6 | I11: 7
A12: ՀՀ Քաղաքաշինության կոմիտե | I12: =I13 -> 0
A13: Բաժին 06 | B13: Խումբ 02 | D13: Դաս 01 | F13: Համայնքային զարգացում | I13: =+I14 -> 0
A14: 1103 11003 | B14: Միկրոռեգիոնալ մակարդակի համակցված տարածական պլանավորման փաստաթղթերի մշակում | I14: =+I15 -> 0
B15: ՄԱՍ III. ԾԱՌԱՅՈՒԹՅՈՒՆՆԵՐ | I15: =SUM(I16:I47) -> 0
A16: 71241200-2 | B16: նախագծերի պատրաստում, ծախսերի գնահատում | E16: ԲՄ | F16: դրամ | H16: 1 | I16: -41600
A17: 71241200-3 | B17: նախագծերի պատրաստում, ծախսերի գնահատում | E17: ԲՄ | F17: դրամ | H17: 1 | I17: =-146200+42264 -> -103936
A18: 71241200-4 | B18: նախագծերի պատրաստում, ծախսերի գնահատում | E18: գհ | F18: դրամ | H18: 1 | I18: -54400
A19: 71241200-5 | B19: նախագծերի պատրաստում, ծախսերի գնահատում | E19: գհ | F19: դրամ | G19: =+I19*1000 -> 6350000 | H19: 1 | I19: 6350
A20: 71241200-6 | B20: նախագծերի պատրաստում, ծախսերի գնահատում | E20: գհ | F20: դրամ | G20: =+I20*1000 -> 3850000 | H20: 1 | I20: 3850
A21: 71241200-7 | B21: նախագծերի պատրաստում, ծախսերի գնահատում | E21: գհ | F21: դրամ | G21: =+I21*1000 -> 2975000 | H21: 1 | I21: 2975
A22: 71241200-8 | B22: նախագծերի պատրաստում, ծախսերի գնահատում | E22: գհ | F22: դրամ | G22: =+I22*1000 -> 4200000 | H22: 1 | I22: 4200
A23: 71241200-9 | B23: նախագծերի պատրաստում, ծախսերի գնահատում | E23: գհ | F23: դրամ | G23: =+I23*1000 -> 4750000 | H23: 1 | I23: 4750
A24: 71241200-10 | B24: նախագծերի պատրաստում, ծախսերի գնահատում | E24: գհ | F24: դրամ | G24: =+I24*1000 -> 4000000 | H24: 1 | I24: 4000
A25: 71241200-11 | B25: նախագծերի պատրաստում, ծախսերի գնահատում | E25: գհ | F25: դրամ | G25: =+I25*1000 -> 5000000 | H25: 1 | I25: 5000
A26: 71241200-12 | B26: նախագծերի պատրաստում, ծախսերի գնահատում | E26: գհ | F26: դրամ | G26: =+I26*1000 -> 3500000 | H26: 1 | I26: 3500
A27: 71241200-13 | B27: նախագծերի պատրաստում, ծախսերի գնահատում | E27: գհ | F27: դրամ | G27: =+I27*1000 -> 4000000 | H27: 1 | I27: 4000
A28: 71241200-14 | B28: նախագծերի պատրաստում, ծախսերի գնահատում | E28: գհ | F28: դրամ | G28: =+I28*1000 -> 5500000 | H28: 1 | I28: 5500
A29: 71241200-15 | B29: նախագծերի պատրաստում, ծախսերի գնահատում | E29: գհ | F29: դրամ | G29: =+I29*1000 -> 2500000 | H29: 1 | I29: 2500
A30: 71241200-16 | B30: նախագծերի պատրաստում, ծախսերի գնահատում | E30: գհ | F30: դրամ | G30: =+I30*1000 -> 5500000 | H30: 1 | I30: 5500
... A33: 71241200-19 | B33: նախագծերի պատրաստում, ծախսերի գնահատում | E33: գհ | F33: դրամ | G33: =+I33*1000 -> 3750000 | H33: 1 | I33: 3750
A34: 71241200-20 | B34: նախագծերի պատրաստում, ծախսերի գնահատում | E34: գհ | F34: դրամ | G34: =+I34*1000 -> 5450000 | H34: 1 | I34: =29950*0.25-2037.5 -> 5450
A35: 71241200-21 | B35: նախագծերի պատրաստում, ծախսերի գնահատում | E35: գհ | F35: դրամ | G35: =+I35*1000 -> 14211000 | H35: 1 | I35: 14211
A36: 71241200-22 | B36: նախագծերի պատրաստում, ծախսերի գնահատում | E36: գհ | F36: դրամ | G36: =+I36*1000 -> 4862500 | H36: 1 | I36: =19450*0.25 -> 4862.5
A37: 71241200-23 | B37: նախագծերի պատրաստում, ծախսերի գնահատում | E37: գհ | F37: դրամ | G37: =+I37*1000 -> 4725000 | H37: 1 | I37: =18900*0.25 -> 4725
A38: 71241200-24 | B38: նախագծերի պատրաստում, ծախսերի գնահատում | E38: գհ | F38: դրամ | G38: =+I38*1000 -> 17100000 | H38: 1 | I38: 17100
A39: 71241200-25 | B39: նախագծերի պատրաստում, ծախսերի գնահատում | E39: գհ | F39: դրամ | G39: =+I39*1000 -> 3575000 | H39: 1 | I39: =14300*0.25 -> 3575
A40: 71241200-26 | B40: նախագծերի պատրաստում, ծախսերի գնահատում | E40: գհ | F40: դրամ | G40: =+I40*1000 -> 4725000 | H40: 1 | I40: =18900*0.25 -> 4725
A41: 71241200-27 | B41: նախագծերի պատրաստում, ծախսերի գնահատում | E41: գհ | F41: դրամ | G41: =+I41*1000 -> 3350000 | H41: 1 | I41: =13400*0.25 -> 3350
A42: 71241200-28 | B42: նախագծերի պատրաստում, ծախսերի գնահատում | E42: գհ | F42: դրամ | G42: =+I42*1000 -> 2862500 | H42: 1 | I42: =11450*0.25 -> 2862.5
A43: 71241200-29 | B43: նախագծերի պատրաստում, ծախսերի գնահատում | E43: գհ | F43: դրամ | G43: =+I43*1000 -> 13500000 | H43: 1 | I43: 13500
A44: 71241200-30 | B44: նախագծերի պատրաստում, ծախսերի գնահատում | E44: գհ | F44: դրամ | G44: =+I44*1000 -> 14400000 | H44: 1 | I44: 14400
A45: 71241200-38 | B45: նախագծերի պատրաստում, ծախսերի գնահատում | E45: գհ | F45: դրամ | G45: =+I45*1000 -> 5225000 | H45: 1 | I45: =20900*0.25 -> 5225
A46: 71241200-39 | B46: նախագծերի պատրաստում, ծախսերի գնահատում | E46: գհ | F46: դրամ | G46: =+I46*1000 -> 3225000 | H46: 1 | I46: =12900*0.25 -> 3225
A47: 71241200-40 | B47: նախագծերի պատրաստում, ծախսերի գնահատում | E47: գհ | F47: դրամ | G47: =+I47*1000 -> 35100000 | H47: 1 | I47: 35100

Sheet 8
A1: Հավելված № 8 ՀՀ կառավարության 2021 թվականի № ------------ -Ն որոշման
A2: Ց Ա Ն Կ ՓՈՓՈԽՄԱՆ ԵՆԹԱԿԱ ՊԵՏԱԿԱՆ ԳՆՄԱՆ ՊԱՅՄԱՆԱԳՐԵՐ
A5: Կատարողի անվանումը, պետական գնման պայմանագրերի համարը | B5: ՀՀ մարզի անվանումը
A6: Հայնախագիծ ՀՀ ՔԿ-ԳՀԱՇՁԲ-19/37-2 | B6: Արագածոտն
B10: Աշոցք
A11: Ատրիում պրո ստուդիո ՀՀ ՔԿ-ԳՀԱՇՁԲ-19/37-1 | B11: Արագածոտն
B18: Գեղարքունիք
A20: Հայնախագիծ ՀՀ ՔԿ-ԳՀԱՇՁԲ-19/9-1 | B20: Արմավիր
B26: Վայոց ձոր
A32: Ատրիում պրո ստուդիո ՀՀ ՔԿ-ԳՀԱՇՁԲ-19/9-2 | B32: Արմավիր
