Workbook

Sheet 1
E2: Հավելված № 1
E3: ՀՀ կառավարության 2021 թվականի
E4: ___________ ___-ի N _______ որոշման
A7: «ՀԱՅԱՍՏԱՆԻ ՀԱՆՐԱՊԵՏՈՒԹՅԱՆ 2021 ԹՎԱԿԱՆԻ ՊԵՏԱԿԱՆ ԲՅՈՒՋԵԻ ՄԱՍԻՆ» ՀՀ ՕՐԵՆՔԻ N1 ՀԱՎԵԼՎԱԾԻ N 2 ԱՂՅՈՒՍԱԿՈՒՄ ՎԵՐԱԲԱՇԽՈՒՄ ԵՎ ՀԱՅԱՍՏԱՆԻ ՀԱՆՐԱՊԵՏՈՒԹՅԱՆ ԿԱՌԱՎԱՐՈՒԹՅԱՆ 2020 ԹՎԱԿԱՆԻ ԴԵԿՏԵՄԲԵՐԻ 30-Ի N 2215-Ն ՈՐՈՇՄԱՆ N 5 ՀԱՎԵԼՎԱԾԻ N 1 ԱՂՅՈՒՍԱԿՈՒՄ ԿԱՏԱՐՎՈՂ ՓՈՓՈԽՈՒԹՅՈՒՆՆԵՐԸ ԵՎ ԼՐԱՑՈՒՄՆԵՐԸ
D10: հազար դրամ
A11: Ծրագրային դասիչը | C11: Բյուջետային հատկացումների գլխավոր կարգադրիչների, ծրագրերի և միջոցառումների անվանումները | D11: Ցուցանիշների փոփոխությունը (ավելացումները նշված են դրական նշանով, իսկ նվազեցումները` փակագծերում)
A12: Ծրագիր | B12: Միջոցառում | D12: Ինն ամիս | E12: Տարի
B13: ԸՆԴԱՄԵՆԸ | D13: =D14+D34+D54 -> 0 | E13: =E14+E34+E54 -> 0
C14: ՀՀ արդարադատության նախարարություն | D14: =D15 -> -586998.8 | E14: =E15 -> -586998.8
A15: 1228 | C15: Ծրագրի անվանումը` | D15: =D22+D28 -> -586998.8 | E15: =E22+E28 -> -586998.8
C16: Հակակոռուպցիոն քաղաքականության մշակում,ծրագրերի համակարգում և մոնիտորինգի իրականացում
C17: Ծրագրի նպատակը`
C18: Հակակոռուպցիոն ինստիտուցիոնալ համակարգի վերափոխում և զարգացում` նաև ոլորտային կոռուպցիոն ռիսկերի վերհանման ու նվազեցման և էլեկտրոնային ժողովրդավարության գործիքների ներդրման միջոցով
C19: Վերջնական արդյունքի նկարագրությունը`
C20: Կոռուպցիայի նվազեցում, հակակոռուպցիոն արդյունավետ ինստիտուցիոնալ համակարգի առկայություն
C21: Ծրագրի միջոցառումներ
B22: 31001 | C22: Միջոցառման անվանումը` | D22: ='3'!G35 -> -12362.8 | E22: ='3'!H35 -> -12362.8
C23: Հակակոռուպցիոն կոմիտեի շենքային պայմանների ապահովում
C24: Միջոցառման նկարագրությունը`
C25: Ժամանակակից իրավապահ մարմնի կարիքները սպասարկող շենքի կառուցում հաշվի առնելով Հակակոռուպցիոն կոմիտեի գործառութները
C26: Միջոցառման տեսակը
C27: Պետական մարմինների կողմից օգտագործվող ոչ ֆինանսական ակտիվների հետ գործառնություններ
B28: 31002 | C28: Միջոցառման անվանումը` | D28: ='3'!G21 -> -574636 | E28: ='3'!H21 -> -574636
C29: Հակակոռուպցիոն դատարանի շենքային պայմանների ապահովում
C30: Միջոցառման նկարագրությունը`
C31: Հակակոռուպցիոն դատարանի կարիքները սպասարկող նոր շենքի կառուցում
C32: Միջոցառման տեսակը
C33: Պետական մարմինների կողմից օգտագործվող ոչ ֆինանսական ակտիվների հետ գործառնություններ
C34: ՀՀ կառավարություն | D34: =D35 -> 0 | E34: =E35 -> 0
A35: 1139 | C35: Ծրագրի անվանումը` | D35: =D42+D48 -> 0 | E35: =E42+E48 -> 0
C36: ՀՀ կառավարության պահուստային ֆոնդ
C37: Ծրագրի նպատակը`
C38: Պետական բյուջեում չկանխատեսված, ինչպես նաեւ բյուջետային երաշխիքների ապահովման ծախսերի ֆինանսավորման ապահովում
C39: Վերջնական արդյունքի նկարագրությունը`
C40: Պահուստային ֆոնդի կառավարման արդյունավետության և թափանցիկության ապահովում
C41: Ծրագրի միջոցառումներ
B42: 11001 | C42: Միջոցառման անվանումը` | D42: ='3'!G54 -> 586998.8 | E42: ='3'!H54 -> 586998.8
C43: ՀՀ կառավարության պահուստային ֆոնդ
C44: Միջոցառման նկարագրությունը`
C45: ՀՀ պետական բյուջեում նախատեսված ելքերի լրացուցիչ ֆինանսավորման, պետական բյուջեում չկանխատեսված ելքերի, ինչպես նաև բյուջետային երաշխիքների ապահովման ելքերի ֆինանսավորման ապահովում
...

Sheet 2
H1: Հավելված № 2
H2: ՀՀ կառավարության 2021 թվականի ----------
H3: № ---------- որոշման
A6: ՀԱՅԱՍՏԱՆԻ ՀԱՆՐԱՊԵՏՈՒԹՅԱՆ 2021 ԹՎԱԿԱՆԻ ՊԵՏԱԿԱՆ ԲՅՈՒՋԵԻ ՄԱՍԻՆ ՕՐԵՆՔԻ N 1 ՀԱՎԵԼՎԱԾԻ N 3 ԱՂՅՈՒՍԱԿՈՒՄ ԿԱՏԱՐՎՈՂ ՓՈՓՈԽՈՒԹՅՈՒՆՆԵՐԸ ԵՎ ԼՐԱՑՈՒՄՆԵՐԸ
G7: հազար դրամ
A8: Ծրագրային դասիչը | C8: Բյուջետային գլխավոր կարգադրիչների, ծրագրերի և միջոցառումների և ուղղությունների անվանումները | D8: Ընդամենը | E8: Ցուցանիշների փոփոխությունը (ավելացումները նշված են դրական նշանով, իսկ նվազեցումները` փակագծերում)
E9: այդ թվում
A10: Ծրագիր | B10: Միջոցառում | E10: Կառուցման աշխատանքներ | F10: Վերակառուցման, վերանորոգման և վերականգնման աշխատանքներ | G10: Նախագծահե- տազոտական, գեոդեզիա- քարտեզագրա- կան աշխա- տանքներ | H10: Ոչ ֆինանսական այլ ակտիվների ձեռքբերում
C11: Ընդամենը | D11: =+D13 -> 0 | E11: =+E13 -> -586998.8 | F11: =+F13 -> 0 | G11: =+G13 -> 0 | H11: =+H13 -> 586998.8
C12: այդ թվում`
C13: ՀՀ արդարադատության նախարարություն | D13: =D16+D19+D15 -> 0 | E13: =E16+E19+E15 -> -586998.8 | F13: =F16+F19+F15 -> 0 | G13: =G16+G19+G15 -> 0 | H13: =H16+H19+H15 -> 586998.8
C14: այդ թվում՝
A15: 1120 | B15: 31002 | C15: ՀՀ արդարադատության նախարարության քրեակատարողական ծառայության կարողությունների զարգացում և տեխնիկական հագեցվածության ապահովում | D15: =E15+F15+G15+H15 -> 586998.8 | H15: ='1'!E55 -> 586998.8
A16: 1228 | B16: 31001 | C16: Հակակոռուպցիոն կոմիտեի շենքային պայմանների ապահովում | D16: =E16+F16+G16+H16 -> -12362.8 | E16: =E18 -> -12362.8
C17: այդ թվում՝
C18: Աջափնյակ վարչական շրջանի «Սպանդարյան» կայարանի երկաթգծին հարակից 15 հեկտար մակերեսով հողատարածքում Հակակոռուպցիոն կոմիտեի գործունեության համար անհրաժեշտ շենքային պայմանների ապահովում | D18: =E18 -> -12362.8 | E18: ='1'!E22 -> -12362.8
A19: 1228 | B19: 31002 | C19: Հակակոռուպցիոն դատարանի շենքային պայմանների ապահովում | D19: =E19+F19+G19+H19 -> -574636 | E19: =E21 -> -574636
C20: այդ թվում՝
C21: Աջափնյակ վարչական շրջանի «Սպանդարյան» կայարանի երկաթգծին հարակից 15 հեկտար մակերեսով հողատարածքում Հակակոռուպցիոն դատարանի գործունեության համար անհրաժեշտ շենքային պայմանների ապահովում | D21: =E21 -> -574636 | E21: ='1'!E28 -> -574636

Sheet 3
H1: Հավելված № 3
H2: ՀՀ կառավարության 2021 թվականի
H3: ___________ ___-ի N _______ որոշման
A6: ՀԱՅԱՍՏԱՆԻ ՀԱՆՐԱՊԵՏՈՒԹՅԱՆ ԿԱՌԱՎԱՐՈՒԹՅԱՆ 2020 ԹՎԱԿԱՆԻ ԴԵԿՏԵՄԲԵՐԻ 30-Ի N 2215-Ն ՈՐՈՇՄԱՆ N 3 և N 4 ՀԱՎԵԼՎԱԾՆԵՐՈՒՄ ԿԱՏԱՐՎՈՂ ՓՈՓՈԽՈՒԹՅՈՒՆՆԵՐԸ ԵՎ ԼՐԱՑՈՒՄՆԵՐԸ
H8: հազար դրամ
A9: Գործառական դասիչը | D9: Ծրագրային դասիչը | F9: Բյուջետային ծախսերի գործառական դասակարգման բաժինների, խմբերի և դասերի, բյուջետային ծրագրերի, միջոցառումների բյուջետային հատկացումնեյի գլխավոր կարկադրիչների անվանումները | G9: Ցուցանիշների փոփոխությունը (ավելացումները նշված են դրական նշանով, իսկ նվազեցումները` փակագծերում)
A10: Բաժին | B10: Խումբ | C10: Դաս | D10: Ծրագիր | E10: Միջոցառում | G10: Ինն ամիս | H10: Տարի
F11: ԸՆԴԱՄԵՆԸ | G11: =G13+G44+G72 -> 0 | H11: =H13+H44+H72 -> 0
F12: այդ թվում`
A13: 03 | F13: ՀԱՍԱՐԱԿԱԿԱՆ ԿԱՐԳ, ԱՆՎՏԱՆԳՈՒԹՅՈՒՆ ԵՎ ԴԱՏԱԿԱՆ ԳՈՐԾՈՒՆԵՈՒԹՅՈՒՆ | G13: =G15+G30 -> -586998.8 | H13: =H15+H30 -> -586998.8
F14: այդ թվում`
B15: 03 | F15: Դատական գործունեություն և իրավական պաշտպանություն | G15: =+G17 -> -574636 | H15: =+H17 -> -574636
F16: այդ թվում`
C17: 01 | F17: Դատարաններ | G17: =G19 -> -574636 | H17: =H19 -> -574636
F18: այդ թվում`
D19: 1228 | F19: Հակակոռուպցիոն քաղաքականության մշակում,ծրագրերի համակարգում և մոնիտորինգի իրականացում | G19: =G21 -> -574636 | H19: =H21 -> -574636
F20: այդ թվում՝
E21: 31002 | F21: Հակակոռուպցիոն դատարանների շենքային պայմանների ապահովում | G21: =G23 -> -574636 | H21: =H23 -> -574636
F22: այդ թվում` ըստ կատարողների
F23: ՀՀ արդարադատության նախարարություն | G23: =G25 -> -574636 | H23: =H25 -> -574636
F24: այդ թվում` բյուջետային ծախսերի տնտեսագիտական դասակարգման հոդվածներ
F25: ԸՆԴԱՄԵՆԸ ԾԱԽՍԵՐ | G25: =G26 -> -574636 | H25: =H26 -> -574636
F26: ՈՉ ՖԻՆԱՆՍԱԿԱՆ ԱԿՏԻՎՆԵՐԻ ԳԾՈՎ ԾԱԽՍԵՐ | G26: =G27 -> -574636 | H26: =H27 -> -574636
F27: ՀԻՄՆԱԿԱՆ ՄԻՋՈՑՆԵՐ | G27: =G28 -> -574636 | H27: =H28 -> -574636
F28: ՇԵՆՔԵՐ և ՇԻՆՈՒԹՅՈՒՆՆԵՐ | G28: =G29 -> -574636 | H28: =H29 -> -574636
F29: - Շենքերի և շինությունների շինարարություն | G29: -574636 | H29: -574636
B30: 07 | F30: Նախաքննություն | G30: =+G32 -> -12362.8 | H30: =+H32 -> -12362.8
F31: այդ թվում`
C32: 01 | F32: Նախաքննություն | G32: =G34 -> -12362.8 | H32: =H34 -> -12362.8
F33: այդ թվում`
D34: 1228 | F34: Հակակոռուպցիոն քաղաքականության մշակում,ծրագրերի համակարգում և մոնիտորինգի իրականացում | G34: =G35 -> -12362.8 | H34: =H35 -> -12362.8
E35: 31001 | F35: Հակակոռուպցիոն կոմիտեի շենքային պայմանների ապահովում_x000D_ | G35: =G37 -> -12362.8 | H35: =H37 -> -12362.8
F36: այդ թվում` ըստ կատարողների
F37: ՀՀ արդարադատության նախարարություն | G37: -12362.8 | H37: -12362.8
F38: այդ թվում` բյուջետային ծախսերի տնտեսագիտական դասակարգման հոդվածներ
F39: ԸՆԴԱՄԵՆԸ ԾԱԽՍԵՐ | G39: =G40 -> -12362.8 | H39: =H40 -> -12362.8
F40: ՈՉ ՖԻՆԱՆՍԱԿԱՆ ԱԿՏԻՎՆԵՐԻ ԳԾՈՎ ԾԱԽՍԵՐ | G40: =G41 -> -12362.8 | H40: =H41 -> -12362.8
F41: ՀԻՄՆԱԿԱՆ ՄԻՋՈՑՆԵՐ | G41: =G42 -> -12362.8 | H41: =H42 -> -12362.8
F42: ՇԵՆՔԵՐ և ՇԻՆՈՒԹՅՈՒՆՆԵՐ | G42: =G43 -> -12362.8 | H42: =H43 -> -12362.8
F43: - Շենքերի և շինությունների շինարարություն | G43: -12362.8 | H43: -12362.8
...

Sheet 4
E1: Հավելված № 4
C2: ՀՀ կառավարության 2021 թվականի
C3: ______________ ի ___Ն որոշման
A5: ՀԱՅԱՍՏԱՆԻ ՀԱՆՐԱՊԵՏՈՒԹՅԱՆ ԿԱՌԱՎԱՐՈՒԹՅԱՆ 2020 ԹՎԱԿԱՆԻ ԴԵԿՏԵՄԲԵՐԻ 30-Ի ԹԻՎ 2215-Ն ՈՐՈՇՄԱՆ N5 ՀԱՎԵԼՎԱԾԻ N2 ԱՂՅՈՒՍԱԿՈՒՄ ԿԱՏԱՐՎՈՂ ՓՈՓՈԽՈՒԹՅՈՒՆՆԵՐԸ ԵՎ ԼՐԱՑՈՒՄՆԵՐԸ
E7: հազար դրամ
A8: Ծրագրային դասիչ | C8: Բյուջետային գլխավոր կարգադրիչների, ծրագրերի, միջոցառումների, միջոցառումները կատարող պետական մարմինների և ուղղությունների անվանումները | D8: Ցուցանիշների փոփոխությունը (ավելացումները նշված են դրական նշանով, իսկ նվազեցումները` փակագծերում)
A9: Ծրագիր | B9: Միջոցառում | D9: Ինն ամիս | E9: Տարի
C10: ԸՆԴԱՄԵՆԸ | D10: =D11 -> 0 | E10: =E11 -> 0
C11: ՀՀ ԱՐԴԱՐԱԴԱՏՈՒԹՅԱՆ ՆԱԽԱՐԱՐՈՒԹՅՈՒՆ | D11: =D16+D21++D13 -> 0 | E11: =E16+E21++E13 -> 0
C12: այդ թվում`
A13: 1120 | B13: 31002 | C13: ՀՀ արդարադատության նախարարության քրեակատարողական ծառայության կարողությունների զարգացում և տեխնիկական հագեցվածության ապահովում | D13: =D15 -> 586998.8 | E13: =E15 -> 586998.8
C14: այդ թվում` ըստ կատարողների
C15: ՀՀ արդարադատության նախարարություն | D15: ='1'!D62 -> 586998.8 | E15: ='1'!E62 -> 586998.8
A16: 1228 | B16: 31001 | C16: Հակակոռուպցիոն կոմիտեի շենքային պայմանների ապահովում | D16: =D18 -> -12362.8 | E16: =E18 -> -12362.8
C17: այդ թվում` ըստ կատարողների
C18: ՀՀ արդարադատության նախարարություն | D18: =D20 -> -12362.8 | E18: =E20 -> -12362.8
C19: այդ թվում` ըստ ուղղությունների
C20: Աջափնյակ վարչական շրջանի «Սպանդարյան» կայարանի երկաթգծին հարակից 15 հեկտար մակերեսով հողատարածքում Հակակոռուպցիոն կոմիտեի գործունեության համար անհրաժեշտ շենքային պայմանների ապահովում | D20: ='3'!G35 -> -12362.8 | E20: ='3'!H35 -> -12362.8
A21: 1228 | B21: 31002 | C21: Հակակոռուպցիոն դատարանի շենքային պայմանների ապահովում | D21: =D23 -> -574636 | E21: =E23 -> -574636
C22: այդ թվում` ըստ կատարողների
C23: ՀՀ արդարադատության նախարարություն | D23: =D25 -> -574636 | E23: =E25 -> -574636
C24: այդ թվում` ըստ ուղղությունների
C25: Աջափնյակ վարչական շրջանի «Սպանդարյան» կայարանի երկաթգծին հարակից 15 հեկտար մակերեսով հողատարածքում Հակակոռուպցիոն դատարանի գործունեության համար անհրաժեշտ շենքային պայմանների ապահովում | D25: ='3'!G21 -> -574636 | E25: ='3'!H21 -> -574636

Sheet 5
D2: Հավելված № 5
D3: ՀՀ կառավարության 2021 թվականի
D4: ___________ ___-ի N _______ որոշման
A8: ՀԱՅԱՍՏԱՆԻ ՀԱՆՐԱՊԵՏՈՒԹՅԱՆ ԿԱՌԱՎԱՐՈՒԹՅԱՆ 2020 ԹՎԱԿԱՆԻ ԴԵԿՏԵՄԲԵՐԻ 30-Ի ԹԻՎ 2215-Ն ՈՐՈՇՄԱՆ N 9 ՀԱՎԵԼՎԱԾԻ 9.10 և 9.47 ԱՂՅՈՒՍԱԿՆԵՐՈՒՄ ԿԱՏԱՐՎՈՂ ՓՈՓՈԽՈՒԹՅՈՒՆՆԵՐԸ ԵՎ ԼՐԱՑՈՒՄՆԵՐԸ
A10: ՀՀ արդարադատության նախարարություն
A12: ՄԱՍ 2. ՊԵՏԱԿԱՆ ՄԱՐՄՆԻ ԳԾՈՎ ԱՐԴՅՈՒՆՔԱՅԻՆ (ԿԱՏԱՐՈՂԱԿԱՆ) ՑՈՒՑԱՆԻՇՆԵՐԸ
A16: Ծրագրի դասիչը | B16: Ծրագրի անվանումը
A17: 1120 | B17: Քրեակատարողական ծառայություններ
A19: Ծրագրի միջոցառումները
A20: Ծրագրի դասիչը` | B20: 1120 | C20: Ցուցանիշների փոփոխությունը (ավելացումները նշված են դրական նշանով)
A21: Միջոցառման դասիչը` | B21: 31002 | C21: Ինն ամիս | D21: Տարի
A22: Միջոցառման անվանումը` | B22: ՀՀ արդարադատության նախարարության քրեակատարողական ծառայության կարողությունների զարգացում և տեխնիկական հագեցվածության ապահովում
A23: Նկարագրությունը` | B23: ՀՀ արդարադատության նախարարության քրեակատարողական ծառայության աշխատանքային պայմանների բարելավման համար վարչական սարքավորումների ձեռք բերում
A24: Միջոցառման տեսակը` | B24: Պետական մարմինների կողմից օգտագործվող ոչ ֆինանսական ակտիվների հետ գործառնություններ
A25: Ակտիվն օգտագործող կազմակերպության(ների) անվանում(ներ)ը | B25: Քրեակատարողական ծառայություն
A26: Արդյունքի չափորոշիչներ
A27: Տեսահսկման սարքավորումածրագրային համակարգ, քանակ, հատ | C27: 1 | D27: 1
A28: Միջոցառման վրա կատարվող ծախսը (հազար դրամ) | C28: ='1'!D62 -> 586998.8 | D28: ='1'!E62 -> 586998.8
A32: Ծրագրի դասիչը | B32: Ծրագրի անվանումը
A33: 1228 | B33: Հակակոռուպցիոն քաղաքականության մշակում,ծրագրերի համակարգում և մոնիտրինգի իրականացում
A37: Ծրագրի միջոցառումները
A39: Ծրագրի դասիչը` | B39: 1228 | C39: Ցուցանիշների փոփոխությունը (նվազեցումները նշված են փակագծերում)
A40: Միջոցառման դասիչը` | B40: 31001 | C40: Ինն ամիս | D40: Տարի
A41: Միջոցառման անվանումը` | B41: Հակակոռուպցիոն կոմիտեի շենքային պայմանների ապահովում
A42: Նկարագրությունը` | B42: Ժամանակակից իրավապահ մարմնի կարիքները սպասարկող շենքի կառուցում հաշվի առնելով Հակակոռուպցիոն կոմիտեի գործառութները
A43: Միջոցառման տեսակը` | B43: Պետական մարմինների կողմից օգտագործվող ոչ ֆինանսական ակտիվների հետ գործառնություններ
A44: Ակտիվն օգտագործող կազմակերպության(ների) անվանում(ներ)ը | B44: Հակակոռուպցիոն կոմիտե
A45: Արդյունքի չափորոշիչներ
A46: Միջոցառման վրա կատարվող ծախսը (հազար դրամ) | C46: ='1'!D22 -> -12362.8 | D46: ='1'!E22 -> -12362.8
A48: Ծրագրի դասիչը` | B48: 1228 | C48: Ցուցանիշների փոփոխությունը (նվազեցումները նշված են փակագծերում)
A49: Միջոցառման դասիչը` | B49: 31002 | C49: Ինն ամիս | D49: Տարի
A50: Միջոցառման անվանումը` | B50: Հակակոռուպցիոն դատարանի շենքային պայմանների ապահովում
A51: Նկարագրությունը` | B51: Հակակոռուպցիոն դատարանի կարիքները սպասարկող նոր շենքի կառուցում
A52: Միջոցառման տեսակը` | B52: Պետական մարմինների կողմից օգտագործվող ոչ ֆինանսական ակտիվների հետ գործառնություններ
A53: Ակտիվն օգտագործող կազմակերպության(ների) անվանում(ներ)ը | B53: Հակակոռուպցիոն դատարան
A54: Արդյունքի չափորոշիչներ
A55: Միջոցառման վրա կատարվող ծախսը (հազար դրամ) | C55: ='1'!D28 -> -574636 | D55: ='1'!E28 -> -574636
A60: ՀՀ կառավարություն
A62: ՄԱՍ 2. ՊԵՏԱԿԱՆ ՄԱՐՄՆԻ ԳԾՈՎ ԱՐԴՅՈՒՆՔԱՅԻՆ (ԿԱՏԱՐՈՂԱԿԱՆ) ՑՈՒՑԱՆԻՇՆԵՐԸ
A64: Ծրագրի դասիչը | B64: Ծրագրի անվանումը
...

Sheet 6
F2: Հավելված № 6
F3: ՀՀ կառավարության 2021 թվականի
F4: ___________ ___-ի N _______ որոշման
A8: ՀԱՅԱՍՏԱՆԻ ՀԱՆՐԱՊԵՏՈՒԹՅԱՆ ԿԱՌԱՎԱՐՈՒԹՅԱՆ 2020 ԹՎԱԿԱՆԻ ԴԵԿՏԵՄԲԵՐԻ 30-Ի ԹԻՎ 2215-Ն ՈՐՈՇՄԱՆ N 9.1 ՀԱՎԵԼՎԱԾԻ 9.1.10, 9.1.43 և 9.1.58 ԱՂՅՈՒՍԱԿՆԵՐՈՒՄ ԿԱՏԱՐՎՈՂ ՓՈՓՈԽՈՒԹՅՈՒՆՆԵՐԸ ԵՎ ԼՐԱՑՈՒՄՆԵՐԸ
A10: ՀՀ արդարադատության նախարարություն
A12: ՄԱՍ 1. ՊԵՏԱԿԱՆ ՄԱՐՄՆԻ ԳԾՈՎ ԱՐԴՅՈՒՆՔԱՅԻՆ (ԿԱՏԱՐՈՂԱԿԱՆ) ՑՈՒՑԱՆԻՇՆԵՐԸ
A14: Ծրագրի դասիչը | B14: Ծրագրի անվանումը
A15: 1228 | B15: Հակակոռուպցիոն քաղաքականության մշակում,ծրագրերի համակարգում և մոնիտրինգի իրականացում
A17: Ծրագրի միջոցառումները
A19: Ծրագրի դասիչը` | B19: 1228 | C19: Ցուցանիշների փոփոխությունը (նվազեցումները նշված են փակագծերում)
A20: Միջոցառման դասիչը` | B20: 31001 | C20: Ինն ամիս | D20: Տարի
A21: Միջոցառման անվանումը` | B21: Հակակոռուպցիոն կոմիտեի շենքային պայմանների ապահովում
A22: Նկարագրությունը` | B22: Ժամանակակից իրավապահ մարմնի կարիքները սպասարկող շենքի կառուցում հաշվի առնելով Հակակոռուպցիոն կոմիտեի գործառութները
A23: Միջոցառման տեսակը` | B23: Պետական մարմինների կողմից օգտագործվող ոչ ֆինանսական ակտիվների հետ գործառնություններ
A24: Ակտիվն օգտագործող կազմակերպության(ների) անվանում(ներ)ը | B24: Հակակոռուպցիոն կոմիտե
A25: Արդյունքի չափորոշիչներ
A26: Միջոցառման վրա կատարվող ծախսը (հազար դրամ) | C26: ='1'!D22 -> -12362.8 | D26: ='1'!E22 -> -12362.8
A28: Ծրագրի դասիչը` | B28: 1228 | C28: Ցուցանիշների փոփոխությունը (նվազեցումները նշված են փակագծերում)
A29: Միջոցառման դասիչը` | B29: 31002 | C29: Ինն ամիս | D29: Տարի
A30: Միջոցառման անվանումը` | B30: Հակակոռուպցիոն դատարանի շենքային պայմանների ապահովում
A31: Նկարագրությունը` | B31: Հակակոռուպցիոն դատարանի կարիքները սպասարկող նոր շենքի կառուցում
A32: Միջոցառման տեսակը` | B32: Պետական մարմինների կողմից օգտագործվող ոչ ֆինանսական ակտիվների հետ գործառնություններ
A33: Ակտիվն օգտագործող կազմակերպության(ների) անվանում(ներ)ը | B33: Հակակոռուպցիոն դատարան
A34: Արդյունքի չափորոշիչներ
A35: Միջոցառման վրա կատարվող ծախսը (հազար դրամ) | C35: ='1'!D28 -> -574636 | D35: ='1'!E28 -> -574636
A38: ՀՀ արդարադատության նախարարության քրեակատարողական ծառայություն
A40: ՄԱՍ 1. ՊԵՏԱԿԱՆ ՄԱՐՄՆԻ ԳԾՈՎ ԱՐԴՅՈՒՆՔԱՅԻՆ (ԿԱՏԱՐՈՂԱԿԱՆ) ՑՈՒՑԱՆԻՇՆԵՐԸ
A42: Ծրագրի դասիչը | B42: Ծրագրի անվանումը
A43: 1120 | B43: Քրեակատարողական ծառայություններ
A45: Ծրագրի միջոցառումները
A46: Ծրագրի դասիչը` | B46: 1120 | C46: Ցուցանիշների փոփոխությունը (ավելացումները նշված են դրական նշանով)
A47: Միջոցառման դասիչը` | B47: 31002 | C47: Ինն ամիս | D47: Տարի
A48: Միջոցառման անվանումը` | B48: ՀՀ արդարադատության նախարարության քրեակատարողական ծառայության կարողությունների զարգացում և տեխնիկական հագեցվածության ապահովում
A49: Նկարագրությունը` | B49: ՀՀ արդարադատության նախարարության քրեակատարողական ծառայության աշխատանքային պայմանների բարելավման համար վարչական սարքավորումների ձեռք բերում
A50: Միջոցառման տեսակը` | B50: Պետական մարմինների կողմից օգտագործվող ոչ ֆինանսական ակտիվների հետ գործառնություններ
A51: Ակտիվն օգտագործող կազմակերպության(ների) անվանում(ներ)ը | B51: Քրեակատարողական ծառայություն
A52: Արդյունքի չափորոշիչներ
A53: Տեսահսկման սարքավորումածրագրային համակարգ, քանակ, հատ | C53: 1 | D53: 1
A54: Միջոցառման վրա կատարվող ծախսը (հազար դրամ) | C54: ='1'!D62 -> 586998.8 | D54: ='1'!E62 -> 586998.8
A57: ՀՀ կառավարություն
...

Sheet 7
E1: Հավելված № 7
E2: ՀՀ կառավարության
E3: 2021 թվականի __________
E4: N -Ն որոշման
A5: ՀԱՅԱՍՏԱՆԻ ՀԱՆՐԱՊԵՏՈՒԹՅԱՆ ԿԱՌԱՎԱՐՈՒԹՅԱՆ 2020 ԹՎԱԿԱՆԻ ԴԵԿՏԵՄԲԵՐԻ 30-Ի N 2215-Ն ՈՐՈՇՄԱՆ N 10 ՀԱՎԵԼՎԱԾԻ ՑՈՒՑԱՆԻՇՆԵՐՈՒՄ ԿԱՏԱՐՎՈՂ ՓՈՓՈԽՈՒԹՅՈՒՆՆԵՐԸ ԵՎ ԼՐԱՑՈՒՄՆԵՐԸ
A7: Կոդը | B7: Անվանումը | C7: Գնման ձևը | D7: Չափի միավորը | E7: միավորի գինը | F7: Ցուցանիշների փոփոխությունը (ավելացումները նշված են դրական նշանով, իսկ նվազեցումները՝ փակագծերում)
F8: քանակը | G8: գումարը (հազար դրամով)
A9: 1 | B9: 2 | C9: 3 | D9: 4 | E9: 5 | F9: 6 | G9: 7
A10: ՀՀ արդարադատության նախարարություն | G10: =G12+G16 -> -586998.8
A11: Բաժին N 03 Խումբ N 03 Դաս N 01 Դատարաններ
A12: 1228 | B12: 31002 | C12: Հակակոռուպցիոն դատարանների շենքային պայմանների ապահովում | G12: =G13 -> -574636
B13: ՄԱՍ II. ԱՇԽԱՏԱՆՔՆԵՐ | G13: =G14 -> -574636
A14: 45221142-1 | B14: ընդհանուր շինարարական աշխատանքներ | C14: ԲՄ | D14: դրամ | E14: 574636000 | F14: -1 | G14: =E14*F14/1000 -> -574636
A15: Բաժին N 03 Խումբ N 07 Դաս N 01 Նախաքննություն
A16: 1228 | B16: 31001 | C16: Հակակոռուպցիոն կոմիտեի շենքային պայմանների ապահովում | G16: =G17 -> -12362.8
B17: ՄԱՍ II. ԱՇԽԱՏԱՆՔՆԵՐ | G17: =G18 -> -12362.8
A18: 45221142-5 | B18: ընդհանուր շինարարական աշխատանքներ | C18: ԲՄ | D18: դրամ | G18: ='3'!H43 -> -12362.8
A19: ՀՀ արդարադատության նախարարութան քրեակատարողական ծառայություն
A20: Բաժին N 03 Խումբ N 05 Դաս N 01 Կալանավայրեր
A21: 1120 | B21: 31002 | C21: ՀՀ արդարադատության նախարարության քրեակատարողական ծառայության կարողությունների զարգացում և տեխնիկական հագեցվածության ապահովում | G21: =G22 -> 586998.79
B22: ՄԱՍ 1. ԱՊՐԱՆՔՆԵՐ | G22: =G23 -> 586998.79
A23: 32321200/501 | B23: Տեսահսկողության համակարգ | C23: ԲՄ | D23: հատ | E23: 586998792 | F23: 1 | G23: =E23*F23/1000 -> 586998.79
