Workbook
Name AgencyCode: #REF!
Name AgencyName: #REF!
Name åû: #REF!
Name davit: #REF!
Name Functional1: #REF!
Name ggg: #REF!
Name mas: #REF!
Name mass: #REF!
Name PANature: #REF!
Name PAType: #REF!
Name Performance2: #REF!
Name PerformanceType: #REF!
Name x: #REF!
Name Հավելված: #REF!
Name Մաս: #REF!
Name շախմատիստ: #REF!

Sheet 1
E1: 1Հավելված N 1
D2: ՀՀ կառավարության 2021 թվականի
D3: -----------------ի N -----------Ն որոշման
A5: ՀԱՅԱՍՏԱՆԻ ՀԱՆՐԱՊԵՏՈՒԹՅԱՆ 2021 ԹՎԱԿԱՆԻ ՊԵՏԱԿԱՆ ԲՅՈՒՋԵԻ ՄԱՍԻՆ» ՀԱՅԱՍՏԱՆԻ ՀԱՆՐԱՊԵՏՈՒԹՅԱՆ ՕՐԵՆՔԻ N 1 ՀԱՎԵԼՎԱԾԻ N 2 ԱՂՅՈՒՍԱԿՈՒՄ ԿԱՏԱՐՎՈՂ ՎԵՐԱԲԱՇԽՈՒՄՆ ԵՎ ՀԱՅԱՍՏԱՆԻ ՀԱՆՐԱՊԵՏՈՒԹՅԱՆ ԿԱՌԱՎԱՐՈՒԹՅԱՆ 2020 ԹՎԱԿԱՆԻ ԴԵԿՏԵՄԲԵՐԻ 30-Ի N 2215-Ն ՈՐՈՇՄԱՆ N 5 ՀԱՎԵԼՎԱԾԻ N 1 ԱՂՅՈՒՍԱԿՈՒՄ ԿԱՏԱՐՎՈՂ ՓՈՓՈԽՈՒԹՅՈՒՆՆԵՐԸ
E6: հազ. դրամ
A7: Ծրագրային դասիչը | C7: Բյուջետային հատկացումների գլխավոր կարգադրիչների, ծրագրերի և միջոցառումների անվանումները | D7: Ցուցանիշների փոփոխությունները ավելացումները նշված են դրական նշանով, իսկ նվազեցումները՝ փակագծերում
A8: Ծրագիր | B8: Միջոցառում | D8: Ինն ամիս | E8: Տարի
C9: ԸՆԴԱՄԵՆԸ | D9: =D10+D154 -> 2200000 | E9: =E10+E154 -> 0
C10: ՀՀ աշխատանքի և սոցիալական հարցերի նախարարություն | D10: =D11+D30+D92+D117+D49 -> 2200000 | E10: =E11+E30+E92+E117+E49 -> 2200000
A11: 1011 | C11: Ծրագրի անվանումը` | D11: =D18+D24 -> -1125000 | E11: =E18+E24 -> -1125000
C12: Անապահով սոցիալական խմբերին աջակցություն
C13: Ծրագրի նպատակը`
C14: Օժանդակել անապահով ընտանիքների կենսամակարդակի բարձրացմանը
C15: Վերջնական արդյունքի նկարագրությունը`
C16: Աղքատության մեղմում և ծայրահեղ աղքատության կրճատում
A17: Ծրագրի միջոցառումներ
B18: 12001 | C18: Միջոցառման անվանումը` | D18: =D23 -> -1000000 | E18: =E23 -> -1000000
C19: Ընտանիքի կենսամակարդակի բարձրացմանն ուղղված նպաստներ
C20: Միջոցառման նկարագրությունը`
C21: Ընտանիքների անապահովության գնահատման համակարգում հաշվառված, անապահով ճանաչված ընտանիքներին նպաստի, սոցիալական նպաստի և հրատապ օգնության տրամադրում
C22: Միջոցառման տեսակը
C23: Տրանսֆերտների տրամադրում | D23: -1000000 | E23: -1000000
B24: 12005 | C24: Միջոցառման անվանումը` | D24: =D29 -> -125000 | E24: =E29 -> -125000
C25: Միանվագ դրամական աջակցության տրամադրում
C26: Միջոցառման նկարագրությունը`
C27: Արցախի Հանրապետությունից տեղահանված և Հայաստանի Հանրապետության տարածքում բնակվող ընտանիքների մինչև հինգ տարեկան երեխաներին միանվագ դրամական աջակցության տրամադրում
C28: Միջոցառման տեսակը
C29: Տրանսֆերտների տրամադրում | D29: -125000 | E29: -125000
A30: 1068 | C30: Ծրագրի անվանումը` | D30: =D37+D43 -> -462000 | E30: =E37+E43 -> -462000
C31: Ժողովրդագրական վիճակի բարելավում
C32: Ծրագրի նպատակը`
C33: Խթանել ժողովրդագրական վիճակի բարելավումը
C34: Վերջնական արդյունքի նկարագրությունը`
C35: Ժողովրդագրական վիճակի բարելավում և բազմազավակության աճ
A36: Ծրագրի միջոցառումներ
B37: 12001 | C37: Միջոցառման անվանումը` | D37: =D42 -> -300000 | E37: =E42 -> -300000
C38: Մինչև 2 տարեկան երեխայի խնամքի նպաստի տրամադրում
C39: Միջոցառման նկարագրությունը`
C40: Մինչև 2 տարեկան երեխայի խնամքի նպաստի տրամադրում
C41: Միջոցառման տեսակը
...

Sheet 2
H1: Հավելված N 2
H2: ՀՀ կառավարության 2021 թվականի
H3: -----------------ի N -----------Ն որոշման
A4: ՀԱՅԱՍՏԱՆԻ ՀԱՆՐԱՊԵՏՈՒԹՅԱՆ ԿԱՌԱՎԱՐՈՒԹՅԱՆ 2020 ԹՎԱԿԱՆԻ ԴԵԿՏԵՄԲԵՐԻ 30-Ի N 2215-Ն ՈՐՈՇՄԱՆ N 3 և N 4 ՀԱՎԵԼՎԱԾՆԵՐՈՒՄ ԿԱՏԱՐՎՈՂ ՓՈՓՈԽՈՒԹՅՈՒՆՆԵՐԸ
A6: Գործառական դասիչը | D6: Ծրագրային դասիչը | F6: Բյուջետային ծախսերի գործառական դասակարգման բաժինների, խմբերի և դասերի, բյուջետային ծրագրերի միջոցառումների, բյուջետային հատկացումների գլխավոր կարգադրիչների անվանումները | G6: Ցուցանիշների փոփոխությունները (ավելացումները նշված են դրական, իսկ նվազեցումները՝ փակագծերում)
A7: Բաժինը | B7: Խումբը | C7: Դասը | D7: Ծրագիր | E7: Միջոցառում | G7: Ինն ամիս | H7: Տարի
F8: ԸՆԴԱՄԵՆԸ ԾԱԽՍԵՐ | G8: =G10+G202 -> 2200000 | H8: =H10+H202 -> 0
F9: այդ թվում`
A10: 10 | F10: ՍՈՑԻԱԼԱԿԱՆ ՊԱՇՏՊԱՆՈՒԹՅՈՒՆ | G10: =G45+G12+G152+G89 -> 2200000 | H10: =H45+H12+H152+H89 -> 2200000
F11: այդ թվում`
B12: 02 | F12: Ծերություն | G12: =+G14 -> -1472000 | H12: =+H14 -> -1472000
F13: այդ թվում`
C14: 01 | F14: Ծերություն | G14: =G16 -> -1472000 | H14: =H16 -> -1472000
F15: այդ թվում`
D16: 1102 | F16: Կենսաթոշակային ապահովություն | G16: =G18+G27+G36 -> -1472000 | H16: =H18+H27+H36 -> -1472000
F17: այդ թվում`
E18: 12001 | F18: Սպայական անձնակազմի և նրանց ընտանիքների անդամների կենսաթոշակներ | G18: =+G19 -> -412000 | H18: =+H19 -> -412000
F19: այդ թվում` ըստ կատարողների | G19: =+G21 -> -412000 | H19: =+H21 -> -412000
F20: ՀՀ աշխատանքի և սոցիալական հարցերի նախարարության միասնական սոցիալական ծառայություն
F21: այդ թվում` բյուջետային ծախսերի տնտեսագիտական դասակարգման հոդվածներ | G21: =+G23 -> -412000 | H21: =+H23 -> -412000
F22: ԸՆԴԱՄԵՆԸ ԾԱԽՍԵՐ
F23: ԸՆԹԱՑԻԿ ԾԱԽՍԵՐ | G23: =+G24 -> -412000 | H23: =+H24 -> -412000
F24: ՍՈՑԻԱԼԱԿԱՆ ՆՊԱՍՏՆԵՐ ԵՎ ԿԵՆՍԱԹՈՇԱԿՆԵՐ | G24: =+G25 -> -412000 | H24: =+H25 -> -412000
F25: Կենսաթոշակներ | G25: =+G26 -> -412000 | H25: =+H26 -> -412000
F26: - Կենսաթոշակներ | G26: ='1'!D104 -> -412000 | H26: ='1'!E104 -> -412000
E27: 12003 | F27: Աշխատանքային կենսաթոշակներ | G27: =+G29 -> -1000000 | H27: =+H29 -> -1000000
F28: այդ թվում` ըստ կատարողների
F29: ՀՀ աշխատանքի և սոցիալական հարցերի նախարարության միասնական սոցիալական ծառայություն | G29: =+G30 -> -1000000 | H29: =+H30 -> -1000000
F30: այդ թվում` բյուջետային ծախսերի տնտեսագիտական դասակարգման հոդվածներ | G30: =+G32 -> -1000000 | H30: =+H32 -> -1000000
F31: ԸՆԴԱՄԵՆԸ ԾԱԽՍԵՐ
F32: ԸՆԹԱՑԻԿ ԾԱԽՍԵՐ | G32: =+G34 -> -1000000 | H32: =+H34 -> -1000000
F33: ՍՈՑԻԱԼԱԿԱՆ ՆՊԱՍՏՆԵՐ ԵՎ ԿԵՆՍԱԹՈՇԱԿՆԵՐ
F34: Կենսաթոշակներ | G34: =+G35 -> -1000000 | H34: =+H35 -> -1000000
F35: - Կենսաթոշակներ | G35: ='1'!D110 -> -1000000 | H35: ='1'!E110 -> -1000000
E36: 12004 | F36: ՀՀ օրենքով նշանակված կենսաթոշակներ | G36: =G38 -> -60000 | H36: =H38 -> -60000
F37: այդ թվում` ըստ կատարողների
F38: ՀՀ աշխատանքի և սոցիալական հարցերի նախարարության միասնական սոցիալական ծառայություն | G38: =G40 -> -60000 | H38: =H40 -> -60000
F39: այդ թվում` բյուջետային ծախսերի տնտեսագիտական դասակարգման հոդվածներ
F40: ԸՆԴԱՄԵՆԸ ԾԱԽՍԵՐ | G40: =G41 -> -60000 | H40: =H41 -> -60000
F41: ԸՆԹԱՑԻԿ ԾԱԽՍԵՐ | G41: =G42 -> -60000 | H41: =H42 -> -60000
...

Sheet 3
D1: Հավելված N 3
D2: ՀՀ կառավարության 2021 թվականի
D3: -----------------ի N -----------Ն որոշման
A5: ՀԱՅԱՍՏԱՆԻ ՀԱՆՐԱՊԵՏՈՒԹՅԱՆ ԿԱՌԱՎԱՐՈՒԹՅԱՆ 2020 ԹՎԱԿԱՆԻ ԴԵԿՏԵՄԲԵՐԻ 30-Ի N 2215-Ն N 9 ՀԱՎԵԼՎԱԾԻ N 9.16 ԱՂՅՈՒՍԱԿԻ ԵՎ 9.47 ԱՂՅՈՒՍԱԿՆԵՐՈՒՄ ԿԱՏԱՐՎՈՂ ՓՈՓՈԽՈՒԹՅՈՒՆՆԵՐԸ
A6: Հայաստանի Հանրապետության աշխատանքի և սոցիալական հարցերի նախարարություն
A7: ՄԱՍ 2. ՊԵՏԱԿԱՆ ՄԱՐՄՆԻ ԳԾՈՎ ԱՐԴՅՈՒՆՔԱՅԻՆ (ԿԱՏԱՐՈՂԱԿԱՆ) ՑՈՒՑԱՆԻՇՆԵՐԸ
A9: Ծրագրի դասիչը | B9: Ծրագրի անվանումը
A10: 1011 | B10: Անապահով սոցիալական խմբերին աջակցություն
A12: Ծրագրի միջոցառումները
A14: Ծրագրի դասիչը` | B14: 1011 | C14: Ցուցանիշների փոփոխությունները (Նվազեցումները նշված են փակագծերում)
A15: Միջոցառման դասիչը` | B15: 12001 | C15: Ինն ամիս | D15: Տարի
A16: Միջոցառման անվանումը` | B16: Ընտանիքի կենսամակարդակի բարձրացմանն ուղղված նպաստներ
A17: Նկարագրությունը` | B17: Ընտանիքների անապահովության գնահատման համակարգում հաշվառված, անապահով ճանաչված ընտանիքներին նպաստի, սոցիալական նպաստի և հրատապ օգնության տրամադրում
A18: Միջոցառման տեսակը` | B18: Տրանսֆերտների տրամադրում
A19: Շահառուների ընտրության չափանիշները | B19: Ընտանիքների անապահովության գնահատման համակարգում հաշվառված ընտանիք` ընտանիքի անապահովության միավորի հիման վրա
A20: Արդյունքի չափորոշիչներ
A21: Ընտանիքի կենսամակարդակի բարձրացմանն ուղղված նպաստներ ստացող ընտանիքների թիվ, հատ, այդ թվում | C21: -2923 | D21: -2923
A22: ընտանեկան նպաստ ստացող ընտանիքների թիվ, ընտանիք | C22: -1423 | D22: -1423
A23: սոցիալական նպաստ ստացող ընտանիքների թիվ, ընտանիք | C23: -1500 | D23: -1500
A24: Միջոցառման վրա կատարվող ծախսը (հազար դրամ) | C24: ='1'!D23 -> -1000000 | D24: ='1'!E23 -> -1000000
A26: Ծրագրի դասիչը` | B26: 1011 | C26: Ցուցանիշների փոփոխությունները (Նվազեցումները նշված են փակագծերում)
A27: Միջոցառման դասիչը` | B27: 12005 | C27: Ինն ամիս | D27: Տարի
A28: Միջոցառման անվանումը` | B28: Միանվագ դրամական աջակցության տրամադրում
A29: Նկարագրությունը` | B29: Արցախի Հանրապետությունից տեղահանված և Հայաստանի Հանրապետության տարածքում բնակվող ընտանիքների մինչև հինգ տարեկան երեխաներին միանվագ դրամական աջակցության տրամադրում
A30: Միջոցառման տեսակը` | B30: Տրանսֆերտների տրամադրում
A31: Շահառուների ընտրության չափանիշները | B31: ՀՀ կառավարության 2021 թվականի փետրվարի 18-ի N 218-Լ որոշումով
A32: Արդյունքի չափորոշիչներ
A33: Երեխաների թիվը, երեխա | C33: -5000 | D33: -5000
A34: Միջոցառման վրա կատարվող ծախսը (հազար դրամ) | C34: ='1'!D29 -> -125000 | D34: ='1'!E29 -> -125000
A36: Ծրագրի դասիչը | B36: Ծրագրի անվանումը
A37: 1068 | B37: Ժողովրդագրական վիճակի բարելավում
A39: Ծրագրի միջոցառումները
A41: Ծրագրի դասիչը` | B41: 1068 | C41: Ցուցանիշների փոփոխությունները (Նվազեցումները նշված են փակագծերում)
A42: Միջոցառման դասիչը` | B42: 12001 | C42: Ինն ամիս | D42: Տարի
A43: Միջոցառման անվանումը` | B43: Մինչև 2 տարեկան երեխայի խնամքի նպաստի տրամադրում
A44: Նկարագրությունը` | B44: Մինչև 2 տարեկան երեխայի խնամքի նպաստի տրամադրում
A45: Միջոցառման տեսակը` | B45: Տրանսֆերտների տրամադրում
A46: Շահառուների ընտրության չափանիշները | B46: Մինչև երեք տարեկան երեխայի խնամքի արձակուրդում գտնվող անձը` մինչև երեխայի 2 տարեկանը լրանալը,գյուղական բնակավայրում բնակվող ծնող? անկախ խնամքի արձակուրդում գտնվելու հանգամանքից? մինչև երեխայի 2 տարեկանը լրանալը
A47: Արդյունքի չափորոշիչներ
A48: Մինչև 2 տարեկան երեխայի խնամքի նպաստ ստացող քաղաքացիների թիվ, մարդ, որից | C48: -543 | D48: -543
...

Sheet 4
D1: Հավելված N 4
D2: ՀՀ կառավարության 2021 թվականի
D3: -----------------ի N -----------Ն որոշման
A4: ՀԱՅԱՍՏԱՆԻ ՀԱՆՐԱՊԵՏՈՒԹՅԱՆ ԿԱՌԱՎԱՐՈՒԹՅԱՆ 2020 ԹՎԱԿԱՆԻ ԴԵԿՏԵՄԲԵՐԻ 30-Ի N 2215-Ն ՈՐՈՇՄԱՆ N 9 ՀԱՎԵԼՎԱԾԻ N 9.1.20 ԱՂՅՈՒՍԱԿՈՒՄ ԿԱՏԱՐՎՈՂ ՓՈՓՈԽՈՒԹՅՈՒՆՆԵՐԸ
A5: ՀԱՅԱՍՏԱՆԻ ՀԱՆՐԱՊԵՏՈՒԹՅԱՆ ԿԱՌԱՎԱՐՈՒԹՅԱՆ 2021 ԹՎԱԿԱՆԻ ԴԵԿՏԵՄԲԵՐԻ307Ի N 2215-Ն ՈՐՈՇՄԱՆ N 9.1 ՀԱՎԵԼՎԱԾԻ N 9.1.20 ԵՎ 9.1.58 ԱՂՅՈՒՍԱԿՆԵՐՈՒՄ ԿԱՏԱՐՎՈՂ ՓՈՓՈԽՈՒԹՅՈՒՆՆԵՐԸ
A7: Հայաստանի Հանրապետության աշխատանքի և սոցիալական հարցերի նախարարության միասնական սոցիալական ծառայություն
A10: ՄԱՍ 1. ՊԵՏԱԿԱՆ ՄԱՐՄՆԻ ԳԾՈՎ ԱՐԴՅՈՒՆՔԱՅԻՆ (ԿԱՏԱՐՈՂԱԿԱՆ) ՑՈՒՑԱՆԻՇՆԵՐԸ
A12: Ծրագրի դասիչը | B12: Ծրագրի անվանումը
A13: 1011 | B13: Անապահով սոցիալական խմբերին աջակցություն
A15: Ծրագրի միջոցառումները
A17: Ծրագրի դասիչը` | B17: 1011 | C17: Ցուցանիշների փոփոխությունները (Նվազեցումները նշված են փակագծերում)
A18: Միջոցառման դասիչը` | B18: 12001 | C18: Ինն ամիս | D18: Տարի
A19: Միջոցառման անվանումը` | B19: Ընտանիքի կենսամակարդակի բարձրացմանն ուղղված նպաստներ
A20: Նկարագրությունը` | B20: Ընտանիքների անապահովության գնահատման համակարգում հաշվառված, անապահով ճանաչված ընտանիքներին նպաստի, սոցիալական նպաստի և հրատապ օգնության տրամադրում
A21: Միջոցառման տեսակը` | B21: Տրանսֆերտների տրամադրում
A22: Շահառուների ընտրության չափանիշները | B22: Ընտանիքների անապահովության գնահատման համակարգում հաշվառված ընտանիք` ընտանիքի անապահովության միավորի հիման վրա
A23: Արդյունքի չափորոշիչներ
A24: Ընտանիքի կենսամակարդակի բարձրացմանն ուղղված նպաստներ ստացող ընտանիքների թիվ, հատ, այդ թվում | C24: -2923 | D24: -2923
A25: ընտանեկան նպաստ ստացող ընտանիքների թիվ, ընտանիք | C25: -1423 | D25: -1423
A26: սոցիալական նպաստ ստացող ընտանիքների թիվ, ընտանիք | C26: -1500 | D26: -1500
A27: Միջոցառման վրա կատարվող ծախսը (հազար դրամ) | C27: ='3'!C24 -> -1000000 | D27: ='3'!D24 -> -1000000
A29: Ծրագրի դասիչը` | B29: 1011 | C29: Ցուցանիշների փոփոխությունները (Նվազեցումները նշված են փակագծերում)
A30: Միջոցառման դասիչը` | B30: 12005 | C30: Ինն ամիս | D30: Տարի
A31: Միջոցառման անվանումը` | B31: =+'[1]6'!B28 -> Միանվագ դրամական աջակցության տրամադրում
A32: Նկարագրությունը` | B32: =+'[1]6'!B29 -> Արցախի Հանրապետությունից տեղահանված և Հայաստանի Հանրապետության տարածքում բնակվող ընտանիքների մինչև հինգ տարեկան երեխաներին միանվագ դրամական աջակցության տրամադրում
A33: Միջոցառման տեսակը` | B33: Տրանսֆերտների տրամադրում
A34: Շահառուների ընտրության չափանիշները | B34: ՀՀ կառավարության 2021 թվականի փետրվարի 18-ի N 218-Լ որոշումով
A35: Արդյունքի չափորոշիչներ
A36: Երեխաների թիվը, երեխա | C36: ='3'!C33 -> -5000 | D36: ='3'!D33 -> -5000
A37: Միջոցառման վրա կատարվող ծախսը (հազար դրամ) | C37: ='3'!C34 -> -125000 | D37: ='3'!D34 -> -125000
A39: Ծրագրի դասիչը | B39: Ծրագրի անվանումը
A40: 1068 | B40: Ժողովրդագրական վիճակի բարելավում
A42: Ծրագրի միջոցառումները
A44: Ծրագրի դասիչը` | B44: 1068 | C44: Ցուցանիշների փոփոխությունները (Նվազեցումները նշված են փակագծերում)
A45: Միջոցառման դասիչը` | B45: 12001 | C45: Ինն ամիս | D45: Տարի
A46: Միջոցառման անվանումը` | B46: Մինչև 2 տարեկան երեխայի խնամքի նպաստի տրամադրում
A47: Նկարագրությունը` | B47: Մինչև 2 տարեկան երեխայի խնամքի նպաստի տրամադրում
A48: Միջոցառման տեսակը` | B48: Տրանսֆերտների տրամադրում
A49: Շահառուների ընտրության չափանիշները | B49: Մինչև երեք տարեկան երեխայի խնամքի արձակուրդում գտնվող անձը` մինչև երեխայի 2 տարեկանը լրանալը,գյուղական բնակավայրում բնակվող ծնող? անկախ խնամքի արձակուրդում գտնվելու հանգամանքից? մինչև երեխայի 2 տարեկանը լրանալը
A50: Արդյունքի չափորոշիչներ
...
