Workbook
Name AgencyCode: #REF!
Name AgencyName: #REF!
Name åû: #REF!
Name davit: #REF!
Name Functional1: #REF!
Name ggg: #REF!
Name mas: #REF!
Name mass: #REF!
Name PANature: #REF!
Name PAType: #REF!
Name Performance2: #REF!
Name PerformanceType: #REF!
Name x: #REF!
Name Հավելված: #REF!
Name Մաս: #REF!
Name շախմատիստ: #REF!

Sheet 1
E1: 1Հավելված N 1
D2: ՀՀ կառավարության 2021 թվականի
D3: -----------------ի N -----------Ն որոշման
A5: ՀԱՅԱՍՏԱՆԻ ՀԱՆՐԱՊԵՏՈՒԹՅԱՆ 2021 ԹՎԱԿԱՆԻ ՊԵՏԱԿԱՆ ԲՅՈՒՋԵԻ ՄԱՍԻՆ» ՀԱՅԱՍՏԱՆԻ ՀԱՆՐԱՊԵՏՈՒԹՅԱՆ ՕՐԵՆՔԻ N 1 ՀԱՎԵԼՎԱԾԻ N 2 ԱՂՅՈՒՍԱԿՈՒՄ ԿԱՏԱՐՎՈՂ ՎԵՐԱԲԱՇԽՈՒՄՆ ԵՎ ՀԱՅԱՍՏԱՆԻ ՀԱՆՐԱՊԵՏՈՒԹՅԱՆ ԿԱՌԱՎԱՐՈՒԹՅԱՆ 2020 ԹՎԱԿԱՆԻ ԴԵԿՏԵՄԲԵՐԻ 30-Ի N 2215-Ն ՈՐՈՇՄԱՆ N 5 ՀԱՎԵԼՎԱԾԻ N 1 ԱՂՅՈՒՍԱԿՈՒՄ ԿԱՏԱՐՎՈՂ ՓՈՓՈԽՈՒԹՅՈՒՆՆԵՐԸ
E6: հազ. դրամ
A7: Ծրագրային դասիչը | C7: Բյուջետային հատկացումների գլխավոր կարգադրիչների, ծրագրերի և միջոցառումների անվանումները | D7: Ցուցանիշների փոփոխությունները ավելացումները նշված են դրական նշանով, իսկ նվազեցումները՝ փակագծերում
A8: Ծրագիր | B8: Միջոցառում | D8: Ինն ամիս | E8: Տարի
C9: ԸՆԴԱՄԵՆԸ | D9: =D10+D154 -> 2200000 | E9: =E10+E154 -> 0
C10: ՀՀ աշխատանքի և սոցիալական հարցերի նախարարություն | D10: =D11+D30+D92+D117+D49 -> 2200000 | E10: =E11+E30+E92+E117+E49 -> 2200000
A11: 1011 | C11: Ծրագրի անվանումը` | D11: =D18+D24 -> -1125000 | E11: =E18+E24 -> -1125000
C12: Անապահով սոցիալական խմբերին աջակցություն
C13: Ծրագրի նպատակը`
C14: Օժանդակել անապահով ընտանիքների կենսամակարդակի բարձրացմանը
C15: Վերջնական արդյունքի նկարագրությունը`
C16: Աղքատության մեղմում և ծայրահեղ աղքատության կրճատում
A17: Ծրագրի միջոցառումներ
B18: 12001 | C18: Միջոցառման անվանումը` | D18: =D23 -> -1000000 | E18: =E23 -> -1000000
C19: Ընտանիքի կենսամակարդակի բարձրացմանն ուղղված նպաստներ
C20: Միջոցառման նկարագրությունը`
C21: Ընտանիքների անապահովության գնահատման համակարգում հաշվառված, անապահով ճանաչված ընտանիքներին նպաստի, սոցիալական նպաստի և հրատապ օգնության տրամադրում
C22: Միջոցառման տեսակը
C23: Տրանսֆերտների տրամադրում | D23: -1000000 | E23: -1000000
B24: 12005 | C24: Միջոցառման անվանումը` | D24: =D29 -> -125000 | E24: =E29 -> -125000
C25: Միանվագ դրամական աջակցության տրամադրում
C26: Միջոցառման նկարագրությունը`
C27: Արցախի Հանրապետությունից տեղահանված և Հայաստանի Հանրապետության տարածքում բնակվող ընտանիքների մինչև հինգ տարեկան երեխաներին միանվագ դրամական աջակցության տրամադրում
C28: Միջոցառման տեսակը
C29: Տրանսֆերտների տրամադրում | D29: -125000 | E29: -125000
A30: 1068 | C30: Ծրագրի անվանումը` | D30: =D37+D43 -> -462000 | E30: =E37+E43 -> -462000
C31: Ժողովրդագրական վիճակի բարելավում
C32: Ծրագրի նպատակը`
C33: Խթանել ժողովրդագրական վիճակի բարելավումը
C34: Վերջնական արդյունքի նկարագրությունը`
C35: Ժողովրդագրական վիճակի բարելավում և բազմազավակության աճ
A36: Ծրագրի միջոցառումներ
B37: 12001 | C37: Միջոցառման անվանումը` | D37: =D42 -> -300000 | E37: =E42 -> -300000
C38: Մինչև 2 տարեկան երեխայի խնամքի նպաստի տրամադրում
C39: Միջոցառման նկարագրությունը`
C40: Մինչև 2 տարեկան երեխայի խնամքի նպաստի տրամադրում
C41: Միջոցառման տեսակը
C42: Տրանսֆերտների տրամադրում | D42: -300000 | E42: =+D42 -> -300000
B43: 12002 | C43: Միջոցառման անվանումը` | D43: =D48 -> -162000 | E43: =+D43 -> -162000
C44: Երեխայի ծննդյան միանվագ նպաստ
C45: Միջոցառման նկարագրությունը`
C46: Երեխայի ծննդյան կապակցությամբ միանվագ նպաստի տրամադրում
C47: Միջոցառման տեսակը
C48: Տրանսֆերտների տրամադրում | D48: -162000 | E48: =+E43 -> -162000
A49: 1088 | C49: Ծրագրի անվանումը` | D49: =D56+D62+D68+D74+D80+D86 -> -154000 | E49: =E56+E62+E68+E74+E80+E86 -> -154000
C50: Զբաղվածության ծրագիր
C51: Ծրագրի նպատակը`
C52: Բնակչության կայուն և ժամանակավոր զբաղվածության ապահովմանը միտված պայմանների ստեղծում
C53: Վերջնական արդյունքի նկարագրությունը`
C54: Կայուն և ժամանակավոր զբաղվածների թվաքանակի աճ
A55: Ծրագրի միջոցառումներ
B56: 12004 | C56: Միջոցառման անվանումը` | D56: =D61 -> -33000 | E56: =E61 -> -25000
C57: Ձեռք բերած մասնագիտությամբ մասնագիտական աշխատանքային փորձ ձեռք բերելու համար գործազուրկներին աջակցության տրամադրում
C58: Միջոցառման նկարագրությունը`
C59: Մասնագիտություն ունեցող, աշխատաքային փորձ չունեցող գործազուրկների աշխատանքային պրակտիկայի կազմակերպում գործատուի մոտ
C60: Միջոցառման տեսակը
C61: Տրանսֆերտների տրամադրում | D61: -33000 | E61: -25000
B62: 12005 | C62: Միջոցառման անվանումը` | D62: =D67 -> -32000 | E62: =E67 -> -32000
C63: Աշխատաշուկայում անմրցունակ անձանց աշխատանքի տեղավորման դեպքում գործատուին միանվագ փոխհատուցման տրամադրում
C64: Միջոցառման նկարագրությունը`
C65: Աշխատաշուկայում անմրցունակ անձանց աշխ. ունակությունների և կարողությունների` աշխ. վայրում ձեռքբերման հնարավորությունների ընձեռում և հաշմանդամութ. ունեցող անձանց համար աշխատատեղի հարմարեցում՛ ապահովելով հավասար հնարավորություններ կանանց և տղամարդկանց համար
C66: Միջոցառման տեսակը
C67: Տրանսֆերտների տրամադրում | D67: -32000 | E67: -32000
B68: 12010 | C68: Միջոցառման անվանումը` | D68: =D73 -> -27000 | E68: =E73 -> -35000
C69: Աշխատաշուկայում անմրցունակ և մասնագիտություն չունեցող մայրերի համար գործատուի մոտ մասնագիտական ուսուցման կազմակերպում
C70: Միջոցառման նկարագրությունը`
C71: Աշխ-շուկայում անմրցունակ և մասնա•իտ. չունեցող մայրերի աշխ. ունակությունների և կարողությունների ձեռքբերման հնարավորությունների ընձեռնման նպատակով •ործատուի մոտ մասնա•իտական ուսուցման կազմակերպում՛ կանանց զբաղվածութ. մակարդ. բարձրացմ. նպատակով
C72: Միջոցառման տեսակը
C73: Տրանսֆերտների տրամադրում | D73: -27000 | E73: -35000
B74: 12013 | C74: Միջոցառման անվանումը` | D74: =D79 -> -30000 | E74: =E79 -> -30000
C75: Աշխատաշուկայում անմրցունակ անձանց անասնապահությամբ զբաղվելու համար աջակցության տրամադրում
C76: Միջոցառման նկարագրությունը`
C77: Աշխատաշուկայում անմրցունակ անձանց անասնապահությամբ զբաղվելու միջոցով ինքնազբաղվածության խթանման ապահովում
C78: Միջոցառման տեսակը
C79: Տրանսֆերտների տրամադրում | D79: -30000 | E79: -30000
B80: 12014 | C80: Միջոցառման անվանումը` | D80: =D85 -> -12000 | E80: =E85 -> -12000
C81: Ռազմական դրությամբ պայմանավորված՝ վարձատրվող հասարակական աշխ. կազմակերպ. միջոցով՝ Ադրբեջանի կողմից 2020 թ. սեպտ. 27-ին սանձազերծված պատերազմի հետևանքով տեղահանված և փաստ. ՀՀ գտնվող Արցախի Հանր. գործազուրկ քաղաքացիների ժամանակավոր զբաղվածութ. Ապահովում
C82: Միջոցառման նկարագրությունը`
C83: Վարձատրվող հասարակական աշխատանքների կազմակերպման միջոցով Արցախի Հանրապետության գործազուրկ քաղաքացիների ժամանակավոր զբաղվածության ապահովում
C84: Միջոցառման տեսակը
C85: Տրանսֆերտների տրամադրում | D85: -12000 | E85: -12000
B86: 12015 | C86: Միջոցառման անվանումը` | D86: =D91 -> -20000 | E86: =E91 -> -20000
C87: Ռազմական դրությամբ պայմանավորված՝ Ադրբեջանի կողմից 2020 թ. սեպտեմբերի 27-ին սանձազերծված պատերազմի հետևանքով տեղահանված և փաստացի ՀՀ-ում գտնվող Արցախի Հանրապետության գործազուրկ քաղաքացիների աշխատանքային փորձ ձեռք բերելու համար աջակցության տրամադրում
C88: Միջոցառման նկարագրությունը`
C89: Արցախի Հանրապետության գործազուրկ քաղաքացիների աշխատանքային փորձ ձեռք բերելու համար աջակցության տրամադրում
C90: Միջոցառման տեսակը
C91: Տրանսֆերտների տրամադրում | D91: -20000 | E91: -20000
A92: 1102 | C92: Ծրագրի անվանումը` | D92: =D99+D105+D111 -> -1472000 | E92: =E99+E105+E111 -> -1472000
C93: Կենսաթոշակային ապահովություն
C94: Ծրագրի նպատակը`
C95: Կենսաթոշակի իրավունքի իրացում
C96: Վերջնական արդյունքի նկարագրությունը`
C97: Կենսաթոշակների նշանակման և վճարման գործընթացի ապահովում
A98: Ծրագրի միջոցառումներ
B99: 12001 | C99: Միջոցառման անվանումը` | D99: =D104 -> -412000 | E99: =E104 -> -412000
C100: Սպայական անձնակազմի և նրանց ընտանիքների անդամների կենսաթոշակներ
C101: Միջոցառման նկարագրությունը`
...

Sheet 2
H1: Հավելված N 2
H2: ՀՀ կառավարության 2021 թվականի
H3: -----------------ի N -----------Ն որոշման
A4: ՀԱՅԱՍՏԱՆԻ ՀԱՆՐԱՊԵՏՈՒԹՅԱՆ ԿԱՌԱՎԱՐՈՒԹՅԱՆ 2020 ԹՎԱԿԱՆԻ ԴԵԿՏԵՄԲԵՐԻ 30-Ի N 2215-Ն ՈՐՈՇՄԱՆ N 3 և N 4 ՀԱՎԵԼՎԱԾՆԵՐՈՒՄ ԿԱՏԱՐՎՈՂ ՓՈՓՈԽՈՒԹՅՈՒՆՆԵՐԸ
A6: Գործառական դասիչը | D6: Ծրագրային դասիչը | F6: Բյուջետային ծախսերի գործառական դասակարգման բաժինների, խմբերի և դասերի, բյուջետային ծրագրերի միջոցառումների, բյուջետային հատկացումների գլխավոր կարգադրիչների անվանումները | G6: Ցուցանիշների փոփոխությունները (ավելացումները նշված են դրական, իսկ նվազեցումները՝ փակագծերում)
A7: Բաժինը | B7: Խումբը | C7: Դասը | D7: Ծրագիր | E7: Միջոցառում | G7: Ինն ամիս | H7: Տարի
F8: ԸՆԴԱՄԵՆԸ ԾԱԽՍԵՐ | G8: =G10+G202 -> 2200000 | H8: =H10+H202 -> 0
F9: այդ թվում`
A10: 10 | F10: ՍՈՑԻԱԼԱԿԱՆ ՊԱՇՏՊԱՆՈՒԹՅՈՒՆ | G10: =G45+G12+G152+G89 -> 2200000 | H10: =H45+H12+H152+H89 -> 2200000
F11: այդ թվում`
B12: 02 | F12: Ծերություն | G12: =+G14 -> -1472000 | H12: =+H14 -> -1472000
F13: այդ թվում`
C14: 01 | F14: Ծերություն | G14: =G16 -> -1472000 | H14: =H16 -> -1472000
F15: այդ թվում`
D16: 1102 | F16: Կենսաթոշակային ապահովություն | G16: =G18+G27+G36 -> -1472000 | H16: =H18+H27+H36 -> -1472000
F17: այդ թվում`
E18: 12001 | F18: Սպայական անձնակազմի և նրանց ընտանիքների անդամների կենսաթոշակներ | G18: =+G19 -> -412000 | H18: =+H19 -> -412000
F19: այդ թվում` ըստ կատարողների | G19: =+G21 -> -412000 | H19: =+H21 -> -412000
F20: ՀՀ աշխատանքի և սոցիալական հարցերի նախարարության միասնական սոցիալական ծառայություն
F21: այդ թվում` բյուջետային ծախսերի տնտեսագիտական դասակարգման հոդվածներ | G21: =+G23 -> -412000 | H21: =+H23 -> -412000
F22: ԸՆԴԱՄԵՆԸ ԾԱԽՍԵՐ
F23: ԸՆԹԱՑԻԿ ԾԱԽՍԵՐ | G23: =+G24 -> -412000 | H23: =+H24 -> -412000
F24: ՍՈՑԻԱԼԱԿԱՆ ՆՊԱՍՏՆԵՐ ԵՎ ԿԵՆՍԱԹՈՇԱԿՆԵՐ | G24: =+G25 -> -412000 | H24: =+H25 -> -412000
F25: Կենսաթոշակներ | G25: =+G26 -> -412000 | H25: =+H26 -> -412000
F26: - Կենսաթոշակներ | G26: ='1'!D104 -> -412000 | H26: ='1'!E104 -> -412000
E27: 12003 | F27: Աշխատանքային կենսաթոշակներ | G27: =+G29 -> -1000000 | H27: =+H29 -> -1000000
F28: այդ թվում` ըստ կատարողների
F29: ՀՀ աշխատանքի և սոցիալական հարցերի նախարարության միասնական սոցիալական ծառայություն | G29: =+G30 -> -1000000 | H29: =+H30 -> -1000000
F30: այդ թվում` բյուջետային ծախսերի տնտեսագիտական դասակարգման հոդվածներ | G30: =+G32 -> -1000000 | H30: =+H32 -> -1000000
F31: ԸՆԴԱՄԵՆԸ ԾԱԽՍԵՐ
F32: ԸՆԹԱՑԻԿ ԾԱԽՍԵՐ | G32: =+G34 -> -1000000 | H32: =+H34 -> -1000000
F33: ՍՈՑԻԱԼԱԿԱՆ ՆՊԱՍՏՆԵՐ ԵՎ ԿԵՆՍԱԹՈՇԱԿՆԵՐ
F34: Կենսաթոշակներ | G34: =+G35 -> -1000000 | H34: =+H35 -> -1000000
F35: - Կենսաթոշակներ | G35: ='1'!D110 -> -1000000 | H35: ='1'!E110 -> -1000000
E36: 12004 | F36: ՀՀ օրենքով նշանակված կենսաթոշակներ | G36: =G38 -> -60000 | H36: =H38 -> -60000
F37: այդ թվում` ըստ կատարողների
F38: ՀՀ աշխատանքի և սոցիալական հարցերի նախարարության միասնական սոցիալական ծառայություն | G38: =G40 -> -60000 | H38: =H40 -> -60000
F39: այդ թվում` բյուջետային ծախսերի տնտեսագիտական դասակարգման հոդվածներ
F40: ԸՆԴԱՄԵՆԸ ԾԱԽՍԵՐ | G40: =G41 -> -60000 | H40: =H41 -> -60000
F41: ԸՆԹԱՑԻԿ ԾԱԽՍԵՐ | G41: =G42 -> -60000 | H41: =H42 -> -60000
F42: ՍՈՑԻԱԼԱԿԱՆ ՆՊԱՍՏՆԵՐ ԵՎ ԿԵՆՍԱԹՈՇԱԿՆԵՐ | G42: =G43 -> -60000 | H42: =H43 -> -60000
F43: Կենսաթոշակներ | G43: =G44 -> -60000 | H43: =H44 -> -60000
F44: - Կենսաթոշակներ | G44: ='1'!D116 -> -60000 | H44: ='1'!E116 -> -60000
B45: 04 | F45: Ընտանիքի անդամներ և զավակներ | G45: =+G47 -> -1587000 | H45: =+H47 -> -1587000
F46: այդ թվում`
C47: 01 | F47: Ընտանիքի անդամներ և զավակներ | G47: =G49+G69 -> -1587000 | H47: =H49+H69 -> -1587000
F48: այդ թվում`
D49: 1011 | F49: Անապահով սոցիալական խմբերին աջակցություն | G49: =G51+G60 -> -1125000 | H49: =H51+H60 -> -1125000
F50: այդ թվում`
E51: 12001 | F51: Ընտանիքի կենսամակարդակի բարձրացմանն ուղղված նպաստներ | G51: =+G52 -> -1000000 | H51: =+H52 -> -1000000
F52: այդ թվում` ըստ կատարողների | G52: =+G54 -> -1000000 | H52: =+H54 -> -1000000
F53: ՀՀ աշխատանքի և սոցիալական հարցերի նախարարության միասնական սոցիալական ծառայություն
F54: այդ թվում` բյուջետային ծախսերի տնտեսագիտական դասակարգման հոդվածներ | G54: =+G56 -> -1000000 | H54: =+H56 -> -1000000
F55: ԸՆԴԱՄԵՆԸ ԾԱԽՍԵՐ
F56: ԸՆԹԱՑԻԿ ԾԱԽՍԵՐ | G56: =+G57 -> -1000000 | H56: =+H57 -> -1000000
F57: ՍՈՑԻԱԼԱԿԱՆ ՆՊԱՍՏՆԵՐ ԵՎ ԿԵՆՍԱԹՈՇԱԿՆԵՐ | G57: =+G58 -> -1000000 | H57: =+H58 -> -1000000
F58: Սոցիալական օգնության դրամական արտահայտությամբ նպաստներ (բյուջեից) | G58: =+G59 -> -1000000 | H58: =+H59 -> -1000000
F59: - Երեխաների կամ ընտանեկան նպաստներ բյուջեից | G59: ='1'!D23 -> -1000000 | H59: ='1'!E23 -> -1000000
E60: 12005 | F60: Միանվագ դրամական աջակցության տրամադրում | G60: =G62 -> -125000 | H60: =H62 -> -125000
F61: այդ թվում` ըստ կատարողների
F62: ՀՀ աշխատանքի և սոցիալական հարցերի նախարարության միասնական սոցիալական ծառայություն | G62: =G64 -> -125000 | H62: =H64 -> -125000
F63: այդ թվում` բյուջետային ծախսերի տնտեսագիտական դասակարգման հոդվածներ
F64: ԸՆԴԱՄԵՆԸ ԾԱԽՍԵՐ | G64: =G65 -> -125000 | H64: =H65 -> -125000
F65: ԸՆԹԱՑԻԿ ԾԱԽՍԵՐ | G65: =G66 -> -125000 | H65: =H66 -> -125000
F66: ՍՈՑԻԱԼԱԿԱՆ ՆՊԱՍՏՆԵՐ ԵՎ ԿԵՆՍԱԹՈՇԱԿՆԵՐ | G66: =G67 -> -125000 | H66: =H67 -> -125000
F67: Սոցիալական օգնության դրամական արտահայտությամբ նպաստներ (բյուջեից) | G67: =G68 -> -125000 | H67: =H68 -> -125000
F68: - Երեխաների կամ ընտանեկան նպաստներ բյուջեից | G68: ='1'!D29 -> -125000 | H68: ='1'!E29 -> -125000
D69: 1068 | F69: Ժողովրդագրական վիճակի բարելավում | G69: =G71+G80 -> -462000 | H69: =H71+H80 -> -462000
F70: այդ թվում`
E71: 12001 | F71: Մինչև 2 տարեկան երեխայի խնամքի նպաստի տրամադրում | G71: =G73 -> -300000 | H71: =H73 -> -300000
F72: այդ թվում` ըստ կատարողների
F73: ՀՀ աշխատանքի և սոցիալական հարցերի նախարարության միասնական սոցիալական ծառայություն | G73: =G75 -> -300000 | H73: =H75 -> -300000
F74: այդ թվում` բյուջետային ծախսերի տնտեսագիտական դասակարգման հոդվածներ
F75: ԸՆԴԱՄԵՆԸ ԾԱԽՍԵՐ | G75: =G76 -> -300000 | H75: =H76 -> -300000
F76: ԸՆԹԱՑԻԿ ԾԱԽՍԵՐ | G76: =G77 -> -300000 | H76: =H77 -> -300000
F77: ՍՈՑԻԱԼԱԿԱՆ ՆՊԱՍՏՆԵՐ ԵՎ ԿԵՆՍԱԹՈՇԱԿՆԵՐ | G77: =G78 -> -300000 | H77: =H78 -> -300000
F78: Սոցիալական օգնության դրամական արտահայտությամբ նպաստներ (բյուջեից) | G78: =G79 -> -300000 | H78: =H79 -> -300000
F79: - Մայրության նպաստներ բյուջեից | G79: ='1'!D42 -> -300000 | H79: ='1'!E42 -> -300000
E80: 12002 | F80: Երեխայի ծննդյան միանվագ նպաստ | G80: =G82 -> -162000 | H80: =H82 -> -162000
F81: այդ թվում` ըստ կատարողների
F82: ՀՀ աշխատանքի և սոցիալական հարցերի նախարարության միասնական սոցիալական ծառայություն | G82: =G84 -> -162000 | H82: =H84 -> -162000
F83: այդ թվում` բյուջետային ծախսերի տնտեսագիտական դասակարգման հոդվածներ
F84: ԸՆԴԱՄԵՆԸ ԾԱԽՍԵՐ | G84: =G85 -> -162000 | H84: =H85 -> -162000
F85: ԸՆԹԱՑԻԿ ԾԱԽՍԵՐ | G85: =G86 -> -162000 | H85: =H86 -> -162000
F86: ՍՈՑԻԱԼԱԿԱՆ ՆՊԱՍՏՆԵՐ ԵՎ ԿԵՆՍԱԹՈՇԱԿՆԵՐ | G86: =G87 -> -162000 | H86: =H87 -> -162000
F87: Սոցիալական օգնության դրամական արտահայտությամբ նպաստներ (բյուջեից) | G87: =G88 -> -162000 | H87: =H88 -> -162000
F88: - Երեխաների կամ ընտանեկան նպաստներ բյուջեից | G88: ='1'!D48 -> -162000 | H88: ='1'!E48 -> -162000
B89: ՛05 | F89: Գործազրկություն | G89: =G91 -> -154000 | H89: =H91 -> -154000
F90: այդ թվում`
C91: ՛01 | F91: Գործազրկություն | G91: =G93 -> -154000 | H91: =H93 -> -154000
F92: այդ թվում`
D93: 1088 | F93: Զբաղվածության ծրագիր | G93: =G95+G104+G113+G125+G134+G143 -> -154000 | H93: =H95+H104+H113+H125+H134+H143 -> -154000
F94: այդ թվում`
E95: 12004 | F95: Ձեռք բերած մասնագիտությամբ մասնագիտական աշխատանքային փորձ ձեռք բերելու համար գործազուրկներին աջակցության տրամադրում | G95: =G97 -> -33000 | H95: =H97 -> -25000
F96: այդ թվում` ըստ կատարողների
F97: ՀՀ աշխատանքի և սոցիալական հարցերի նախարարության միասնական սոցիալական ծառայություն | G97: =G99 -> -33000 | H97: =H99 -> -25000
F98: այդ թվում` բյուջետային ծախսերի տնտեսագիտական դասակարգման հոդվածներ
F99: ԸՆԴԱՄԵՆԸ ԾԱԽՍԵՐ | G99: =G100 -> -33000 | H99: =H100 -> -25000
F100: ԸՆԹԱՑԻԿ ԾԱԽՍԵՐ | G100: =G101 -> -33000 | H100: =H101 -> -25000
F101: ԴՐԱՄԱՇՆՈՐՀՆԵՐ | G101: =G102 -> -33000 | H101: =H102 -> -25000
...

Sheet 3
D1: Հավելված N 3
D2: ՀՀ կառավարության 2021 թվականի
D3: -----------------ի N -----------Ն որոշման
A5: ՀԱՅԱՍՏԱՆԻ ՀԱՆՐԱՊԵՏՈՒԹՅԱՆ ԿԱՌԱՎԱՐՈՒԹՅԱՆ 2020 ԹՎԱԿԱՆԻ ԴԵԿՏԵՄԲԵՐԻ 30-Ի N 2215-Ն N 9 ՀԱՎԵԼՎԱԾԻ N 9.16 ԱՂՅՈՒՍԱԿԻ ԵՎ 9.47 ԱՂՅՈՒՍԱԿՆԵՐՈՒՄ ԿԱՏԱՐՎՈՂ ՓՈՓՈԽՈՒԹՅՈՒՆՆԵՐԸ
A6: Հայաստանի Հանրապետության աշխատանքի և սոցիալական հարցերի նախարարություն
A7: ՄԱՍ 2. ՊԵՏԱԿԱՆ ՄԱՐՄՆԻ ԳԾՈՎ ԱՐԴՅՈՒՆՔԱՅԻՆ (ԿԱՏԱՐՈՂԱԿԱՆ) ՑՈՒՑԱՆԻՇՆԵՐԸ
A9: Ծրագրի դասիչը | B9: Ծրագրի անվանումը
A10: 1011 | B10: Անապահով սոցիալական խմբերին աջակցություն
A12: Ծրագրի միջոցառումները
A14: Ծրագրի դասիչը` | B14: 1011 | C14: Ցուցանիշների փոփոխությունները (Նվազեցումները նշված են փակագծերում)
A15: Միջոցառման դասիչը` | B15: 12001 | C15: Ինն ամիս | D15: Տարի
A16: Միջոցառման անվանումը` | B16: Ընտանիքի կենսամակարդակի բարձրացմանն ուղղված նպաստներ
A17: Նկարագրությունը` | B17: Ընտանիքների անապահովության գնահատման համակարգում հաշվառված, անապահով ճանաչված ընտանիքներին նպաստի, սոցիալական նպաստի և հրատապ օգնության տրամադրում
A18: Միջոցառման տեսակը` | B18: Տրանսֆերտների տրամադրում
A19: Շահառուների ընտրության չափանիշները | B19: Ընտանիքների անապահովության գնահատման համակարգում հաշվառված ընտանիք` ընտանիքի անապահովության միավորի հիման վրա
A20: Արդյունքի չափորոշիչներ
A21: Ընտանիքի կենսամակարդակի բարձրացմանն ուղղված նպաստներ ստացող ընտանիքների թիվ, հատ, այդ թվում | C21: -2923 | D21: -2923
A22: ընտանեկան նպաստ ստացող ընտանիքների թիվ, ընտանիք | C22: -1423 | D22: -1423
A23: սոցիալական նպաստ ստացող ընտանիքների թիվ, ընտանիք | C23: -1500 | D23: -1500
A24: Միջոցառման վրա կատարվող ծախսը (հազար դրամ) | C24: ='1'!D23 -> -1000000 | D24: ='1'!E23 -> -1000000
A26: Ծրագրի դասիչը` | B26: 1011 | C26: Ցուցանիշների փոփոխությունները (Նվազեցումները նշված են փակագծերում)
A27: Միջոցառման դասիչը` | B27: 12005 | C27: Ինն ամիս | D27: Տարի
A28: Միջոցառման անվանումը` | B28: Միանվագ դրամական աջակցության տրամադրում
A29: Նկարագրությունը` | B29: Արցախի Հանրապետությունից տեղահանված և Հայաստանի Հանրապետության տարածքում բնակվող ընտանիքների մինչև հինգ տարեկան երեխաներին միանվագ դրամական աջակցության տրամադրում
A30: Միջոցառման տեսակը` | B30: Տրանսֆերտների տրամադրում
A31: Շահառուների ընտրության չափանիշները | B31: ՀՀ կառավարության 2021 թվականի փետրվարի 18-ի N 218-Լ որոշումով
A32: Արդյունքի չափորոշիչներ
A33: Երեխաների թիվը, երեխա | C33: -5000 | D33: -5000
A34: Միջոցառման վրա կատարվող ծախսը (հազար դրամ) | C34: ='1'!D29 -> -125000 | D34: ='1'!E29 -> -125000
A36: Ծրագրի դասիչը | B36: Ծրագրի անվանումը
A37: 1068 | B37: Ժողովրդագրական վիճակի բարելավում
A39: Ծրագրի միջոցառումները
A41: Ծրագրի դասիչը` | B41: 1068 | C41: Ցուցանիշների փոփոխությունները (Նվազեցումները նշված են փակագծերում)
A42: Միջոցառման դասիչը` | B42: 12001 | C42: Ինն ամիս | D42: Տարի
A43: Միջոցառման անվանումը` | B43: Մինչև 2 տարեկան երեխայի խնամքի նպաստի տրամադրում
A44: Նկարագրությունը` | B44: Մինչև 2 տարեկան երեխայի խնամքի նպաստի տրամադրում
A45: Միջոցառման տեսակը` | B45: Տրանսֆերտների տրամադրում
A46: Շահառուների ընտրության չափանիշները | B46: Մինչև երեք տարեկան երեխայի խնամքի արձակուրդում գտնվող անձը` մինչև երեխայի 2 տարեկանը լրանալը,գյուղական բնակավայրում բնակվող ծնող? անկախ խնամքի արձակուրդում գտնվելու հանգամանքից? մինչև երեխայի 2 տարեկանը լրանալը
A47: Արդյունքի չափորոշիչներ
A48: Մինչև 2 տարեկան երեխայի խնամքի նպաստ ստացող քաղաքացիների թիվ, մարդ, որից | C48: -543 | D48: -543
A49: գյուղական բնակավայրերում մինչև 2 տարեկան երեխայի խնամքի նպաստ ստացող քաղաքացիների թիվ, մարդ | C49: -400 | D49: -400
A50: Միջոցառման վրա կատարվող ծախսը (հազար դրամ) | C50: ='1'!D42 -> -300000 | D50: ='1'!E42 -> -300000
A52: Ծրագրի դասիչը` | B52: 1068 | C52: Ցուցանիշների փոփոխությունները (Նվազեցումները նշված են փակագծերում)
A53: Միջոցառման դասիչը` | B53: 12002 | C53: Ինն ամիս | D53: Տարի
A54: Միջոցառման անվանումը` | B54: Երեխայի ծննդյան միանվագ նպաստ
A55: Նկարագրությունը` | B55: Երեխայի ծննդյան կապակցությամբ միանվագ նպաստի տրամադրում
A56: Միջոցառման տեսակը` | B56: Տրանսֆերտների տրամադրում
A57: Շահառուների ընտրության չափանիշները | B57: ՀՀ-ում հաշվառված նոր ծնված երեխայի ծնող (օրինական ներկայացուցիչ)
A58: Արդյունքի չափորոշիչներ
A59: շահառու նորածինների թիվ, ադ թվում՝ | C59: -434 | D59: -434
A60: ընտանիքում առաջին և երկրորդ երեխաների թիվ | C60: -395 | D60: -395
A61: ընտանիքում երրորդ և չորրորդ երեխաների թիվ | C61: -30 | D61: -30
A62: ընտանիքում հինգ և հաջորդ երեխաների թիվ | C62: -9 | D62: -9
A63: Միջոցառման վրա կատարվող ծախսը (հազար դրամ) | C63: ='1'!D48 -> -162000 | D63: ='1'!E48 -> -162000
A65: Ծրագրի դասիչը | B65: Ծրագրի անվանումը
A66: 1102 | B66: Կենսաթոշակային ապահովություն
A68: Ծրագրի միջոցառումները
A70: Ծրագրի դասիչը` | B70: 1102 | C70: Ցուցանիշների փոփոխությունները (Նվազեցումները նշված են փակագծերում)
A71: Միջոցառման դասիչը` | B71: 12001 | C71: Ինն ամիս | D71: Տարի
A72: Միջոցառման անվանումը` | B72: Սպայական անձնակազմի և նրանց ընտանիքների անդամների կենսաթոշակներ
A73: Նկարագրությունը` | B73: Սպայական անձնակազմի զինծառայողներին երկարամյա ծառայության, հաշմանդամության և զինծառայողի մահվան դեպքում նրա ընտանիքի անդամներին կերակրողին կորցնելու դեպքում զինվորական կենսաթոշակների տրամադրում
A74: Միջոցառման տեսակը` | B74: Տրանսֆերտների տրամադրում
A75: Շահառուների ընտրության չափանիշները | B75: Սպայական անձնակազմին և նրանց ընտանիքների անդամներին երկարամյա ծառայության, հաշմանդամության և կերակրողին կորցնելու դեպքում կենսաթոշակների տրամադրում 22.12.2010թ.ՀՕ-243-Ն օրենքի 18-րդ, 20-րդ, 22-րդ հոդվածներով
A76: Արդյունքի չափորոշիչներ
A77: Կենսաթոշակառուների թիվ, մարդ, այդ թվում | C77: -897 | D77: -897
A78: հաշմանդամության զինվորական կենսաթոշակառուների թիվը, մարդ | C78: -897 | D78: -897
A79: Միջոցառման վրա կատարվող ծախսը (հազար դրամ) | C79: ='1'!D104 -> -412000 | D79: ='1'!E104 -> -412000
A81: Ծրագրի դասիչը` | B81: 1102 | C81: Ցուցանիշների փոփոխությունները (Նվազեցումները նշված են փակագծերում)
A82: Միջոցառման դասիչը` | B82: 12003 | C82: Ինն ամիս | D82: Տարի
A83: Միջոցառման անվանումը` | B83: Աշխատանքային կենսաթոշակներ
A84: Նկարագրությունը` | B84: Աշխատանքային կենսաթոշակների (տարիքային, հաշմանդամության, արտոնյալ պայմաններով, երկարամյա ծառայության, մասնակի, կերակրողին կորցնելու դեպքում կենսաթոշակների) տրամադրում
A85: Միջոցառման տեսակը` | B85: Տրանսֆերտների տրամադրում
A86: Շահառուների ընտրության չափանիշները | B86: Տարիքային աշխատանքային` առնվազն 10 տարվա աշխատանքային ստաժ, հաշմանդամության աշխատանքային` ըստ սանդղակի աշխատանքային ստաժ, արտոնյալ, մասնակի երկարամյա ծառայության` պահանջվող մասնագիտությամբ աշխատանքային ստաժ
A87: Արդյունքի չափորոշիչներ
A88: Կենսաթոշակառուների թիվ, մարդ | C88: -1905 | D88: -1905
A89: Միջոցառման վրա կատարվող ծախսը (հազար դրամ) | C89: ='1'!D110 -> -1000000 | D89: ='1'!E110 -> -1000000
A91: Ծրագրի դասիչը` | B91: 1102 | C91: Ցուցանիշների փոփոխությունները (Նվազեցումները նշված են փակագծերում)
A92: Միջոցառման դասիչը` | B92: 12004 | C92: Ինն ամիս | D92: Տարի
A93: Միջոցառման անվանումը` | B93: ՀՀ օրենքով նշանակված կենսաթոշակներ
A94: Նկարագրությունը` | B94: «Պաշտոնատար անձանց գործունեության ապահովման, սպասարկման և սոցիալական երաշխիքների մասին» ՀՀ օրենքով սահմանված պաշտոններում պաշտոնավարած անձանց կենսաթոշակի տրամադրում
A95: Միջոցառման տեսակը` | B95: Տրանսֆերտների տրամադրում
A96: Շահառուների ընտրության չափանիշները | B96: ՀՀ օրենքներով պետական պաշտոն զբաղեցրած անձանց կենսաթոշակային իրավունքի իրացում`համապատասխան պաշտոններում աշխատանքային ստաժի առկայություն և կենսաթոշակի իրավունք տրվող տարիք
A97: Արդյունքի չափորոշիչներ
A98: Կենսաթոշակառուների թիվ, մարդ | C98: -15 | D98: -15
A99: Միջոցառման վրա կատարվող ծախսը (հազար դրամ) | C99: ='1'!D116 -> -60000 | D99: ='1'!E116 -> -60000
A101: Ծրագրի դասիչը | B101: Ծրագրի անվանումը
A102: 1205 | B102: Սոցիալական ապահովություն
A104: Ծրագրի միջոցառումները
A106: Ծրագրի դասիչը` | B106: 1205 | C106: Ցուցանիշների փոփոխությունները (Նվազեցումները նշված են փակագծերում)
A107: Միջոցառման դասիչը` | B107: 12001 | C107: Ինն ամիս | D107: Տարի
A108: Միջոցառման անվանումը` | B108: Ծերության, հաշմանդամության, կերակրողին կորցնելու դեպքում նպաստներ
A109: Նկարագրությունը` | B109: Ծերության, հաշմանդամության, կերակրողին կորցնելու դեպքում սոցիալական նպաստների տրամադրում
A110: Միջոցառման տեսակը` | B110: Տրանսֆերտների տրամադրում
A111: Շահառուների ընտրության չափանիշները | B111: Կենսաթոշակի իրավունք չունեցող հաշմանդամներ, կերակրողին կորցրած անձիք և օրենքով սահմանված տարիքը լրացած և պահանջվող ստաժ չունեցող անձիք
A112: Արդյունքի չափորոշիչներ
A113: ծերության նպաստառուների թիվը, մարդ | C113: -629 | D113: -629
A114: Միջոցառման վրա կատարվող ծախսը (հազար դրամ) | C114: ='1'!D129 -> -200000 | D114: ='1'!E129 -> -200000
A116: Միջոցառման անվանումը` | B116: 1205 | C116: Ցուցանիշների փոփոխությունները (Նվազեցումները նշված են փակագծերում)
A117: Միջոցառման դասիչը` | B117: 12010 | C117: Ինն ամիս | D117: Տարի
A118: Միջոցառման անվանումը` | B118: Ռազմական դրությամբ պայմանավորված միանվագ դրամական օգնություն Արցախում հաշվառված քաղաքացիներին
...

Sheet 4
D1: Հավելված N 4
D2: ՀՀ կառավարության 2021 թվականի
D3: -----------------ի N -----------Ն որոշման
A4: ՀԱՅԱՍՏԱՆԻ ՀԱՆՐԱՊԵՏՈՒԹՅԱՆ ԿԱՌԱՎԱՐՈՒԹՅԱՆ 2020 ԹՎԱԿԱՆԻ ԴԵԿՏԵՄԲԵՐԻ 30-Ի N 2215-Ն ՈՐՈՇՄԱՆ N 9 ՀԱՎԵԼՎԱԾԻ N 9.1.20 ԱՂՅՈՒՍԱԿՈՒՄ ԿԱՏԱՐՎՈՂ ՓՈՓՈԽՈՒԹՅՈՒՆՆԵՐԸ
A5: ՀԱՅԱՍՏԱՆԻ ՀԱՆՐԱՊԵՏՈՒԹՅԱՆ ԿԱՌԱՎԱՐՈՒԹՅԱՆ 2021 ԹՎԱԿԱՆԻ ԴԵԿՏԵՄԲԵՐԻ307Ի N 2215-Ն ՈՐՈՇՄԱՆ N 9.1 ՀԱՎԵԼՎԱԾԻ N 9.1.20 ԵՎ 9.1.58 ԱՂՅՈՒՍԱԿՆԵՐՈՒՄ ԿԱՏԱՐՎՈՂ ՓՈՓՈԽՈՒԹՅՈՒՆՆԵՐԸ
A7: Հայաստանի Հանրապետության աշխատանքի և սոցիալական հարցերի նախարարության միասնական սոցիալական ծառայություն
A10: ՄԱՍ 1. ՊԵՏԱԿԱՆ ՄԱՐՄՆԻ ԳԾՈՎ ԱՐԴՅՈՒՆՔԱՅԻՆ (ԿԱՏԱՐՈՂԱԿԱՆ) ՑՈՒՑԱՆԻՇՆԵՐԸ
A12: Ծրագրի դասիչը | B12: Ծրագրի անվանումը
A13: 1011 | B13: Անապահով սոցիալական խմբերին աջակցություն
A15: Ծրագրի միջոցառումները
A17: Ծրագրի դասիչը` | B17: 1011 | C17: Ցուցանիշների փոփոխությունները (Նվազեցումները նշված են փակագծերում)
A18: Միջոցառման դասիչը` | B18: 12001 | C18: Ինն ամիս | D18: Տարի
A19: Միջոցառման անվանումը` | B19: Ընտանիքի կենսամակարդակի բարձրացմանն ուղղված նպաստներ
A20: Նկարագրությունը` | B20: Ընտանիքների անապահովության գնահատման համակարգում հաշվառված, անապահով ճանաչված ընտանիքներին նպաստի, սոցիալական նպաստի և հրատապ օգնության տրամադրում
A21: Միջոցառման տեսակը` | B21: Տրանսֆերտների տրամադրում
A22: Շահառուների ընտրության չափանիշները | B22: Ընտանիքների անապահովության գնահատման համակարգում հաշվառված ընտանիք` ընտանիքի անապահովության միավորի հիման վրա
A23: Արդյունքի չափորոշիչներ
A24: Ընտանիքի կենսամակարդակի բարձրացմանն ուղղված նպաստներ ստացող ընտանիքների թիվ, հատ, այդ թվում | C24: -2923 | D24: -2923
A25: ընտանեկան նպաստ ստացող ընտանիքների թիվ, ընտանիք | C25: -1423 | D25: -1423
A26: սոցիալական նպաստ ստացող ընտանիքների թիվ, ընտանիք | C26: -1500 | D26: -1500
A27: Միջոցառման վրա կատարվող ծախսը (հազար դրամ) | C27: ='3'!C24 -> -1000000 | D27: ='3'!D24 -> -1000000
A29: Ծրագրի դասիչը` | B29: 1011 | C29: Ցուցանիշների փոփոխությունները (Նվազեցումները նշված են փակագծերում)
A30: Միջոցառման դասիչը` | B30: 12005 | C30: Ինն ամիս | D30: Տարի
A31: Միջոցառման անվանումը` | B31: =+'[1]6'!B28 -> Միանվագ դրամական աջակցության տրամադրում
A32: Նկարագրությունը` | B32: =+'[1]6'!B29 -> Արցախի Հանրապետությունից տեղահանված և Հայաստանի Հանրապետության տարածքում բնակվող ընտանիքների մինչև հինգ տարեկան երեխաներին միանվագ դրամական աջակցության տրամադրում
A33: Միջոցառման տեսակը` | B33: Տրանսֆերտների տրամադրում
A34: Շահառուների ընտրության չափանիշները | B34: ՀՀ կառավարության 2021 թվականի փետրվարի 18-ի N 218-Լ որոշումով
A35: Արդյունքի չափորոշիչներ
A36: Երեխաների թիվը, երեխա | C36: ='3'!C33 -> -5000 | D36: ='3'!D33 -> -5000
A37: Միջոցառման վրա կատարվող ծախսը (հազար դրամ) | C37: ='3'!C34 -> -125000 | D37: ='3'!D34 -> -125000
A39: Ծրագրի դասիչը | B39: Ծրագրի անվանումը
A40: 1068 | B40: Ժողովրդագրական վիճակի բարելավում
A42: Ծրագրի միջոցառումները
A44: Ծրագրի դասիչը` | B44: 1068 | C44: Ցուցանիշների փոփոխությունները (Նվազեցումները նշված են փակագծերում)
A45: Միջոցառման դասիչը` | B45: 12001 | C45: Ինն ամիս | D45: Տարի
A46: Միջոցառման անվանումը` | B46: Մինչև 2 տարեկան երեխայի խնամքի նպաստի տրամադրում
A47: Նկարագրությունը` | B47: Մինչև 2 տարեկան երեխայի խնամքի նպաստի տրամադրում
A48: Միջոցառման տեսակը` | B48: Տրանսֆերտների տրամադրում
A49: Շահառուների ընտրության չափանիշները | B49: Մինչև երեք տարեկան երեխայի խնամքի արձակուրդում գտնվող անձը` մինչև երեխայի 2 տարեկանը լրանալը,գյուղական բնակավայրում բնակվող ծնող? անկախ խնամքի արձակուրդում գտնվելու հանգամանքից? մինչև երեխայի 2 տարեկանը լրանալը
A50: Արդյունքի չափորոշիչներ
A51: Մինչև 2 տարեկան երեխայի խնամքի նպաստ ստացող քաղաքացիների թիվ, մարդ, որից | C51: -543 | D51: -543
A52: գյուղական բնակավայրերում մինչև 2 տարեկան երեխայի խնամքի նպաստ ստացող քաղաքացիների թիվ, մարդ | C52: -400 | D52: -400
A53: Միջոցառման վրա կատարվող ծախսը (հազար դրամ) | C53: ='3'!C50 -> -300000 | D53: ='3'!D50 -> -300000
A55: Ծրագրի դասիչը` | B55: 1068 | C55: Ցուցանիշների փոփոխությունները (Նվազեցումները նշված են փակագծերում)
A56: Միջոցառման դասիչը` | B56: 12002 | C56: Ինն ամիս | D56: Տարի
A57: Միջոցառման անվանումը` | B57: Երեխայի ծննդյան միանվագ նպաստ
A58: Նկարագրությունը` | B58: Երեխայի ծննդյան կապակցությամբ միանվագ նպաստի տրամադրում
A59: Միջոցառման տեսակը` | B59: Տրանսֆերտների տրամադրում
A60: Շահառուների ընտրության չափանիշները | B60: ՀՀ-ում հաշվառված նոր ծնված երեխայի ծնող (օրինական ներկայացուցիչ)
A61: Արդյունքի չափորոշիչներ
A62: շահառու նորածինների թիվ, ադ թվում? | C62: -434 | D62: -434
A63: ընտանիքում առաջին և երկրորդ երեխաների թիվ | C63: -395 | D63: -395
A64: ընտանիքում երրորդ և չորրորդ երեխաների թիվ | C64: -30 | D64: -30
A65: ընտանիքում հինգ և հաջորդ երեխաների թիվ | C65: -9 | D65: -9
A66: Միջոցառման վրա կատարվող ծախսը (հազար դրամ) | C66: ='3'!C63 -> -162000 | D66: ='3'!D63 -> -162000
A68: Ծրագրի դասիչը | B68: Ծրագրի անվանումը
A69: 1102 | B69: Կենսաթոշակային ապահովություն
A71: Ծրագրի միջոցառումները
A73: Ծրագրի դասիչը` | B73: 1102 | C73: Ցուցանիշների փոփոխությունները (Նվազեցումները նշված են փակագծերում)
A74: Միջոցառման դասիչը` | B74: 12001 | C74: Ինն ամիս | D74: Տարի
A75: Միջոցառման անվանումը` | B75: Սպայական անձնակազմի և նրանց ընտանիքների անդամների կենսաթոշակներ
A76: Նկարագրությունը` | B76: Սպայական անձնակազմի զինծառայողներին երկարամյա ծառայության, հաշմանդամության և զինծառայողի մահվան դեպքում նրա ընտանիքի անդամներին կերակրողին կորցնելու դեպքում զինվորական կենսաթոշակների տրամադրում
A77: Միջոցառման տեսակը` | B77: Տրանսֆերտների տրամադրում
A78: Շահառուների ընտրության չափանիշները | B78: Սպայական անձնակազմին և նրանց ընտանիքների անդամներին երկարամյա ծառայության, հաշմանդամության և կերակրողին կորցնելու դեպքում կենսաթոշակների տրամադրում 22.12.2010թ.ՀՕ-243-Ն օրենքի 18-րդ, 20-րդ, 22-րդ հոդվածներով
A79: Արդյունքի չափորոշիչներ
A80: Կենսաթոշակառուների թիվ, մարդ, այդ թվում | C80: -897 | D80: -897
A81: հաշմանդամության զինվորական կենսաթոշակառուների թիվը, մարդ | C81: -897 | D81: -897
A82: Միջոցառման վրա կատարվող ծախսը (հազար դրամ) | C82: ='3'!C79 -> -412000 | D82: ='3'!D79 -> -412000
A84: Ծրագրի դասիչը` | B84: 1102 | C84: Ցուցանիշների փոփոխությունները (Նվազեցումները նշված են փակագծերում)
A85: Միջոցառման դասիչը` | B85: 12003 | C85: Ինն ամիս | D85: Տարի
A86: Միջոցառման անվանումը` | B86: Աշխատանքային կենսաթոշակներ
A87: Նկարագրությունը` | B87: Աշխատանքային կենսաթոշակների (տարիքային, հաշմանդամության, արտոնյալ պայմաններով, երկարամյա ծառայության, մասնակի, կերակրողին կորցնելու դեպքում կենսաթոշակների) տրամադրում
A88: Միջոցառման տեսակը` | B88: Տրանսֆերտների տրամադրում
A89: Շահառուների ընտրության չափանիշները | B89: Տարիքային աշխատանքային` առնվազն 10 տարվա աշխատանքային ստաժ, հաշմանդամության աշխատանքային` ըստ սանդղակի աշխատանքային ստաժ, արտոնյալ, մասնակի երկարամյա ծառայության` պահանջվող մասնագիտությամբ աշխատանքային ստաժ
A90: Արդյունքի չափորոշիչներ
A91: Կենսաթոշակառուների թիվ, մարդ | C91: -1905 | D91: -1905
A92: Միջոցառման վրա կատարվող ծախսը (հազար դրամ) | C92: ='3'!C89 -> -1000000 | D92: ='3'!D89 -> -1000000
A94: Ծրագրի դասիչը` | B94: 1102 | C94: Ցուցանիշների փոփոխությունները (Նվազեցումները նշված են փակագծերում)
A95: Միջոցառման դասիչը` | B95: 12004 | C95: Ինն ամիս | D95: Տարի
A96: Միջոցառման անվանումը` | B96: ՀՀ օրենքով նշանակված կենսաթոշակներ
A97: Նկարագրությունը` | B97: «Պաշտոնատար անձանց գործունեության ապահովման, սպասարկման և սոցիալական երաշխիքների մասին» ՀՀ օրենքով սահմանված պաշտոններում պաշտոնավարած անձանց կենսաթոշակի տրամադրում
A98: Միջոցառման տեսակը` | B98: Տրանսֆերտների տրամադրում
A99: Շահառուների ընտրության չափանիշները | B99: ՀՀ օրենքներով պետական պաշտոն զբաղեցրած անձանց կենսաթոշակային իրավունքի իրացում`համապատասխան պաշտոններում աշխատանքային ստաժի առկայություն և կենսաթոշակի իրավունք տրվող տարիք
A100: Արդյունքի չափորոշիչներ
A101: Կենսաթոշակառուների թիվ, մարդ | C101: -15 | D101: -15
A102: Միջոցառման վրա կատարվող ծախսը (հազար դրամ) | C102: ='3'!C99 -> -60000 | D102: ='3'!D99 -> -60000
A104: Ծրագրի դասիչը | B104: Ծրագրի անվանումը
A105: 1205 | B105: Սոցիալական ապահովություն
A107: Ծրագրի միջոցառումները
A109: Ծրագրի դասիչը` | B109: 1205 | C109: Ցուցանիշների փոփոխությունները (Նվազեցումները նշված են փակագծերում)
A110: Միջոցառման դասիչը` | B110: 12001 | C110: Ինն ամիս | D110: Տարի
A111: Միջոցառման անվանումը` | B111: Ծերության, հաշմանդամության, կերակրողին կորցնելու դեպքում նպաստներ
A112: Նկարագրությունը` | B112: Ծերության, հաշմանդամության, կերակրողին կորցնելու դեպքում սոցիալական նպաստների տրամադրում
A113: Միջոցառման տեսակը` | B113: Տրանսֆերտների տրամադրում
A114: Շահառուների ընտրության չափանիշները | B114: Կենսաթոշակի իրավունք չունեցող հաշմանդամներ, կերակրողին կորցրած անձիք և օրենքով սահմանված տարիքը լրացած և պահանջվող ստաժ չունեցող անձիք
A115: Արդյունքի չափորոշիչներ
A116: հաշմանդամության նպաստառուների թիվը, մարդ | C116: -629 | D116: -629
A117: Միջոցառման վրա կատարվող ծախսը (հազար դրամ) | C117: ='3'!C114 -> -200000 | D117: ='3'!D114 -> -200000
A119: Միջոցառման անվանումը` | B119: 1205 | C119: Ցուցանիշների փոփոխությունները (Նվազեցումները նշված են փակագծերում)
A120: Միջոցառման դասիչը` | B120: 12010 | C120: Ինն ամիս | D120: Տարի
...
