Workbook
Name BOP: #REF!
Name BOPfoot: #REF!
Name DebtCG: #REF!
Name DebtGG: #REF!
Name MonExo: #REF!
Name MonGrow: #REF!
Name RealExo: #REF!
Name RealPercent: #REF!
Name Table_2._Turkey__Exogenous_assumptions: #REF!
Name vlom: #REF!
Name Z_248BE2BA_E445_11D3_BFE0_00003960F508_.wvu.Cols: #REF!
Name վարի: #REF!
Name տնտ: #REF!

Sheet ամփոփ կապիտալ
B1: ՏԵՂԵԿԱՆՔ
B2: 2022-2024թթ. ՄԺԾԾ հայտերի, չափաքանակների ՖՆ առաջարկի վերաբերյալ
P4: հազար դրամ
C5: 2019թ. Փաստ | D5: 2020թ. Փաստ | E5: ՄԺԾԾ Հայտ | H5: ՄԺԾԾ Չափաքանակ | K5: ՄԺԾԾ ՖՆ առաջարկ | N5: Տարբերություն ՖՆ/Չափաքանակ
E6: 2022թ. | F6: 2023թ. | G6: 2024թ. | H6: 2022թ. | I6: 2023թ. | J6: 2024թ. | K6: 2022թ. | L6: 2023թ. | M6: 2024թ. | N6: 2022թ. | O6: 2023թ. | P6: 2024թ.
B7: Կապիտալ, այդ թվում | C7: =+C8+C9+C11 -> 1.8785481e+08 | D7: =+D8+D9+D11 -> 2.2769831e+08 | E7: =+E8+E9+E11 -> 4.4948091e+08 | F7: =+F8+F9+F11 -> 3.5671133e+08 | G7: =+G8+G9+G11 -> 2.963389e+08 | H7: 2.9257006e+08 | I7: 3.081078e+08 | J7: 3.5391137e+08 | K7: =+K8+K9+K11 -> 92637862 | L7: =+L8+L9+L11 -> 1.2358786e+08 | M7: =+M8+M9+M11 -> 1.339647e+08 | N7: =+K7-H7 -> -1.999322e+08 | O7: =+L7-I7 -> -1.8451994e+08 | P7: =+M7-J7 -> -2.1994667e+08
A8: 1 | B8: վարկային միջոցոցով | C8: =+'վարկ կապիտալ '!D9 -> 62560399 | D8: =+'վարկ կապիտալ '!E9 -> 42478693 | E8: =+'վարկ կապիտալ '!G9 -> 1.8296152e+08 | F8: =+'վարկ կապիտալ '!H9 -> 1.1779022e+08 | G8: =+'վարկ կապիտալ '!I9 -> 62085836 | K8: 46880123 | L8: 95073318 | M8: 1.1750234e+08
A9: 2 | B9: ներքին աղբյուրներից, այդ թվում | C9: =+'ներքին կապիտալ'!F9 -> 1.2138648e+08 | D9: =+'ներքին կապիտալ'!G9 -> 1.8343276e+08 | E9: =+'ներքին կապիտալ'!I9 -> 2.3911807e+08 | F9: =+'ներքին կապիտալ'!J9 -> 2.2457304e+08 | G9: =+'ներքին կապիտալ'!K9 -> 2.2785281e+08 | K9: =+'ներքին կապիտալ'!L9 -> 25036707 | L9: =+'ներքին կապիտալ'!M9 -> 10207898 | M9: =+'ներքին կապիտալ'!N9 -> 8106180.6
B10: ուժային կառույցի գծով | C10: 82958395 | D10: 1.4039091e+08 | E10: =+'ներքին կապիտալ'!I187 -> 97903644 | F10: =+'ներքին կապիտալ'!J187 -> 98972371 | G10: =+'ներքին կապիտալ'!K187 -> 98972371 | K10: =+'ներքին կապիտալ'!L187 -> 0 | L10: =+'ներքին կապիտալ'!M187 -> 0 | M10: =+'ներքին կապիտալ'!N187 -> 0
A11: 3 | B11: դրամաշնորհ | C11: 3907929.6 | D11: 1786863.7 | E11: 27401321 | F11: 14348081 | G11: 6400254.1 | K11: 20721032 | L11: 18306644 | M11: 8356183.9

Sheet ներքին կապիտալ
C1: ՏԵՂԵԿԱՆՔ
C2: 2022-2024թթ. ՄԺԾԾ հայտերով ներկայացված պետական բյուջեի ներքին աղբյուրներից ֆինանսավորվող կապիտալ ծախսերի, ՖՆ առաջարկի վերաբերյալ
Q4: հազար դրամ
A5: նոր միջոցառումներ | C5: Ծրագիր | D5: Միջոցառում | E5: ԲԳԿ/Ծրագիր/Միջոցառում | F5: 2019 թ. փաստ | G5: 2020թ. Փաստ | H5: 2021թ. ՀՀ պետական բյուջե | I5: ՄԺԾԾ հայտ | L5: ՄԺԾԾ ՖՆ առաջարկ | O5: Տարբերություն Հայտ/ՖՆ առաջարկ
I6: 2022թ. | J6: 2023թ. | K6: 2024թ. | L6: 2022թ. | M6: 2023թ. | N6: 2024թ. | O6: 2022թ. | P6: 2023թ. | Q6: 2024թ.
C7: 1 | D7: 2 | E7: 3 | F7: 4 | G7: 5 | H7: 6 | I7: 7 | J7: 8 | K7: 9 | L7: 10 | M7: 11 | N7: 12 | O7: 13 | P7: 14 | Q7: 15
B9: ԲԳԿ | E9: ԸՆԴԱՄԵՆԸ | F9: =+F10+F13+F18+F29+F32+F37+F40+F72+F76+F101+F106+F111+F119+F187+F193+F200+F205+F208+F219+F224+F228+F231+F248+F251+F262+F272+F279+F283+F286+F289+F292+F295+F304+F307+F310+F313+F316+F319+F322+F325+F328+F331+F334+F337+F340 -> 1.2138648e+08 | G9: =+G10+G13+G18+G29+G32+G37+G40+G72+G76+G101+G106+G111+G119+G187+G193+G200+G205+G208+G219+G224+G228+G231+G248+G251+G262+G272+G279+G283+G286+G289+G292+G295+G304+G307+G310+G313+G316+G319+G322+G325+G328+G331+G334+G337+G340 -> 1.8343276e+08 | H9: =+H10+H13+H18+H29+H32+H37+H40+H72+H76+H101+H106+H111+H119+H187+H193+H200+H205+H208+H219+H224+H228+H231+H248+H251+H262+H272+H279+H283+H286+H289+H292+H295+H304+H307+H310+H313+H316+H319+H322+H325+H328+H331+H334+H337+H340 -> 1.3300912e+08 | I9: =+I10+I13+I18+I29+I32+I37+I40+I72+I76+I101+I106+I111+I119+I187+I193+I200+I205+I208+I219+I224+I228+I231+I248+I251+I262+I272+I279+I283+I286+I289+I292+I295+I304+I307+I310+I313+I316+I319+I322+I325+I328+I331+I334+I337+I340 -> 2.3911807e+08 | J9: =+J10+J13+J18+J29+J32+J37+J40+J72+J76+J101+J106+J111+J119+J187+J193+J200+J205+J208+J219+J224+J228+J231+J248+J251+J262+J272+J279+J283+J286+J289+J292+J295+J304+J307+J310+J313+J316+J319+J322+J325+J328+J331+J334+J337+J340 -> 2.2457304e+08 | K9: =+K10+K13+K18+K29+K32+K37+K40+K72+K76+K101+K106+K111+K119+K187+K193+K200+K205+K208+K219+K224+K228+K231+K248+K251+K262+K272+K279+K283+K286+K289+K292+K295+K304+K307+K310+K313+K316+K319+K322+K325+K328+K331+K334+K337+K340 -> 2.2785281e+08 | L9: =+L10+L13+L18+L29+L32+L37+L40+L72+L76+L101+L106+L111+L119+L187+L193+L200+L205+L208+L219+L224+L228+L231+L248+L251+L262+L272+L279+L283+L286+L289+L292+L295+L304+L307+L310+L313+L316+L319+L322+L325+L328+L331+L334+L337+L340 -> 25036707 | M9: =+M10+M13+M18+M29+M32+M37+M40+M72+M76+M101+M106+M111+M119+M187+M193+M200+M205+M208+M219+M224+M228+M231+M248+M251+M262+M272+M279+M283+M286+M289+M292+M295+M304+M307+M310+M313+M316+M319+M322+M325+M328+M331+M334+M337+M340 -> 10207898 | N9: =+N10+N13+N18+N29+N32+N37+N40+N72+N76+N101+N106+N111+N119+N187+N193+N200+N205+N208+N219+N224+N228+N231+N248+N251+N262+N272+N279+N283+N286+N289+N292+N295+N304+N307+N310+N313+N316+N319+N322+N325+N328+N331+N334+N337+N340 -> 8106180.6 | O9: =+O10+O13+O18+O29+O32+O37+O40+O72+O76+O101+O106+O111+O119+O187+O193+O200+O205+O208+O219+O224+O228+O231+O248+O251+O262+O272+O279+O283+O286+O289+O292+O295+O304+O307+O310+O313+O316+O319+O322+O325+O328+O331+O334+O337 -> -2.1408136e+08 | P9: =+P10+P13+P18+P29+P32+P37+P40+P72+P76+P101+P106+P111+P119+P187+P193+P200+P205+P208+P219+P224+P228+P231+P248+P251+P262+P272+P279+P283+P286+P289+P292+P295+P304+P307+P310+P313+P316+P319+P322+P325+P328+P331+P334+P337 -> -2.1436514e+08 | Q9: =+Q10+Q13+Q18+Q29+Q32+Q37+Q40+Q72+Q76+Q101+Q106+Q111+Q119+Q187+Q193+Q200+Q205+Q208+Q219+Q224+Q228+Q231+Q248+Q251+Q262+Q272+Q279+Q283+Q286+Q289+Q292+Q295+Q304+Q307+Q310+Q313+Q316+Q319+Q322+Q325+Q328+Q331+Q334+Q337 -> -2.1974663e+08
B10: ԲԳԿ | C10: ԲԳԿ | E10: Հանրապետության նախագահի աշխատակազմ | F10: =+F11 -> 23276.9 | G10: =+G11 -> 68139.4 | H10: =+H11 -> 5000 | I10: =+I11 -> 10000 | J10: =+J11 -> 10000 | K10: =+K11 -> 10000 | L10: =+L11 -> 0 | M10: =+M11 -> 0 | ... Q10: =+Q11 -> -10000
B11: Ծրա | C11: 1154 | E11: Հանրապետության նախագահի լիազորությունների իրականացման ապահովում | F11: =+F12 -> 23276.9 | G11: =+G12 -> 68139.4 | H11: =+H12 -> 5000 | I11: =+I12 -> 10000 | J11: =+J12 -> 10000 | K11: =+K12 -> 10000 | L11: =+L12 -> 0 | M11: =+M12 -> 0 | ... Q11: =+Q12 -> -10000
B12: 5 | D12: 31001 | E12: Հանրապետության նախագահի աշխատակազմի տեխնիկական հագեցվածության բարելավում | F12: 23276.9 | G12: 68139.4 | H12: 5000 | I12: 10000 | J12: 10000 | K12: 10000 | L12: 0 | M12: 0 | N12: 0 | O12: =+L12-I12 -> -10000 | P12: =+M12-J12 -> -10000 | Q12: =+N12-K12 -> -10000
B13: ԲԳԿ | C13: ԲԳԿ | E13: ՀՀ Ազգային ժողով | F13: =+F14 -> 208503.4 | G13: =+G14 -> 166572.87 | H13: =+H14 -> 242695.3 | I13: =+I14 -> 491834.8 | J13: =+J14 -> 1480253.7 | K13: =+K14 -> 1590874 | L13: =+L14 -> 0 | M13: =+M14 -> 0 | ... Q13: =+Q14 -> -1590874
B14: Ծրա | C14: 1024 | E14: ՀՀ Ազգային ժողովի լիազորությունների իրականացման ապահովում | F14: =+F15+F16+F17 -> 208503.4 | G14: =+G15+G16+G17 -> 166572.87 | H14: =+H15+H16+H17 -> 242695.3 | I14: =+I15+I16+I17 -> 491834.8 | J14: =+J15+J16+J17 -> 1480253.7 | K14: =+K15+K16+K17 -> 1590874 | L14: =+L15+L16+L17 -> 0 | M14: =+M15+M16+M17 -> 0 | ... Q14: =+Q15+Q16+Q17 -> -1590874
B15: 5 | D15: 31001 | E15: Ազգային ժողովի տեխնիկական հագեցվածության բարելավում | F15: 207523.4 | G15: 166572.87 | H15: 150000 | I15: 240874 | J15: 240874 | K15: 240874 | L15: 0 | M15: 0 | N15: 0 | O15: =+L15-I15 -> -240874 | P15: =+M15-J15 -> -240874 | Q15: =+N15-K15 -> -240874
B16: 6 | D16: 31003 | E16: ՀՀ Ազգային ժողովի շենքային պայմանների բարելավում | F16: 980 | G16: 0 | H16: 53795.3 | I16: 250960.8 | J16: 39379.7 | K16: 0 | L16: 0 | M16: 0 | N16: 0 | O16: =+L16-I16 -> -250960.8 | P16: =+M16-J16 -> -39379.7 | Q16: =+N16-K16 -> 0
B17: 6 | D17: 31004 | E17: ՀՀ Ազգային ժողովի շենքային ապահովվածության բարելավում | F17: 0 | G17: 0 | H17: 38900 | I17: 0 | J17: 1200000 | K17: 1350000 | L17: 0 | M17: 0 | N17: 0 | O17: =+L17-I17 -> 0 | P17: =+M17-J17 -> -1200000 | Q17: =+N17-K17 -> -1350000
B18: ԲԳԿ | C18: ԲԳԿ | E18: ՀՀ վարչապետի աշխատակազմ | F18: =+F19+F21 -> 246380.72 | G18: =+G19+G21 -> 137926.2 | H18: =+H19+H21 -> 50000 | I18: =+I19+I21 -> 272465 | J18: =+J19+J21 -> 269150 | K18: =+K19+K21 -> 289883.8 | L18: =+L19+L21 -> 0 | M18: =+M19+M21 -> 0 | ... Q18: =+Q19+Q21 -> -289883.8
B19: Ծրա | C19: 1136 | E19: ՀՀ Վարչապետի լիազորությունների իրականացման ապահովում | F19: =+F20 -> 147551.55 | G19: =+G20 -> 57263.1 | H19: =+H20 -> 50000 | I19: =+I20 -> 50000 | J19: =+J20 -> 50000 | K19: =+K20 -> 50000 | L19: =+L20 -> 0 | M19: =+M20 -> 0 | ... Q19: =+Q20 -> -50000
B20: 5 | D20: 31002 | E20: ՀՀ վարչապետի աշխատակազմի տեխնիկական հագեցվածության բարելավում | F20: 147551.55 | G20: 57263.1 | H20: 50000 | I20: 50000 | J20: 50000 | K20: 50000 | L20: 0 | M20: 0 | N20: 0 | O20: =+L20-I20 -> -50000 | P20: =+M20-J20 -> -50000 | Q20: =+N20-K20 -> -50000
B21: Ծրա | C21: 1213 | E21: Տեսչական վերահսկողության ծրագիր | F21: =+F22+F23+F24+F25+F26+F27+F28 -> 98829.17 | G21: =+G22+G23+G24+G25+G26+G27+G28 -> 80663.1 | H21: =+H22+H23+H24+H25+H26+H27+H28 -> 0 | I21: =+I22+I23+I24+I25+I26+I27+I28 -> 222465 | J21: =+J22+J23+J24+J25+J26+J27+J28 -> 219150 | K21: =+K22+K23+K24+K25+K26+K27+K28 -> 239883.8 | L21: =+L22+L23+L24+L25+L26+L27+L28 -> 0 | M21: =+M22+M23+M24+M25+M26+M27+M28 -> 0 | ... Q21: =+Q22+Q23+Q24+Q25+Q26+Q27+Q28 -> -239883.8
B22: 5 | D22: 31001 | E22: Բնապահպանության և ընդերքի տեսչական մարմնի կարողությունների զարգացում և տեխնիկական հագեցվածության ապահովում | F22: 13476.18 | G22: 2379.9 | H22: 0 | I22: 26752 | J22: 25000 | K22: 25000 | L22: 0 | M22: 0 | N22: 0 | O22: =+L22-I22 -> -26752 | P22: =+M22-J22 -> -25000 | Q22: =+N22-K22 -> -25000
B23: 5 | D23: 31002 | E23: Կրթության տեսչական մարմնի կարողությունների զարգացում և տեխնիկական հագեցվածության ապահովում | F23: 2099.7 | G23: 2336.9 | H23: 0 | I23: 3210 | J23: 3000 | K23: 3000 | L23: 0 | M23: 0 | N23: 0 | O23: =+L23-I23 -> -3210 | P23: =+M23-J23 -> -3000 | Q23: =+N23-K23 -> -3000
B24: 5 | D24: 31003 | E24: Շուկայի վերահսկողության տեսչական մարմնի կարողությունների զարգացում և տեխնիկական հագեցվածության ապահովում | F24: 1209.96 | G24: 28400.4 | H24: 0 | I24: 20145 | J24: 20000 | K24: 25000 | L24: 0 | M24: 0 | N24: 0 | O24: =+L24-I24 -> -20145 | P24: =+M24-J24 -> -20000 | Q24: =+N24-K24 -> -25000
B25: 5 | D25: 31004 | E25: Քաղաքաշինության, տեխնիկական և հրդեհային անվտանգության տեսչական մարմնի կարողությունների զարգացում և տեխնիկական հագեցվածության ապահովում | F25: 44163.65 | G25: 37896 | H25: 0 | I25: 25966 | J25: 25000 | K25: 30000 | L25: 0 | M25: 0 | N25: 0 | O25: =+L25-I25 -> -25966 | P25: =+M25-J25 -> -25000 | Q25: =+N25-K25 -> -30000
B26: 5 | D26: 31005 | E26: Առողջապահության և աշխատանքի տեսչական մարմնի կարողությունների զարգացում և տեխնիկական հագեցվածության ապահովում_x000D_ | F26: 33593.58 | G26: 5654.8 | H26: 0 | I26: 107580 | J26: 107338 | K26: 118071.8 | L26: 0 | M26: 0 | N26: 0 | O26: =+L26-I26 -> -107580 | P26: =+M26-J26 -> -107338 | Q26: =+N26-K26 -> -118071.8
B27: 5 | D27: 31006 | E27: Սննդամթերքի անվտանգության տեսչական մարմնի տեխնիկական հագեցվածության բարելավում | F27: 4286.1 | G27: 3995.1 | H27: 0 | I27: 9812 | J27: 9812 | K27: 9812 | L27: 0 | M27: 0 | N27: 0 | O27: =+L27-I27 -> -9812 | P27: =+M27-J27 -> -9812 | Q27: =+N27-K27 -> -9812
A28: 10 | B28: 5 | D28: Նոր միջոցառում | E28: Սննդամթերքի անվտանգության տեսչական մարմնի տրանսպորտային միջոցի ձեռքբերում | F28: 0 | G28: 0 | H28: 0 | I28: 29000 | J28: 29000 | K28: 29000 | L28: 0 | M28: 0 | N28: 0 | O28: =+L28-I28 -> -29000 | P28: =+M28-J28 -> -29000 | Q28: =+N28-K28 -> -29000
B29: ԲԳԿ | C29: ԲԳԿ | E29: ՀՀ սահմանադրական դատարան | F29: =+F30 -> 5649.48 | G29: =+G30 -> 0 | H29: =+H30 -> 0 | I29: =+I30 -> 0 | J29: =+J30 -> 0 | K29: =+K30 -> 0 | L29: =+L30 -> 0 | M29: =+M30 -> 0 | ... Q29: =+Q30 -> 0
B30: Ծրա | C30: 1092 | E30: ՀՀ սահմանադրական դատարանի գործունեության ապահովում | F30: =+F31 -> 5649.48 | G30: =+G31 -> 0 | H30: =+H31 -> 0 | I30: =+I31 -> 0 | J30: =+J31 -> 0 | K30: =+K31 -> 0 | L30: =+L31 -> 0 | M30: =+M31 -> 0 | ... Q30: =+Q31 -> 0
B31: 5 | D31: 31001 | E31: ՀՀ սահմանադրական դատարանի կարողությունների զարգացում | F31: 5649.48 | G31: 0 | H31: 0 | I31: 0 | J31: 0 | K31: 0 | L31: 0 | M31: 0 | N31: 0 | O31: =+L31-I31 -> 0 | P31: =+M31-J31 -> 0 | Q31: =+N31-K31 -> 0
B32: ԲԳԿ | C32: ԲԳԿ | E32: Բարձրագույն դատական խորհուրդ | F32: =+F33 -> 627129.17 | G32: =+G33 -> 441021.26 | H32: =+H33 -> 0 | I32: =+I33 -> 479006.3 | J32: =+J33 -> 15606 | K32: =+K33 -> 0 | L32: =+L33 -> 0 | M32: =+M33 -> 0 | ... Q32: =+Q33 -> 0
B33: Ծրա | C33: 1080 | E33: Դատական իշխանության գործունեության ապահովում և իրականացում | F33: =+F34+F35+F36 -> 627129.17 | G33: =+G34+G35+G36 -> 441021.26 | H33: =+H34+H35+H36 -> 0 | I33: =+I34+I35+I36 -> 479006.3 | J33: =+J34+J35+J36 -> 15606 | K33: =+K34+K35+K36 -> 0 | L33: =+L34+L35+L36 -> 0 | M33: =+M34+M35+M36 -> 0 | ... Q33: =+Q34+Q35+Q36 -> 0
B34: 5 | D34: 31001 | E34: Բարձրագույն դատական խորհրդի տեխնիկական հագեցվածության բարելավում | F34: 627129.17 | G34: 441021.26 | H34: 0 | I34: 347314.3 | J34: 0 | K34: 0 | L34: 0 | M34: 0 | N34: 0 | O34: =+L34-I34 -> -347314.3 | P34: =+M34-J34 -> 0 | Q34: =+N34-K34 -> 0
B35: 5 | C35: Նոր միջոցառում | D35: 31002 | E35: Բարձրագույն դատական խորհրդի տրանսպորտային սարքավորումների ձեռքբերում | F35: 0 | G35: 0 | H35: 0 | I35: 0 | J35: 0 | K35: 0 | L35: 0 | M35: 0 | N35: 0 | O35: =+L35-I35 -> 0 | P35: =+M35-J35 -> 0 | Q35: =+N35-K35 -> 0
B36: 6 | C36: Նոր միջոցառում | E36: Դատական համակարգի շենքային պայմանների ապահովում | F36: 0 | G36: 0 | H36: 0 | I36: 131692 | J36: 15606 | K36: 0 | L36: 0 | O36: =+L36-I36 -> -131692 | P36: =+M36-J36 -> -15606 | Q36: =+N36-K36 -> 0
B37: ԲԳԿ | C37: ԲԳԿ | E37: ՀՀ դատախազություն | F37: =+F38 -> 43986.17 | G37: =+G38 -> 38678.7 | H37: =+H38 -> 0 | I37: =+I38 -> 0 | J37: =+J38 -> 0 | K37: =+K38 -> 0 | L37: =+L38 -> 0 | M37: =+M38 -> 0 | ... Q37: =+Q38 -> 0
B38: Ծրա | C38: 1087 | E38: Դատավարական ղեկավարում և դատախազական հսկողություն | F38: =+F39 -> 43986.17 | G38: =+G39 -> 38678.7 | H38: =+H39 -> 0 | I38: =+I39 -> 0 | J38: =+J39 -> 0 | K38: =+K39 -> 0 | L38: =+L39 -> 0 | M38: =+M39 -> 0 | ... Q38: =+Q39 -> 0
B39: 5 | D39: 31001 | E39: Դատախազության տեխնիկական հագեցվածության բարելավում | F39: 43986.17 | G39: 38678.7 | H39: 0 | I39: 0 | J39: 0 | K39: 0 | L39: 0 | M39: 0 | N39: 0 | O39: =+L39-I39 -> 0 | P39: =+M39-J39 -> 0 | Q39: =+N39-K39 -> 0
B40: ԲԳԿ | C40: ԲԳԿ | E40: ՀՀ տարածքային կառավարման և ենթակառուցվածքների նախարարություն | F40: =+F41+F43+F49+F52+F57+F59+F61+F63+F55 -> 17579753 | G40: =+G41+G43+G49+G52+G57+G59+G61+G63+G55 -> 28281332 | H40: =+H41+H43+H49+H52+H57+H59+H61+H63+H55 -> 35827160 | I40: =+I41+I43+I49+I52+I57+I59+I61+I63+I55 -> 69767382 | J40: =+J41+J43+J49+J52+J57+J59+J61+J63+J55 -> 63607015 | K40: =+K41+K43+K49+K52+K57+K59+K61+K63+K55 -> 60686090 | L40: =+L41+L43+L49+L52+L57+L59+L61+L63+L55 -> 2009428.9 | M40: =+M41+M43+M49+M52+M57+M59+M61+M63+M55 -> 1829828.9 | ... Q40: =+Q41+Q43+Q49+Q52+Q57+Q59+Q61+Q63+Q55 -> -59786090
B41: Ծրա | C41: 1001 | E41: Տարածքային կառավարման ոլորտում քաղաքականության մշակում, ծրագրերի համակարգում և մոնիտորինգի իրականացում | F41: =+F42 -> 14655.34 | G41: =+G42 -> 21550 | H41: =+H42 -> 0 | I41: =+I42 -> 0 | J41: =+J42 -> 0 | K41: =+K42 -> 0 | L41: =+L42 -> 0 | M41: =+M42 -> 0 | ... Q41: =+Q42 -> 0
B42: 5 | D42: 31001 | E42: ՀՀ տարածքային կառավարման և ենթակառուցվածքների նախարարության կարողությունների զարգացում և տեխնիկական հագեցվածության ապահովում | F42: 14655.34 | G42: 21550 | H42: 0 | I42: 0 | J42: 0 | K42: 0 | L42: 0 | M42: 0 | N42: 0 | O42: =+L42-I42 -> 0 | P42: =+M42-J42 -> 0 | Q42: =+N42-K42 -> 0
B43: Ծրա | C43: 1004 | E43: Ոռոգման համակարգի առողջացում | F43: =+F44+F45+F46+F47+F48 -> 239317.4 | G43: =+G44+G45+G46+G47+G48 -> 331295.68 | H43: =+H44+H45+H46+H47+H48 -> 1687000 | I43: =+I44+I45+I46+I47+I48 -> 5955222.5 | J43: =+J44+J45+J46+J47+J48 -> 9530113.2 | K43: =+K44+K45+K46+K47+K48 -> 6635779.7 | L43: =+L44+L45+L46+L47+L48 -> 2009428.9 | M43: =+M44+M45+M46+M47+M48 -> 1829828.9 | ... Q43: =+Q44+Q45+Q46+Q47+Q48 -> -5735779.7
B44: 6 | D44: 31002 | E44: Ոռոգման համակարգերի հիմնանորոգում | F44: 200108.9 | G44: 179599.38 | H44: 0 | I44: 1029890.3 | J44: 2000000 | K44: 2000000 | L44: 179600 | O44: =+L44-I44 -> -850290.3 | P44: =+M44-J44 -> -2000000 | Q44: =+N44-K44 -> -2000000
B45: 6 | D45: 31007 | E45: Ջրային տնտեսության հիդրոտեխնիկական սարքավորումների տեղադրման աշխատանքներ | F45: 30960 | G45: 10320 | H45: 787000 | I45: 929828.9 | J45: 929828.9 | K45: 0 | L45: 929828.9 | M45: 929828.9 | O45: =+L45-I45 -> 0 | P45: =+M45-J45 -> 0 | Q45: =+N45-K45 -> 0
B46: 6 | D46: 31010 | E46: Հեր-Հերի ջրամբարից ինքնահոս ջրատարի կառուցում_x000D_ | F46: 8248.5 | G46: 24745.5 | H46: 900000 | I46: 900000 | J46: 1635779.7 | K46: 1635779.7 | L46: 900000 | M46: 900000 | N46: 900000 | O46: =+L46-I46 -> 0 | P46: =+M46-J46 -> -735779.7 | Q46: =+N46-K46 -> -735779.7
B47: 6 | D47: 31012 | E47: Գետերի և հեղեղատարների տեղամասերի ամրացման և մաքրման աշխատանքներ | F47: 0 | G47: 73200.8 | H47: 0 | I47: 923499.7 | J47: 1000000 | K47: 1000000 | O47: =+L47-I47 -> -923499.7 | P47: =+M47-J47 -> -1000000 | Q47: =+N47-K47 -> -1000000
B48: 6 | D48: 31014 | E48: Ջրամբարների վերականգնման և վերազինման աշխատանքներ | F48: 0 | G48: 43430 | H48: 0 | I48: 2172003.6 | J48: 3964504.6 | K48: 2000000 | O48: =+L48-I48 -> -2172003.6 | P48: =+M48-J48 -> -3964504.6 | Q48: =+N48-K48 -> -2000000
B49: Ծրա | C49: 1017 | E49: Որոտան-Արփա-Սևան թունելի ջրային համակարգի կառավարում | F49: =+F50+F51 -> 1786538.4 | G49: =+G50+G51 -> 22800 | H49: =+H50+H51 -> 0 | I49: =+I50+I51 -> 1615126.5 | J49: =+J50+J51 -> 1600000 | K49: =+K50+K51 -> 1600000 | L49: =+L50+L51 -> 0 | M49: =+M50+M51 -> 0 | ... Q49: =+Q50+Q51 -> -1600000
B50: 6 | D50: 21001 | E50: Արփա-Սևան ջրային համակարգի տեխնիկական վիճակի բարելավում | F50: 1786538.4 | G50: 8400 | H50: 0 | I50: 1615126.5 | J50: 1600000 | K50: 1600000 | L50: 0 | M50: 0 | N50: 0 | O50: =+L50-I50 -> -1615126.5 | P50: =+M50-J50 -> -1600000 | Q50: =+N50-K50 -> -1600000
B51: 6 | D51: 21002 | E51: Արփա-Սևան ջրային համակարգի վերազինում | F51: 0 | G51: 14400 | H51: 0 | I51: 0 | J51: 0 | K51: 0 | L51: 0 | M51: 0 | N51: 0 | O51: =+L51-I51 -> 0 | P51: =+M51-J51 -> 0 | Q51: =+N51-K51 -> 0
B52: Ծրա | C52: 1049 | E52: Ճանապարհային ցանցի բարելավում | F52: =+F53+F54 -> 15527476 | G52: =+G53+G54 -> 27883746 | H52: =+H53+H54 -> 34140160 | I52: =+I53+I54 -> 47992031 | J52: =+J53+J54 -> 39789638 | K52: =+K53+K54 -> 39229110 | L52: =+L53+L54 -> 0 | M52: =+M53+M54 -> 0 | ... Q52: =+Q53+Q54 -> -39229110
B53: 6 | D53: 21001 | E53: Պետական նշանակության ավտոճանապարհների հիմնանորոգում | F53: 15450046 | G53: 27270152 | H53: 33039160 | I53: 45975701 | J53: 38191000 | K53: 39143510 | O53: =+L53-I53 -> -45975701 | P53: =+M53-J53 -> -38191000 | Q53: =+N53-K53 -> -39143510
B54: 6 | D54: 21002 | E54: Տրանսպորտային օբյեկտների հիմնանորոգում | F54: 77429.5 | G54: 613594.6 | H54: 1101000 | I54: 2016330 | J54: 1598637.5 | K54: 85600 | O54: =+L54-I54 -> -2016330 | P54: =+M54-J54 -> -1598637.5 | Q54: =+N54-K54 -> -85600
C55: 1079 | E55: Պետական գույքի կառավարում | F55: =+F56 -> 2144.23 | G55: =+G56 -> 3310 | H55: =+H56 -> 0 | I55: =+I56 -> 0 | J55: =+J56+J57 -> 1650 | K55: =+K56+K57 -> 1650 | L55: =+L56+L57 -> 0 | M55: =+M56+M57 -> 0 | N55: =+N56+N57 -> 0 | O55: =+O56+O57 -> 0 | P55: =+P56+P57 -> -1650 | Q55: =+Q56+Q57 -> -1650
D56: 31001 | E56: Պետական գույքի կառավարման կոմիտեի տեխնիկական հագեցվածության բարելավում | F56: 2144.23 | G56: 3310 | J56: 1650 | K56: 1650 | O56: =+L56-I56 -> 0 | P56: =+M56-J56 -> -1650 | Q56: =+N56-K56 -> -1650
B57: Ծրա | C57: 1106 | E57: Միգրացիոն բնագավառում պետական քաղաքականության մշակում և իրականացում | F57: =+F58 -> 5516.4 | G57: =+G58 -> 928.8 | H57: =+H58 -> 0 | I57: =+I58 -> 0 | J57: =+J58 -> 0 | K57: =+K58 -> 0 | L57: =+L58 -> 0 | M57: =+M58 -> 0 | ... Q57: =+Q58 -> 0
B58: 5 | D58: 31001 | E58: Միգրացիոն ծառայության կարողությունների զարգացում և տեխնիկական հագեցվածության ապահովում | F58: 5516.4 | G58: 928.8 | H58: 0 | I58: 0 | J58: 0 | K58: 0 | L58: 0 | M58: 0 | N58: 0 | O58: =+L58-I58 -> 0 | P58: =+M58-J58 -> 0 | Q58: =+N58-K58 -> 0
B59: Ծրա | C59: 1109 | E59: Ջրային տնտեսության ոլորտում ծրագրերի համակարգում և մոնիտորինգ | F59: =+F60 -> 4105.33 | G59: =+G60 -> 2794.74 | H59: =+H60 -> 0 | I59: =+I60 -> 3442 | J59: =+J60 -> 0 | K59: =+K60 -> 0 | L59: =+L60 -> 0 | M59: =+M60 -> 0 | ... Q59: =+Q60 -> 0
B60: 5 | D60: 31001 | E60: Ջրային կոմիտեի տեխնիկական հագեցվածության բարելավում | F60: 4105.33 | G60: 2794.74 | H60: 0 | I60: 3442 | J60: 0 | K60: 0 | L60: 0 | M60: 0 | N60: 0 | O60: =+L60-I60 -> -3442 | P60: =+M60-J60 -> 0 | Q60: =+N60-K60 -> 0
B61: Ծրա | C61: 1176 | E61: Ավիացիայի բնագավառում վերահսկողության և կանոնակարգման ապահովում | F61: =+F62 -> 0 | G61: =+G62 -> 14905.92 | H61: =+H62 -> 0 | I61: =+I62 -> 5000 | J61: =+J62 -> 5000 | K61: =+K62 -> 10000 | L61: =+L62 -> 0 | M61: =+M62 -> 0 | ... Q61: =+Q62 -> -10000
B62: 5 | D62: 31001 | E62: ՀՀ քաղաքացիական ավիացիայի կոմիտեի տեխնիկական հագեցվածության բարելավում | F62: 0 | G62: 14905.92 | H62: 0 | I62: 5000 | J62: 5000 | K62: 10000 | L62: 0 | M62: 0 | N62: 0 | O62: =+L62-I62 -> -5000 | P62: =+M62-J62 -> -5000 | Q62: =+N62-K62 -> -10000
B63: Ծրա | C63: Նոր նախաձեռնություններ | F63: =+F64+F65+F66+F67+F68+F69+F70+F71 -> 0 | G63: =+G64+G65+G66+G67+G68+G69+G70+G71 -> 0 | H63: =+H64+H65+H66+H67+H68+H69+H70+H71 -> 0 | I63: =+I64+I65+I66+I67+I68+I69+I70+I71 -> 14196560 | J63: =+J64+J65+J66+J67+J68+J69+J70+J71 -> 12680614 | K63: =+K64+K65+K66+K67+K68+K69+K70+K71 -> 13209550 | L63: =+L64+L65+L66+L67+L68+L69+L70+L71 -> 0 | M63: =+M64+M65+M66+M67+M68+M69+M70+M71 -> 0 | ... Q63: =+Q64+Q65+Q66+Q67+Q68+Q69+Q70+Q71 -> -13209550
A64: 10 | B64: 6 | C64: Նոր միջոցառում | D64: 31011 | E64: Խորքային հորերի վերականգնում | F64: 0 | G64: 0 | H64: 0 | I64: 1000000 | J64: 1000000 | K64: 1000000 | L64: 0 | M64: 0 | N64: 0 | O64: =+L64-I64 -> -1000000 | P64: =+M64-J64 -> -1000000 | Q64: =+N64-K64 -> -1000000
B65: 6 | C65: Նոր միջոցառում | D65: 31014 | E65: Ջրամբարների վերականգնման և վերազինման աշխատանքներ | F65: 0 | G65: 0 | H65: 0 | L65: 0 | M65: 0 | N65: 0 | O65: =+L65-I65 -> 0 | P65: =+M65-J65 -> 0 | Q65: =+N65-K65 -> 0
A66: 10 | B66: 6 | C66: Նոր միջոցառում | E66: Օրվա կարգավորման ջրամբարների կառուցում և վերակառուցում | F66: 0 | G66: 0 | H66: 0 | I66: 5018698.2 | J66: 4800613.9 | K66: 3553549.9 | L66: 0 | M66: 0 | N66: 0 | O66: =+L66-I66 -> -5018698.2 | P66: =+M66-J66 -> -4800613.9 | Q66: =+N66-K66 -> -3553549.9
A67: 10 | B67: 6 | C67: Նոր միջոցառում | D67: 31009 | E67: ՀՀ-ի տարածքում Վարձակալի կողմից չսպասարկվող շուրջ 560 բնակավայրերում ջրամատակարարման և ջրահեռացման համակարգերի կառուցում (ներառված է Օրենքի N 6 հավելվածում) | F67: 0 | G67: 0 | H67: 0 | I67: 950000 | J67: 1000000 | K67: 1000000 | L67: 0 | M67: 0 | N67: 0 | O67: =+L67-I67 -> -950000 | P67: =+M67-J67 -> -1000000 | Q67: =+N67-K67 -> -1000000
A68: 10 | B68: 6 | C68: Նոր միջոցառում | E68: WGS-84 (ARMREF02) ազգային գեոդեզիական կոորդինատային համակարգին կոորդինատների համապատասխանեցում | F68: 0 | G68: 0 | H68: 0 | I68: 73000 | J68: 0 | K68: 0 | L68: 0 | M68: 0 | N68: 0 | O68: =+L68-I68 -> -73000 | P68: =+M68-J68 -> 0 | Q68: =+N68-K68 -> 0
A69: 10 | B69: 6 | C69: Նոր միջոցառում | E69: Հանրապետության տարածքում փակման ենթակա աղբավայրերի փակում և շահագործվող աղբավայրերի բարեկարգում | F69: 0 | G69: 0 | H69: 0 | I69: 172862 | J69: 104000 | K69: 175000 | L69: 0 | M69: 0 | N69: 0 | O69: =+L69-I69 -> -172862 | P69: =+M69-J69 -> -104000 | Q69: =+N69-K69 -> -175000
A70: 10 | B70: 6 | C70: Նոր միջոցառում | E70: «Անալիտիկ» ՓԲԸ-ի լաբորատորիայի շենքի հիմնանորոգում և լաբորատոր սարքավորումների վերազինում | F70: 0 | G70: 0 | H70: 0 | I70: 15000 | J70: 270000 | K70: 0 | L70: 0 | M70: 0 | N70: 0 | O70: =+L70-I70 -> -15000 | P70: =+M70-J70 -> -270000 | Q70: =+N70-K70 -> 0
A71: 10 | B71: 6 | C71: Նոր միջոցառում | E71: Երևանի մետրոպոլիտենի ենթակառուցվածքների կապիտալ վերանորոգում | F71: 0 | G71: 0 | H71: 0 | I71: 6967000 | J71: 5506000 | K71: 7481000 | L71: 0 | M71: 0 | N71: 0 | O71: =+L71-I71 -> -6967000 | P71: =+M71-J71 -> -5506000 | Q71: =+N71-K71 -> -7481000
B72: ԲԳԿ | C72: ԲԳԿ | E72: ՀՀ առողջապահության նախարարություն | F72: =+F73 -> 1145336.7 | G72: =+G73 -> 1110780.8 | H72: =+H73 -> 0 | I72: =+I73 -> 0 | J72: =+J73 -> 0 | K72: =+K73 -> 0 | L72: =+L73 -> 0 | M72: =+M73 -> 0 | ... Q72: =+Q73 -> 0
B73: Ծրա | C73: 1126 | E73: Առողջապահության ոլորտում պետական քաղաքականության մշակում, ծրագրերի համակարգում և մոնիտորինգ | F73: =+F74+F75 -> 1145336.7 | G73: =+G74+G75 -> 1110780.8 | H73: =+H74+H75 -> 0 | I73: =+I74+I75 -> 0 | J73: =+J74+J75 -> 0 | K73: =+K74+K75 -> 0 | L73: =+L74+L75 -> 0 | M73: =+M74+M75 -> 0 | ... Q73: =+Q74+Q75 -> 0
B74: 6 | D74: 31002 | E74: Առողջապահական կազմակերպությունների վերազինում | F74: 1073370 | G74: 915240.71 | H74: 0 | I74: 0 | J74: 0 | K74: 0 | L74: 0 | M74: 0 | N74: 0 | O74: =+L74-I74 -> 0 | P74: =+M74-J74 -> 0 | Q74: =+N74-K74 -> 0
B75: 6 | D75: 31003 | E75: Առողջապահական կազմակերպությունների կառուցում, վերակառուցում | F75: 71966.7 | G75: 195540.1 | H75: 0 | I75: 0 | J75: 0 | K75: 0 | L75: 0 | M75: 0 | N75: 0 | O75: =+L75-I75 -> 0 | P75: =+M75-J75 -> 0 | Q75: =+N75-K75 -> 0
B76: ԲԳԿ | C76: ԲԳԿ | E76: ՀՀ արդարադատության նախարարություն | F76: =+F77+F79+F83+F87+F89+F92+F98 -> 472031.09 | G76: =+G77+G79+G83+G87+G89+G92+G98 -> 55260.26 | H76: =+H77+H79+H83+H87+H89+H92+H98 -> 2000000 | I76: =+I77+I79+I83+I87+I89+I92+I98 -> 2165424.9 | J76: =+J77+J79+J83+J87+J89+J92+J98 -> 10194271 | K76: =+K77+K79+K83+K87+K89+K92+K98 -> 26650940 | L76: =+L77+L79+L83+L87+L89+L92+L98 -> 0 | M76: =+M77+M79+M83+M87+M89+M92+M98 -> 0 | ... Q76: =+Q77+Q79+Q83+Q87+Q89+Q92+Q98 -> -26650940
B77: Ծրա | C77: 1057 | E77: Արդարադատության ոլորտում քաղաքականության մշակում, ծրագրերի համակարգում, խորհրդատվության և մոնիտորինգի իրականացում | F77: =+F78 -> 18193.1 | G77: =+G78 -> 13740.76 | H77: =+H78 -> 0 | I77: =+I78 -> 0 | J77: =+J78 -> 0 | K77: =+K78 -> 0 | L77: =+L78 -> 0 | M77: =+M78 -> 0 | ... Q77: =+Q78 -> 0
B78: 5 | D78: 31001 | E78: ՀՀ արդարադատության նախարարության կարողությունների զարգացում և տեխնիկական հագեցվածության ապահովում | F78: 18193.1 | G78: 13740.76 | H78: 0 | I78: 0 | J78: 0 | K78: 0 | L78: 0 | M78: 0 | N78: 0 | O78: =+L78-I78 -> 0 | P78: =+M78-J78 -> 0 | Q78: =+N78-K78 -> 0
B79: Ծրա | C79: 1120 | E79: Քրեակատարողական ծառայություններ | F79: =+F80+F81+F82 -> 345349.33 | G79: =+G80+G81+G82 -> 2360.88 | H79: =+H80+H81+H82 -> 0 | I79: =+I80+I81+I82 -> 362944 | J79: =+J80+J81+J82 -> 147850 | K79: =+K80+K81+K82 -> 5620000 | L79: =+L80+L81+L82 -> 0 | M79: =+M80+M81+M82 -> 0 | ... Q79: =+Q80+Q81+Q82 -> -5620000
B80: 5 | D80: 31001 | E80: ՀՀ արդարադատության նախարարության պրոբացիայի ծառայության կարողությունների զարգացում և տեխնիկական հագեցվածության ապահովում | F80: 3130.4 | G80: 2360.88 | H80: 0 | I80: 0 | J80: 0 | K80: 0 | L80: 0 | M80: 0 | N80: 0 | O80: =+L80-I80 -> 0 | P80: =+M80-J80 -> 0 | Q80: =+N80-K80 -> 0
A81: 10 | B81: 5.1 | D81: 31002 | E81: Արդարադատության նախարարության քրեակատարողական ծառայության կարողությունների զարգացում և տեխնիկական հագեցվածության ապահովում | F81: 342218.93 | G81: 0 | H81: 0 | I81: 276000 | J81: 0 | K81: 0 | L81: 0 | M81: 0 | N81: 0 | O81: =+L81-I81 -> -276000 | P81: =+M81-J81 -> 0 | Q81: =+N81-K81 -> 0
A82: 10 | B82: 6.1 | D82: 31003 | E82: ՀՀ ԱՆ քրեակատարողական հիմնարկների շենքային պայմանների բարելավում | F82: 0 | G82: 0 | H82: 0 | I82: 86944 | J82: 147850 | K82: 5620000 | L82: 0 | M82: 0 | N82: 0 | O82: =+L82-I82 -> -86944 | P82: =+M82-J82 -> -147850 | Q82: =+N82-K82 -> -5620000
B83: Ծրա | C83: Նոր նախաձեռնություններ | E83: Քրեակատարողական | F83: =+F84+F85+F86 -> 88405.06 | G83: =+G84+G85+G86 -> 0 | H83: =+H84+H85+H86 -> 0 | I83: =+I84+I85+I86 -> 1765980.9 | J83: =+J84+J85+J86 -> 10010421 | K83: =+K84+K85+K86 -> 20994940 | L83: =+L84+L85+L86 -> 0 | M83: =+M84+M85+M86 -> 0 | ... Q83: =+Q84+Q85+Q86 -> -20994940
A84: 10 | B84: 6.1 | C84: Նոր միջոցառում | E84: Քրեակատարողական հիմնարկների օպտիմալացում, շենքային պայմանների բավարարում | F84: 84437.81 | G84: 0 | H84: 0 | I84: 1713500 | J84: 10009261 | K84: 20993731 | L84: 0 | M84: 0 | N84: 0 | O84: =+L84-I84 -> -1713500 | P84: =+M84-J84 -> -10009261 | Q84: =+N84-K84 -> -20993731
B85: 5.1 | C85: Նոր միջոցառում | D85: 32002 | E85: Քրեակատարողական բժշկության կենտրոնի կարողությունների զարգացում և տեխնիկական հագեցվածության ապահովում | F85: 3967.25 | G85: 0 | H85: 0 | I85: 0 | J85: 0 | K85: 0 | L85: 0 | M85: 0 | N85: 0 | O85: =+L85-I85 -> 0 | P85: =+M85-J85 -> 0 | Q85: =+N85-K85 -> 0
A86: 10 | B86: 6.1 | C86: Նոր միջոցառում | E86: Քրեակատարողական հիմնարկներում ազատությունից զրկված հաշմանդամություն ունեցող անձանց պահպանման մատչելի պայմանների ապահովմանն ուղղված միջոցառումների իրականացում | F86: 0 | G86: 0 | H86: 0 | I86: 52480.9 | J86: 1159.7 | K86: 1209.5 | L86: 0 | M86: 0 | N86: 0 | O86: =+L86-I86 -> -52480.9 | P86: =+M86-J86 -> -1159.7 | Q86: =+N86-K86 -> -1209.5
B87: Ծրա | C87: 1182 | E87: Հարկադիր կատարման ծառայություններ | F87: =+F88 -> 20083.6 | G87: =+G88 -> 22158.62 | H87: =+H88 -> 0 | I87: =+I88 -> 36500 | J87: =+J88 -> 36000 | K87: =+K88 -> 36000 | L87: =+L88 -> 0 | M87: =+M88 -> 0 | ... Q87: =+Q88 -> -36000
B88: 5 | D88: 31001 | E88: Հարկադիր կատարման ծառայության տեխնիկական հագեցվածության բարելավում | F88: 20083.6 | G88: 22158.62 | H88: 0 | I88: 36500 | J88: 36000 | K88: 36000 | L88: 0 | M88: 0 | N88: 0 | O88: =+L88-I88 -> -36500 | P88: =+M88-J88 -> -36000 | Q88: =+N88-K88 -> -36000
B89: Ծրա | C89: 1228 | E89: Հակակոռուպցիոն քաղաքականության մշակում, ծրագրերի համակարգում և մոնիթորինգի իրականացում | F89: =+F90+F91 -> 0 | G89: =+G90+G91 -> 17000 | H89: =+H90+H91 -> 2000000 | I89: =+I90+I91 -> 0 | J89: =+J90+J91 -> 0 | K89: =+K90+K91 -> 0 | L89: =+L90+L91 -> 0 | M89: =+M90+M91 -> 0 | ... Q89: =+Q90+Q91 -> 0
B90: 6 | D90: 31001 | E90: Հակակոռուպցիոն կոմիտեի շենքային պայմանների ապահովում | F90: 0 | G90: 12000 | H90: 1000000 | I90: 0 | J90: 0 | K90: 0 | L90: 0 | M90: 0 | N90: 0 | O90: =+L90-I90 -> 0 | P90: =+M90-J90 -> 0 | Q90: =+N90-K90 -> 0
B91: 6 | D91: 31002 | E91: Հակակոռուպցիոն դատարանների շենքային պայմանների ապահովում | F91: 0 | G91: 5000 | H91: 1000000 | I91: 0 | J91: 0 | K91: 0 | L91: 0 | M91: 0 | N91: 0 | O91: =+L91-I91 -> 0 | P91: =+M91-J91 -> 0 | Q91: =+N91-K91 -> 0
B92: Ծրա | C92: Նոր նախաձեռնություններ | E92: Հակակոռուպցիոն քաղաքականության մշակում, ծրագրերի համակարգում և մոնիթորինգի իրականացում | F92: =+F93+F94+F95+F96+F97 -> 0 | G92: =+G93+G94+G95+G96+G97 -> 0 | H92: =+H93+H94+H95+H96+H97 -> 0 | I92: =+I93+I94+I95+I96+I97 -> 0 | J92: =+J93+J94+J95+J96+J97 -> 0 | K92: =+K93+K94+K95+K96+K97 -> 0 | L92: =+L93+L94+L95+L96+L97 -> 0 | M92: =+M93+M94+M95+M96+M97 -> 0 | ... Q92: =+Q93+Q94+Q95+Q96+Q97 -> 0
B93: 5 | C93: Նոր միջոցառում | D93: նոր միջոցառում | E93: Հակակոռուպցիոն կոմիտեի տեխնիկական հագեցվածության ապահովում | F93: 0 | G93: 0 | H93: 0 | I93: 0 | J93: 0 | K93: 0 | L93: 0 | M93: 0 | N93: 0 | O93: =+L93-I93 -> 0 | P93: =+M93-J93 -> 0 | Q93: =+N93-K93 -> 0
B94: 5 | C94: Նոր միջոցառում | D94: նոր միջոցառում | E94: Հակակոռուպցիոն կոմիտեի տրանսպորտային սարքավորումների հագեցվածության ապահովում | F94: 0 | G94: 0 | H94: 0 | I94: 0 | J94: 0 | K94: 0 | L94: 0 | M94: 0 | N94: 0 | O94: =+L94-I94 -> 0 | P94: =+M94-J94 -> 0 | Q94: =+N94-K94 -> 0
B95: 5 | C95: Նոր միջոցառում | D95: նոր միջոցառում | E95: Էլեկտրոնային ռեսուրսների ստեղծման կամ արդիականացման նախագծերի ապահովում | F95: 0 | G95: 0 | H95: 0 | I95: 0 | J95: 0 | K95: 0 | L95: 0 | M95: 0 | N95: 0 | O95: =+L95-I95 -> 0 | P95: =+M95-J95 -> 0 | Q95: =+N95-K95 -> 0
B96: 5 | C96: Նոր միջոցառում | D96: նոր միջոցառում | E96: Հակակոռուպցիոն դատարանի տեխնիկական հագեցվածության ապահովում | F96: 0 | G96: 0 | H96: 0 | I96: 0 | J96: 0 | K96: 0 | L96: 0 | M96: 0 | N96: 0 | O96: =+L96-I96 -> 0 | P96: =+M96-J96 -> 0 | Q96: =+N96-K96 -> 0
B97: 5 | C97: Նոր միջոցառում | D97: նոր միջոցառում | E97: Հակակոռուպցիոն դատարանի տրանսպորտային սարքավորումների հագեցվածության ապահովում | F97: 0 | G97: 0 | H97: 0 | I97: 0 | J97: 0 | K97: 0 | L97: 0 | M97: 0 | N97: 0 | O97: =+L97-I97 -> 0 | P97: =+M97-J97 -> 0 | Q97: =+N97-K97 -> 0
B98: Ծրա | C98: Նոր նախաձեռնություններ | E98: Դատական և իրավական բարեփոխումների ապահովում | F98: =+F99+F100 -> 0 | G98: =+G99+G100 -> 0 | H98: =+H99+H100 -> 0 | I98: =+I99+I100 -> 0 | J98: =+J99+J100 -> 0 | K98: =+K99+K100 -> 0 | L98: =+L99+L100 -> 0 | M98: =+M99+M100 -> 0 | ... Q98: =+Q99+Q100 -> 0
B99: 5 | C99: Նոր միջոցառում | D99: նոր միջոցառում | E99: Էլեկտրոնային արդարադատության միասնական համակարգի ներդրում | F99: 0 | G99: 0 | H99: 0 | I99: 0 | J99: 0 | K99: 0 | L99: 0 | M99: 0 | N99: 0 | O99: =+L99-I99 -> 0 | P99: =+M99-J99 -> 0 | Q99: =+N99-K99 -> 0
B100: 6 | C100: Նոր միջոցառում | D100: նոր միջոցառում | E100: Փորձագիտական միասնական կենտրոնի նյութատեխնիկական հագեցվածության ապահովում | F100: 0 | G100: 0 | H100: 0 | I100: 0 | J100: 0 | K100: 0 | L100: 0 | M100: 0 | N100: 0 | O100: =+L100-I100 -> 0 | P100: =+M100-J100 -> 0 | Q100: =+N100-K100 -> 0
B101: ԲԳԿ | C101: ԲԳԿ | E101: ՀՀ էկոնոմիկայի նախարարություն | F101: =+F102+F104 -> 37818.71 | G101: =+G102+G104 -> 38906.1 | H101: =+H102+H104 -> 0 | I101: =+I102+I104 -> 42500 | J101: =+J102+J104 -> 42500 | K101: =+K102+K104 -> 42500 | L101: =+L102+L104 -> 0 | M101: =+M102+M104 -> 0 | ... Q101: =+Q102+Q104 -> -42500
B102: Ծրա | C102: 1058 | E102: Էկոնոմիկայի ոլորտում պետական քաղաքականության մշակում, ծրագրերի համակարգում և մոնիտորինգ | F102: =+F103 -> 37818.71 | G102: =+G103 -> 28106.1 | H102: =+H103 -> 0 | I102: =+I103 -> 42500 | J102: =+J103 -> 42500 | K102: =+K103 -> 42500 | L102: =+L103 -> 0 | M102: =+M103 -> 0 | ... Q102: =+Q103 -> -42500
...

Sheet վարկ կապիտալ 
A1: ՏԵՂԵԿԱՆՔ
A2: 2022-2024թթ. ՄԺԾԾ հայտերով ներկայացված վարկային միջոցների հաշվին ֆինանսավորվող կապիտալ ծախսերի վերաբերյալ
O4: հազար դրամ
A5: Ծրագիր | B5: Միջոցառում | C5: ԲԳԿ/Ծրագիր/Միջոցառում | D5: 2019 թ. փաստ | E5: 2020թ. Փաստ | F5: 2021թ. ՀՀ պետական բյուջե | G5: ՄԺԾԾ հայտ | J5: ՄԺԾԾ առաջարկ | M5: Տարբերություն Հայտ/ՖՆ առաջարկ
G6: 2022թ. | H6: 2023թ. | I6: 2024թ. | J6: 2022թ. | K6: 2023թ. | L6: 2024թ. | M6: 2022թ. | N6: 2023թ. | O6: 2024թ.
A7: 1 | B7: 2 | C7: 3 | D7: 4 | E7: 5 | F7: 6 | G7: 7 | H7: 9 | I7: 11 | J7: 7 | K7: 9 | L7: 11 | M7: 7 | N7: 9 | O7: 11
C9: ԸՆԴԱՄԵՆԸ | D9: =+D10+D16+D47+D52+D59+D62+D65+D69+D72 -> 62560399 | E9: =+E10+E16+E47+E52+E59+E62+E65+E69 -> 42478693 | F9: =+F10+F16+F47+F52+F59+F62+F65+F69 -> 63865404 | G9: =+G10+G16+G47+G52+G59+G62+G65+G69 -> 1.8296152e+08 | H9: =+H10+H16+H47+H52+H59+H62+H65+H69 -> 1.1779022e+08 | I9: =+I10+I16+I47+I52+I59+I62+I65+I69 -> 62085836 | J9: =+J10+J16+J47+J52+J59+J62+J65+J69 -> 46880123 | K9: =+K10+K16+K47+K52+K59+K62+K65+K69 -> 95073318 | L9: =+L10+L16+L47+L52+L59+L62+L65+L69 -> 1.1750234e+08 | ... O9: =+O10+O16+O47+O52+O59+O62+O65+O69 -> -55416503
A10: ԲԳԿ | C10: ՀՀ վարչապետի աշխատակազմ | D10: =+D11+D13 -> 1047315.4 | E10: =+E11+E13 -> 1991163 | F10: =+F11+F13 -> 8095322.1 | G10: =+G11+G13 -> 7076546.7 | H10: =+H11+H13 -> 0 | I10: =+I11+I13 -> 0 | J10: =+J11+J13 -> 1473928.4 | K10: =+K11+K13 -> 5602618.1 | ... O10: =+O11+O13 -> 0
A11: 1018 | C11: Պետական հատվածի արդիականացման ծրագիր | D11: =+D12 -> 1047315.4 | E11: =+E12 -> 1773108.1 | F11: =+F12 -> 2362077.3 | G11: =+G12 -> 3831368.8 | H11: =+H12 -> 0 | I11: =+I12 -> 0 | J11: =+J12 -> 1149410.6 | K11: =+K12 -> 2681958.1 | ... O11: =+O12 -> 0
B12: 32001 | C12: Համաշխարհային բանկի աջակցությամբ իրականացվող Պետական հատվածի արդիականացման երրորդ ծրագրի շրջանակներում էլեկտրոնային կառավարման համակարգերի և սարքավորումների ձեռքբերում | D12: 1047315.4 | E12: 1773108.1 | F12: 2362077.3 | G12: 3831368.8 | H12: 0 | I12: 0 | J12: 1149410.6 | K12: 2681958.1 | M12: =+G12-J12 -> 2681958.2 | N12: =+H12-K12 -> -2681958.1 | O12: =+I12-L12 -> 0
A13: 1136 | C13: ՀՀ Վարչապետի լիազորությունների իրականացման ապահովում | D13: =+D14+D15 -> 0 | E13: =+E14+E15 -> 218054.9 | F13: =+F14+F15 -> 5733244.8 | G13: =+G14+G15 -> 3245177.9 | H13: =+H14+H15 -> 0 | I13: =+I14+I15 -> 0 | J13: =+J14+J15 -> 324517.79 | K13: =+K14+K15 -> 2920660 | ... O13: =+O14+O15 -> 0
B14: 31003 | C14: Համաշխարհային բանկի աջակցությամբ իրականացվող առևտրի և ենթակառուցվածքների զարգացման ծրագրի շրջանակներում շենքերի և շինությունների շինարարություն և հիմնանորոգում | D14: 0 | E14: 0 | F14: 3484414.9 | G14: 1801947.8 | H14: 0 | I14: 0 | J14: 180194.78 | K14: 1621753 | M14: =+G14-J14 -> 1621753 | N14: =+H14-K14 -> -1621753 | O14: =+I14-L14 -> 0
B15: 31004 | C15: Համաշխարհային բանկի աջակցությամբ իրականացվող առևտրի և ենթակառուցվածքների զարգացման ծրագրի շրջանակներում սարքավորումների ձեռքբերում | D15: 0 | E15: 218054.9 | F15: 2248829.9 | G15: 1443230.1 | H15: 0 | I15: 0 | J15: 144323.01 | K15: 1298907 | M15: =+G15-J15 -> 1298907.1 | N15: =+H15-K15 -> -1298907 | O15: =+I15-L15 -> 0
A16: ԲԳԿ | C16: ՀՀ տարածքային կառավարման և ենթակառուցվածքների նախարարություն | D16: =+D17+D24+D27+D36+D41+D45 -> 21723831 | E16: =+E17+E24+E27+E36+E41+E45 -> 30039725 | F16: =+F17+F24+F27+F36+F41+F45 -> 40225003 | G16: =+G17+G24+G27+G36+G41+G45 -> 1.530412e+08 | H16: =+H17+H24+H27+H36+H41+H45 -> 1.0583406e+08 | I16: =+I17+I24+I27+I36+I41+I45 -> 62085836 | J16: =+J17+J24+J27+J36+J41+J45 -> 39272453 | K16: =+K17+K24+K27+K36+K41+K45 -> 82340396 | ... O16: =+O17+O24+O27+O36+O41+O45 -> -42397755
A17: 1004 | C17: Ոռոգման համակարգի առողջացում | D17: =+D18+D19+D20+D21+D22+D23 -> 4522982.5 | E17: =+E18+E19+E20+E21+E22+E23 -> 8300914.9 | F17: =+F18+F19+F20+F21+F22+F23 -> 9635552.4 | G17: =+G18+G19+G20+G21+G22+G23 -> 32301953 | H17: =+H18+H19+H20+H21+H22+H23 -> 21691243 | I17: =+I18+I19+I20+I21+I22+I23 -> 8355581.9 | J17: =+J18+J19+J20+J21+J22+J23 -> 9690585.8 | K17: =+K18+K19+K20+K21+K22+K23 -> 25268413 | ... O17: =+O18+O19+O20+O21+O22+O23 -> 5848907.3
B18: 12002 | C18: Գերմանիայի զարգացման բանկի աջակցությամբ իրականացվող Ախուրյան գետի ջրային ռեսուրսների ինտեգրված կառավարման փուլ 1 ծրագրով Ջրաձոր գյուղի վերաբնակեցման համար ենթակառուցվածքների և բնակելի տների կառուցում | D18: 0 | E18: 0 | F18: 988306.3 | G18: 1220944.4 | H18: 1065004.8 | I18: 148313.7 | J18: 366283.32 | K18: 1053870.7 | L18: 44494.11 | M18: =+G18-J18 -> 854661.08 | N18: =+H18-K18 -> 11134.1 | O18: =+I18-L18 -> 103819.59
B19: 31001 | C19: Ֆրանսիայի Հանրապետության կառավարության աջակցությամբ իրականացվող Վեդու ջրամբարի կառուցում | D19: 2892415.7 | E19: 3568764.4 | F19: 2880802.1 | G19: 11490405 | H19: 2597312.9 | I19: 0 | J19: 3447121.5 | K19: 10627242 | M19: =+G19-J19 -> 8043283.4 | N19: =+H19-K19 -> -8029928.8 | O19: =+I19-L19 -> 0
B20: 31003 | C20: Համաշխարհային բանկի աջակցությամբ իրականացվող ոռոգման համակարգերի արդյունավետության բարձրացման ծրագիր | D20: 0 | E20: 107509.49 | F20: 0 | G20: 0 | H20: 0 | I20: 0 | M20: =+G20-J20 -> 0 | N20: =+H20-K20 -> 0 | O20: =+I20-L20 -> 0
B21: 31004 | C21: Գերմանիայի զարգացման վարկերի բանկի աջակցությամբ իրականացվող Ախուրյան գետի ջրային ռեսուրսների ինտեգրված կառավարման ծրագրի շրջանակներում ջրային տնտեսության ենթակառուցվածքների հիմնանորոգում | D21: 0 | E21: 0 | F21: 2245414.1 | G21: 11206881 | H21: 14728901 | I21: 3154141.2 | J21: 3362064.3 | K21: 4418670.2 | L21: 946242.36 | M21: =+G21-J21 -> 7844816.7 | N21: =+H21-K21 -> 10310231 | O21: =+I21-L21 -> 2207898.8
B22: 31005 | C22: Եվրասիական զարգացման բանկի աջակցությամբ իրականացվող ոռոգման համակարգերի զարգացման ծրագրի շրջանակներում ջրային տնտեսության ենթակառուցվածքների հիմնանորոգում | D22: 1630566.8 | E22: 4624641 | F22: 3488376.8 | G22: 8383722.4 | H22: 3300024.9 | I22: 0 | J22: 2515116.7 | K22: 9168630.6 | L22: 0 | M22: =+G22-J22 -> 5868605.7 | N22: =+H22-K22 -> -5868605.7 | O22: =+I22-L22 -> 0
B23: 31006 | C23: Գերմանիայի զարգացման վարկերի բանկի աջակցությամբ իրականացվող Ախուրյան գետի ջրային ռեսուրսների ինտեգրացված կառավարման ծրագրի երկրորդ փուլի շրջանակներում ջրային տնտեսության ենթակառուցվածքների հիմնանորոգում | D23: 0 | E23: 0 | F23: 32653.1 | G23: 0 | H23: 0 | I23: 5053127 | J23: 0 | K23: 0 | L23: 1515938.1 | M23: =+G23-J23 -> 0 | N23: =+H23-K23 -> 0 | O23: =+I23-L23 -> 3537188.9
A24: 1019 | C24: Սոցիալական ներդրումների և տեղական զարգացման ծրագիր | D24: =+D25+D26 -> 2070381 | E24: =+E25+E26 -> 2288584.8 | F24: =+F25+F26 -> 948897.1 | G24: =+G25+G26 -> 5639900 | H24: =+H25+H26 -> 9625168.6 | I24: =+I25+I26 -> 0 | J24: =+J25+J26 -> 925170 | K24: =+K25+K26 -> 4202080.6 | ... O24: =+O25+O26 -> -3450600
B25: 12001 | C25: Համաշխարհային բանկի աջակցությամբ իրականացվող Տարածքային զարգացման հիմնադրամի ծրագրի շրջանակներում ՀՀ տարածքներում ջրագծերի, առողջապահության, կրթության, մշակույթի, հատուկ խնամքի և ենթակառուցվածքների ոլորտի վերականգնման և շինարարության աշխատանքներ | D25: 2070381 | E25: 2288584.8 | F25: 948897.1 | G25: 1805900 | H25: 72000 | I25: 0 | J25: 541770 | K25: 1336130 | L25: 0 | M25: =+G25-J25 -> 1264130 | N25: =+H25-K25 -> -1264130 | O25: =+I25-L25 -> 0
B26: 12004 | C26: Համաշխարհային բանկի աջակցությամբ իրականացվող Սոցիալական ներդրումների և տեղական զարգացման ծրագրի լրացուցիչ ֆինանսավորման վարկի շրջանակներում ՀՀ համայնքային և միջհամայնքային ենթակառուցվածքների որակի, օգտագործման և հասանելիության բարելավում: | D26: 0 | E26: 0 | F26: 0 | G26: 3834000 | H26: 9553168.6 | I26: 0 | J26: 383400 | K26: 2865950.6 | L26: 3450600 | M26: =+G26-J26 -> 3450600 | N26: =+H26-K26 -> 6687218 | O26: =+I26-L26 -> -3450600
A27: 1049 | C27: Ճանապարհային ցանցի բարելավում | D27: =+D28+D29+D30+D31+D32+D33+D34+D35 -> 10765421 | E27: =+E28+E29+E30+E31+E32+E33+E34+E35 -> 8096070.6 | F27: =+F28+F29+F30+F31+F32+F33+F34+F35 -> 11138682 | G27: =+G28+G29+G30+G31+G32+G33+G34+G35 -> 68522196 | H27: =+H28+H29+H30+H31+H32+H33+H34+H35 -> 43998055 | I27: =+I28+I29+I30+I31+I32+I33+I34+I35 -> 39669080 | J27: =+J28+J29+J30+J31+J32+J33+J34+J35 -> 15305593 | K27: =+K28+K29+K30+K31+K32+K33+K34+K35 -> 16976846 | ... O27: =+O28+O29+O30+O31+O32+O33+O34+O35 -> -49439173
B28: 21003 | C28: Համաշխարհային բանկի աջակցությամբ իրականացվող կենսական նշանակության ճանապարհային ցանցի բարելավման լրացուցիչ ծրագրի շրջանակներում ավտոճանապարհների բարեկարգման աշխատանքներ | D28: 4445405.8 | E28: 1759519.4 | F28: 110288.2 | G28: 0 | H28: 0 | I28: 0 | M28: =+G28-J28 -> 0 | N28: =+H28-K28 -> 0 | O28: =+I28-L28 -> 0
B29: 21004 | C29: Ասիական զարգացման բանկի աջակցությամբ իրականացվող Մ6 Վանաձոր-Ալավերդի-Վրաստանի սահման միջպետական նշանակության ճանապարհի ծրագրի կառուցում և հիմնանորոգում | D29: 1399340.6 | E29: 3159570.5 | F29: 1393587.1 | G29: 12863340 | H29: 3109145.8 | I29: 0 | J29: 3859002 | K29: 932743.74 | L29: 9004338 | M29: =+G29-J29 -> 9004338 | N29: =+H29-K29 -> 2176402.1 | O29: =+I29-L29 -> -9004338
B30: 21006 | C30: Ասիական զարգացման բանկի աջակցությամբ իրականացվող Հյուսիս-հարավ միջանցքի զարգացման վարկային ծրագիր, Տրանշ 2 | D30: 0 | E30: 0 | F30: 2535431.1 | G30: 11207808 | H30: 9962496 | I30: 12737598 | J30: 1120780.8 | K30: 2988748.8 | L30: 22824625 | M30: =+G30-J30 -> 10087027 | N30: =+H30-K30 -> 6973747.2 | O30: =+I30-L30 -> -10087027
B31: 21008 | C31: Վերակառուցման և զարգացման եվրոպական բանկի աջակցությամբ իրականացվող ՀՀ պետական սահմանի Բագրատաշեն անցման կետի կամրջի վերակառուցման վարկային ծրագիր | D31: 98321.3 | E31: 126503.27 | F31: 601534.1 | G31: 2258928 | H31: 382762.8 | I31: 0 | J31: 677678.4 | K31: 1696078.4 | L31: 0 | M31: =+G31-J31 -> 1581249.6 | N31: =+H31-K31 -> -1313315.6 | O31: =+I31-L31 -> 0
B32: 21009 | C32: Եվրոպական ներդրումային բանկի աջակցությամբ իրականացվող Հյուսիս-հարավ միջանցքի զարգացման վարկային ծրագիր, Տրանշ 3 | D32: 795655.4 | E32: 1061855.4 | F32: 2282945.3 | G32: 11294640 | H32: 5647320 | I32: 2901361 | J32: 3388392 | K32: 1694196 | L32: 10807609 | M32: =+G32-J32 -> 7906248 | N32: =+H32-K32 -> 3953124 | O32: =+I32-L32 -> -7906248
B33: 21011 | C33: Ասիական զարգացման բանկի աջակցությամբ իրականացվող Հյուսիս-հարավ միջանցքի զարգացման վարկային ծրագիր, Տրանշ 3 | D33: 4026698.3 | E33: 243009.19 | F33: 2535431.1 | G33: 12712560 | H33: 7783200 | I33: 6907081.3 | J33: 3813768 | K33: 2334960 | L33: 15805873 | M33: =+G33-J33 -> 8898792 | N33: =+H33-K33 -> 5448240 | O33: =+I33-L33 -> -8898792
B34: 21012 | C34: Եվրասիական զարգացման բանկի աջակցությամբ իրականացվող Հյուսիս-հարավ միջանցքի զարգացման ծրագիր | D34: 0 | E34: 0 | F34: 1014172.4 | G34: 15047520 | H34: 16344720 | I34: 17123040 | J34: 1504752 | K34: 4903416 | L34: 30665808 | M34: =+G34-J34 -> 13542768 | N34: =+H34-K34 -> 11441304 | O34: =+I34-L34 -> -13542768
B35: 21013 | C35: Համաշխարհային բանկի աջակցությամբ իրականացվող Կենսական նշանակության ճանապարհացանցի բարելավման երկրորդ լրացուցիչ ֆինանսավորման ծրագրի շրջանակներում ավտոճանապարհների բարեկարգման աշխատանքներ | D35: 0 | E35: 1745612.9 | F35: 665292.9 | G35: 3137400 | H35: 768410.3 | I35: 0 | J35: 941220 | K35: 2426703.1 | L35: 0 | M35: =+G35-J35 -> 2196180 | N35: =+H35-K35 -> -1658292.8 | O35: =+I35-L35 -> 0
A36: 1072 | C36: Ջրամատակարարաման և ջրահեռացման բարելավում | D36: =+D37+D38+D39+D40 -> 80490.2 | E36: =+E37+E38+E39+E40 -> 1212187 | F36: =+F37+F38+F39+F40 -> 5628885.5 | G36: =+G37+G38+G39+G40 -> 22255306 | H36: =+H37+H38+H39+H40 -> 13987746 | I36: =+I37+I38+I39+I40 -> 0 | J36: =+J37+J38+J39+J40 -> 6676591.7 | K36: =+K37+K38+K39+K40 -> 17934891 | ... O36: =+O37+O38+O39+O40 -> 0
B37: 31001 | C37: Գերմանիայի զարգացման վարկերի բանկի աջակցությամբ իրականացվող ջրամատակարարման և ջրահեռացման ենթակառուցվածքների վերականգնման ծրագրի երրորդ փուլի շրջանակներում ջրամատակարարման և ջրահեռացման ենթակառուցվածքների հիմնանորոգում | D37: 80490.2 | E37: 524067.28 | F37: 2541912.4 | G37: 10361492 | H37: 6798768.4 | I37: 0 | J37: 3108447.8 | K37: 14051813 | L37: 0 | M37: =+G37-J37 -> 7253044.8 | N37: =+H37-K37 -> -7253044.8 | O37: =+I37-L37 -> 0
B38: 31002 | C38: Եվրոպական ներդրումային բանկի աջակցությամբ իրականացվող ջրամատակարարման և ջրահեռացման ենթակառուցվածքների վերականգնման ծրագրի երրորդ փուլի շրջանակներում ջրամատակարարման և ջրահեռացման ենթակառուցվածքների հիմնանորոգում | D38: 0 | E38: 0 | F38: 2495432.6 | G38: 9886022 | H38: 6590681.4 | I38: 0 | J38: 2965806.6 | K38: 1977204.4 | L38: 0 | M38: =+G38-J38 -> 6920215.4 | N38: =+H38-K38 -> 4613477 | O38: =+I38-L38 -> 0
B39: 31003 | C39: Եվրոպակական ներդրումային բանկի աջակցությամբ իրականացվող Երևանի ջրամատակարարման բարելավման ծրագրի շրջանակներում ջրամատակարարման և ջրահեռացման ենթակառուցվածքների հիմնանորոգում | D39: 0 | E39: 0 | F39: 591540.5 | G39: 1867968 | H39: 598295.7 | I39: 0 | J39: 560390.4 | K39: 1905873.3 | L39: 0 | M39: =+G39-J39 -> 1307577.6 | N39: =+H39-K39 -> -1307577.6 | O39: =+I39-L39 -> 0
B40: 31005 | C40: Գերմանիայի զարգացման վարկերի բանկի աջակցությամբ իրականացվող Լոռու մարզի (Վանաձորի) ջրամատակարարման և ջրահեռացման ենթակառուցվածքների վերականգնման ծրագրի երրորդ փուլ | D40: 0 | E40: 688119.69 | F40: 0 | G40: 139823.3 | H40: 0 | I40: 0 | J40: 41946.99 | K40: 0 | L40: 0 | M40: =+G40-J40 -> 97876.31 | N40: =+H40-K40 -> 0 | O40: =+I40-L40 -> 0
A41: 1157 | C41: Քաղաքային զարգացում | D41: =+D42+D43+D44 -> 902733.1 | E41: =+E42+E43+E44 -> 5265757 | F41: =+F42+F43+F44 -> 8127673 | G41: =+G42+G43+G44 -> 15010841 | H41: =+H42+H43+H44 -> 6236960.5 | I41: =+I42+I43+I44 -> 3861173.9 | J41: =+J42+J43+J44 -> 3881212.1 | K41: =+K42+K43+K44 -> 14869700 | ... O41: =+O42+O43+O44 -> -2496889.4
B42: 12017 | C42: Վերակառուցման և զարգացման եվրոպական բանկի աջակցությամբ իրականացվող Գյումրու քաղաքային ճանապարհների ծրագիր | D42: 902733.1 | E42: 1569555.9 | F42: 2033101.8 | G42: 3870070.8 | H42: 0 | I42: 0 | J42: 1161021.2 | K42: 2709049.6 | L42: 0 | M42: =+G42-J42 -> 2709049.6 | N42: =+H42-K42 -> -2709049.6 | O42: =+I42-L42 -> 0
B43: 12020 | C43: Ասիական զարգացման բանկի աջակցությամբ իրականացվող քաղաքային ենթակառուցվածքների և քաղաքի կայուն զարգացման ներդրումային ծրագրի շրջանակներում ճանապարհային շինարարություն | D43: 0 | E43: 0 | F43: 855403.4 | G43: 4006800.2 | H43: 445200 | I43: 0 | J43: 580000 | K43: 3872000.2 | L43: 0 | M43: =+G43-J43 -> 3426800.2 | N43: =+H43-K43 -> -3426800.2 | O43: =+I43-L43 -> 0
B44: 12021 | C44: Ասիական զարգացման բանկի աջակցությամբ իրականացվող քաղաքային ենթակառուցվածքների և քաղաքի կայուն զարգացման ներդրումային երկրորդ ծրագրի շրջանակներում ճանապարհային շինարարություն | D44: 0 | E44: 3696201.2 | F44: 5239167.8 | G44: 7133969.6 | H44: 5791760.5 | I44: 3861173.9 | J44: 2140190.9 | K44: 8288649.9 | L44: 6358063.3 | M44: =+G44-J44 -> 4993778.7 | N44: =+H44-K44 -> -2496889.4 | O44: =+I44-L44 -> -2496889.4
A45: 1189 | C45: Դպրոցների սեյսմիկ անվտանգության մակարդակի բարձրացման ծրագիր | D45: =+D46 -> 3381822.4 | E45: =+E46 -> 4876210.6 | F45: =+F46 -> 4745313 | G45: =+G46 -> 9311000 | H45: =+H46 -> 10294886 | I45: =+I46 -> 10200000 | J45: =+J46 -> 2793300 | K45: =+K46 -> 3088465.7 | ... O45: =+O46 -> 7140000
B46: 12001 | C46: Ասիական զարգացման բանկի աջակցությամբ իրականացվող դպրոցների սեյսմիկ պաշտպանության ծրագրի շրջանակներում ՀՀ դպրոցների սեյսմիկ անվտանգության բարելավմանն ուղղված միջոցառումներ | D46: 3381822.4 | E46: 4876210.6 | F46: 4745313 | G46: 9311000 | H46: 10294886 | I46: 10200000 | J46: 2793300 | K46: 3088465.7 | L46: 3060000 | M46: =+G46-J46 -> 6517700 | N46: =+H46-K46 -> 7206420 | O46: =+I46-L46 -> 7140000
A47: ԲԳԿ | C47: ՀՀ առողջապահության նախարարություն | D47: =+D48 -> 277076.8 | E47: =+E48+E50+E51 -> 2196450.5 | F47: =+F48 -> 954734.3 | G47: =+G48 -> 2052985.2 | H47: =+H48 -> 1711123.6 | I47: =+I48 -> 0 | J47: =+J48 -> 615895.56 | K47: =+K48 -> 1802592 | L47: =+L48 -> 0 | M47: =+M48 -> 1437089.6 | ... O47: =+O48 -> 0
A48: 1053 | C48: Առողջապահության համակարգի արդիականացման և արդյունավետության բարձրացման ծրագիր | D48: =+D49+D51 -> 277076.8 | E48: =+E49+E51 -> 544835.34 | F48: =+F49+F51 -> 954734.3 | G48: =+G49+G51 -> 2052985.2 | H48: =+H49+H51 -> 1711123.6 | I48: =+I49+I51 -> 0 | J48: =+J49+J51 -> 615895.56 | K48: =+K49+K51 -> 1802592 | ... O48: =+O49+O51 -> 0
B49: 32002 | C49: Համաշխարհային բանկի աջակցությամբ իրականացվող Ոչ վարակիչ հիվանդությունների կանխարգելման և վերահսկման ծրագրի շրջանակներում շենքային պայմանների բարելավում | D49: 277076.8 | E49: 544835.34 | F49: 954734.3 | G49: 211192.5 | H49: 0 | I49: 0 | J49: 63357.75 | K49: 0 | L49: 0 | M49: =+G49-J49 -> 147834.75 | N49: =+H49-K49 -> 0 | O49: =+I49-L49 -> 0
B50: 32003 | C50: Համաշխարհային բանկի աջակցությամբ իրականացվող ՀՀ-ում կորոնավիրուսային վարակի (COVID-19) կանխարգելմանն ու բուժմանն ուղղված միջոցառումների իրականացում | D50: 0 | E50: 1651615.2 | F50: 0 | G50: 0 | H50: 0 | I50: 0 | J50: 0 | K50: 0 | L50: 0 | M50: 0 | N50: 0 | O50: 0
B51: 32005 | C51: Համաշխարհային բանկի աջակցությամբ իրականացվող Ոչ վարակիչ հիվանդությունների կանխարգելման և վերահսկման ծրագրի շրջանակներում շենքային պայմանների բարելավում/լրացուցիչ ֆինասավորում | D51: 0 | E51: 0 | F51: 0 | G51: 1841792.7 | H51: 1711123.6 | I51: 0 | J51: 552537.81 | K51: 1802592 | L51: 0 | M51: =+G51-J51 -> 1289254.9 | N51: =+H51-K51 -> -91468.37 | O51: =+I51-L51 -> 0
A52: ԲԳԿ | C52: ՀՀ էկոնոմիկայի նախարարություն | D52: =+D53+D55+D57 -> 2277370.5 | E52: =+E53+E55+E57 -> 3133760.3 | F52: =+F53+F55+F57 -> 8947337.5 | G52: =+G53+G55+G57 -> 14734895 | H52: =+H53+H55+H57 -> 6648073.1 | I52: =+I53+I55+I57 -> 0 | J52: =+J53+J55+J57 -> 4420468.5 | K52: =+K53+K55+K57 -> 2527366.9 | ... O52: =+O53+O55+O57 -> -9781481.5
A53: 1086 | C53: Գյուղական ենթակառուցվածքների վերականգնում և զարգացում | D53: =+D54 -> 287117.9 | E53: =+E54 -> 866095.13 | F53: =+F54 -> 1696844 | G53: =+G54 -> 761350 | H53: =+H54 -> 0 | I53: =+I54 -> 0 | J53: =+J54 -> 228405 | K53: =+K54 -> 532945 | ... O53: =+O54 -> 0
B54: 12001 | C54: Համաշխարհային բանկի աջակցությամբ իրականացվող Համայնքների գյուղատնտեսական ռեսուրսների կառավարման և մրցունակության երկրորդ ծրագրի շրջանակներում տրանսֆերտների տրամադրում գյուղական ենթակառուցվածքների վերականգնման և/կամ զարգացման նպատակով | D54: 287117.9 | E54: 866095.13 | F54: 1696844 | G54: 761350 | H54: 0 | I54: 0 | J54: 228405 | K54: 532945 | L54: 0 | M54: =+G54-J54 -> 532945 | N54: =+H54-K54 -> -532945 | O54: =+I54-L54 -> 0
A55: 1134 | C55: Ենթակառուցվածքների և գյուղական ֆինանսավորման աջակցություն | D55: =+D56 -> 276127.5 | E55: =+E56 -> 236650.06 | F55: =+F56 -> 34396.9 | G55: =+G56 -> 0 | H55: =+H56 -> 0 | I55: =+I56 -> 0 | J55: =+J56 -> 0 | K55: =+K56 -> 0 | ... O55: =+O56 -> 0
B56: 12003 | C56: ՕՊԵԿ զարգացման միջազգային հիմնադրամի աջակցությամբ իրականացվող «Ենթակառուցվածքների և գյուղական ֆինանսավորման աջակցություն» վարկային ծրագրի շրջանակներում ոռոգման և ջրամատակարարման համակարգերի վերակառուցում | D56: 276127.5 | E56: 236650.06 | F56: 34396.9 | G56: 0 | H56: 0 | I56: 0 | M56: =+G56-J56 -> 0 | N56: =+H56-K56 -> 0 | O56: =+I56-L56 -> 0
A57: 1190 | C57: Զբոսաշրջության զարգացման ծրագիր | D57: =+D58 -> 1714125.1 | E57: =+E58 -> 2031015.1 | F57: =+F58 -> 7216096.6 | G57: =+G58 -> 13973545 | H57: =+H58 -> 6648073.1 | I57: =+I58 -> 0 | J57: =+J58 -> 4192063.5 | K57: =+K58 -> 1994421.9 | ... O57: =+O58 -> -9781481.5
B58: 12001 | C58: Համաշխարհային բանկի աջակցությամբ իրականացվող Տեղական տնտեսության և ենթակառուցվածքների զարգացման ծրագրի շրջանակներում ՀՀ տարբեր մարզերում զբոսաշրջության հետ կապված ենթակառուցվածքների բարելավմանն ուղղված միջոցառումներ | D58: 1714125.1 | E58: 2031015.1 | F58: 7216096.6 | G58: 13973545 | H58: 6648073.1 | I58: 0 | J58: 4192063.5 | K58: 1994421.9 | L58: 9781481.5 | M58: =+G58-J58 -> 9781481.5 | N58: =+H58-K58 -> 4653651.2 | O58: =+I58-L58 -> -9781481.5
A59: ԲԳԿ | C59: ՀՀ կրթության, գիտության, մշակույթի և սպորտի նախարարություն | D59: =+D60 -> 1647593.6 | E59: =+E60 -> 3909309.6 | F59: =+F60 -> 2820139.6 | G59: =+G60 -> 0 | H59: =+H60 -> 0 | I59: =+I60 -> 0 | J59: =+J60 -> 0 | K59: =+K60 -> 0 | ... O59: =+O60 -> 0
A60: 1192 | C60: Կրթության որակի ապահովում | D60: =+D61 -> 1647593.6 | E60: =+E61 -> 3909309.6 | F60: =+F61 -> 2820139.6 | G60: =+G61 -> 0 | H60: =+H61 -> 0 | I60: =+I61 -> 0 | J60: =+J61 -> 0 | K60: =+K61 -> 0 | ... O60: =+O61 -> 0
B61: 32002 | C61: Համաշխարհային բանկի աջակցությամբ իրականացվող «Կրթության բարելավման ծրագիր» ծրագրի շրջանակներում կապիտալ ներդրումներ ավագ, միջնակարգ և հիմնական դպրոցներում և կրթության ոլորտի կազմակերպություններում /ԿՏԱԿ/ | D61: 1647593.6 | E61: 3909309.6 | F61: 2820139.6 | G61: 0 | H61: 0 | I61: 0 | M61: =+G61-J61 -> 0 | N61: =+H61-K61 -> 0 | O61: =+I61-L61 -> 0
A62: ԲԳԿ | C62: ՀՀ պաշտպանության նախարարություն | D62: =+D63 -> 31389006 | E62: =+E63 -> 0 | F62: =+F63 -> 0 | G62: =+G63 -> 0 | H62: =+H63 -> 0 | I62: =+I63 -> 0 | J62: =+J63 -> 0 | K62: =+K63 -> 0 | ... O62: =+O63 -> 0
A63: 1169 | C63: ՀՀ պաշտպանության ապահովում | D63: =+D64 -> 31389006 | E63: =+E64 -> 0 | F63: =+F64 -> 0 | G63: =+G64 -> 0 | H63: =+H64 -> 0 | I63: =+I64 -> 0 | J63: =+J64 -> 0 | K63: =+K64 -> 0 | ... O63: =+O64 -> 0
B64: 31006 | C64: Ռուսաստանի Դաշնության կողմից տրամադրված պետական արտահանման երկրորդ վարկի հաշվին ռուսական արտադրության անհրաժեշտ ինժեներական և ավտոմոբիլային տեխնիկայով ապահովում | D64: 31389006 | E64: 0 | F64: 0 | G64: 0 | H64: 0 | I64: 0 | M64: =+G64-J64 -> 0 | N64: =+H64-K64 -> 0 | O64: =+I64-L64 -> 0
A65: ԲԳԿ | C65: ՀՀ աշխատանքի և սոցիալական հարցերի նախարարություն | D65: =+D66 -> 464922.7 | E65: =+E66 -> 1208284.9 | F65: =+F66 -> 1209529 | G65: =+G66 -> 2458937.6 | H65: =+H66 -> 0 | I65: =+I66 -> 0 | J65: =+J66 -> 737681.28 | K65: =+K66 -> 1721256.3 | ... O65: =+O66 -> 0
A66: 1206 | C66: Սոցիալական պաշտպանության համակարգի բարեփոխումներ | D66: =+D67+D68 -> 464922.7 | E66: =+E67+E68 -> 1208284.9 | F66: =+F67+F68 -> 1209529 | G66: =+G67+G68 -> 2458937.6 | H66: =+H67+H68 -> 0 | I66: =+I67+I68 -> 0 | J66: =+J67+J68 -> 737681.28 | K66: =+K67+K68 -> 1721256.3 | ... O66: =+O67+O68 -> 0
B67: 32001 | C67: Համաշխարհային բանկի աջակցությամբ իրականացվող Սոցիալական պաշտպանության ոլորտի վարչարարության երկրորդ ծրագրի շրջանակներում շենքերի և շինությունների հիմնանորոգում | D67: 407237.9 | E67: 793446.98 | F67: 598313.1 | G67: 1508487.6 | H67: 0 | I67: 0 | J67: 452546.28 | K67: 1055941.3 | L67: 0 | M67: =+G67-J67 -> 1055941.3 | N67: =+H67-K67 -> -1055941.3 | O67: =+I67-L67 -> 0
B68: 32002 | C68: Համաշխարհային բանկի աջակցությամբ իրականացվող Սոցիալական պաշտպանության վարչարարության երկրորդ ծրագրի շրջանակներում սարքավորումների, ծրագրային ապահովման և աշխատանքային միջավայրի արդիականացում | D68: 57684.8 | E68: 414837.95 | F68: 611215.9 | G68: 950450 | H68: 0 | I68: 0 | J68: 285135 | K68: 665315 | L68: 0 | M68: =+G68-J68 -> 665315 | N68: =+H68-K68 -> -665315 | O68: =+I68-L68 -> 0
A69: ԲԳԿ | C69: ՀՀ պետական եկամուտների կոմիտե | D69: =+D70 -> 0 | E69: =+E70 -> 0 | F69: =+F70 -> 1613338.6 | G69: =+G70 -> 3596962.3 | H69: =+H70 -> 3596962.3 | I69: =+I70 -> 0 | J69: =+J70 -> 359696.23 | K69: =+K70 -> 1079088.7 | ... O69: =+O70 -> -3237266.1
A70: 1023 | C70: Հարկային և մաքսային ծառայություններ | D70: =+D71 -> 0 | E70: =+E71 -> 0 | F70: =+F71 -> 1613338.6 | G70: =+G71 -> 3596962.3 | H70: =+H71 -> 3596962.3 | I70: =+I71 -> 0 | J70: =+J71 -> 359696.23 | K70: =+K71 -> 1079088.7 | ... O70: =+O71 -> -3237266.1
B71: 31007 | C71: ՀՀ պետական եկամուտների կոմիտեի նոր շենքային պայմանների ապահովում | D71: 0 | E71: 0 | F71: 1613338.6 | G71: 3596962.3 | H71: 3596962.3 | I71: 0 | J71: 359696.23 | K71: 1079088.7 | L71: 3237266.1 | M71: =+G71-J71 -> 3237266.1 | N71: =+H71-K71 -> 2517873.6 | O71: =+I71-L71 -> -3237266.1
C72: Այլ, որոնք 2020թ.ից տեղափոխվել են դեֆիցիդ | D72: 3733283.2

Sheet մակրո-ֆիսկալ
A2: Հարկաբյուջետային շրջանակ
B3: 2008 | C3: 2009 | D3: 2010 | E3: 2011 | F3: 2012 | G3: 2013 | H3: 2014 | I3: 2015 | J3: 2016 | K3: 2017 | L3: 2018 | M3: 2019 | N3: 2020 | O3: 2021 | P3: 2022 | Q3: 2023
A4: Անվանական ՀՆԱ, մլրդ դրամ | B4: 3805.2387 | C4: 3350.3277 | D4: 3690.0385 | E4: 4028.8867 | F4: 4266.4605 | G4: 4555.6382 | H4: 4828.6263 | I4: 5043.6332 | J4: 5067.2935 | K4: 5568.9015 | L4: 6017.0352 | M4: 6569 | N4: 6505.051 | O4: 7142.9647 | P4: 7853.4976 | Q4: 8582.4864
A5: Իրական ՀՆԱ-ի աճ, % | B5: 106.94765 | C5: 85.850011 | D5: 102.21511 | E5: 104.65076 | F5: 107.15905 | G5: 103.25175 | H5: 103.64421 | I5: 103.23568 | J5: 100.15571 | K5: 107.53886 | L5: 105.23668 | M5: 107.6 | N5: 97.4 | O5: 107 | P5: 106.4 | Q5: 105.1
A6: ՀՆԱ-ի դեֆլյատոր | B6: 105.94234 | C6: 102.55694 | D6: 107.75279 | E6: 104.33061 | F6: 98.82204 | G6: 103.41513 | H6: 102.26555 | I6: 101.17892 | J6: 100.31292 | K6: 102.11373 | L6: 102.54735 | M6: 101.5 | N6: 101.7 | O6: 102.7 | P6: 103.4 | Q6: 104
A7: Անվանական ՀՆԱ-ի աճ, % | C7: =C4/B4*100-100 -> -11.95486 | D7: =D4/C4*100-100 -> 10.139627 | E7: =E4/D4*100-100 -> 9.1827828 | F7: =F4/E4*100-100 -> 5.8967604 | G7: =G4/F4*100-100 -> 6.7779299 | H7: =H4/G4*100-100 -> 5.992313 | I7: =I4/H4*100-100 -> 4.452755 | J7: =J4/I4*100-100 -> 0.46911223 | ... Q7: =Q4/P4*100-100 -> 9.2823456
A9: Պետական բյուջե, % ՀՆԱ-ի նկատմամբ
A10: Պետական բյուջեի եկամուտներ և պաշտոնական դրամաշնորհներ | B10: =+B24/B4*100 -> 20.638791 | C10: =+C24/C4*100 -> 20.594854 | D10: =+D24/D4*100 -> 21.149899 | E10: =+E24/E4*100 -> 21.863385 | F10: =+F24/F4*100 -> 22.177478 | G10: =+G24/G4*100 -> 23.517465 | H10: =+H24/H4*100 -> 23.707835 | I10: =+I24/I4*100 -> 23.152834 | ... M10: =+M24/M4*100 -> 23.831225 | N10: =+N24/N$4*100 -> 22.884724 | O10: =+O24/O$4*100 -> 23.377714 | P10: =+P24/P$4*100 -> 24.013939 | Q10: =+Q24/Q$4*100 -> 24.268769
A11: Հարկային եկամուտներ | B11: =+B25/B4*100 -> 19.081465 | C11: =+C25/C4*100 -> 18.662743 | D11: =+D25/D4*100 -> 18.954678 | E11: =+E25/E4*100 -> 19.295892 | F11: =+F25/F4*100 -> 20.588059 | G11: =+G25/G4*100 -> 21.971267 | H11: =+H25/H4*100 -> 22.037704 | I11: =+I25/I4*100 -> 21.173006 | ... M11: =+M25/M4*100 -> 22.291064 | N11: =+N25/N$4*100 -> 21.458799 | O11: =+O25/O$4*100 -> 22.40417 | P11: =+P25/P$4*100 -> 23.169982 | Q11: =+Q25/Q$4*100 -> 23.618525
A12: Ոչ հարկային եկամուտներ և պաշտոնական դրամաշնորհներ | B12: =+B26/B4*100 -> 1.5573259 | C12: =+C26/C4*100 -> 1.9321106 | D12: =+D26/D4*100 -> 2.1952213 | E12: =+E26/E4*100 -> 2.5674922 | F12: =+F26/F4*100 -> 1.5894196 | G12: =+G26/G4*100 -> 1.5461978 | H12: =+H26/H4*100 -> 1.6701302 | I12: =+I26/I4*100 -> 1.9798279 | ... M12: =+M26/M4*100 -> 1.5401607 | N12: =+N26/N$4*100 -> 1.4259249 | O12: =+O26/O$4*100 -> 0.97354436 | P12: =+P26/P$4*100 -> 0.84395743 | Q12: =+Q26/Q$4*100 -> 0.65024362
A14: Ծախսեր | B14: =B10-B19 -> 20.638791 | C14: =C10-C19 -> 20.594854 | D14: =D10-D19 -> 21.149899 | E14: =E10-E19 -> 21.863385 | F14: =F10-F19 -> 22.177478 | G14: =G10-G19 -> 23.517465 | H14: =H10-H19 -> 23.707835 | I14: =I10-I19 -> 23.152834 | ... M14: =M10-M19 -> 24.804945 | N14: =+N28/N$4*100 -> 28.442479 | O14: =+O28/O$4*100 -> 26.168602 | P14: =+P28/P$4*100 -> 25.798971 | Q14: =+Q28/Q$4*100 -> 26.116241
A15: Ընթացիկ ծախսեր | J15: =J29/J$4*100 -> 25.295338 | K15: =K29/K$4*100 -> 22.759187 | L15: =L29/L$4*100 -> 21.588337 | M15: =M29/M$4*100 -> 21.877651 | N15: =+N29/N$4*100 -> 25.026265 | O15: =+O29/O$4*100 -> 22.829843 | P15: =+P29/P$4*100 -> 21.648354 | Q15: =+Q29/Q$4*100 -> 21.402842
A16: Ընթացիկ ծախսեր առանց տոկոսավճարների | K16: =K30/K$4*100 -> 20.566469 | L16: =L30/L$4*100 -> 19.277982 | M16: =M30/M$4*100 -> 19.479224 | N16: =+N30/N$4*100 -> 22.42552 | O16: =+O30/O$4*100 -> 20.229404 | P16: =+P30/P$4*100 -> 18.953781 | Q16: =+Q30/Q$4*100 -> 18.643085
A17: Տոկոսավճարներ | K17: =K31/K$4*100 -> 2.1927179 | L17: =L31/L$4*100 -> 2.3103554 | M17: =M31/M$4*100 -> 2.3984275 | N17: =+N31/N$4*100 -> 2.5629808 | O17: =+O31/O$4*100 -> 2.6004391 | P17: =+P31/P$4*100 -> 2.694573 | Q17: =+Q31/Q$4*100 -> 2.7597569
A18: Կապիտալ ծախսեր | J18: 3.2928894 | K18: 4.2766604 | L18: =L32/L$4*100 -> 2.4614306 | M18: =M32/M$4*100 -> 2.9272943 | N18: =+N32/N$4*100 -> 3.4162142 | O18: =+O32/O$4*100 -> 3.3387588 | P18: =+P32/P$4*100 -> 4.150617 | Q18: =+Q32/Q$4*100 -> 4.7133991
A19: Պետական բյուջեի դեֆիցիտ (-) / պրոֆիցիտ (+) | J19: =+J33/J4*100 -> -5.4852969 | K19: =+K33/K4*100 -> -4.7948678 | L19: =+L33/L4*100 -> -1.7515673 | M19: =+M33/M4*100 -> -0.97372055 | N19: =+N33/N$4*100 -> -5.5577557 | O19: =+O33/O$4*100 -> -2.7908882 | P19: =+P33/P$4*100 -> -1.7850324 | Q19: =+Q33/Q$4*100 -> -1.8474719
A20: Կառավարության պարտք | L20: =+L34/L4*100 -> 51.23564 | M20: =+M34/M4*100 -> 49.911368
B22: 2008 | C22: 2009 | D22: 2010 | E22: 2011 | F22: 2012 | G22: 2013 | H22: 2014 | I22: 2015 | J22: 2016 | K22: 2017 | L22: 2018 | M22: 2019 | N22: 2020 | O22: 2021 | P22: 2022 | Q22: 2023
A23: Պետական բյուջեի, մլրդ դրամ
A24: Պետական բյուջեի եկամուտներ և պաշտոնական դրամաշնորհներ | B24: 785.35524 | C24: 689.9951 | D24: 780.43943 | E24: 880.85099 | F24: 946.19334 | G24: 1071.3706 | H24: 1144.7627 | I24: 1167.744 | J24: 1171.1073 | K24: 1237.7808 | L24: 1341.6906 | M24: 1565.4732 | N24: 1488.6629 | O24: 1669.8619 | P24: 1885.9341 | Q24: 2082.8638
A25: Հարկային եկամուտներ | B25: 726.09528 | C25: 625.26306 | D25: 699.43492 | E25: 777.40964 | F25: 878.38138 | G25: 1000.9314 | H25: 1064.1184 | I25: 1067.8888 | J25: 1079.6891 | K25: 1157.9884 | L25: 1258.1212 | M25: 1464.3 | N25: 1395.9058 | O25: 1600.3219 | P25: 1819.6539 | Q25: 2027.0567
A26: Ոչ հարկային եկամուտներ և պաշտոնական դրամաշնորհներ | B26: =+B24-B25 -> 59.259966 | C26: =+C24-C25 -> 64.732038 | D26: =+D24-D25 -> 81.004511 | E26: =+E24-E25 -> 103.44135 | F26: =+F24-F25 -> 67.811961 | G26: =+G24-G25 -> 70.439178 | H26: =+H24-H25 -> 80.644346 | I26: =+I24-I25 -> 99.855259 | ... L26: =+L24-L25 -> 83.569413 | M26: 101.17316 | N26: 92.757139 | O26: =O24-O25 -> 69.53993 | P26: =P24-P25 -> 66.280176 | Q26: =Q24-Q25 -> 55.80707
A28: Ծախսեր | J28: 1449.0634 | K28: 1504.8022 | L28: 1447.083 | M28: 1629.4369 | N28: =N29+N32 -> 1850.1978 | O28: =O29+O32 -> 1869.214 | P28: =P29+P32 -> 2026.1216 | Q28: =Q29+Q32 -> 2241.4228
A29: Ընթացիկ ծախսեր | J29: 1281.789 | K29: 1267.4367 | L29: 1298.9779 | M29: 1437.1429 | N29: 1627.9713 | O29: =O30+O31 -> 1630.7277 | P29: =+P30+P31 -> 1700.153 | Q29: =+Q30+Q31 -> 1836.896
A30: Ընթացիկ ծախսեր առանց տոկոսավճարների | J30: =(J29-J31) -> 1183.5128 | K30: =(K29-K31) -> 1145.3264 | L30: =(L29-L31) -> 1159.963 | M30: 1279.5902 | N30: 1458.7915 | O30: 1444.9792 | P30: 1488.5348 | Q30: 1600.0402
A31: Տոկոսավճարներ | I31: 74.083379 | J31: 98.276218 | K31: 122.1103 | L31: 139.0149 | M31: 157.5527 | N31: 166.72321 | O31: =185.498448155323+0.25 -> 185.74845 | P31: =211.218227260232+0.4 -> 211.61823 | Q31: =236.565761953305+0.29 -> 236.85576
A32: Կապիտալ ծախսեր | J32: 167.27432 | K32: 237.36555 | L32: 148.10515 | M32: 192.29396 | N32: 222.22647 | O32: 238.48636 | P32: 325.9686 | Q32: 404.52684
A33: Պետական բյուջեի դեֆիցիտ (-) / պրոֆիցիտ (+) | J33: =+J24-J28 -> -277.95609 | K33: =+K24-K28 -> -267.02146 | L33: =+L24-L28 -> -105.39242 | M33: =+M24-M28 -> -63.963703 | N33: =+N24-N28 -> -361.53485 | O33: =+O24-O28 -> -199.35216 | P33: =+P24-P28 -> -140.18748 | Q33: =+Q24-Q28 -> -158.55903
A34: Կառավարության պարտք | J34: 2631.3899 | K34: 2988.3796 | L34: 3082.8665 | M34: 3278.6778
