Workbook
Name BOP: #REF!
Name BOPfoot: #REF!
Name DebtCG: #REF!
Name DebtGG: #REF!
Name MonExo: #REF!
Name MonGrow: #REF!
Name RealExo: #REF!
Name RealPercent: #REF!
Name Table_2._Turkey__Exogenous_assumptions: #REF!
Name vlom: #REF!
Name Z_248BE2BA_E445_11D3_BFE0_00003960F508_.wvu.Cols: #REF!
Name վարի: #REF!
Name տնտ: #REF!

Sheet ամփոփ կապիտալ
B1: ՏԵՂԵԿԱՆՔ
B2: 2022-2024թթ. ՄԺԾԾ հայտերի, չափաքանակների ՖՆ առաջարկի վերաբերյալ
P4: հազար դրամ
C5: 2019թ. Փաստ | D5: 2020թ. Փաստ | E5: ՄԺԾԾ Հայտ | H5: ՄԺԾԾ Չափաքանակ | K5: ՄԺԾԾ ՖՆ առաջարկ | N5: Տարբերություն ՖՆ/Չափաքանակ
E6: 2022թ. | F6: 2023թ. | G6: 2024թ. | H6: 2022թ. | I6: 2023թ. | J6: 2024թ. | K6: 2022թ. | L6: 2023թ. | M6: 2024թ. | N6: 2022թ. | O6: 2023թ. | P6: 2024թ.
B7: Կապիտալ, այդ թվում | C7: =+C8+C9+C11 -> 1.8785481e+08 | D7: =+D8+D9+D11 -> 2.2769831e+08 | E7: =+E8+E9+E11 -> 4.4948091e+08 | F7: =+F8+F9+F11 -> 3.5671133e+08 | G7: =+G8+G9+G11 -> 2.963389e+08 | H7: 2.9257006e+08 | I7: 3.081078e+08 | J7: 3.5391137e+08 | K7: =+K8+K9+K11 -> 92637862 | L7: =+L8+L9+L11 -> 1.2358786e+08 | M7: =+M8+M9+M11 -> 1.339647e+08 | N7: =+K7-H7 -> -1.999322e+08 | O7: =+L7-I7 -> -1.8451994e+08 | P7: =+M7-J7 -> -2.1994667e+08
A8: 1 | B8: վարկային միջոցոցով | C8: =+'վարկ կապիտալ '!D9 -> 62560399 | D8: =+'վարկ կապիտալ '!E9 -> 42478693 | E8: =+'վարկ կապիտալ '!G9 -> 1.8296152e+08 | F8: =+'վարկ կապիտալ '!H9 -> 1.1779022e+08 | G8: =+'վարկ կապիտալ '!I9 -> 62085836 | K8: 46880123 | L8: 95073318 | M8: 1.1750234e+08
A9: 2 | B9: ներքին աղբյուրներից, այդ թվում | C9: =+'ներքին կապիտալ'!F9 -> 1.2138648e+08 | D9: =+'ներքին կապիտալ'!G9 -> 1.8343276e+08 | E9: =+'ներքին կապիտալ'!I9 -> 2.3911807e+08 | F9: =+'ներքին կապիտալ'!J9 -> 2.2457304e+08 | G9: =+'ներքին կապիտալ'!K9 -> 2.2785281e+08 | K9: =+'ներքին կապիտալ'!L9 -> 25036707 | L9: =+'ներքին կապիտալ'!M9 -> 10207898 | M9: =+'ներքին կապիտալ'!N9 -> 8106180.6
B10: ուժային կառույցի գծով | C10: 82958395 | D10: 1.4039091e+08 | E10: =+'ներքին կապիտալ'!I187 -> 97903644 | F10: =+'ներքին կապիտալ'!J187 -> 98972371 | G10: =+'ներքին կապիտալ'!K187 -> 98972371 | K10: =+'ներքին կապիտալ'!L187 -> 0 | L10: =+'ներքին կապիտալ'!M187 -> 0 | M10: =+'ներքին կապիտալ'!N187 -> 0
A11: 3 | B11: դրամաշնորհ | C11: 3907929.6 | D11: 1786863.7 | E11: 27401321 | F11: 14348081 | G11: 6400254.1 | K11: 20721032 | L11: 18306644 | M11: 8356183.9

Sheet ներքին կապիտալ
C1: ՏԵՂԵԿԱՆՔ
C2: 2022-2024թթ. ՄԺԾԾ հայտերով ներկայացված պետական բյուջեի ներքին աղբյուրներից ֆինանսավորվող կապիտալ ծախսերի, ՖՆ առաջարկի վերաբերյալ
Q4: հազար դրամ
A5: նոր միջոցառումներ | C5: Ծրագիր | D5: Միջոցառում | E5: ԲԳԿ/Ծրագիր/Միջոցառում | F5: 2019 թ. փաստ | G5: 2020թ. Փաստ | H5: 2021թ. ՀՀ պետական բյուջե | I5: ՄԺԾԾ հայտ | L5: ՄԺԾԾ ՖՆ առաջարկ | O5: Տարբերություն Հայտ/ՖՆ առաջարկ
I6: 2022թ. | J6: 2023թ. | K6: 2024թ. | L6: 2022թ. | M6: 2023թ. | N6: 2024թ. | O6: 2022թ. | P6: 2023թ. | Q6: 2024թ.
C7: 1 | D7: 2 | E7: 3 | F7: 4 | G7: 5 | H7: 6 | I7: 7 | J7: 8 | K7: 9 | L7: 10 | M7: 11 | N7: 12 | O7: 13 | P7: 14 | Q7: 15
B9: ԲԳԿ | E9: ԸՆԴԱՄԵՆԸ | F9: =+F10+F13+F18+F29+F32+F37+F40+F72+F76+F101+F106+F111+F119+F187+F193+F200+F205+F208+F219+F224+F228+F231+F248+F251+F262+F272+F279+F283+F286+F289+F292+F295+F304+F307+F310+F313+F316+F319+F322+F325+F328+F331+F334+F337+F340 -> 1.2138648e+08 | G9: =+G10+G13+G18+G29+G32+G37+G40+G72+G76+G101+G106+G111+G119+G187+G193+G200+G205+G208+G219+G224+G228+G231+G248+G251+G262+G272+G279+G283+G286+G289+G292+G295+G304+G307+G310+G313+G316+G319+G322+G325+G328+G331+G334+G337+G340 -> 1.8343276e+08 | H9: =+H10+H13+H18+H29+H32+H37+H40+H72+H76+H101+H106+H111+H119+H187+H193+H200+H205+H208+H219+H224+H228+H231+H248+H251+H262+H272+H279+H283+H286+H289+H292+H295+H304+H307+H310+H313+H316+H319+H322+H325+H328+H331+H334+H337+H340 -> 1.3300912e+08 | I9: =+I10+I13+I18+I29+I32+I37+I40+I72+I76+I101+I106+I111+I119+I187+I193+I200+I205+I208+I219+I224+I228+I231+I248+I251+I262+I272+I279+I283+I286+I289+I292+I295+I304+I307+I310+I313+I316+I319+I322+I325+I328+I331+I334+I337+I340 -> 2.3911807e+08 | J9: =+J10+J13+J18+J29+J32+J37+J40+J72+J76+J101+J106+J111+J119+J187+J193+J200+J205+J208+J219+J224+J228+J231+J248+J251+J262+J272+J279+J283+J286+J289+J292+J295+J304+J307+J310+J313+J316+J319+J322+J325+J328+J331+J334+J337+J340 -> 2.2457304e+08 | K9: =+K10+K13+K18+K29+K32+K37+K40+K72+K76+K101+K106+K111+K119+K187+K193+K200+K205+K208+K219+K224+K228+K231+K248+K251+K262+K272+K279+K283+K286+K289+K292+K295+K304+K307+K310+K313+K316+K319+K322+K325+K328+K331+K334+K337+K340 -> 2.2785281e+08 | L9: =+L10+L13+L18+L29+L32+L37+L40+L72+L76+L101+L106+L111+L119+L187+L193+L200+L205+L208+L219+L224+L228+L231+L248+L251+L262+L272+L279+L283+L286+L289+L292+L295+L304+L307+L310+L313+L316+L319+L322+L325+L328+L331+L334+L337+L340 -> 25036707 | M9: =+M10+M13+M18+M29+M32+M37+M40+M72+M76+M101+M106+M111+M119+M187+M193+M200+M205+M208+M219+M224+M228+M231+M248+M251+M262+M272+M279+M283+M286+M289+M292+M295+M304+M307+M310+M313+M316+M319+M322+M325+M328+M331+M334+M337+M340 -> 10207898 | N9: =+N10+N13+N18+N29+N32+N37+N40+N72+N76+N101+N106+N111+N119+N187+N193+N200+N205+N208+N219+N224+N228+N231+N248+N251+N262+N272+N279+N283+N286+N289+N292+N295+N304+N307+N310+N313+N316+N319+N322+N325+N328+N331+N334+N337+N340 -> 8106180.6 | O9: =+O10+O13+O18+O29+O32+O37+O40+O72+O76+O101+O106+O111+O119+O187+O193+O200+O205+O208+O219+O224+O228+O231+O248+O251+O262+O272+O279+O283+O286+O289+O292+O295+O304+O307+O310+O313+O316+O319+O322+O325+O328+O331+O334+O337 -> -2.1408136e+08 | P9: =+P10+P13+P18+P29+P32+P37+P40+P72+P76+P101+P106+P111+P119+P187+P193+P200+P205+P208+P219+P224+P228+P231+P248+P251+P262+P272+P279+P283+P286+P289+P292+P295+P304+P307+P310+P313+P316+P319+P322+P325+P328+P331+P334+P337 -> -2.1436514e+08 | Q9: =+Q10+Q13+Q18+Q29+Q32+Q37+Q40+Q72+Q76+Q101+Q106+Q111+Q119+Q187+Q193+Q200+Q205+Q208+Q219+Q224+Q228+Q231+Q248+Q251+Q262+Q272+Q279+Q283+Q286+Q289+Q292+Q295+Q304+Q307+Q310+Q313+Q316+Q319+Q322+Q325+Q328+Q331+Q334+Q337 -> -2.1974663e+08
B10: ԲԳԿ | C10: ԲԳԿ | E10: Հանրապետության նախագահի աշխատակազմ | F10: =+F11 -> 23276.9 | G10: =+G11 -> 68139.4 | H10: =+H11 -> 5000 | I10: =+I11 -> 10000 | J10: =+J11 -> 10000 | K10: =+K11 -> 10000 | L10: =+L11 -> 0 | M10: =+M11 -> 0 | ... Q10: =+Q11 -> -10000
B11: Ծրա | C11: 1154 | E11: Հանրապետության նախագահի լիազորությունների իրականացման ապահովում | F11: =+F12 -> 23276.9 | G11: =+G12 -> 68139.4 | H11: =+H12 -> 5000 | I11: =+I12 -> 10000 | J11: =+J12 -> 10000 | K11: =+K12 -> 10000 | L11: =+L12 -> 0 | M11: =+M12 -> 0 | ... Q11: =+Q12 -> -10000
B12: 5 | D12: 31001 | E12: Հանրապետության նախագահի աշխատակազմի տեխնիկական հագեցվածության բարելավում | F12: 23276.9 | G12: 68139.4 | H12: 5000 | I12: 10000 | J12: 10000 | K12: 10000 | L12: 0 | M12: 0 | N12: 0 | O12: =+L12-I12 -> -10000 | P12: =+M12-J12 -> -10000 | Q12: =+N12-K12 -> -10000
B13: ԲԳԿ | C13: ԲԳԿ | E13: ՀՀ Ազգային ժողով | F13: =+F14 -> 208503.4 | G13: =+G14 -> 166572.87 | H13: =+H14 -> 242695.3 | I13: =+I14 -> 491834.8 | J13: =+J14 -> 1480253.7 | K13: =+K14 -> 1590874 | L13: =+L14 -> 0 | M13: =+M14 -> 0 | ... Q13: =+Q14 -> -1590874
B14: Ծրա | C14: 1024 | E14: ՀՀ Ազգային ժողովի լիազորությունների իրականացման ապահովում | F14: =+F15+F16+F17 -> 208503.4 | G14: =+G15+G16+G17 -> 166572.87 | H14: =+H15+H16+H17 -> 242695.3 | I14: =+I15+I16+I17 -> 491834.8 | J14: =+J15+J16+J17 -> 1480253.7 | K14: =+K15+K16+K17 -> 1590874 | L14: =+L15+L16+L17 -> 0 | M14: =+M15+M16+M17 -> 0 | ... Q14: =+Q15+Q16+Q17 -> -1590874
B15: 5 | D15: 31001 | E15: Ազգային ժողովի տեխնիկական հագեցվածության բարելավում | F15: 207523.4 | G15: 166572.87 | H15: 150000 | I15: 240874 | J15: 240874 | K15: 240874 | L15: 0 | M15: 0 | N15: 0 | O15: =+L15-I15 -> -240874 | P15: =+M15-J15 -> -240874 | Q15: =+N15-K15 -> -240874
B16: 6 | D16: 31003 | E16: ՀՀ Ազգային ժողովի շենքային պայմանների բարելավում | F16: 980 | G16: 0 | H16: 53795.3 | I16: 250960.8 | J16: 39379.7 | K16: 0 | L16: 0 | M16: 0 | N16: 0 | O16: =+L16-I16 -> -250960.8 | P16: =+M16-J16 -> -39379.7 | Q16: =+N16-K16 -> 0
B17: 6 | D17: 31004 | E17: ՀՀ Ազգային ժողովի շենքային ապահովվածության բարելավում | F17: 0 | G17: 0 | H17: 38900 | I17: 0 | J17: 1200000 | K17: 1350000 | L17: 0 | M17: 0 | N17: 0 | O17: =+L17-I17 -> 0 | P17: =+M17-J17 -> -1200000 | Q17: =+N17-K17 -> -1350000
B18: ԲԳԿ | C18: ԲԳԿ | E18: ՀՀ վարչապետի աշխատակազմ | F18: =+F19+F21 -> 246380.72 | G18: =+G19+G21 -> 137926.2 | H18: =+H19+H21 -> 50000 | I18: =+I19+I21 -> 272465 | J18: =+J19+J21 -> 269150 | K18: =+K19+K21 -> 289883.8 | L18: =+L19+L21 -> 0 | M18: =+M19+M21 -> 0 | ... Q18: =+Q19+Q21 -> -289883.8
B19: Ծրա | C19: 1136 | E19: ՀՀ Վարչապետի լիազորությունների իրականացման ապահովում | F19: =+F20 -> 147551.55 | G19: =+G20 -> 57263.1 | H19: =+H20 -> 50000 | I19: =+I20 -> 50000 | J19: =+J20 -> 50000 | K19: =+K20 -> 50000 | L19: =+L20 -> 0 | M19: =+M20 -> 0 | ... Q19: =+Q20 -> -50000
B20: 5 | D20: 31002 | E20: ՀՀ վարչապետի աշխատակազմի տեխնիկական հագեցվածության բարելավում | F20: 147551.55 | G20: 57263.1 | H20: 50000 | I20: 50000 | J20: 50000 | K20: 50000 | L20: 0 | M20: 0 | N20: 0 | O20: =+L20-I20 -> -50000 | P20: =+M20-J20 -> -50000 | Q20: =+N20-K20 -> -50000
B21: Ծրա | C21: 1213 | E21: Տեսչական վերահսկողության ծրագիր | F21: =+F22+F23+F24+F25+F26+F27+F28 -> 98829.17 | G21: =+G22+G23+G24+G25+G26+G27+G28 -> 80663.1 | H21: =+H22+H23+H24+H25+H26+H27+H28 -> 0 | I21: =+I22+I23+I24+I25+I26+I27+I28 -> 222465 | J21: =+J22+J23+J24+J25+J26+J27+J28 -> 219150 | K21: =+K22+K23+K24+K25+K26+K27+K28 -> 239883.8 | L21: =+L22+L23+L24+L25+L26+L27+L28 -> 0 | M21: =+M22+M23+M24+M25+M26+M27+M28 -> 0 | ... Q21: =+Q22+Q23+Q24+Q25+Q26+Q27+Q28 -> -239883.8
B22: 5 | D22: 31001 | E22: Բնապահպանության և ընդերքի տեսչական մարմնի կարողությունների զարգացում և տեխնիկական հագեցվածության ապահովում | F22: 13476.18 | G22: 2379.9 | H22: 0 | I22: 26752 | J22: 25000 | K22: 25000 | L22: 0 | M22: 0 | N22: 0 | O22: =+L22-I22 -> -26752 | P22: =+M22-J22 -> -25000 | Q22: =+N22-K22 -> -25000
B23: 5 | D23: 31002 | E23: Կրթության տեսչական մարմնի կարողությունների զարգացում և տեխնիկական հագեցվածության ապահովում | F23: 2099.7 | G23: 2336.9 | H23: 0 | I23: 3210 | J23: 3000 | K23: 3000 | L23: 0 | M23: 0 | N23: 0 | O23: =+L23-I23 -> -3210 | P23: =+M23-J23 -> -3000 | Q23: =+N23-K23 -> -3000
B24: 5 | D24: 31003 | E24: Շուկայի վերահսկողության տեսչական մարմնի կարողությունների զարգացում և տեխնիկական հագեցվածության ապահովում | F24: 1209.96 | G24: 28400.4 | H24: 0 | I24: 20145 | J24: 20000 | K24: 25000 | L24: 0 | M24: 0 | N24: 0 | O24: =+L24-I24 -> -20145 | P24: =+M24-J24 -> -20000 | Q24: =+N24-K24 -> -25000
B25: 5 | D25: 31004 | E25: Քաղաքաշինության, տեխնիկական և հրդեհային անվտանգության տեսչական մարմնի կարողությունների զարգացում և տեխնիկական հագեցվածության ապահովում | F25: 44163.65 | G25: 37896 | H25: 0 | I25: 25966 | J25: 25000 | K25: 30000 | L25: 0 | M25: 0 | N25: 0 | O25: =+L25-I25 -> -25966 | P25: =+M25-J25 -> -25000 | Q25: =+N25-K25 -> -30000
B26: 5 | D26: 31005 | E26: Առողջապահության և աշխատանքի տեսչական մարմնի կարողությունների զարգացում և տեխնիկական հագեցվածության ապահովում_x000D_ | F26: 33593.58 | G26: 5654.8 | H26: 0 | I26: 107580 | J26: 107338 | K26: 118071.8 | L26: 0 | M26: 0 | N26: 0 | O26: =+L26-I26 -> -107580 | P26: =+M26-J26 -> -107338 | Q26: =+N26-K26 -> -118071.8
B27: 5 | D27: 31006 | E27: Սննդամթերքի անվտանգության տեսչական մարմնի տեխնիկական հագեցվածության բարելավում | F27: 4286.1 | G27: 3995.1 | H27: 0 | I27: 9812 | J27: 9812 | K27: 9812 | L27: 0 | M27: 0 | N27: 0 | O27: =+L27-I27 -> -9812 | P27: =+M27-J27 -> -9812 | Q27: =+N27-K27 -> -9812
A28: 10 | B28: 5 | D28: Նոր միջոցառում | E28: Սննդամթերքի անվտանգության տեսչական մարմնի տրանսպորտային միջոցի ձեռքբերում | F28: 0 | G28: 0 | H28: 0 | I28: 29000 | J28: 29000 | K28: 29000 | L28: 0 | M28: 0 | N28: 0 | O28: =+L28-I28 -> -29000 | P28: =+M28-J28 -> -29000 | Q28: =+N28-K28 -> -29000
B29: ԲԳԿ | C29: ԲԳԿ | E29: ՀՀ սահմանադրական դատարան | F29: =+F30 -> 5649.48 | G29: =+G30 -> 0 | H29: =+H30 -> 0 | I29: =+I30 -> 0 | J29: =+J30 -> 0 | K29: =+K30 -> 0 | L29: =+L30 -> 0 | M29: =+M30 -> 0 | ... Q29: =+Q30 -> 0
B30: Ծրա | C30: 1092 | E30: ՀՀ սահմանադրական դատարանի գործունեության ապահովում | F30: =+F31 -> 5649.48 | G30: =+G31 -> 0 | H30: =+H31 -> 0 | I30: =+I31 -> 0 | J30: =+J31 -> 0 | K30: =+K31 -> 0 | L30: =+L31 -> 0 | M30: =+M31 -> 0 | ... Q30: =+Q31 -> 0
B31: 5 | D31: 31001 | E31: ՀՀ սահմանադրական դատարանի կարողությունների զարգացում | F31: 5649.48 | G31: 0 | H31: 0 | I31: 0 | J31: 0 | K31: 0 | L31: 0 | M31: 0 | N31: 0 | O31: =+L31-I31 -> 0 | P31: =+M31-J31 -> 0 | Q31: =+N31-K31 -> 0
B32: ԲԳԿ | C32: ԲԳԿ | E32: Բարձրագույն դատական խորհուրդ | F32: =+F33 -> 627129.17 | G32: =+G33 -> 441021.26 | H32: =+H33 -> 0 | I32: =+I33 -> 479006.3 | J32: =+J33 -> 15606 | K32: =+K33 -> 0 | L32: =+L33 -> 0 | M32: =+M33 -> 0 | ... Q32: =+Q33 -> 0
B33: Ծրա | C33: 1080 | E33: Դատական իշխանության գործունեության ապահովում և իրականացում | F33: =+F34+F35+F36 -> 627129.17 | G33: =+G34+G35+G36 -> 441021.26 | H33: =+H34+H35+H36 -> 0 | I33: =+I34+I35+I36 -> 479006.3 | J33: =+J34+J35+J36 -> 15606 | K33: =+K34+K35+K36 -> 0 | L33: =+L34+L35+L36 -> 0 | M33: =+M34+M35+M36 -> 0 | ... Q33: =+Q34+Q35+Q36 -> 0
B34: 5 | D34: 31001 | E34: Բարձրագույն դատական խորհրդի տեխնիկական հագեցվածության բարելավում | F34: 627129.17 | G34: 441021.26 | H34: 0 | I34: 347314.3 | J34: 0 | K34: 0 | L34: 0 | M34: 0 | N34: 0 | O34: =+L34-I34 -> -347314.3 | P34: =+M34-J34 -> 0 | Q34: =+N34-K34 -> 0
B35: 5 | C35: Նոր միջոցառում | D35: 31002 | E35: Բարձրագույն դատական խորհրդի տրանսպորտային սարքավորումների ձեռքբերում | F35: 0 | G35: 0 | H35: 0 | I35: 0 | J35: 0 | K35: 0 | L35: 0 | M35: 0 | N35: 0 | O35: =+L35-I35 -> 0 | P35: =+M35-J35 -> 0 | Q35: =+N35-K35 -> 0
B36: 6 | C36: Նոր միջոցառում | E36: Դատական համակարգի շենքային պայմանների ապահովում | F36: 0 | G36: 0 | H36: 0 | I36: 131692 | J36: 15606 | K36: 0 | L36: 0 | O36: =+L36-I36 -> -131692 | P36: =+M36-J36 -> -15606 | Q36: =+N36-K36 -> 0
B37: ԲԳԿ | C37: ԲԳԿ | E37: ՀՀ դատախազություն | F37: =+F38 -> 43986.17 | G37: =+G38 -> 38678.7 | H37: =+H38 -> 0 | I37: =+I38 -> 0 | J37: =+J38 -> 0 | K37: =+K38 -> 0 | L37: =+L38 -> 0 | M37: =+M38 -> 0 | ... Q37: =+Q38 -> 0
B38: Ծրա | C38: 1087 | E38: Դատավարական ղեկավարում և դատախազական հսկողություն | F38: =+F39 -> 43986.17 | G38: =+G39 -> 38678.7 | H38: =+H39 -> 0 | I38: =+I39 -> 0 | J38: =+J39 -> 0 | K38: =+K39 -> 0 | L38: =+L39 -> 0 | M38: =+M39 -> 0 | ... Q38: =+Q39 -> 0
B39: 5 | D39: 31001 | E39: Դատախազության տեխնիկական հագեցվածության բարելավում | F39: 43986.17 | G39: 38678.7 | H39: 0 | I39: 0 | J39: 0 | K39: 0 | L39: 0 | M39: 0 | N39: 0 | O39: =+L39-I39 -> 0 | P39: =+M39-J39 -> 0 | Q39: =+N39-K39 -> 0
B40: ԲԳԿ | C40: ԲԳԿ | E40: ՀՀ տարածքային կառավարման և ենթակառուցվածքների նախարարություն | F40: =+F41+F43+F49+F52+F57+F59+F61+F63+F55 -> 17579753 | G40: =+G41+G43+G49+G52+G57+G59+G61+G63+G55 -> 28281332 | H40: =+H41+H43+H49+H52+H57+H59+H61+H63+H55 -> 35827160 | I40: =+I41+I43+I49+I52+I57+I59+I61+I63+I55 -> 69767382 | J40: =+J41+J43+J49+J52+J57+J59+J61+J63+J55 -> 63607015 | K40: =+K41+K43+K49+K52+K57+K59+K61+K63+K55 -> 60686090 | L40: =+L41+L43+L49+L52+L57+L59+L61+L63+L55 -> 2009428.9 | M40: =+M41+M43+M49+M52+M57+M59+M61+M63+M55 -> 1829828.9 | ... Q40: =+Q41+Q43+Q49+Q52+Q57+Q59+Q61+Q63+Q55 -> -59786090
B41: Ծրա | C41: 1001 | E41: Տարածքային կառավարման ոլորտում քաղաքականության մշակում, ծրագրերի համակարգում և մոնիտորինգի իրականացում | F41: =+F42 -> 14655.34 | G41: =+G42 -> 21550 | H41: =+H42 -> 0 | I41: =+I42 -> 0 | J41: =+J42 -> 0 | K41: =+K42 -> 0 | L41: =+L42 -> 0 | M41: =+M42 -> 0 | ... Q41: =+Q42 -> 0
B42: 5 | D42: 31001 | E42: ՀՀ տարածքային կառավարման և ենթակառուցվածքների նախարարության կարողությունների զարգացում և տեխնիկական հագեցվածության ապահովում | F42: 14655.34 | G42: 21550 | H42: 0 | I42: 0 | J42: 0 | K42: 0 | L42: 0 | M42: 0 | N42: 0 | O42: =+L42-I42 -> 0 | P42: =+M42-J42 -> 0 | Q42: =+N42-K42 -> 0
...

Sheet վարկ կապիտալ 
A1: ՏԵՂԵԿԱՆՔ
A2: 2022-2024թթ. ՄԺԾԾ հայտերով ներկայացված վարկային միջոցների հաշվին ֆինանսավորվող կապիտալ ծախսերի վերաբերյալ
O4: հազար դրամ
A5: Ծրագիր | B5: Միջոցառում | C5: ԲԳԿ/Ծրագիր/Միջոցառում | D5: 2019 թ. փաստ | E5: 2020թ. Փաստ | F5: 2021թ. ՀՀ պետական բյուջե | G5: ՄԺԾԾ հայտ | J5: ՄԺԾԾ առաջարկ | M5: Տարբերություն Հայտ/ՖՆ առաջարկ
G6: 2022թ. | H6: 2023թ. | I6: 2024թ. | J6: 2022թ. | K6: 2023թ. | L6: 2024թ. | M6: 2022թ. | N6: 2023թ. | O6: 2024թ.
A7: 1 | B7: 2 | C7: 3 | D7: 4 | E7: 5 | F7: 6 | G7: 7 | H7: 9 | I7: 11 | J7: 7 | K7: 9 | L7: 11 | M7: 7 | N7: 9 | O7: 11
C9: ԸՆԴԱՄԵՆԸ | D9: =+D10+D16+D47+D52+D59+D62+D65+D69+D72 -> 62560399 | E9: =+E10+E16+E47+E52+E59+E62+E65+E69 -> 42478693 | F9: =+F10+F16+F47+F52+F59+F62+F65+F69 -> 63865404 | G9: =+G10+G16+G47+G52+G59+G62+G65+G69 -> 1.8296152e+08 | H9: =+H10+H16+H47+H52+H59+H62+H65+H69 -> 1.1779022e+08 | I9: =+I10+I16+I47+I52+I59+I62+I65+I69 -> 62085836 | J9: =+J10+J16+J47+J52+J59+J62+J65+J69 -> 46880123 | K9: =+K10+K16+K47+K52+K59+K62+K65+K69 -> 95073318 | L9: =+L10+L16+L47+L52+L59+L62+L65+L69 -> 1.1750234e+08 | ... O9: =+O10+O16+O47+O52+O59+O62+O65+O69 -> -55416503
A10: ԲԳԿ | C10: ՀՀ վարչապետի աշխատակազմ | D10: =+D11+D13 -> 1047315.4 | E10: =+E11+E13 -> 1991163 | F10: =+F11+F13 -> 8095322.1 | G10: =+G11+G13 -> 7076546.7 | H10: =+H11+H13 -> 0 | I10: =+I11+I13 -> 0 | J10: =+J11+J13 -> 1473928.4 | K10: =+K11+K13 -> 5602618.1 | ... O10: =+O11+O13 -> 0
A11: 1018 | C11: Պետական հատվածի արդիականացման ծրագիր | D11: =+D12 -> 1047315.4 | E11: =+E12 -> 1773108.1 | F11: =+F12 -> 2362077.3 | G11: =+G12 -> 3831368.8 | H11: =+H12 -> 0 | I11: =+I12 -> 0 | J11: =+J12 -> 1149410.6 | K11: =+K12 -> 2681958.1 | ... O11: =+O12 -> 0
B12: 32001 | C12: Համաշխարհային բանկի աջակցությամբ իրականացվող Պետական հատվածի արդիականացման երրորդ ծրագրի շրջանակներում էլեկտրոնային կառավարման համակարգերի և սարքավորումների ձեռքբերում | D12: 1047315.4 | E12: 1773108.1 | F12: 2362077.3 | G12: 3831368.8 | H12: 0 | I12: 0 | J12: 1149410.6 | K12: 2681958.1 | M12: =+G12-J12 -> 2681958.2 | N12: =+H12-K12 -> -2681958.1 | O12: =+I12-L12 -> 0
A13: 1136 | C13: ՀՀ Վարչապետի լիազորությունների իրականացման ապահովում | D13: =+D14+D15 -> 0 | E13: =+E14+E15 -> 218054.9 | F13: =+F14+F15 -> 5733244.8 | G13: =+G14+G15 -> 3245177.9 | H13: =+H14+H15 -> 0 | I13: =+I14+I15 -> 0 | J13: =+J14+J15 -> 324517.79 | K13: =+K14+K15 -> 2920660 | ... O13: =+O14+O15 -> 0
B14: 31003 | C14: Համաշխարհային բանկի աջակցությամբ իրականացվող առևտրի և ենթակառուցվածքների զարգացման ծրագրի շրջանակներում շենքերի և շինությունների շինարարություն և հիմնանորոգում | D14: 0 | E14: 0 | F14: 3484414.9 | G14: 1801947.8 | H14: 0 | I14: 0 | J14: 180194.78 | K14: 1621753 | M14: =+G14-J14 -> 1621753 | N14: =+H14-K14 -> -1621753 | O14: =+I14-L14 -> 0
B15: 31004 | C15: Համաշխարհային բանկի աջակցությամբ իրականացվող առևտրի և ենթակառուցվածքների զարգացման ծրագրի շրջանակներում սարքավորումների ձեռքբերում | D15: 0 | E15: 218054.9 | F15: 2248829.9 | G15: 1443230.1 | H15: 0 | I15: 0 | J15: 144323.01 | K15: 1298907 | M15: =+G15-J15 -> 1298907.1 | N15: =+H15-K15 -> -1298907 | O15: =+I15-L15 -> 0
A16: ԲԳԿ | C16: ՀՀ տարածքային կառավարման և ենթակառուցվածքների նախարարություն | D16: =+D17+D24+D27+D36+D41+D45 -> 21723831 | E16: =+E17+E24+E27+E36+E41+E45 -> 30039725 | F16: =+F17+F24+F27+F36+F41+F45 -> 40225003 | G16: =+G17+G24+G27+G36+G41+G45 -> 1.530412e+08 | H16: =+H17+H24+H27+H36+H41+H45 -> 1.0583406e+08 | I16: =+I17+I24+I27+I36+I41+I45 -> 62085836 | J16: =+J17+J24+J27+J36+J41+J45 -> 39272453 | K16: =+K17+K24+K27+K36+K41+K45 -> 82340396 | ... O16: =+O17+O24+O27+O36+O41+O45 -> -42397755
A17: 1004 | C17: Ոռոգման համակարգի առողջացում | D17: =+D18+D19+D20+D21+D22+D23 -> 4522982.5 | E17: =+E18+E19+E20+E21+E22+E23 -> 8300914.9 | F17: =+F18+F19+F20+F21+F22+F23 -> 9635552.4 | G17: =+G18+G19+G20+G21+G22+G23 -> 32301953 | H17: =+H18+H19+H20+H21+H22+H23 -> 21691243 | I17: =+I18+I19+I20+I21+I22+I23 -> 8355581.9 | J17: =+J18+J19+J20+J21+J22+J23 -> 9690585.8 | K17: =+K18+K19+K20+K21+K22+K23 -> 25268413 | ... O17: =+O18+O19+O20+O21+O22+O23 -> 5848907.3
B18: 12002 | C18: Գերմանիայի զարգացման բանկի աջակցությամբ իրականացվող Ախուրյան գետի ջրային ռեսուրսների ինտեգրված կառավարման փուլ 1 ծրագրով Ջրաձոր գյուղի վերաբնակեցման համար ենթակառուցվածքների և բնակելի տների կառուցում | D18: 0 | E18: 0 | F18: 988306.3 | G18: 1220944.4 | H18: 1065004.8 | I18: 148313.7 | J18: 366283.32 | K18: 1053870.7 | L18: 44494.11 | M18: =+G18-J18 -> 854661.08 | N18: =+H18-K18 -> 11134.1 | O18: =+I18-L18 -> 103819.59
B19: 31001 | C19: Ֆրանսիայի Հանրապետության կառավարության աջակցությամբ իրականացվող Վեդու ջրամբարի կառուցում | D19: 2892415.7 | E19: 3568764.4 | F19: 2880802.1 | G19: 11490405 | H19: 2597312.9 | I19: 0 | J19: 3447121.5 | K19: 10627242 | M19: =+G19-J19 -> 8043283.4 | N19: =+H19-K19 -> -8029928.8 | O19: =+I19-L19 -> 0
B20: 31003 | C20: Համաշխարհային բանկի աջակցությամբ իրականացվող ոռոգման համակարգերի արդյունավետության բարձրացման ծրագիր | D20: 0 | E20: 107509.49 | F20: 0 | G20: 0 | H20: 0 | I20: 0 | M20: =+G20-J20 -> 0 | N20: =+H20-K20 -> 0 | O20: =+I20-L20 -> 0
B21: 31004 | C21: Գերմանիայի զարգացման վարկերի բանկի աջակցությամբ իրականացվող Ախուրյան գետի ջրային ռեսուրսների ինտեգրված կառավարման ծրագրի շրջանակներում ջրային տնտեսության ենթակառուցվածքների հիմնանորոգում | D21: 0 | E21: 0 | F21: 2245414.1 | G21: 11206881 | H21: 14728901 | I21: 3154141.2 | J21: 3362064.3 | K21: 4418670.2 | L21: 946242.36 | M21: =+G21-J21 -> 7844816.7 | N21: =+H21-K21 -> 10310231 | O21: =+I21-L21 -> 2207898.8
B22: 31005 | C22: Եվրասիական զարգացման բանկի աջակցությամբ իրականացվող ոռոգման համակարգերի զարգացման ծրագրի շրջանակներում ջրային տնտեսության ենթակառուցվածքների հիմնանորոգում | D22: 1630566.8 | E22: 4624641 | F22: 3488376.8 | G22: 8383722.4 | H22: 3300024.9 | I22: 0 | J22: 2515116.7 | K22: 9168630.6 | L22: 0 | M22: =+G22-J22 -> 5868605.7 | N22: =+H22-K22 -> -5868605.7 | O22: =+I22-L22 -> 0
B23: 31006 | C23: Գերմանիայի զարգացման վարկերի բանկի աջակցությամբ իրականացվող Ախուրյան գետի ջրային ռեսուրսների ինտեգրացված կառավարման ծրագրի երկրորդ փուլի շրջանակներում ջրային տնտեսության ենթակառուցվածքների հիմնանորոգում | D23: 0 | E23: 0 | F23: 32653.1 | G23: 0 | H23: 0 | I23: 5053127 | J23: 0 | K23: 0 | L23: 1515938.1 | M23: =+G23-J23 -> 0 | N23: =+H23-K23 -> 0 | O23: =+I23-L23 -> 3537188.9
A24: 1019 | C24: Սոցիալական ներդրումների և տեղական զարգացման ծրագիր | D24: =+D25+D26 -> 2070381 | E24: =+E25+E26 -> 2288584.8 | F24: =+F25+F26 -> 948897.1 | G24: =+G25+G26 -> 5639900 | H24: =+H25+H26 -> 9625168.6 | I24: =+I25+I26 -> 0 | J24: =+J25+J26 -> 925170 | K24: =+K25+K26 -> 4202080.6 | ... O24: =+O25+O26 -> -3450600
B25: 12001 | C25: Համաշխարհային բանկի աջակցությամբ իրականացվող Տարածքային զարգացման հիմնադրամի ծրագրի շրջանակներում ՀՀ տարածքներում ջրագծերի, առողջապահության, կրթության, մշակույթի, հատուկ խնամքի և ենթակառուցվածքների ոլորտի վերականգնման և շինարարության աշխատանքներ | D25: 2070381 | E25: 2288584.8 | F25: 948897.1 | G25: 1805900 | H25: 72000 | I25: 0 | J25: 541770 | K25: 1336130 | L25: 0 | M25: =+G25-J25 -> 1264130 | N25: =+H25-K25 -> -1264130 | O25: =+I25-L25 -> 0
B26: 12004 | C26: Համաշխարհային բանկի աջակցությամբ իրականացվող Սոցիալական ներդրումների և տեղական զարգացման ծրագրի լրացուցիչ ֆինանսավորման վարկի շրջանակներում ՀՀ համայնքային և միջհամայնքային ենթակառուցվածքների որակի, օգտագործման և հասանելիության բարելավում: | D26: 0 | E26: 0 | F26: 0 | G26: 3834000 | H26: 9553168.6 | I26: 0 | J26: 383400 | K26: 2865950.6 | L26: 3450600 | M26: =+G26-J26 -> 3450600 | N26: =+H26-K26 -> 6687218 | O26: =+I26-L26 -> -3450600
A27: 1049 | C27: Ճանապարհային ցանցի բարելավում | D27: =+D28+D29+D30+D31+D32+D33+D34+D35 -> 10765421 | E27: =+E28+E29+E30+E31+E32+E33+E34+E35 -> 8096070.6 | F27: =+F28+F29+F30+F31+F32+F33+F34+F35 -> 11138682 | G27: =+G28+G29+G30+G31+G32+G33+G34+G35 -> 68522196 | H27: =+H28+H29+H30+H31+H32+H33+H34+H35 -> 43998055 | I27: =+I28+I29+I30+I31+I32+I33+I34+I35 -> 39669080 | J27: =+J28+J29+J30+J31+J32+J33+J34+J35 -> 15305593 | K27: =+K28+K29+K30+K31+K32+K33+K34+K35 -> 16976846 | ... O27: =+O28+O29+O30+O31+O32+O33+O34+O35 -> -49439173
B28: 21003 | C28: Համաշխարհային բանկի աջակցությամբ իրականացվող կենսական նշանակության ճանապարհային ցանցի բարելավման լրացուցիչ ծրագրի շրջանակներում ավտոճանապարհների բարեկարգման աշխատանքներ | D28: 4445405.8 | E28: 1759519.4 | F28: 110288.2 | G28: 0 | H28: 0 | I28: 0 | M28: =+G28-J28 -> 0 | N28: =+H28-K28 -> 0 | O28: =+I28-L28 -> 0
B29: 21004 | C29: Ասիական զարգացման բանկի աջակցությամբ իրականացվող Մ6 Վանաձոր-Ալավերդի-Վրաստանի սահման միջպետական նշանակության ճանապարհի ծրագրի կառուցում և հիմնանորոգում | D29: 1399340.6 | E29: 3159570.5 | F29: 1393587.1 | G29: 12863340 | H29: 3109145.8 | I29: 0 | J29: 3859002 | K29: 932743.74 | L29: 9004338 | M29: =+G29-J29 -> 9004338 | N29: =+H29-K29 -> 2176402.1 | O29: =+I29-L29 -> -9004338
B30: 21006 | C30: Ասիական զարգացման բանկի աջակցությամբ իրականացվող Հյուսիս-հարավ միջանցքի զարգացման վարկային ծրագիր, Տրանշ 2 | D30: 0 | E30: 0 | F30: 2535431.1 | G30: 11207808 | H30: 9962496 | I30: 12737598 | J30: 1120780.8 | K30: 2988748.8 | L30: 22824625 | M30: =+G30-J30 -> 10087027 | N30: =+H30-K30 -> 6973747.2 | O30: =+I30-L30 -> -10087027
B31: 21008 | C31: Վերակառուցման և զարգացման եվրոպական բանկի աջակցությամբ իրականացվող ՀՀ պետական սահմանի Բագրատաշեն անցման կետի կամրջի վերակառուցման վարկային ծրագիր | D31: 98321.3 | E31: 126503.27 | F31: 601534.1 | G31: 2258928 | H31: 382762.8 | I31: 0 | J31: 677678.4 | K31: 1696078.4 | L31: 0 | M31: =+G31-J31 -> 1581249.6 | N31: =+H31-K31 -> -1313315.6 | O31: =+I31-L31 -> 0
B32: 21009 | C32: Եվրոպական ներդրումային բանկի աջակցությամբ իրականացվող Հյուսիս-հարավ միջանցքի զարգացման վարկային ծրագիր, Տրանշ 3 | D32: 795655.4 | E32: 1061855.4 | F32: 2282945.3 | G32: 11294640 | H32: 5647320 | I32: 2901361 | J32: 3388392 | K32: 1694196 | L32: 10807609 | M32: =+G32-J32 -> 7906248 | N32: =+H32-K32 -> 3953124 | O32: =+I32-L32 -> -7906248
B33: 21011 | C33: Ասիական զարգացման բանկի աջակցությամբ իրականացվող Հյուսիս-հարավ միջանցքի զարգացման վարկային ծրագիր, Տրանշ 3 | D33: 4026698.3 | E33: 243009.19 | F33: 2535431.1 | G33: 12712560 | H33: 7783200 | I33: 6907081.3 | J33: 3813768 | K33: 2334960 | L33: 15805873 | M33: =+G33-J33 -> 8898792 | N33: =+H33-K33 -> 5448240 | O33: =+I33-L33 -> -8898792
B34: 21012 | C34: Եվրասիական զարգացման բանկի աջակցությամբ իրականացվող Հյուսիս-հարավ միջանցքի զարգացման ծրագիր | D34: 0 | E34: 0 | F34: 1014172.4 | G34: 15047520 | H34: 16344720 | I34: 17123040 | J34: 1504752 | K34: 4903416 | L34: 30665808 | M34: =+G34-J34 -> 13542768 | N34: =+H34-K34 -> 11441304 | O34: =+I34-L34 -> -13542768
B35: 21013 | C35: Համաշխարհային բանկի աջակցությամբ իրականացվող Կենսական նշանակության ճանապարհացանցի բարելավման երկրորդ լրացուցիչ ֆինանսավորման ծրագրի շրջանակներում ավտոճանապարհների բարեկարգման աշխատանքներ | D35: 0 | E35: 1745612.9 | F35: 665292.9 | G35: 3137400 | H35: 768410.3 | I35: 0 | J35: 941220 | K35: 2426703.1 | L35: 0 | M35: =+G35-J35 -> 2196180 | N35: =+H35-K35 -> -1658292.8 | O35: =+I35-L35 -> 0
A36: 1072 | C36: Ջրամատակարարաման և ջրահեռացման բարելավում | D36: =+D37+D38+D39+D40 -> 80490.2 | E36: =+E37+E38+E39+E40 -> 1212187 | F36: =+F37+F38+F39+F40 -> 5628885.5 | G36: =+G37+G38+G39+G40 -> 22255306 | H36: =+H37+H38+H39+H40 -> 13987746 | I36: =+I37+I38+I39+I40 -> 0 | J36: =+J37+J38+J39+J40 -> 6676591.7 | K36: =+K37+K38+K39+K40 -> 17934891 | ... O36: =+O37+O38+O39+O40 -> 0
B37: 31001 | C37: Գերմանիայի զարգացման վարկերի բանկի աջակցությամբ իրականացվող ջրամատակարարման և ջրահեռացման ենթակառուցվածքների վերականգնման ծրագրի երրորդ փուլի շրջանակներում ջրամատակարարման և ջրահեռացման ենթակառուցվածքների հիմնանորոգում | D37: 80490.2 | E37: 524067.28 | F37: 2541912.4 | G37: 10361492 | H37: 6798768.4 | I37: 0 | J37: 3108447.8 | K37: 14051813 | L37: 0 | M37: =+G37-J37 -> 7253044.8 | N37: =+H37-K37 -> -7253044.8 | O37: =+I37-L37 -> 0
B38: 31002 | C38: Եվրոպական ներդրումային բանկի աջակցությամբ իրականացվող ջրամատակարարման և ջրահեռացման ենթակառուցվածքների վերականգնման ծրագրի երրորդ փուլի շրջանակներում ջրամատակարարման և ջրահեռացման ենթակառուցվածքների հիմնանորոգում | D38: 0 | E38: 0 | F38: 2495432.6 | G38: 9886022 | H38: 6590681.4 | I38: 0 | J38: 2965806.6 | K38: 1977204.4 | L38: 0 | M38: =+G38-J38 -> 6920215.4 | N38: =+H38-K38 -> 4613477 | O38: =+I38-L38 -> 0
B39: 31003 | C39: Եվրոպակական ներդրումային բանկի աջակցությամբ իրականացվող Երևանի ջրամատակարարման բարելավման ծրագրի շրջանակներում ջրամատակարարման և ջրահեռացման ենթակառուցվածքների հիմնանորոգում | D39: 0 | E39: 0 | F39: 591540.5 | G39: 1867968 | H39: 598295.7 | I39: 0 | J39: 560390.4 | K39: 1905873.3 | L39: 0 | M39: =+G39-J39 -> 1307577.6 | N39: =+H39-K39 -> -1307577.6 | O39: =+I39-L39 -> 0
B40: 31005 | C40: Գերմանիայի զարգացման վարկերի բանկի աջակցությամբ իրականացվող Լոռու մարզի (Վանաձորի) ջրամատակարարման և ջրահեռացման ենթակառուցվածքների վերականգնման ծրագրի երրորդ փուլ | D40: 0 | E40: 688119.69 | F40: 0 | G40: 139823.3 | H40: 0 | I40: 0 | J40: 41946.99 | K40: 0 | L40: 0 | M40: =+G40-J40 -> 97876.31 | N40: =+H40-K40 -> 0 | O40: =+I40-L40 -> 0
A41: 1157 | C41: Քաղաքային զարգացում | D41: =+D42+D43+D44 -> 902733.1 | E41: =+E42+E43+E44 -> 5265757 | F41: =+F42+F43+F44 -> 8127673 | G41: =+G42+G43+G44 -> 15010841 | H41: =+H42+H43+H44 -> 6236960.5 | I41: =+I42+I43+I44 -> 3861173.9 | J41: =+J42+J43+J44 -> 3881212.1 | K41: =+K42+K43+K44 -> 14869700 | ... O41: =+O42+O43+O44 -> -2496889.4
B42: 12017 | C42: Վերակառուցման և զարգացման եվրոպական բանկի աջակցությամբ իրականացվող Գյումրու քաղաքային ճանապարհների ծրագիր | D42: 902733.1 | E42: 1569555.9 | F42: 2033101.8 | G42: 3870070.8 | H42: 0 | I42: 0 | J42: 1161021.2 | K42: 2709049.6 | L42: 0 | M42: =+G42-J42 -> 2709049.6 | N42: =+H42-K42 -> -2709049.6 | O42: =+I42-L42 -> 0
...

Sheet մակրո-ֆիսկալ
A2: Հարկաբյուջետային շրջանակ
B3: 2008 | C3: 2009 | D3: 2010 | E3: 2011 | F3: 2012 | G3: 2013 | H3: 2014 | I3: 2015 | J3: 2016 | K3: 2017 | L3: 2018 | M3: 2019 | N3: 2020 | O3: 2021 | P3: 2022 | Q3: 2023
A4: Անվանական ՀՆԱ, մլրդ դրամ | B4: 3805.2387 | C4: 3350.3277 | D4: 3690.0385 | E4: 4028.8867 | F4: 4266.4605 | G4: 4555.6382 | H4: 4828.6263 | I4: 5043.6332 | J4: 5067.2935 | K4: 5568.9015 | L4: 6017.0352 | M4: 6569 | N4: 6505.051 | O4: 7142.9647 | P4: 7853.4976 | Q4: 8582.4864
A5: Իրական ՀՆԱ-ի աճ, % | B5: 106.94765 | C5: 85.850011 | D5: 102.21511 | E5: 104.65076 | F5: 107.15905 | G5: 103.25175 | H5: 103.64421 | I5: 103.23568 | J5: 100.15571 | K5: 107.53886 | L5: 105.23668 | M5: 107.6 | N5: 97.4 | O5: 107 | P5: 106.4 | Q5: 105.1
A6: ՀՆԱ-ի դեֆլյատոր | B6: 105.94234 | C6: 102.55694 | D6: 107.75279 | E6: 104.33061 | F6: 98.82204 | G6: 103.41513 | H6: 102.26555 | I6: 101.17892 | J6: 100.31292 | K6: 102.11373 | L6: 102.54735 | M6: 101.5 | N6: 101.7 | O6: 102.7 | P6: 103.4 | Q6: 104
A7: Անվանական ՀՆԱ-ի աճ, % | C7: =C4/B4*100-100 -> -11.95486 | D7: =D4/C4*100-100 -> 10.139627 | E7: =E4/D4*100-100 -> 9.1827828 | F7: =F4/E4*100-100 -> 5.8967604 | G7: =G4/F4*100-100 -> 6.7779299 | H7: =H4/G4*100-100 -> 5.992313 | I7: =I4/H4*100-100 -> 4.452755 | J7: =J4/I4*100-100 -> 0.46911223 | ... Q7: =Q4/P4*100-100 -> 9.2823456
A9: Պետական բյուջե, % ՀՆԱ-ի նկատմամբ
A10: Պետական բյուջեի եկամուտներ և պաշտոնական դրամաշնորհներ | B10: =+B24/B4*100 -> 20.638791 | C10: =+C24/C4*100 -> 20.594854 | D10: =+D24/D4*100 -> 21.149899 | E10: =+E24/E4*100 -> 21.863385 | F10: =+F24/F4*100 -> 22.177478 | G10: =+G24/G4*100 -> 23.517465 | H10: =+H24/H4*100 -> 23.707835 | I10: =+I24/I4*100 -> 23.152834 | ... M10: =+M24/M4*100 -> 23.831225 | N10: =+N24/N$4*100 -> 22.884724 | O10: =+O24/O$4*100 -> 23.377714 | P10: =+P24/P$4*100 -> 24.013939 | Q10: =+Q24/Q$4*100 -> 24.268769
A11: Հարկային եկամուտներ | B11: =+B25/B4*100 -> 19.081465 | C11: =+C25/C4*100 -> 18.662743 | D11: =+D25/D4*100 -> 18.954678 | E11: =+E25/E4*100 -> 19.295892 | F11: =+F25/F4*100 -> 20.588059 | G11: =+G25/G4*100 -> 21.971267 | H11: =+H25/H4*100 -> 22.037704 | I11: =+I25/I4*100 -> 21.173006 | ... M11: =+M25/M4*100 -> 22.291064 | N11: =+N25/N$4*100 -> 21.458799 | O11: =+O25/O$4*100 -> 22.40417 | P11: =+P25/P$4*100 -> 23.169982 | Q11: =+Q25/Q$4*100 -> 23.618525
A12: Ոչ հարկային եկամուտներ և պաշտոնական դրամաշնորհներ | B12: =+B26/B4*100 -> 1.5573259 | C12: =+C26/C4*100 -> 1.9321106 | D12: =+D26/D4*100 -> 2.1952213 | E12: =+E26/E4*100 -> 2.5674922 | F12: =+F26/F4*100 -> 1.5894196 | G12: =+G26/G4*100 -> 1.5461978 | H12: =+H26/H4*100 -> 1.6701302 | I12: =+I26/I4*100 -> 1.9798279 | ... M12: =+M26/M4*100 -> 1.5401607 | N12: =+N26/N$4*100 -> 1.4259249 | O12: =+O26/O$4*100 -> 0.97354436 | P12: =+P26/P$4*100 -> 0.84395743 | Q12: =+Q26/Q$4*100 -> 0.65024362
A14: Ծախսեր | B14: =B10-B19 -> 20.638791 | C14: =C10-C19 -> 20.594854 | D14: =D10-D19 -> 21.149899 | E14: =E10-E19 -> 21.863385 | F14: =F10-F19 -> 22.177478 | G14: =G10-G19 -> 23.517465 | H14: =H10-H19 -> 23.707835 | I14: =I10-I19 -> 23.152834 | ... M14: =M10-M19 -> 24.804945 | N14: =+N28/N$4*100 -> 28.442479 | O14: =+O28/O$4*100 -> 26.168602 | P14: =+P28/P$4*100 -> 25.798971 | Q14: =+Q28/Q$4*100 -> 26.116241
A15: Ընթացիկ ծախսեր | J15: =J29/J$4*100 -> 25.295338 | K15: =K29/K$4*100 -> 22.759187 | L15: =L29/L$4*100 -> 21.588337 | M15: =M29/M$4*100 -> 21.877651 | N15: =+N29/N$4*100 -> 25.026265 | O15: =+O29/O$4*100 -> 22.829843 | P15: =+P29/P$4*100 -> 21.648354 | Q15: =+Q29/Q$4*100 -> 21.402842
A16: Ընթացիկ ծախսեր առանց տոկոսավճարների | K16: =K30/K$4*100 -> 20.566469 | L16: =L30/L$4*100 -> 19.277982 | M16: =M30/M$4*100 -> 19.479224 | N16: =+N30/N$4*100 -> 22.42552 | O16: =+O30/O$4*100 -> 20.229404 | P16: =+P30/P$4*100 -> 18.953781 | Q16: =+Q30/Q$4*100 -> 18.643085
A17: Տոկոսավճարներ | K17: =K31/K$4*100 -> 2.1927179 | L17: =L31/L$4*100 -> 2.3103554 | M17: =M31/M$4*100 -> 2.3984275 | N17: =+N31/N$4*100 -> 2.5629808 | O17: =+O31/O$4*100 -> 2.6004391 | P17: =+P31/P$4*100 -> 2.694573 | Q17: =+Q31/Q$4*100 -> 2.7597569
A18: Կապիտալ ծախսեր | J18: 3.2928894 | K18: 4.2766604 | L18: =L32/L$4*100 -> 2.4614306 | M18: =M32/M$4*100 -> 2.9272943 | N18: =+N32/N$4*100 -> 3.4162142 | O18: =+O32/O$4*100 -> 3.3387588 | P18: =+P32/P$4*100 -> 4.150617 | Q18: =+Q32/Q$4*100 -> 4.7133991
A19: Պետական բյուջեի դեֆիցիտ (-) / պրոֆիցիտ (+) | J19: =+J33/J4*100 -> -5.4852969 | K19: =+K33/K4*100 -> -4.7948678 | L19: =+L33/L4*100 -> -1.7515673 | M19: =+M33/M4*100 -> -0.97372055 | N19: =+N33/N$4*100 -> -5.5577557 | O19: =+O33/O$4*100 -> -2.7908882 | P19: =+P33/P$4*100 -> -1.7850324 | Q19: =+Q33/Q$4*100 -> -1.8474719
A20: Կառավարության պարտք | L20: =+L34/L4*100 -> 51.23564 | M20: =+M34/M4*100 -> 49.911368
B22: 2008 | C22: 2009 | D22: 2010 | E22: 2011 | F22: 2012 | G22: 2013 | H22: 2014 | I22: 2015 | J22: 2016 | K22: 2017 | L22: 2018 | M22: 2019 | N22: 2020 | O22: 2021 | P22: 2022 | Q22: 2023
A23: Պետական բյուջեի, մլրդ դրամ
A24: Պետական բյուջեի եկամուտներ և պաշտոնական դրամաշնորհներ | B24: 785.35524 | C24: 689.9951 | D24: 780.43943 | E24: 880.85099 | F24: 946.19334 | G24: 1071.3706 | H24: 1144.7627 | I24: 1167.744 | J24: 1171.1073 | K24: 1237.7808 | L24: 1341.6906 | M24: 1565.4732 | N24: 1488.6629 | O24: 1669.8619 | P24: 1885.9341 | Q24: 2082.8638
A25: Հարկային եկամուտներ | B25: 726.09528 | C25: 625.26306 | D25: 699.43492 | E25: 777.40964 | F25: 878.38138 | G25: 1000.9314 | H25: 1064.1184 | I25: 1067.8888 | J25: 1079.6891 | K25: 1157.9884 | L25: 1258.1212 | M25: 1464.3 | N25: 1395.9058 | O25: 1600.3219 | P25: 1819.6539 | Q25: 2027.0567
A26: Ոչ հարկային եկամուտներ և պաշտոնական դրամաշնորհներ | B26: =+B24-B25 -> 59.259966 | C26: =+C24-C25 -> 64.732038 | D26: =+D24-D25 -> 81.004511 | E26: =+E24-E25 -> 103.44135 | F26: =+F24-F25 -> 67.811961 | G26: =+G24-G25 -> 70.439178 | H26: =+H24-H25 -> 80.644346 | I26: =+I24-I25 -> 99.855259 | ... L26: =+L24-L25 -> 83.569413 | M26: 101.17316 | N26: 92.757139 | O26: =O24-O25 -> 69.53993 | P26: =P24-P25 -> 66.280176 | Q26: =Q24-Q25 -> 55.80707
A28: Ծախսեր | J28: 1449.0634 | K28: 1504.8022 | L28: 1447.083 | M28: 1629.4369 | N28: =N29+N32 -> 1850.1978 | O28: =O29+O32 -> 1869.214 | P28: =P29+P32 -> 2026.1216 | Q28: =Q29+Q32 -> 2241.4228
A29: Ընթացիկ ծախսեր | J29: 1281.789 | K29: 1267.4367 | L29: 1298.9779 | M29: 1437.1429 | N29: 1627.9713 | O29: =O30+O31 -> 1630.7277 | P29: =+P30+P31 -> 1700.153 | Q29: =+Q30+Q31 -> 1836.896
A30: Ընթացիկ ծախսեր առանց տոկոսավճարների | J30: =(J29-J31) -> 1183.5128 | K30: =(K29-K31) -> 1145.3264 | L30: =(L29-L31) -> 1159.963 | M30: 1279.5902 | N30: 1458.7915 | O30: 1444.9792 | P30: 1488.5348 | Q30: 1600.0402
A31: Տոկոսավճարներ | I31: 74.083379 | J31: 98.276218 | K31: 122.1103 | L31: 139.0149 | M31: 157.5527 | N31: 166.72321 | O31: =185.498448155323+0.25 -> 185.74845 | P31: =211.218227260232+0.4 -> 211.61823 | Q31: =236.565761953305+0.29 -> 236.85576
A32: Կապիտալ ծախսեր | J32: 167.27432 | K32: 237.36555 | L32: 148.10515 | M32: 192.29396 | N32: 222.22647 | O32: 238.48636 | P32: 325.9686 | Q32: 404.52684
A33: Պետական բյուջեի դեֆիցիտ (-) / պրոֆիցիտ (+) | J33: =+J24-J28 -> -277.95609 | K33: =+K24-K28 -> -267.02146 | L33: =+L24-L28 -> -105.39242 | M33: =+M24-M28 -> -63.963703 | N33: =+N24-N28 -> -361.53485 | O33: =+O24-O28 -> -199.35216 | P33: =+P24-P28 -> -140.18748 | Q33: =+Q24-Q28 -> -158.55903
A34: Կառավարության պարտք | J34: 2631.3899 | K34: 2988.3796 | L34: 3082.8665 | M34: 3278.6778
