Workbook
Name AgencyCode: #REF!
Name AgencyName: #REF!
Name davit: #REF!
Name Functional1: #REF!
Name ggg: #REF!
Name PANature: #REF!
Name PAType: #REF!
Name Performance2: #REF!
Name PerformanceType: #REF!
Name Հավելված: #REF!
Name Մաս: #REF!
Name շախմատիստ: #REF!
Name շախմատիստ: #REF!
Name շախմատիստ: #REF!

Sheet Հավելված N 1
C1: Հավելված N 1
C2: ՀՀ կառավարության 2021 թվականի
C3: ______________ ի ___Ն որոշման
A4: ՀԱՅԱՍՏԱՆԻ ՀԱՆՐԱՊԵՏՈՒԹՅԱՆ ԿԱՌԱՎԱՐՈՒԹՅԱՆ 2020 ԹՎԱԿԱՆԻ ԴԵԿՏԵՄԲԵՐԻ 30-Ի N 2215-Ն ՈՐՈՇՄԱՆ N 1 ՀԱՎԵԼՎԱԾԻ N 1 ԱՂՅՈՒՍԱԿՈՒՄ ԿԱՏԱՐՎՈՂ ՓՈՓՈԽՈՒԹՅՈՒՆՆԵՐԸ
D5: հազ․ դրամ
A6: Պետական բյուջեի դեֆիցիտի ֆինանսավորման աղբյուրներն ու դրանց տարրերի անվանումները | D6: Ցուցանիշների փոփոխությունը (ավելացումները նշված են դրական նշանով)
D7: Ինն ամիս | E7: Տարի
A8: ԸՆԴԱՄԵՆԸ | D8: =+D10 -> 335078.4 | E8: =+E10 -> 0
A9: այդ թվում՝
A10: Ա. Ներքին աղբյուրներ-ընդամենը | D10: =+D12 -> 335078.4 | E10: =+E12 -> 0
A11: այդ թվում՝
A12: 2. Ֆինանսական զուտ ակտիվներ | D12: =+D14 -> 335078.4 | E12: =+E14 -> 0
A13: այդ թվում՝
A14: 2.6. Այլ | D14: =+D15 -> 335078.4 | E14: =+E15 -> 0
A15: ժամանակավորապես ազատ միջոցներ | D15: 335078.4 | E15: =+'[1]Հավելված N 2'!F8 -> 0

Sheet Հավելված N 2
D1: Հավելված N 2
D2: ՀՀ կառավարության 2021 թվականի
D3: ______________ ի ___Ն որոշման
A4: «ՀԱՅԱՍՏԱՆԻ ՀԱՆՐԱՊԵՏՈՒԹՅԱՆ 2021 ԹՎԱԿԱՆԻ ՊԵՏԱԿԱՆ ԲՅՈՒՋԵԻ ՄԱՍԻՆ» ՕՐԵՆՔԻ N 1 ՀԱՎԵԼՎԱԾԻ N 2 ԱՂՅՈՒՍԱԿՈՒՄ ԿԱՏԱՐՎՈՂ ՎԵՐԱԲԱՇԽՈՒՄԸ ԵՎ ՀԱՅԱՍՏԱՆԻ ՀԱՆՐԱՊԵՏՈՒԹՅԱՆ ԿԱՌԱՎԱՐՈՒԹՅԱՆ 2020 ԹՎԱԿԱՆԻ ԴԵԿՏԵՄԲԵՐԻ 30-Ի N 2215-Ն ՈՐՈՇՄԱՆ N 5 ՀԱՎԵԼՎԱԾԻ N 1 ԱՂՅՈՒՍԱԿՈՒՄ ԿԱՏԱՐՎՈՂ ԼՐԱՑՈՒՄՆԵՐԸ ԵՎ ՓՈՓՈԽՈՒԹՅՈՒՆՆԵՐԸ
E5: հազ. դրամ
A6: Ծրագրային դասիչը | C6: Բյուջետային հատկացումների գլխավոր կարգադրիչների, ծրագրերի և միջոցառումների անվանումները | D6: Ցուցանիշների փոփոխությունը (ավելացումները նշված են դրական նշանով, իսկ նվազեցումները՝ փակագծերում)
A7: ծրագիր | B7: միջոցառում | D7: Ինն ամիս | E7: Տարի
C8: ԸՆԴԱՄԵՆԸ | D8: =D10+D28 -> 335078.4 | E8: =E10+E28 -> 0
C9: այդ թվում
A10: ՀՀ կառավարություն | D10: =+D12 -> 0 | E10: =+E12 -> -335078.4
A11: 1139 | C11: Ծրագրի անվանումը`
C12: ՀՀ կառավարության պահուստային ֆոնդ | D12: =+D19+D25 -> 0 | E12: =+E19+E25 -> -335078.4
C13: Ծրագրի նպատակը`
C14: Պետական բյուջեում չկանխատեսված, ինչպես նաև բյուջետային երաշխիքների ապահովման ծախսերի ֆինանսավորման ապահովում
C15: Վերջնական արդյունքի նկարագրությունը`
C16: Պահուստային ֆոնդի կառավարման արդյունավետության և թափանցիկության ապահովում
C17: Ծրագրի միջոցառումներ
B18: 11001 | C18: Միջոցառման անվանումը`
C19: ՀՀ կառավարության պահուստային ֆոնդ | D19: -335078.4 | E19: -335078.4
C20: Միջոցառման նկարագրությունը`
C21: ՀՀ պետական բյուջեում նախատեսված ելքերի լրացուցիչ ֆինանսավորման՝ պետական բյուջեում չկանխատեսված ելքերի, ինչպես նաև բյուջետային երաշխիքների ապահովման ելքերի ֆինանսավորման ապահովում
C22: Միջոցառման տեսակը
C23: Ծառայությունների մատուցում
B24: 11001 | C24: Միջոցառման նկարագրությունը`
C25: ՀՀ պետական բյուջեում նախատեսված ելքերի լրացուցիչ ֆինանսավորման՝ պետական բյուջեում չկանխատեսված ելքերի, ինչպես նաև բյուջետային երաշխիքների ապահովման ելքերի ֆինանսավորման ապահովում | D25: 335078.4 | E25: 0
C26: Միջոցառման տեսակը
C27: Ծառայությունների մատուցում
A28: ՀՀ կրթության, գիտության, մշակույթի և սպորտի նախարարություն | D28: =D30 -> 335078.4 | E28: =E30 -> 335078.4
A29: 1148 | C29: Ծրագրի անվանումը`
C30: Արտադպրոցական դաստիարակության ծրագիր | D30: =D37 -> 335078.4 | E30: =E37 -> 335078.4
C31: Ծրագրի նպատակը`
C32: Նպաստել հանրակրթական ուսուցման համակարգում ընդգրկված երեխաների ֆիզիկական, հոգևոր և գեղագիտական զարգացմանը, բնապահպանական և կիրառական գիտելիքների ձեռքբերմանը
C33: Վերջնական արդյունքի նկարագրությունը`
C34: Ստեղծել պայմաններ սովորողների ազատ ժամանացի կազմակերպան միջոցով նրանց հետաքրքրությունների բացահայտման, ձևավորման և զարգացման համար
A35: Ծրագրի միջոցառումներ
B36: 11005 | C36: Միջոցառման անվանումը`
C37: Դպրոցականների ամառային հանգստի կազմակերպում և տրանսպորտային ծախսերի փոխհատուցում | D37: 335078.4 | E37: 335078.4
C38: Միջոցառման նկարագրությունը`
C39: Զոհված, հաշմանդամ դարձած զինծառայողների և աշխարհազորայինների, ծնողազուրկ և սակավ ապահովված բազմազավակ ընտանիքների 7-13 տարեկան երեխաների ամառային հանգստի կազմակերպում և տրանսպորտային ծախսերի փոխհատուցում
C40: Միջոցառման տեսակը
...

Sheet Հավելված N 3
G1: Հավելված N 3
G2: ՀՀ կառավարության 2021 թվականի
G3: ______________ ի ___Ն որոշման
A4: ՀԱՅԱՍՏԱՆԻ ՀԱՆՐԱՊԵՏՈՒԹՅԱՆ ԿԱՌԱՎԱՐՈՒԹՅԱՆ 2020 ԹՎԱԿԱՆԻ ԴԵԿՏԵՄԲԵՐԻ 30-Ի N 2215-Ն ՈՐՈՇՄԱՆ N 3 և N 4 ՀԱՎԵԼՎԱԾՆԵՐՈՒՄ ԿԱՏԱՐՎՈՂ ԼՐԱՑՈՒՄՆԵՐԸ ԵՎ ՓՈՓՈԽՈՒԹՅՈՒՆՆԵՐԸ
H5: հազ. դրամ
A6: Գործառական դասիչը | D6: Ծրագրային դասիչը | F6: Բյուջետային ծախսերի գործառական դասակարգման բաժինների, խմբերի և դասերի, բյուջետային ծրագրերի միջոցառումների, բյուջետային հատկացումների գլխավոր կարգադրիչների անվանումները | G6: Ցուցանիշների փոփոխությունը (ավելացումները նշված են դրական նշանով, իսկ նվազեցումները՝ փակագծերում)
A7: Բաժին | B7: Խումբ | C7: Դաս | D7: Ծրագիր | E7: Միջոցառում | G7: Ինն ամիս | H7: Տարի
F8: ԸՆԴԱՄԵՆԸ | G8: =G10+G33 -> 335078.4 | H8: =H10+H33 -> 0
F9: այդ թվում`
A10: ՀՀ կառավարություն | G10: =+G11 -> 0 | H10: =+H11 -> -335078.4
A11: 11 | F11: ՀԻՄՆԱԿԱՆ ԲԱԺԻՆՆԵՐԻՆ ՉԴԱՍՎՈՂ ՊԱՀՈՒՍՏԱՅԻՆ ՖՈՆԴԵՐ | G11: =+G13 -> 0 | H11: =+H13 -> -335078.4
F12: այդ թվում`
B13: 01 | F13: ՀՀ կառավարության և համայնքների պահուստային ֆոնդ | G13: =+G15 -> 0 | H13: =+H15 -> -335078.4
F14: այդ թվում`
C15: 01 | F15: ՀՀ կառավարության պահուստային ֆոնդ | G15: =+G17 -> 0 | H15: =+H17 -> -335078.4
F16: այդ թվում`
D17: 1139 | E17: ՀՀ կառավարության պահուստային ֆոնդ | G17: =+G19 -> 0 | H17: =+H19 -> -335078.4
F18: այդ թվում`
E19: 11001 | F19: ՀՀ կառավարության պահուստային ֆոնդ | G19: =+G21+G27 -> 0 | H19: =+H21+H27 -> -335078.4
F20: այդ թվում` ըստ կատարողների
F21: ՀՀ կառավարություն | G21: =+G23 -> -335078.4 | H21: =+H23 -> -335078.4
F22: այդ թվում՝ բյուջետային ծախսերի տնտեսագիտական դասակարգման հոդվածներ
F23: ԸՆԴԱՄԵՆԸ ԾԱԽՍԵՐ | G23: =+G24 -> -335078.4 | H23: =+H24 -> -335078.4
F24: ԸՆԹԱՑԻԿ ԾԱԽՍԵՐ | G24: =+G25 -> -335078.4 | H24: =+H25 -> -335078.4
F25: ԱՅԼ ԾԱԽՍԵՐ | G25: =+G26 -> -335078.4 | H25: =+H26 -> -335078.4
F26: Պահուստային միջոցներ | G26: ='Հավելված N 2'!D19 -> -335078.4 | H26: ='Հավելված N 2'!E19 -> -335078.4
F27: ՀՀ կառավարություն | G27: =+G29 -> 335078.4 | H27: =+H29 -> 0
F28: այդ թվում՝ բյուջետային ծախսերի տնտեսագիտական դասակարգման հոդվածներ
F29: ԸՆԴԱՄԵՆԸ ԾԱԽՍԵՐ | G29: =+G30 -> 335078.4 | H29: =+H30 -> 0
F30: ԸՆԹԱՑԻԿ ԾԱԽՍԵՐ | G30: =+G31 -> 335078.4 | H30: =+H31 -> 0
F31: ԱՅԼ ԾԱԽՍԵՐ | G31: =+G32 -> 335078.4 | H31: =+H32 -> 0
F32: Պահուստային միջոցներ | G32: ='Հավելված N 2'!D25 -> 335078.4 | H32: ='Հավելված N 2'!E25 -> 0
A33: ՀՀ կրթության, գիտության, մշակույթի և սպորտի նախարարություն | G33: =G34 -> 335078.4 | H33: =H34 -> 335078.4
A34: 09 | F34: ԿՐԹՈՒԹՅՈՒՆ | G34: =G36 -> 335078.4 | H34: =H36 -> 335078.4
F35: այդ թվում`
B36: 05 | F36: Ըստ մակարդակների չդասակարգվող կրթություն | G36: =G38 -> 335078.4 | H36: =H38 -> 335078.4
F37: այդ թվում`
C38: 01 | F38: Արտադպրոցական դաստիարակություն | G38: =G40 -> 335078.4 | H38: =H40 -> 335078.4
F39: այդ թվում`
D40: 1148 | F40: Արտադպրոցական դաստիարակության ծրագիր | G40: =G42 -> 335078.4 | H40: =H42 -> 335078.4
...

Sheet Հավելված 4
H1: Հավելված N 4
H2: ՀՀ կառավարության 2021 թվականի
H3: ______________ ի ___Ն որոշման
B5: ՀԱՅԱՍՏԱՆԻ ՀԱՆՐԱՊԵՏՈՒԹՅԱՆ ԿԱՌԱՎԱՐՈՒԹՅԱՆ 2020 ԹՎԱԿԱՆԻ ԴԵԿՏԵՄԲԵՐԻ 30-Ի N 2215-Ն ՈՐՈՇՄԱՆ N 5 ՀԱՎԵԼՎԱԾԻ N 7 ԱՂՅՈՒՍԱԿՈՒՄ ԿԱՏԱՐՎՈՂ ԼՐԱՑՈՒՄԸ
H6: հազ. դրամ
B7: Ծրագրային դասիչ | D7: Բյուջետային հատկացումների գլխավոր կարգադրիչների, ծրագրերի, միջոցառումների, ծախսային ուղղությունների անվանումները | G7: Միջոցառումները կատարող պետական մարմինների և դրամաշնորհ ստացող տնտեսվարող սուբյեկտների անվանումները | H7: Ցուցանիշների փոփոխությունը (ավելացումները նշված են դրական նշանով )Տարի
B8: Ծրագիր | C8: Միջոցառում
B9: 1 | C9: 2 | D9: 3 | G9: 4 | H9: 5
B10: ՀՀ կրթության, գիտության, մշակույթի և սպորտի նախարարություն | H10: =H11 -> 335078.4
B11: 1148 | C11: Արտադպրոցական դաստիարակության ծրագիր | H11: =H12 -> 335078.4
C12: 11005 | D12: Դպրոցականների ամառային հանգստի կազմակերպում և տրանսպորտային ծախսերի փոխհատուցում | G12: ընդամենը, որից՝ | H12: =H13+H15 -> 335078.4
G13: ՀՀ կրթության , գիտության, մշակույթի և սպորտի նախարարություն | H13: =H14 -> 321638.4
G14: «Հասմիկ ճամբար» ՍՊԸ, «Արագած ճամբար» ՍՊԸ, ««Հեքիաթային կիրճ» մանկական տուրիստական հանգստի կենտրոն» ՍՊԸ, «ԼԱՎԱ- աղբյուր» ՍՊԸ, «Լուսաբաց ճամբար» առողջարարական ՍՊԸ, «Հանքավանի Խոտորջուր առողջարան» ՍՊԸ, «Գուգարք ճամբար» ՍՊԸ | H14: 321638.4
G15: ՀՀ տարածքային կառավարման և ենթակառուցվածքների նախարարություն | H15: =H16 -> 13440
G16: Մասնագիտացված կազմակերպություններ | H16: 13440

Sheet Հավելված N 5
B1: Հավելված N 5
B2: ՀՀ կառավարության 2021 թվականի
B3: ______________ ի ___Ն որոշման
A5: ՀԱՅԱՍՏԱՆԻ ՀԱՆՐԱՊԵՏՈՒԹՅԱՆ ԿԱՌԱՎԱՐՈՒԹՅԱՆ 2020 ԹՎԱԿԱՆԻ ԴԵԿՏԵՄԲԵՐԻ 30-Ի N 2215-Ն ՈՐՈՇՄԱՆ N 9 ՀԱՎԵԼՎԱԾԻ N 9.14 ԵՎ N 9.47 ԱՂՅՈՒՍԱԿՆԵՐՈՒՄ ԿԱՏԱՐՎՈՂ ԼՐԱՑՈՒՄՆԵՐԸ ԵՎ ՓՈՓՈԽՈՒԹՅՈՒՆՆԵՐԸ
C6: 9.47 աղյուսակ
A7: ՀՀ կառավարություն
A9: ՄԱՍ 2. ՊԵՏԱԿԱՆ ՄԱՐՄՆԻ ԳԾՈՎ ԱՐԴՅՈՒՆՔԱՅԻՆ (ԿԱՏԱՐՈՂԱԿԱՆ) ՑՈՒՑԱՆԻՇՆԵՐԸ
A11: Ծրագրի դասիչը | B11: Ծրագրի անվանումը
A12: 1139 | B12: ՀՀ կառավարության պահուստային ֆոնդ
A13: Ծրագրի միջոցառումները
A14: Ծրագրի դասիչը՝ | B14: 1139 | C14: Ցուցանիշների փոփոխությունը (նվազեցումները նշված են փակագծերում)
A15: Միջոցառման դասիչը՝ | B15: 11001 | C15: Ինն ամիս | D15: Տարի
A16: Միջոցառման անվանումը՝ | B16: ՀՀ կառավարության պահուստային ֆոնդ
A17: Նկարագրությունը՝ | B17: ՀՀ պետական բյուջեում նախատեսված ելքերի լրացուցիչ ֆինանսավորման՝ պետական բյուջեում չկանխատեսված ելքերի, ինչպես նաև բյուջետային երաշխիքների ապահովման ելքերի ֆինանսավորման ապահովում
A18: Միջոցառման տեսակը՝ | B18: Ծառայությունների մատուցում
A19: Միջոցառումն իրականացնողի անվանումը | B19: ՀՀ կառավարություն
A20: Արդյունքի չափորոշիչներ
A21: Միջոցառման վրա կատարվող ծախսը (հազար դրամ) | C21: ='Հավելված N 3'!G19 -> 0 | D21: ='Հավելված N 3'!H19 -> -335078.4
D23: 9.14 աղյուսակ
A24: ՀՀ կրթության, գիտության, մշակույթի և սպորտի նախարարություն
A25: ՄԱՍ 2. ՊԵՏԱԿԱՆ ՄԱՐՄՆԻ ԳԾՈՎ ԱՐԴՅՈՒՆՔԱՅԻՆ (ԿԱՏԱՐՈՂԱԿԱՆ) ՑՈՒՑԱՆԻՇՆԵՐԸ
A27: Ծրագրի դասիչը | B27: Ծրագրի անվանումը
A28: 1148 | B28: Արտադպրոցական դաստիարակության ծրագիր
A30: Ծրագրի միջոցառումները
A32: Ծրագրի դասիչը` | B32: 1148 | C32: Ցուցանիշների փոփոխությունը (ավելացումները նշված են դրական նշանով)
A33: Միջոցառման դասիչը` | B33: 11005 | C33: Ինն ամիս | D33: Տարի
A34: Միջոցառման անվանումը` | B34: Դպրոցականների ամառային հանգստի կազմակերպում և տրանսպորտային ծախսերի փոխհատուցում
A35: Նկարագրությունը` | B35: Զոհված, հաշմանդամ դարձած զինծառայողների և աշխարհազորայինների, ծնողազուրկ և սակավ ապահովված բազմազավակ ընտանիքների 7-13 տարեկան երեխաների ամառային հանգստի կազմակերպում և տրանսպորտային ծախսերի փոխհատուցում
A36: Միջոցառման տեսակը` | B36: Ծառայությունների մատուցում
A37: Ծառայությունը մատուցող կազմակերպության(ների) անվանում(ներ)ը՛ | B37: Մասնագիտացված կազմակերպություններ
A38: Արդյունքի չափորոշիչներ
A39: Ճամբարների թիվ, հատ | C39: 7 | D39: 7
A40: Ճամբարի 1 հերթափոխի տևողությունը, օր | C40: 20 | D40: 20
A41: Ճամբարներում ամառային հանգիստ անցկացնող երեխաների թիվը, մարդ | C41: 3200 | D41: 3200
A42: Տրանսպորտային փոխհատուցում ստացող երեխաների թիվը, մարդ | C42: 3200 | D42: 3200
A43: Միջոցառման վրա կատարվող ծախսը (հազար դրամ) | C43: ='Հավելված N 2'!D37 -> 335078.4 | D43: ='Հավելված N 2'!E37 -> 335078.4

Sheet Հավելված N 6
B1: Հավելված N 6
B2: ՀՀ կառավարության 2021 թվականի
B3: ______________ ի ___Ն որոշման
A5: ՀԱՅԱՍՏԱՆԻ ՀԱՆՐԱՊԵՏՈՒԹՅԱՆ ԿԱՌԱՎԱՐՈՒԹՅԱՆ 2020 ԹՎԱԿԱՆԻ ԴԵԿՏԵՄԲԵՐԻ 30-Ի N 2215-Ն ՈՐՈՇՄԱՆ N 9.1 ՀԱՎԵԼՎԱԾԻ N 9.1.8, N 9.1.14 ԵՎ N 9.1.58 ԱՂՅՈՒՍԱԿՆԵՐՈՒՄ ԿԱՏԱՐՎՈՂ ԼՐԱՑՈՒՄՆԵՐԸ ԵՎ ՓՈՓՈԽՈՒԹՅՈՒՆՆԵՐԸ
C6: 9.1.58 աղյուսակ
A7: ՀՀ կառավարություն
A9: ՄԱՍ 2. ՊԵՏԱԿԱՆ ՄԱՐՄՆԻ ԳԾՈՎ ԱՐԴՅՈՒՆՔԱՅԻՆ (ԿԱՏԱՐՈՂԱԿԱՆ) ՑՈՒՑԱՆԻՇՆԵՐԸ
A11: Ծրագրի դասիչը | B11: Ծրագրի անվանումը
A12: 1139 | B12: ՀՀ կառավարության պահուստային ֆոնդ
A13: Ծրագրի միջոցառումները
A14: Ծրագրի դասիչը՝ | B14: 1139 | C14: Ցուցանիշների փոփոխությունը (նվազեցումները նշված են փակագծերում)
A15: Միջոցառման դասիչը՝ | B15: 11001 | C15: Ինն ամիս | D15: Տարի
A16: Միջոցառման անվանումը՝ | B16: ՀՀ կառավարության պահուստային ֆոնդ
A17: Նկարագրությունը՝ | B17: ՀՀ պետական բյուջեում նախատեսված ելքերի լրացուցիչ ֆինանսավորման՝ պետական բյուջեում չկանխատեսված ելքերի, ինչպես նաև բյուջետային երաշխիքների ապահովման ելքերի ֆինանսավորման ապահովում
A18: Միջոցառման տեսակը՝ | B18: Ծառայությունների մատուցում
A19: Միջոցառումն իրականացնողի անվանումը | B19: ՀՀ կառավարություն
A20: Արդյունքի չափորոշիչներ
A21: Միջոցառման վրա կատարվող ծախսը (հազար դրամ) | C21: ='Հավելված N 5'!C21 -> 0 | D21: ='Հավելված N 5'!D21 -> -335078.4
D23: 9.1.8 աղյուսակ
A24: ՀՀ տարածքային կառավարման և ենթակառուցվածքների նախարարություն
A25: ՄԱՍ 2. ՊԵՏԱԿԱՆ ՄԱՐՄՆԻ ԳԾՈՎ ԱՐԴՅՈՒՆՔԱՅԻՆ (ԿԱՏԱՐՈՂԱԿԱՆ) ՑՈՒՑԱՆԻՇՆԵՐԸ
A27: Ծրագրի դասիչը | B27: Ծրագրի անվանումը
A28: 1148 | B28: Արտադպրոցական դաստիարակության ծրագիր
A30: Ծրագրի միջոցառումները
A32: Ծրագրի դասիչը` | B32: 1148 | C32: Ցուցանիշների փոփոխությունը (ավելացումները նշված են դրական նշանով)
A33: Միջոցառման դասիչը` | B33: 11005 | C33: Ինն ամիս | D33: Տարի
A34: Միջոցառման անվանումը` | B34: Դպրոցականների ամառային հանգստի կազմակերպում և տրանսպորտային ծախսերի փոխհատուցում
A35: Նկարագրությունը` | B35: Զոհված, հաշմանդամ դարձած զինծառայողների և աշխարհազորայինների, ծնողազուրկ և սակավ ապահովված բազմազավակ ընտանիքների 7-13 տարեկան երեխաների ամառային հանգստի կազմակերպում և տրանսպորտային ծախսերի փոխհատուցում
A36: Միջոցառման տեսակը` | B36: Ծառայությունների մատուցում
A37: Ծառայությունը մատուցող կազմակերպության(ների) անվանում(ներ)ը՛ | B37: Մասնագիտացված կազմակերպություններ
A38: Արդյունքի չափորոշիչներ
A39: Տրանսպորտային փոխհատուցում ստացող երեխաների թիվը, մարդ | C39: 3200 | D39: 3200
A40: Միջոցառման վրա կատարվող ծախսը (հազար դրամ) | C40: ='Հավելված N 3'!G57 -> 13440 | D40: ='Հավելված N 3'!H57 -> 13440
D42: 9.1.14 աղյուսակ
A43: ՀՀ կրթության , գիտության, մշակույթի և սպորտի նախարարություն
A44: ՄԱՍ 2. ՊԵՏԱԿԱՆ ՄԱՐՄՆԻ ԳԾՈՎ ԱՐԴՅՈՒՆՔԱՅԻՆ (ԿԱՏԱՐՈՂԱԿԱՆ) ՑՈՒՑԱՆԻՇՆԵՐԸ
A46: Ծրագրի դասիչը | B46: Ծրագրի անվանումը
A47: 1148 | B47: Արտադպրոցական դաստիարակության ծրագիր
A49: Ծրագրի միջոցառումները
A51: Ծրագրի դասիչը` | B51: 1148 | C51: Ցուցանիշների փոփոխությունը (ավելացումները նշված են դրական նշանով)
...
