Workbook

Sheet Հավելված 1
E1: Հավելված N 1
A2: «ՀԱՅԱՍՏԱՆԻ ՀԱՆՐԱՊԵՏՈՒԹՅԱՆ 2021 ԹՎԱԿԱՆԻ ՊԵՏԱԿԱՆ ԲՅՈՒՋԵԻ ՄԱՍԻՆ» ՀԱՅԱՍՏԱՆԻ ՀԱՆՐԱՊԵՏՈՒԹՅԱՆ ՕՐԵՆՔԻ N 1 ՀԱՎԵԼՎԱԾԻ N 2 ԱՂՅՈՒՍԱԿՈՒՄ ՎԵՐԱԲԱՇԽՈՒՄ ԵՎ ՀԱՅԱՍՏԱՆԻ ՀԱՆՐԱՊԵՏՈՒԹՅԱՆ ԿԱՌԱՎԱՐՈՒԹՅԱՆ 2020 ԹՎԱԿԱՆԻ ԴԵԿՏԵՄԲԵՐԻ 30-Ի N 2215-Ն ՈՐՈՇՄԱՆ N 5 ՀԱՎԵԼՎԱԾԻ N 1 ԱՂՅՈՒՍԱԿՈՒՄ ԿԱՏԱՐՎՈՂ ՓՈՓՈԽՈՒԹՅՈՒՆՆԵՐԸ
E3: հազ. դրամ
A4: Ծրագրային դասիչը | C4: Բյուջետային հատկացումների գլխավոր կարգադրիչների, ծրագրերի և միջոցառումների անվանումները | D4: Ցուցանիշների փոփոխությունը (ավելացումները նշված են դրական նշանով, իսկ նվազեցումները՝ փակագծերում)
A5: Ծրագիր | B5: Միջոցառում | D5: Ինն ամիս | E5: Տարի
C6: ԸՆԴԱՄԵՆԸ | D6: =D7 -> 0 | E6: =E7 -> 0
C7: ՀՀ պետական եկամուտների կոմիտե | D7: =D8 -> 0 | E7: =E8 -> 0
A8: 1023 | C8: Ծրագրի անվանումը՝ | D8: =D15+D21 -> 0 | E8: =E15+E21 -> 0
C9: Հարկային և մաքսային ծառայություններ
C10: Ծրագրի նպատակը՝
C11: Հարկային և մաքսային միասնական պետական քաղաքականության իրականացում, հարկային և մաքսային օրենսդրության ամբողջական և համահավասար կիրառում
C12: Վերջնական արդյունքի նկարագրությունը՝
C13: Արդյունավետ հարկային և մաքսային հսկողության իրականացում, պետական բյուջեի եկամուտների ապահովում
A14: Ծրագրի միջոցառումներ
B15: 11001 | C15: Միջոցառման անվանումը` | D15: ='Հավելված 3'!G26 -> 158880 | E15: ='Հավելված 3'!H26 -> 158880
C16: Հարկային և մաքսային ծառայություններ
C17: Միջոցառման նկարագրությունը`
C18: Հարկային և մաքսային քաղաքականության մշակման, պլանավորման, մոնիտորինգի, ծրագրերի համակարգման, գանձման, վերահսկողության և աջակցության ծառայություններ
C19: Միջոցառման տեսակը
C20: Ծառայությունների մատուցում
B21: 31001 | C21: Միջոցառման անվանումը` | D21: ='Հավելված 3'!G27 -> -158880 | E21: ='Հավելված 3'!H27 -> -158880
C22: ՀՀ պետական եկամուտների կոմիտեի տեխնիկական հագեցվածության բարելավում
C23: Միջոցառման նկարագրությունը`
C24: ՀՀ պետական եկամուտների կոմիտեի տեխնիկական հագեցվածության բարելավում
C25: Միջոցառման տեսակը
C26: Պետական մարմինների կողմից օգտագործվող ոչ ֆինանսական ակտիվների հետ գործառնություններ

Sheet Հավելված 2
H1: Հավելված N 2
A2: «ՀԱՅԱՍՏԱՆԻ ՀԱՆՐԱՊԵՏՈՒԹՅԱՆ 2021 ԹՎԱԿԱՆԻ ՊԵՏԱԿԱՆ ԲՅՈՒՋԵԻ ՄԱՍԻՆ» ՀԱՅԱՍՏԱՆԻ ՀԱՆՐԱՊԵՏՈՒԹՅԱՆ ՕՐԵՆՔԻ N 1 ՀԱՎԵԼՎԱԾԻ N 3 ԱՂՅՈՒՍԱԿՈՒՄ ԿԱՏԱՐՎՈՂ ՓՈՓՈԽՈՒԹՅՈՒՆՆԵՐԸ
H3: հազ. դրամ
A4: Ծրագրային դասիչ | C4: Բյուջետային գլխավոր կարգադրիչների, ծրագրերի, միջոցառումների և ուղղությունների անվանումները | D4: Ցուցանիշների փոփոխությունը (նվազեցումները նշված են փակագծերում)
D5: Ընդամենը | E5: այդ թվում՝
E6: Կառուցման աշխատանքներ | F6: Վերակառուցման, վերանորոգման և վերականգնման աշխատանքներ | G6: Նախագծահետազոտական, գեոդեզա-քարտեզագրական աշխատանքներ | H6: Ոչ ֆինանսական այլ ակտիվների ձեռքբերում
A7: Ծրագիր | B7: Միջոցառում
C8: ԸՆԴԱՄԵՆԸ | D8: =D10 -> -158880 | E8: =E10 -> 0 | F8: =F10 -> 0 | G8: =G10 -> 0 | H8: =H10 -> -158880
C9: այդ թվում՝
C10: ՀՀ ՊԵՏԱԿԱՆ ԵԿԱՄՈՒՏՆԵՐԻ ԿՈՄԻՏԵ | D10: =D12 -> -158880 | E10: =E12 -> 0 | F10: =F12 -> 0 | G10: =G12 -> 0 | H10: =H12 -> -158880
C11: այդ թվում`
A12: 1023 | B12: 31001 | C12: ՀՀ պետական եկամուտների կոմիտեի տեխնիկական հագեցվածության բարելավում | D12: =E12+F12+G12+H12 -> -158880 | H12: ='Հավելված 3'!H37+'Հավելված 3'!H35 -> -158880

Sheet Հավելված 3
H1: Հավելված N 3
A2: ՀԱՅԱՍՏԱՆԻ ՀԱՆՐԱՊԵՏՈՒԹՅԱՆ ԿԱՌԱՎԱՐՈՒԹՅԱՆ 2020 ԹՎԱԿԱՆԻ ԴԵԿՏԵՄԲԵՐԻ 30-Ի N 2215-Ն ՈՐՈՇՄԱՆ NN 3 ԵՎ 4 ՀԱՎԵԼՎԱԾՆԵՐԻ ԱՂՅՈՒՍԱԿՆԵՐՈՒՄ ԿԱՏԱՐՎՈՂ ՓՈՓՈԽՈՒԹՅՈՒՆՆԵՐԸ
H4: հազ. դրամ
A5: Գործառնական դասիչը | D5: Ծրագրային դասիչը | F5: Բյուջետային ծախսերի գործառնական դասակարգման բաժինների, խմբերի և դասերի, բյուջետային ծրագրերի միջոցառումների, բյուջետային հատկացումների գլխավոր կարգադրիչների անվանումները | G5: Ցուցանիշների փոփոխությունը (ավելացումները նշված են դրական նշանով, իսկ նվազեցումները՝ փակագծերում)
A6: բաժին | B6: խումբ | C6: դաս | D6: ծրագիր | E6: միջոցառում | G6: Ինն ամիս | H6: Տարի
F7: ԸՆԴԱՄԵՆԸ ԾԱԽՍԵՐ | G7: =G9 -> 0 | H7: =H9 -> 0
F8: այդ թվում՝
A9: 01 | F9: ԸՆԴՀԱՆՈՒՐ ԲՆՈՒՅԹԻ ՀԱՆՐԱՅԻՆ ԾԱՌԱՅՈՒԹՅՈՒՆՆԵՐ | G9: =G11 -> 0 | H9: =H11 -> 0
F10: այդ թվում՝
B11: 01 | F11: Օրենսդիր և գործադիր մարմիններ, պետական կառավարում, ֆինանսական և հարկաբյուջետային հարաբերություններ, արտաքին հարաբերություններ | G11: =G13 -> 0 | H11: =H13 -> 0
F12: այդ թվում՝
C13: 02 | F13: Ֆինանսական և հարկաբյուջետային հարաբերություններ | G13: =G15 -> 0 | H13: =H15 -> 0
F14: այդ թվում՝
F15: ՀՀ պետական եկամուտների կոմիտե | G15: =G16 -> 0 | H15: =H16 -> 0
D16: 1023 | F16: Հարկային և մաքսային ծառայություններ | G16: =G18+G27 -> 0 | H16: =H18+H27 -> 0
F17: այդ թվում՝
E18: 11001 | F18: Հարկային և մաքսային ծառայություններ | G18: =G20 -> 158880 | H18: =H20 -> 158880
F19: այդ թվում` ըստ կատարողների
F20: ՀՀ պետական եկամուտների կոմիտե | G20: =G22 -> 158880 | H20: =H22 -> 158880
F21: այդ թվում` բյուջետային ծախսերի տնտեսագիտական դասակարգման հոդվածներ
F22: ԸՆԴԱՄԵՆԸ ԾԱԽՍԵՐ | G22: =G23 -> 158880 | H22: =H23 -> 158880
F23: ԸՆԹԱՑԻԿ ԾԱԽՍԵՐ | G23: =G24 -> 158880 | H23: =H24 -> 158880
F24: ԾԱՌԱՅՈՒԹՅՈՒՆՆԵՐԻ ԵՎ ԱՊՐԱՆՔՆԵՐԻ ՁԵՌՔԲԵՐՈՒՄ | G24: =G25 -> 158880 | H24: =H25 -> 158880
F25: Պայմանագրային այլ ծառայությունների ձեռքբերում | G25: =G26 -> 158880 | H25: =H26 -> 158880
F26: - Համակարգչային ծառայություններ | G26: 158880 | H26: 158880
E27: 31001 | F27: ՀՀ պետական եկամուտների կոմիտեի տեխնիկական հագեցվածության բարելավում | G27: =G29 -> -158880 | H27: =H29 -> -158880
F28: այդ թվում` ըստ կատարողների
F29: ՀՀ պետական եկամուտների կոմիտե | G29: =G31 -> -158880 | H29: =H31 -> -158880
F30: այդ թվում՝ բյուջետային ծախսերի տնտեսագիտական դասակարգման հոդվածներ
F31: ԸՆԴԱՄԵՆԸ ԾԱԽՍԵՐ | G31: =G32 -> -158880 | H31: =H32 -> -158880
F32: ՈՉ ՖԻՆԱՆՍԱԿԱՆ ԱԿՏԻՎՆԵՐԻ ԳԾՈՎ ԾԱԽՍԵՐ | G32: =G33 -> -158880 | H32: =H33 -> -158880
F33: ՀԻՄՆԱԿԱՆ ՄԻՋՈՑՆԵՐ | G33: =G34+G36 -> -158880 | H33: =H34+H36 -> -158880
F34: ՄԵՔԵՆԱՆԵՐ ԵՎ ՍԱՐՔԱՎՈՐՈՒՄՆԵՐ | G34: =G35 -> 27177.9 | H34: =H35 -> 27177.9
F35: - Վարչական սարքավորումներ | G35: 27177.9 | H35: 27177.9
F36: ԱՅԼ ՀԻՄՆԱԿԱՆ ՄԻՋՈՑՆԵՐ | G36: =G37 -> -186057.9 | H36: =H37 -> -186057.9
F37: - Ոչ նյութական հիմնական միջոցներ | G37: =-(G26+G35) -> -186057.9 | H37: =-(H26+H35) -> -186057.9

Sheet Հավելված 4
E1: Հավելված N 4
A2: ՀԱՅԱՍՏԱՆԻ ՀԱՆՐԱՊԵՏՈՒԹՅԱՆ ԿԱՌԱՎԱՐՈՒԹՅԱՆ 2020 ԹՎԱԿԱՆԻ ԴԵԿՏԵՄԲԵՐԻ 30-Ի N 2215-Ն ՈՐՈՇՄԱՆ N 5 ՀԱՎԵԼՎԱԾԻ N 2 ԱՂՅՈՒՍԱԿՈՒՄ ԿԱՏԱՐՎՈՂ ՓՈՓՈԽՈՒԹՅՈՒՆՆԵՐԸ
E3: հազ. դրամ
A4: Ծրագրային դասիչը | C4: Բյուջետային գլխավոր կարգադրիչների, ծրագրերի, միջոցառումների, միջոցառումները կատարող պետական մարմինների և ուղղությունների անվանումները | D4: Ցուցանիշների փոփոխությունը (նվազեցումները նշված են փակագծերում)
A5: Ծրագիրը | B5: Միջոցառումը | D5: Ինն ամիս | E5: Տարի
C6: ԸՆԴԱՄԵՆԸ | D6: =D8 -> -158880 | E6: =E8 -> -158880
C7: այդ թվում՝
C8: ՀՀ ՊԵՏԱԿԱՆ ԵԿԱՄՈՒՏՆԵՐԻ ԿՈՄԻՏԵ | D8: =D10 -> -158880 | E8: =E10 -> -158880
C9: այդ թվում`
A10: 1023 | B10: 31001 | C10: ՀՀ պետական եկամուտների կոմիտեի տեխնիկական հագեցվածության բարելավում | D10: =D12 -> -158880 | E10: =E12 -> -158880
C11: այդ թվում` ըստ կատարողների
C12: ՀՀ պետական եկամուտների կոմիտե | D12: ='Հավելված 3'!G27 -> -158880 | E12: ='Հավելված 3'!H27 -> -158880

Sheet Հավելված 5 աղյուսակներ 1,2
D1: Հավելված N 5
D2: Աղյուսակ N 1
A3: ՀԱՅԱՍՏԱՆԻ ՀԱՆՐԱՊԵՏՈՒԹՅԱՆ ԿԱՌԱՎԱՐՈՒԹՅԱՆ 2020 ԹՎԱԿԱՆԻ ԴԵԿՏԵՄԲԵՐԻ 30-Ի N 2215-Ն ՈՐՈՇՄԱՆ N 9 ՀԱՎԵԼՎԱԾԻ N 9.26 ԱՂՅՈՒՍԱԿՈՒՄ ԿԱՏԱՐՎՈՂ ՓՈՓՈԽՈՒԹՅՈՒՆՆԵՐԸ
A5: ՀՀ պետական եկամուտների կոմիտե
A7: ՄԱՍ 2. ՊԵՏԱԿԱՆ ՄԱՐՄՆԻ ԳԾՈՎ ԱՐԴՅՈՒՆՔԱՅԻՆ (ԿԱՏԱՐՈՂԱԿԱՆ) ՑՈՒՑԱՆԻՇՆԵՐԸ
A9: Ծրագրի դասիչը | B9: Ծրագրի անվանումը
A10: 1023 | B10: Հարկային և մաքսային ծառայություններ
A12: Ծրագրի միջոցառումները
A14: Ծրագրի դասիչը՝ | B14: 1023 | C14: Ցուցանիշների փոփոխությունը (ավելացումները նշված են դրական նշաններով)
A15: Միջոցառման դասիչը՝ | B15: 11001 | C15: Ինն ամիս | D15: Տարի
A16: Միջոցառման անվանումը՝ | B16: Հարկային և մաքսային ծառայություններ
A17: Նկարագրությունը՝ | B17: Հարկային և մաքսային քաղաքականության մշակման, պլանավորման, մոնիտորինգի, ծրագրերի համակարգման, գանձման, վերահսկողության և աջակցության ծառայություններ
A18: Միջոցառման տեսակը՝ | B18: Ծառայությունների մատուցում
A19: Ծառայությունը մատուցող կազմակերպության անվանումը | B19: ՀՀ պետական եկամուտների կոմիտե
A20: Արդյունքի չափորոշիչներ
A21: Միջոցառման վրա կատարվող ծախսը (հազար դրամ) | C21: ='Հավելված 3'!G18 -> 158880 | D21: ='Հավելված 3'!H18 -> 158880
A23: Ծրագրի դասիչը` | B23: 1023 | C23: Ցուցանիշների փոփոխությունը (ավելացումները նշված են դրական նշաններով, իսկ նվազեցումները՝ փակագծերում)
A24: Միջոցառման դասիչը` | B24: 31001 | C24: Ինն ամիս | D24: Տարի
A25: Միջոցառման անվանումը` | B25: ՀՀ պետական եկամուտների կոմիտեի տեխնիկական հագեցվածության բարելավում
A26: Նկարագրությունը` | B26: ՀՀ պետական եկամուտների կոմիտեի տեխնիկական հագեցվածության բարելավում
A27: Միջոցառման տեսակը` | B27: Պետական մարմինների կողմից օգտագործվող ոչ ֆինանսական ակտիվների հետ գործառնություններ
A28: Ակտիվն օգտագործող կազմակերպության անվանումը | B28: ՀՀ պետական եկամուտների կոմիտե
A29: Արդյունքի չափորոշիչներ
A30: Էլեկտրոնային հաշվառման համակարգերի ներդրում, հատ | C30: -1 | D30: -1
A31: Այլ սարքավորումների քանակ, հատ | C31: 1 | D31: 1
A32: Միջոցառման վրա կատարվող ծախսը (հազար դրամ) | C32: ='Հավելված 3'!G27 -> -158880 | D32: ='Հավելված 3'!H27 -> -158880
D35: Աղյուսակ N 2
A36: ՀԱՅԱՍՏԱՆԻ ՀԱՆՐԱՊԵՏՈՒԹՅԱՆ ԿԱՌԱՎԱՐՈՒԹՅԱՆ 2020 ԹՎԱԿԱՆԻ ԴԵԿՏԵՄԲԵՐԻ 30-Ի N 2215-Ն ՈՐՈՇՄԱՆ N 9.1 ՀԱՎԵԼՎԱԾԻ N 9.1.28 ԱՂՅՈՒՍԱԿՈՒՄ ԿԱՏԱՐՎՈՂ ՓՈՓՈԽՈՒԹՅՈՒՆՆԵՐԸ
A38: ՀՀ պետական եկամուտների կոմիտե
A40: ՄԱՍ 1. ՊԵՏԱԿԱՆ ՄԱՐՄՆԻ ԳԾՈՎ ԱՐԴՅՈՒՆՔԱՅԻՆ (ԿԱՏԱՐՈՂԱԿԱՆ) ՑՈՒՑԱՆԻՇՆԵՐԸ
A42: Ծրագրի դասիչը | B42: Ծրագրի անվանումը
A43: 1023 | B43: Հարկային և մաքսային ծառայություններ
A45: Ծրագրի միջոցառումները
A47: Ծրագրի դասիչը՝ | B47: 1023 | C47: Ցուցանիշների փոփոխությունը (ավելացումները նշված են դրական նշաններով)
A48: Միջոցառման դասիչը՝ | B48: 11001 | C48: Ինն ամիս | D48: Տարի
A49: Միջոցառման անվանումը՝ | B49: Հարկային և մաքսային ծառայություններ
A50: Նկարագրությունը՝ | B50: Հարկային և մաքսային քաղաքականության մշակման, պլանավորման, մոնիտորինգի, ծրագրերի համակարգման, գանձման, վերահսկողության և աջակցության ծառայություններ
A51: Միջոցառման տեսակը՝ | B51: Ծառայությունների մատուցում
A52: Ծառայությունը մատուցող կազմակերպության անվանումը | B52: ՀՀ պետական եկամուտների կոմիտե
A53: Արդյունքի չափորոշիչներ
A54: Միջոցառման վրա կատարվող ծախսը (հազար դրամ) | C54: ='Հավելված 3'!G18 -> 158880 | D54: ='Հավելված 3'!H18 -> 158880
A56: Ծրագրի դասիչը` | B56: 1023 | C56: Ցուցանիշների փոփոխությունը (ավելացումները նշված են դրական նշաններով, իսկ նվազեցումները՝ փակագծերում)
A57: Միջոցառման դասիչը` | B57: 31001 | C57: Ինն ամիս | D57: Տարի
A58: Միջոցառման անվանումը` | B58: ՀՀ պետական եկամուտների կոմիտեի տեխնիկական հագեցվածության բարելավում
A59: Նկարագրությունը` | B59: ՀՀ պետական եկամուտների կոմիտեի տեխնիկական հագեցվածության բարելավում
A60: Միջոցառման տեսակը` | B60: Պետական մարմինների կողմից օգտագործվող ոչ ֆինանսական ակտիվների հետ գործառնություններ
A61: Ակտիվն օգտագործող կազմակերպության անվանումը | B61: ՀՀ պետական եկամուտների կոմիտե
A62: Արդյունքի չափորոշիչներ
A63: Էլեկտրոնային հաշվառման համակարգերի ներդրում, հատ | C63: -1 | D63: -1
A64: Այլ սարքավորումների քանակ, հատ | C64: 1 | D64: 1
A65: Միջոցառման վրա կատարվող ծախսը (հազար դրամ) | C65: ='Հավելված 3'!G27 -> -158880 | D65: ='Հավելված 3'!H27 -> -158880

Sheet Հավելված 6
G1: Հավելված N 6
A3: ՀԱՅԱՍՏԱՆԻ ՀԱՆՐԱՊԵՏՈՒԹՅԱՆ ԿԱՌԱՎԱՐՈՒԹՅԱՆ 2020 ԹՎԱԿԱՆԻ ԴԵԿՏԵՄԲԵՐԻ 30-Ի N 2215-Ն ՈՐՈՇՄԱՆ N 10 ՀԱՎԵԼՎԱԾԻ ԱՂՅՈՒՍԱԿՈՒՄ ԿԱՏԱՐՎՈՂ ՓՈՓՈԽՈՒԹՅՈՒՆՆԵՐԸ
A5: Գնման առարկայի | F5: Ցուցանիշների փոփոխությունը (ավելացումները նշված են դրական նշանով, իսկ նվազեցումները՝ փակագծերում)
A6: կոդը | B6: անվանումը | C6: գնման ձևը | D6: չափի միավորը | E6: միավորի գինը | F6: քանակը | G6: Գումարը (հազար դրամ)
A8: ՀՀ պետական եկամուտների կոմիտե | G8: =G9 -> 0
A9: Բաժին N 01 | B9: Խումբ N 01 | C9: Դաս N 02 | D9: Ֆինանսական և հարկաբյուջետային հարաբերություններ | G9: =G10+G13 -> 0
A10: 1023 11001 | B10: Հարկային և մաքսային ծառայություններ | G10: =G11 -> 158880
B11: ՄԱՍ III. ԾԱՌԱՅՈՒԹՅՈՒՆՆԵՐ | G11: =G12 -> 158880
A12: 72711200-501 | B12: տեխնիկական ենթակառուցվածքի արդիականացման, գործող ենթակառուցվածքի հետ ինտեգրման ― ներդրման ծառայություններ | C12: ԲՄ | D12: դրամ | E12: 158880000 | F12: 1 | G12: 158880
A13: 1023 31001 | B13: ՀՀ պետական եկամուտների կոմիտեի տեխնիկական հագեցվածության բարելավում | G13: =G14+G16 -> -158880
B14: ՄԱՍ I. ԱՊՐԱՆՔՆԵՐ | G14: =G15 -> 27177.93
A15: 48821100-502 | B15: ցանցային սերվերներ | C15: էԱՃ | D15: հավաքածու | E15: 27177930 | F15: 1 | G15: =E15*F15/1000 -> 27177.93
B16: ՄԱՍ III. ԾԱՌԱՅՈՒԹՅՈՒՆՆԵՐ | G16: =G17 -> -186057.93
A17: 72261110-10 | B17: ծրագրային ապահովման մշակման ծառայություններ | C17: ԲՄ | D17: դրամ | G17: =-(G15+G11) -> -186057.93
