Workbook
Name _Hlk341707516: '1'!$B$6

Sheet 1
E1: Հավելված N 1
C2: ՀՀ կառավարության 2021 թվականի -ի N -Ն որոշման
A3: «ՀԱՅԱՍՏԱՆԻ ՀԱՆՐԱՊԵՏՈՒԹՅԱՆ 2021 ԹՎԱԿԱՆԻ ՊԵՏԱԿԱՆ ԲՅՈՒՋԵԻ ՄԱՍԻՆ» ՕՐԵՆՔԻ 2-ՐԴ ՀՈԴՎԱԾԻ ԱՂՅՈՒՍԱԿՈՒՄ ԿԱՏԱՐՎՈՂ ՓՈՓՈԽՈՒԹՅՈՒՆՆԵՐԸ
D4: հազար դրամ
D5: Ցուցանիշների փոփոխությունը (գումարների ավելացումը նշված է դրական նշանով)
C6: 1. Եկամուտների գծով | D6: 448
C7: 2. Ծախսերի գծով | D7: 448
C8: 3. Դեֆիցիտը (պակասուրդը) | D8: =+D6-D7 -> 0

Sheet 2
A1: Հավելված N2
C3: «ՀԱՅԱՍՏԱՆԻ ՀԱՆՐԱՊԵՏՈՒԹՅԱՆ 2021 ԹՎԱԿԱՆԻ ՊԵՏԱԿԱՆ ԲՅՈՒՋԵԻ ՄԱՍԻՆ» ՕՐԵՆՔԻ 6-ՐԴ ՀՈԴՎԱԾԻ ԱՂՅՈՒՍԱԿՈՒՄ ԵՎ ՀԱՅԱՍՏԱՆԻ ՀԱՆՐԱՊԵՏՈՒԹՅԱՆ ԿԱՌԱՎԱՐՈՒԹՅԱՆ 2020 ԹՎԱԿԱՆԻ ԴԵԿՏԵՄԲԵՐԻ 30-Ի N 2215-Ն ՈՐՈՇՄԱՆ N 2 ՀԱՎԵԼՎԱԾՈՒՄ ԿԱՏԱՐՎՈՂ ՓՈՓՈԽՈՒԹՅՈՒՆՆԵՐԸ
D4: հազ. դրամ
C5: Պետական բյուջեի եկամուտները | D5: Ցուցանիշների փոփոխությունը (գումարների ավելացումը նշված է դրական նշանով)
D6: Ինն ամիս | E6: Տարի
C7: Ընդամենը | D7: 448 | E7: 448
C8: այդ թվում՝
C9: Այլ եկամուտներ | D9: 448 | E9: 448

Sheet 3
H1: Հավելված N3
H2: ՀՀ կառավարության 2021 թվականի
H3: -ի N -Ն որոշման
A5: ՀԱՅԱՍՏԱՆԻ ՀԱՆՐԱՊԵՏՈՒԹՅԱՆ ԿԱՌԱՎԱՐՈՒԹՅԱՆ 2020 ԹՎԱԿԱՆԻ ԴԵԿՏԵՄԲԵՐԻ 30-Ի N 2215-Ն ՈՐՈՇՄԱՆ NN 3 ԵՎ 4 ՀԱՎԵԼՎԱԾՆԵՐՈՒՄ ԿԱՏԱՐՎՈՂ ՓՈՓՈԽՈՒԹՅՈՒՆՆԵՐԸ
H6: հազար դրամ
A7: Գործառական դասիչը | D7: Ծրագրային դասիչը | F7: Բյուջետային հատկացումների գլխավոր կարգադրիչների, ծրագրերի, միջոցառումների և միջոցառումները կատարող պետական մարմինների անվանումները | G7: Ցուցանիշների փոփոխությունը (ավելացումները նշված են դրական նշանով)
A8: բաժինը | B8: խումբը | C8: դասը | D8: ծրագիրը | E8: միջոցառումը | G8: Ինն ամիս | H8: Տարի
F9: ԸՆԴԱՄԵՆԸ | G9: 448 | H9: 448
A10: 04 | F10: ՏՆՏԵՍԱԿԱՆ ՀԱՐԱԲԵՐՈՒԹՅՈՒՆՆԵՐ | G10: 448 | H10: 448
F11: այդ թվում`
B12: 05 | F12: Տրանսպորտ | G12: 448 | H12: 448
F13: այդ թվում`
C14: 03 | F14: Երկաթուղային տրանսպորտ | G14: 448 | H14: 448
F15: այդ թվում`
D16: 1077 | F16: Երկաթուղային ցանցի զարգացում | G16: 448 | H16: 448
F17: այդ թվում`
E18: 12001 | F18: Ուղևորափոխադրումներից ստացված վնասի դիմաց «Հարավկովկասյան երկաթուղի» ՓԲԸ-ին սուբսիդիայի տրամադրում | G18: 448 | H18: 448
F19: այդ թվում` ըստ կատարողների
F20: ՀՀ տարածքային կառավարման և ենթակառուցվածքների նախարարություն | G20: 448 | H20: 448
F21: այդ թվում` բյուջետային ծախսերի տնտեսագիտական դասակարգման հոդվածներ
F22: ԸՆԴԱՄԵՆԸ ԾԱԽՍԵՐ | G22: 448 | H22: 448
F23: ԸՆԹԱՑԻԿ ԾԱԽՍԵՐ | G23: 448 | H23: 448
F24: ՍՈՒԲՍԻԴԻԱՆԵՐ | G24: 448 | H24: 448
F25: Սուբսիդիաներ պետական կազմակերպություններին | G25: 448 | H25: 448
F26: - Սուբսիդիաներ ոչ ֆինանսական պետական կազմակերպություններին | G26: 448 | H26: 448

Sheet 4
F1: Հավելված N4
F2: ՀՀ կառավարության 2021 թվականի
F3: -ի N -Ն որոշման
B5: «ՀԱՅԱՍՏԱՆԻ ՀԱՆՐԱՊԵՏՈՒԹՅԱՆ 2021 ԹՎԱԿԱՆԻ ՊԵՏԱԿԱՆ ԲՅՈՒՋԵԻ ՄԱՍԻՆ» ՕՐԵՆՔԻ N 1 ՀԱՎԵԼՎԱԾԻ N 2 ԱՂՅՈՒՍԱԿՈՒՄ ԵՎ ՀԱՅԱՍՏԱՆԻ ՀԱՆՐԱՊԵՏՈՒԹՅԱՆ ԿԱՌԱՎԱՐՈՒԹՅԱՆ 2020 ԹՎԱԿԱՆԻ ԴԵԿՏԵՄԲԵՐԻ 30-Ի N 2215-Ն ՈՐՈՇՄԱՆ N 5 ՀԱՎԵԼՎԱԾԻ N 1 ԱՂՅՈՒՍԱԿՈՒՄ ԿԱՏԱՐՎՈՂ ՓՈՓՈԽՈՒԹՅՈՒՆՆԵՐԸ
B8: Ծրագրային դասիչը | D8: Բյուջետային գլխավոր կարգադրիչների, ծրագրերի և միջոցառումների անվանումները | E8: Ցուցանիշների փոփոխությունը (ավելացումները նշված են դրական նշանով)
B9: ծրագիրը | C9: միջոցառումը | E9: Ինն ամիս | F9: Տարի
D10: ԸՆԴԱՄԵՆԸ | E10: =+E11 -> 448 | F10: =+F11 -> 448
D11: ՀՀ տարածքային կառավարման և ենթակառուցվածքների նախարարություն | E11: =+E19 -> 448 | F11: =+F19 -> 448
B12: 1077 | D12: Ծրագրի անվանումը`
D13: Երկաթուղային ցանցի զարգացում
D14: Ծրագրի նպատակը`
D15: Երկաթուղային ցանցի զարգացում
D16: Վերջնական արդյունքի նկարագրությունը`
D17: Երկաթուղու աշխատանքի որակի բարելավում
B18: Ծրագրի միջոցառումներ
C19: 12001 | D19: Միջոցառման անվանումը` | E19: =+'3'!G26 -> 448 | F19: =+'3'!H26 -> 448
D20: Ուղևորափոխադրումներից ստացված վնասի դիմաց Հարավկովկասյան երկաթուղի' ՓԲԸ-ին սուբսիդիայի տրամադրում
D21: Միջոցառման նկարագրությունը`
D22: Կոնցեսիոն պայմանագրի դրույթների ապահովման նպատակով «Հարավկովկասյան երկաթուղի» ՓԲԸ-ին ուղևորափոխադրումներից ստացված վնասի դիմաց փոխհատուցման տրամադրման ծառայություններ
D23: Միջոցառման տեսակը
D24: Տրանսֆերտների տրամադրում

Sheet 5
H1: Հավելված N5
H2: ՀՀ կառավարության 2021 թվականի -ի N -Ն որոշման
B3: ՀԱՅԱՍՏԱՆԻ ՀԱՆՐԱՊԵՏՈՒԹՅԱՆ ԿԱՌԱՎԱՐՈՒԹՅԱՆ 2020 ԹՎԱԿԱՆԻ ԴԵԿՏԵՄԲԵՐԻ 30-Ի N 2215-Ն ՈՐՈՇՄԱՆ N 5 ՀԱՎԵԼՎԱԾԻ N 8 ԱՂՅՈՒՍԱԿՈՒՄ ԿԱՏԱՐՎՈՂ ՓՈՓՈԽՈՒԹՅՈՒՆՆԵՐԸ
H5: հազար դրամ
B6: Ծրագրային դասիչը | D6: Բյուջետային հատկացումների գլխավոր կարգադրիչների, ծրագրերի, միջոցառումների, ծախսային ուղղությունների և միջոցները ստացող իրավաբանական անձ հանդիսացող սուբյեկտների անվանումները | G6: Միջոցառումները կատարող պետական մարմինների և տնտեսվարող սուբյեկտների անվանումները | H6: Ցուցանիշների փոփոխությունը (ավելացումները նշված են դրական նշանով)
B7: Ծրագիր | C7: Միջոցառում | H7: Տարի
D8: ԸՆԴԱՄԵՆԸ | H8: =H9+H14+H19+H24+H43 -> 448
D9: ՀՀ տարածքային կառավարման և ենթակառուցվածքների նախարարություն | H9: =+H10 -> 448
B10: 1077 | D10: Երկաթուղային ցանցի զարգացում | H10: =+H11 -> 448
C11: 12001 | D11: Ուղևորափոխադրումներից ստացված վնասի դիմաց «Հարավկովկասյան երկաթուղի» ՓԲԸ-ին սուբսիդիայի տրամադրում | G11: ՀՀ տարածքային կառավարման և ենթակառուցվածքների նախարարություն | H11: =+H12 -> 448
E12: այդ թվում՝ ըստ տնտեսվարող սուբյեկտների | H12: =+H13 -> 448
G13: «Հարավկովկասյան երկաթուղի» ՓԲԸ | H13: =+'4'!F10 -> 448

Sheet 6
E1: Հավելված N6
D2: ՀՀ կառավարության 2021 թվականի -ի N -Ն որոշման
A3: ՀԱՅԱՍՏԱՆԻ ՀԱՆՐԱՊԵՏՈՒԹՅԱՆ ԿԱՌԱՎԱՐՈՒԹՅԱՆ 2020 ԹՎԱԿԱՆԻ ԴԵԿՏԵՄԲԵՐԻ 30-Ի N 2215-Ն ՈՐՈՇՄԱՆ N 6 ՀԱՎԵԼՎԱԾՈՒՄ ԿԱՏԱՐՎՈՂ ՓՈՓՈԽՈՒԹՅՈՒՆՆԵՐԸ
E4: հազար դրամ
B5: Եկամտատեսակը | C5: Գանձման համար պատասխանատու պետական կառավարման մարմին(ներ) | D5: Ցուցանիշների փոփոխությունը (ավելացումները նշված են դրական նշանով)
D6: 2021 թվական
D7: Ինն ամիս | E7: Տարի
B8: Ա | C8: 1 | D8: 3 | E8: 4
A9: Այլ եկամուտներ, ընդամենը | D9: =+D11 -> 448 | E9: =+E11 -> 448
B10: այդ թվում`
A11: 5 | B11: Ապրանքների մատակարարումից և ծառայությունների մատուցումից եկամուտներ | D11: =+D12 -> 448 | E11: =+E12 -> 448
A12: 5.2 | B12: Հայկական երկաթուղու համակարգի վերաբերյալ կոնցեսիոն պայմանագրով նախատեսված տարեկան վճար | C12: ՀՀ տարածքային կառավարման և ենթակառուցվածքների նախարարություն | D12: =+'2'!D9 -> 448 | E12: =+'2'!E9 -> 448

Sheet 7
D1: Հավելված N7
C2: ՀՀ կառավարության 2021 թվականի -ի N -Ն որոշման
A3: ՀԱՅԱՍՏԱՆԻ ՀԱՆՐԱՊԵՏՈՒԹՅԱՆ ԿԱՌԱՎԱՐՈՒԹՅԱՆ 2020 ԹՎԱԿԱՆԻ ԴԵԿՏԵՄԲԵՐԻ 30-Ի N2215-Ն ՈՐՈՇՄԱՆ N 9 և N 9.1 ՀԱՎԵԼՎԱԾՆԵՐԻ N 9.8 և N 9.1.8 ԱՂՅՈՒՍԱԿՆԵՐՈՒՄ ԿԱՏԱՐՎՈՂ ՓՈՓՈԽՈՒԹՅՈՒՆՆԵՐԸ
A5: ՀՀ տարածքային կառավարման և ենթակառուցվածքների նախարարություն
A6: ՄԱՍ 2. ՊԵՏԱԿԱՆ ՄԱՐՄՆԻ ԳԾՈՎ ԱՐԴՅՈՒՆՔԱՅԻՆ (ԿԱՏԱՐՈՂԱԿԱՆ) ՑՈՒՑԱՆԻՇՆԵՐԸ
A7: Ծրագրի դասիչը | B7: Ծրագրի անվանումը
A8: 1077 | B8: Երկաթուղային ցանցի զարգացում
A9: Ծրագրի միջոցառումները
A10: Ծրագրի դասիչը` | B10: 1077 | C10: Ցուցանիշների փոփոխությունը (ավելացումները նշված են դրական նշանով)
A11: Միջոցառման դասիչը` | B11: 12001 | C11: Ինն ամիս | D11: Տարի
A12: Միջոցառման անվանումը` | B12: Ուղևորափոխադրումներից ստացված վնասի դիմաց Հարավկովկասյան երկաթուղի' ՓԲԸ-ին սուբսիդիայի տրամադրում
A13: Նկարագրությունը` | B13: Կոնցեսիոն պայմանագրի դրույթների ապահովման նպատակով «Հարավկովկասյան երկաթուղի» ՓԲԸ-ին ուղևորափոխադրումներից ստացված վնասի դիմաց փոխհատուցման տրամադրման ծառայություններ
A14: Միջոցառման տեսակը` | B14: Տրանսֆերտների տրամադրում
A15: Շահառուների ընտրության չափանիշները | B15: Երկաթուղուց օգտվող ՀՀ բնակչություն
A16: Արդյունքի չափորոշիչներ
A17: Միջոցառման վրա կատարվող ծախսը (հազար դրամ) | C17: =448 -> 448 | D17: =+C17 -> 448
