Workbook
Name AgencyCode: #REF!
Name AgencyCode: #REF!
Name AgencyCode: #REF!
Name AgencyCode: #REF!
Name AgencyName: #REF!
Name AgencyName: #REF!
Name AgencyName: #REF!
Name AgencyName: #REF!
Name davit: #REF!
Name davit: #REF!
Name davit: #REF!
Name Functional1: #REF!
Name Functional1: #REF!
Name Functional1: #REF!
Name Functional1: #REF!
Name ggg: #REF!
Name ggg: #REF!
Name ggg: #REF!
Name PANature: #REF!
Name PANature: #REF!
Name PANature: #REF!
Name PANature: #REF!
Name PAType: #REF!
Name PAType: #REF!
Name PAType: #REF!
Name PAType: #REF!
Name Performance2: #REF!
Name Performance2: #REF!
Name Performance2: #REF!
Name Performance2: #REF!
Name PerformanceType: #REF!
Name PerformanceType: #REF!
Name PerformanceType: #REF!
Name PerformanceType: #REF!
Name Հավելված: #REF!
Name Հավելված: #REF!
Name Հավելված: #REF!
Name Մաս: #REF!
Name Մաս: #REF!
Name Մաս: #REF!
Name շախմատիստ: #REF!
Name շախմատիստ: #REF!
Name շախմատիստ: #REF!
Name շախմատիստ: #REF!

Sheet Havelvats 1
D1: Հավելված N 1
D2: ՀՀ կառավարության 2021 թվականի
D3: ______________ ի ___Ն որոշման
A5: «ՀԱՅԱUՏԱՆԻ ՀԱՆՐԱՊԵՏՈՒԹՅԱՆ 2021 ԹՎԱԿԱՆԻ ՊԵՏԱԿԱՆ ԲՅՈՒՋԵԻ ՄԱUԻՆ» ՀԱՅԱUՏԱՆԻ ՀԱՆՐԱՊԵՏՈՒԹՅԱՆ OՐԵՆՔԻ N 1 ՀԱՎԵԼՎԱԾԻ N 2 ԱՂՅՈՒՍԱԿՈՒՄ ԿԱՏԱՐՎՈՂ ՎԵՐԱԲԱՇԽՈՒՄԸ ԵՎ ՀԱՅԱՍՏԱՆԻ ՀԱՆՐԱՊԵՏՈՒԹՅԱՆ ԿԱՌԱՎԱՐՈՒԹՅԱՆ 2020 ԹՎԱԿԱՆԻ ԴԵԿՏԵՄԲԵՐԻ 30-Ի N 2215-Ն ՈՐՈՇՄԱՆ N 5 ՀԱՎԵԼՎԱԾԻ N 1 ԱՂՅՈՒՍԱԿՈՒՄ ԿԱՏԱՐՎՈՂ ՓՈՓՈԽՈՒԹՅՈՒՆՆԵՐԸ ԵՎ ԼՐԱՑՈՒՄՆԵՐԸ
E7: հազ. դրամներով
A8: Ծրագրային դասիչը | C8: Բյուջետային հատկացումների գլխավոր կարգադրիչների, ծրագրերի և միջոցառումների անվանումները | D8: Ցուցանիշների փոփոխությունը (ավելացումները նշված են դրական նշանով, իսկ նվազեցումները՝ փակագծերում)
A9: Ծրագիր | B9: Միջոցառում | D9: Առաջին կիսամյակ | E9: Ինն ամիս | F9: Տարի
A10: 1192 | C10: ԸՆԴԱՄԵՆԸ | D10: =+D12 -> 0 | E10: =+E12 -> 0 | F10: =+F12 -> 0
C11: այդ թվում
B12: ՀՀ Կրթության, գիտության, մշակույթի և սպորտի նախարարություն | D12: =D14+D27 -> 0 | E12: =E14+E27 -> 0 | F12: =F14+F27 -> 0
A13: 1041 | C13: Ծրագրի անվանումը`
C14: Մեծ նվաճումների սպորտ | D14: =D21 -> 0 | E14: =E21 -> 0 | F14: =F21 -> -4907.7
C15: Ծրագրի նպատակը`
C16: Նպաստել Հայաստանում մեծ սպորտի շարունակական զարգացմանը և միջազգային հարթակներում ՀՀ դիրքի բարելավմանը
C17: Վերջնական արդյունքի նկարագրությունը`
C18: ՀՀ առաջնությունների ընդլայնում, միջազգային սպորտային միջոցառումներին մասնակցության և նվաճումների ապահովում
C19: Ծրագրի միջոցառումներ
B20: 12003 | C20: Միջոցառման անվանումը`
C21: Օլիմպիական խաղերում, աշխարհի և Եվրոպայի առաջնություններում բարձր արդյունքների հասած ՀՀ հավաքական թիմերի մարզիկներին և նրանց մարզիչներին անվանական թոշակի հատկացում | D21: 0 | E21: 0 | F21: -4907.7
C22: Միջոցառման նկարագրությունը`
C23: Օլիմպիական խաղերում, աշխարհի և Եվրոպայի առաջնություններում բարձր արդյունքների հասած ՀՀ հավաքական թիմերի մարզիկներին և նրանց մարզիչներին անվանական թոշակի հատկացում
C24: Միջոցառման տեսակը
C25: Տրանսֆերտների տրամադրում
A26: 1163 | C26: Ծրագրի անվանումը`
C27: Մասսայական սպորտ | D27: =D34+D40+D46+D52 -> 0 | E27: =E34+E40+E46+E52 -> 0 | F27: =F34+F40+F46+F52 -> 4907.7
C28: Ծրագրի նպատակը`
C29: Բնակչության շրջանում առողջ ապրելակերպի արմատավորում, անհատի բազմակողմանի ու ներդաշնակ զարգացման գործում ֆիզիկական կուլտուրայի և սպորտի դերի բարձրացում
C30: Վերջնական արդյունքի նկարագրությունը`
C31: Սպորտի նկատմամբ հետաքրքրվածության և մասնակցության ընդլայնում
C32: Ծրագրի միջոցառումներ
B33: 12001 | C33: Միջոցառման անվանումը`
C34: Աջակցություն համայնքներին մարզական հաստատությունների շենքային պայմանների բարելավման համար | D34: =33165.9+18920.5 -> 52086.4 | E34: 66952.7 | F34: 71860.4
C35: Միջոցառման նկարագրությունը`
C36: Համայնքային ենթակայության մարզական հաստատությունների վերանորոգում և կառուցում
C37: Միջոցառման տեսակը
C38: Տրանսֆերտների տրամադրում
B39: 11002 | C39: Միջոցառման անվանումը`
C40: «Լավագույն մարզական ընտանիք» մրցույթի կազմակերպում և անցկացում | D40: -32736.4 | E40: -35721.7 | F40: -35721.7
C41: Միջոցառման նկարագրությունը`
C42: «Լավագույն մարզական ընտանիք» մրցույթի կազմակերպում և անցկացում
...

Sheet Havelvats 2 
G1: Հավելված N 2
G2: ՀՀ կառավարության 2021 թվականի
G3: ______________ ի ___Ն որոշման
A5: ՀԱՅԱՍՏԱՆԻ ՀԱՆՐԱՊԵՏՈՒԹՅԱՆ ԿԱՌԱՎԱՐՈՒԹՅԱՆ 2020 ԹՎԱԿԱՆԻ ԴԵԿՏԵՄԲԵՐԻ 30-Ի N2215-Ն ՈՐՈՇՄԱՆ N 3 ԵՎ N 4 ՀԱՎԵԼՎԱԾՆԵՐՈՒՄ ԿԱՏԱՐՎՈՂ ՓՈՓՈԽՈՒԹՅՈՒՆՆԵՐԸ ԵՎ ԼՐԱՑՈՒՄՆԵՐԸ
H7: հազ. դրամներով
A8: Գործառական դասիչը | D8: Ծրագրային դասիչը | F8: Բյուջետային հատկացումների գլխավոր կարգադրիչների, ծրագրերի, միջոցառումների և միջոցառումները կատարող պետական մարմինների անվանումները | G8: Ցուցանիշների փոփոխությունը (ավելացումները նշված են դրական նշանով, իսկ նվազեցումները՝ փակագծերում)
A9: Բաժին | B9: Խումբ | C9: Դաս | D9: Ծրագիր | E9: Միջոցառում | G9: Առաջին կիսամյակ | H9: Ինն ամիս | I9: Տարի
F10: ԸՆԴԱՄԵՆԸ | G10: =+G12 -> 0 | H10: =+H12 -> 0 | I10: =+I12 -> 0
F11: այդ թվում
F12: ՀՀ ԿՐԹՈՒԹՅԱՆ, ԳԻՏՈՒԹՅԱՆ, ՄՇԱԿՈՒՅԹԻ ԵՎ ՍՊՈՐՏԻ ՆԱԽԱՐԱՐՈՒԹՅՈՒՆ | G12: =G13+G61 -> 0 | H12: =H13+H61 -> 0 | I12: =I13+I61 -> 0
A13: 08 | F13: ՀԱՆԳԻՍՏ, ՄՇԱԿՈՒՅԹ ԵՎ ԿՐՈՆ | G13: =G15 -> -52086.4 | H13: =H15 -> -66952.7 | I13: =I15 -> -71860.4
F14: այդ թվում`
B15: 01 | F15: Հանգստի և սպորտի ծառայություններ | G15: =+G17 -> -52086.4 | H15: =+H17 -> -66952.7 | I15: =+I17 -> -71860.4
F16: այդ թվում`
C17: 01 | F17: Հանգստի և սպորտի ծառայություններ | G17: =+G19 -> -52086.4 | H17: =+H19 -> -66952.7 | I17: =+I19 -> -71860.4
F18: այդ թվում`
F19: ՀՀ կրթության, գիտության, մշակույթի և սպորտի նախարարություն | G19: =G21+G32 -> -52086.4 | H19: =H21+H32 -> -66952.7 | I19: =I21+I32 -> -71860.4
F20: այդ թվում՝
D21: 1041 | E21: Մեծ նվաճումների սպորտ | G21: =+G31 -> 0 | H21: =+H31 -> 0 | I21: =+I31 -> -4907.7
E22: 12003 | F22: այդ թվում`
F23: Օլիմպիական խաղերում, աշխարհի և Եվրոպայի առաջնություններում բարձր արդյունքների հասած ՀՀ հավաքական թիմերի մարզիկներին և նրանց մարզիչներին անվանական թոշակի հատկացում | G23: =G25 -> 0 | H23: =H25 -> 0 | I23: =I25 -> -4907.7
F24: այդ թվում` ըստ կատարողների
F25: ՀՀ կրթության , գիտության, մշակույթի և սպորտի նախարարություն | G25: =G27 -> 0 | H25: =H27 -> 0 | I25: =I27 -> -4907.7
F26: այդ թվում` բյուջետային ծախսերի տնտեսագիտական դասակարգման հոդվածներ
F27: ԸՆԴԱՄԵՆԸ ԾԱԽՍԵՐ | G27: =G28 -> 0 | H27: =H28 -> 0 | I27: =I28 -> -4907.7
F28: ԸՆԹԱՑԻԿ ԾԱԽՍԵՐ | G28: =G29 -> 0 | H28: =H29 -> 0 | I28: =I29 -> -4907.7
F29: ՍՈՑԻԱԼԱԿԱՆ ՆՊԱՍՏՆԵՐ ԵՎ ԿԵՆՍԱԹՈՇԱԿՆԵՐ | G29: =G30 -> 0 | H29: =H30 -> 0 | I29: =I30 -> -4907.7
F30: Սոցիալական օգնության դրամական արտահայտությամբ նպաստներ (բյուջեից) | G30: =+G31 -> 0 | H30: =+H31 -> 0 | I30: =+I31 -> -4907.7
F31: - Կրթական, մշակութային և սպորտային նպաստներ բյուջեից | G31: ='Havelvats 1'!D21 -> 0 | H31: ='Havelvats 1'!E21 -> 0 | I31: ='Havelvats 1'!F21 -> -4907.7
D32: 1163 | E32: Մասսայական սպորտ | G32: =G34+G43+G52 -> -52086.4 | H32: =H34+H43+H52 -> -66952.7 | I32: =I34+I43+I52 -> -66952.7
E33: 11002 | F33: այդ թվում`
F34: «Լավագույն մարզական ընտանիք» մրցույթի կազմակերպում և անցկացում | G34: =G36 -> -32736.4 | H34: =H36 -> -35721.7 | I34: =I36 -> -35721.7
F35: այդ թվում` ըստ կատարողների
F36: ՀՀ կրթության , գիտության, մշակույթի և սպորտի նախարարություն | G36: =G38 -> -32736.4 | H36: =H38 -> -35721.7 | I36: =I38 -> -35721.7
F37: այդ թվում` բյուջետային ծախսերի տնտեսագիտական դասակարգման հոդվածներ
F38: ԸՆԴԱՄԵՆԸ ԾԱԽՍԵՐ | G38: =G39 -> -32736.4 | H38: =H39 -> -35721.7 | I38: =I39 -> -35721.7
F39: ԸՆԹԱՑԻԿ ԾԱԽՍԵՐ | G39: =G40 -> -32736.4 | H39: =H40 -> -35721.7 | I39: =I40 -> -35721.7
F40: ԾԱՌԱՅՈՒԹՅՈՒՆՆԵՐԻ ԵՎ ԱՊՐԱՆՔՆԵՐԻ ՁԵՌՔԲԵՐՈՒՄ | G40: =G41 -> -32736.4 | H40: =H41 -> -35721.7 | I40: =I41 -> -35721.7
F41: Պայմանագրային այլ ծառայությունների ձեռքբերում | G41: =+G42 -> -32736.4 | H41: =+H42 -> -35721.7 | I41: =+I42 -> -35721.7
F42: - Ընդհանուր բնույթի այլ ծառայություններ | G42: ='Havelvats 1'!D40 -> -32736.4 | H42: ='Havelvats 1'!E40 -> -35721.7 | I42: ='Havelvats 1'!F40 -> -35721.7
...

Sheet Havelvats 3
C1: Հավելված N 3
C2: ՀՀ կառավարության 2021 թվականի
C3: ______________ ի ___Ն որոշման
A6: «ՀԱՅԱUՏԱՆԻ ՀԱՆՐԱՊԵՏՈՒԹՅԱՆ 2021 ԹՎԱԿԱՆԻ ՊԵՏԱԿԱՆ ԲՅՈՒՋԵԻ ՄԱUԻՆ» ՀԱՅԱUՏԱՆԻ ՀԱՆՐԱՊԵՏՈՒԹՅԱՆ OՐԵՆՔԻ N 1 ՀԱՎԵԼՎԱԾԻ N 7 ԱՂՅՈՒՍԱԿՈՒՄ ԿԱՏԱՐՎՈՂ ԼՐԱՑՈՒՄԸ
A9: Ծրագրային դասիչը | C9: Հատկացումների տրամադրման նպատակները և բյուջետային գլխավոր կարգադրիչների, ծրագրերի, միջոցառումների և կատարող պետական մարմնի անվանումները | D9: Ցուցանիշների փոփոխությունը (ավելացումները նշված են դրական նշանով)
A10: Ծրագիր | B10: Միջոցառում | D10: Գումարը (հազար դրամներով)
C11: Ընդամենը | D11: =+D13 -> 71860.4
A12: այդ թվում`
A13: Կապիտալ սուբվենցիաներ համայնքներին | D13: =+D15 -> 71860.4
A14: այդ թվում`
A15: ՀՀ կրթության, գիտության, մշակույթի և սպորտի նախարարություն | D15: =+D16 -> 71860.4
A16: 1163 | C16: Մասսայական սպորտ | D16: =+D18 -> 71860.4
C17: այդ թվում`
B18: 12001 | C18: Աջակցություն համայնքներին մարզական հաստատությունների շենքային պայմանների բարելավման համար | D18: =+D20 -> 71860.4
C19: այդ թվում` ըստ կատարողների
C20: Արարատի մարզպետարան | D20: =+'Havelvats 1'!F34 -> 71860.4

Sheet Havelvats 4
E1: Հավելված N 4
E2: ՀՀ կառավարության 2021 թվականի
E3: ______________ ի ___Ն որոշման
B5: ՀԱՅԱՍՏԱՆԻ ՀԱՆՐԱՊԵՏՈՒԹՅԱՆ ԿԱՌԱՎԱՐՈՒԹՅԱՆ 2019 ԹՎԱԿԱՆԻ ԴԵԿՏԵՄԲԵՐԻ 26-Ի N 1919-Ն ՈՐՈՇՄԱՆ N 5 ՀԱՎԵԼՎԱԾԻ N 6 ԱՂՅՈՒՍԱԿՈՒՄ ԿԱՏԱՐՎՈՂ ԼՐԱՑՈՒՄԸ
G7: հազ. դրամներով
B8: Ծրագրային դասիչ | D8: Հատկացումների տրամադրման նպատակները և բյուջետային գլխավոր կարգադրիչների, ծրագրերի, միջոցառումների և կատարող պետական մարմնի անվանումները | E8: Ցուցանիշների փոփոխությունը (ավելացումները նշված են դրական նշանով)
B9: Ծրագիր | C9: Միջոցառում | E9: Առաջին կիսամյակ | F9: Ինն ամիս | G9: Տարի
D11: ՀՀ ԿՐԹՈՒԹՅԱՆ, ԳԻՏՈՒԹՅԱՆ, ՄՇԱԿՈՒՅԹԻ ԵՎ ՍՊՈՐՏԻ ՆԱԽԱՐԱՐՈՒԹՅՈՒՆ | E11: =E13 -> 52086.4 | F11: =F13 -> 66952.7 | G11: =G13 -> 71860.4
D12: այդ թվում՝
B13: 1163 | C13: Մասսայական սպորտ | E13: =E17 -> 52086.4 | F13: =F17 -> 66952.7 | G13: =G17 -> 71860.4
D14: այդ թվում`
C15: 12001 | D15: Աջակցություն համայնքներին մարզական հաստատությունների շենքային պայմանների բարելավման համար
D16: այդ թվում` ըստ կատարողների
D17: Արարատի մարզպետարան | E17: ='Havelvats 1'!D34 -> 52086.4 | F17: ='Havelvats 1'!E34 -> 66952.7 | G17: ='Havelvats 1'!F34 -> 71860.4

Sheet Havelvac 5
H1: Հավելված N 5
H2: ՀՀ կառավարության 2021 թվականի
H3: ______________ ի ___Ն որոշման
B5: ՀԱՅԱՍՏԱՆԻ ՀԱՆՐԱՊԵՏՈՒԹՅԱՆ ԿԱՌԱՎԱՐՈՒԹՅԱՆ 2020 ԹՎԱԿԱՆԻ ԴԵԿՏԵՄԲԵՐԻ 30-Ի N 2215-Ն ՈՐՈՇՄԱՆ N 5 ՀԱՎԵԼՎԱԾԻ N 7 ԱՂՅՈՒՍԱԿՈՒՄ ԿԱՏԱՐՎՈՂ ՓՈՓՈԽՈՒԹՅՈՒՆԸ
H6: հազ. դրամ
B7: Ծրագրային դասիչ | D7: Բյուջետային հատկացումների գլխավոր կարգադրիչների, ծրագրերի, միջոցառումների, ծախսային ուղղությունների անվանումները | G7: Միջոցառումները կատարող պետական մարմինների և դրամաշնորհ ստացող տնտեսվարող սուբյեկտների անվանումները | H7: Ցուցանիշների փոփոխությունը (նվազեցումները նշված են փակագծերում) Տարի
B8: Ծրագիր | C8: Միջոցառում
B9: 1 | C9: 2 | D9: 3 | G9: 4 | H9: 5
B10: ՀՀ կրթության, գիտության, մշակույթի և սպորտի նախարարություն | H10: =H11 -> -19350
B11: 1163 | C11: Մասսայական սպորտ | H11: =H12 -> -19350
C12: 11017 | D12: Համաշխարհային ունիվերսիադային Հայաստանի ուսանողական մարզական պատվիրակության մասնակցության ապահովում | G12: ՀՀ կրթության, գիտության, մշակույթի և սպորտի նախարարություն | H12: =H13 -> -19350
G13: ՀՀ «Ուսանողական մարզական ֆեդերացիա» ՀԿ | H13: -19350

Sheet Havelvats 6
D1: Հավելված N 6
D2: ՀՀ կառավարության 2021 թվականի
D3: ______________ ի ___Ն որոշման
B5: ՀԱՅԱՍՏԱՆԻ ՀԱՆՐԱՊԵՏՈՒԹՅԱՆ ԿԱՌԱՎԱՐՈՒԹՅԱՆ 2020 ԹՎԱԿԱՆԻ ԴԵԿՏԵՄԲԵՐԻ 30-Ի N 2215-Ն ՈՐՈՇՄԱՆ N 9 ՀԱՎԵԼՎԱԾԻ N 9.14 ԱՂՅՈՒՍԱԿՈՒՄ ԿԱՏԱՐՎՈՂ ՓՈՓՈԽՈՒԹՅՈՒՆՆԵՐԸ ԵՎ ԼՐԱՑՈՒՄՆԵՐԸ
A7: Աղյուսակ 9․14
C8: ՀՀ կրթության, գիտության, մշակույթի և սպորտի նախարարություն
B9: ՄԱՍ 2. ՊԵՏԱԿԱՆ ՄԱՐՄՆԻ ԳԾՈՎ ԱՐԴՅՈՒՆՔԱՅԻՆ (ԿԱՏԱՐՈՂԱԿԱՆ) ՑՈՒՑԱՆԻՇՆԵՐԸ
B11: Ծրագրի դասիչը | C11: Ծրագրի անվանումը
B12: 1041 | C12: Մեծ նվաճումների սպորտ
B14: Ծրագրի միջոցառումները
B15: Ծրագրի դասիչը | C15: 1041 | D15: Ցուցանիշների փոփոխությունը (նվազեցումները նշված են փակագծերում)
B16: Միջոցառման դասիչը՝ | C16: 12003 | D16: Առաջին կիսամյակ | E16: Ինն ամիս | F16: Տարի
B17: Միջոցառման անվանումը՝ | C17: Օլիմպիական խաղերում, աշխարհի և Եվրոպայի առաջնություններում բարձր արդյունքների հասած ՀՀ հավաքական թիմերի մարզիկներին և նրանց մարզիչներին անվանական թոշակի հատկացում
B18: Նկարագրությունը՝ | C18: Օլիմպիական խաղերում, աշխարհի և Եվրոպայի առաջնություններում բարձր արդյունքների հասած ՀՀ հավաքական թիմերի մարզիկներին և նրանց մարզիչներին անվանական թոշակի հատկացում
B19: Միջոցառման տեսակը՝ | C19: Տրանսֆերտների տրամադրում
B20: Շահառուների ընտրության չափանիշները | C20: Միջոցառման շրջանակներում շահառուներին անվանական թոշակի հատկացման կարգ
B21: Արդյունքի չափորոշիչներ
B22: Ազգային հավաքական թիմերում ընգրկված մարզիկներին տրվող թոշակներ (մարզիկների թիվը) | D22: 2 | E22: 2 | F22: 2
B23: Ազգային հավաքական թիմերում ընգրկված մարզչական անձնակազմին տրվող թոշակներ (մարզչական անձնակազմի թիվը) | D23: 26 | E23: 26 | F23: 26
B24: Միջոցառման վրա կատարվող ծախսը (հազար դրամ) | D24: ='Havelvats 1'!D21 -> 0 | E24: ='Havelvats 1'!E21 -> 0 | F24: ='Havelvats 1'!F21 -> -4907.7
B26: Ծրագրի դասիչը | C26: Ծրագրի անվանումը
B27: 1163 | C27: Մասսայական սպորտ
B29: Ծրագրի միջոցառումները
B30: Ծրագրի դասիչը | C30: 1163 | D30: Ցուցանիշների փոփոխությունը (ավելացումները նշված են դրական նշանով)
B31: Միջոցառման դասիչը՝ | C31: 12001 | D31: Առաջին կիսամյակ | E31: Ինն ամիս | F31: Տարի
B32: Միջոցառման անվանումը՝ | C32: Աջակցություն համայնքներին մարզական հաստատությունների շենքային պայմանների բարելավման համար
B33: Նկարագրությունը՝ | C33: Համայնքային ենթակայության մարզական հաստատությունների վերանորոգում և կառուցում
B34: Միջոցառման տեսակը՝ | C34: Տրանսֆերտների տրամադրում
B35: Շահառուների ընտրության չափանիշները | C35: Համայնքային ենթակայության մարզական հաստատություններ
B36: Արդյունքի չափորոշիչներ
B37: Վերակառուցման ենթակա օբյեկտների թիվ, հատ | D37: 1 | E37: 1 | F37: 1
B38: Միջոցառման վրա կատարվող ծախսը (հազար դրամ) | D38: ='Havelvats 1'!D34 -> 52086.4 | E38: ='Havelvats 1'!E34 -> 66952.7 | F38: ='Havelvats 1'!F34 -> 71860.4
B40: Ծրագրի միջոցառումները
B41: Ծրագրի դասիչը | C41: 1163 | D41: Ցուցանիշների փոփոխությունը (նվազեցումները նշված են փակագծերում)
B42: Միջոցառման դասիչը՝ | C42: 11002 | D42: Առաջին կիսամյակ | E42: Ինն ամիս | F42: Տարի
B43: Միջոցառման անվանումը` | C43: «Լավագույն մարզական ընտանիք» մրցույթի կազմակերպում և անցկացում
B44: Նկարագրությունը` | C44: «Լավագույն մարզական ընտանիք» մրցույթի կազմակերպում և անցկացում
B45: Միջոցառման տեսակը` | C45: Ծառայությունների մատուցում
B46: Ծառայությունը մատուցող կազմակերպությունների անվանումը | C46: «Գնումների մասին» ՀՀ օրենքի համաձայն ընտրված կազմակերպություն
B47: Արդյունքի չափորոշիչներ
...

Sheet Havelvats 7
D1: Հավելված N 7
D2: ՀՀ կառավարության 2021 թվականի
D3: ______________ ի ___Ն որոշման
B5: ՀԱՅԱՍՏԱՆԻ ՀԱՆՐԱՊԵՏՈՒԹՅԱՆ ԿԱՌԱՎԱՐՈՒԹՅԱՆ 2020 ԹՎԱԿԱՆԻ ԴԵԿՏԵՄԲԵՐԻ 30-Ի N 2215-Ն ՈՐՈՇՄԱՆ N 9.1 ՀԱՎԵԼՎԱԾԻ N 9.1.14 ԵՎ 9.1.49 ԱՂՅՈՒՍԱԿՆԵՐՈՒՄ ԿԱՏԱՐՎՈՂ ՓՈՓՈԽՈՒԹՅՈՒՆՆԵՐԸ ԵՎ ԼՐԱՑՈՒՄՆԵՐԸ
A7: Աղյուսակ 9․1.14
C8: ՀՀ կրթության, գիտության, մշակույթի և սպորտի նախարարություն
B9: ՄԱՍ 2. ՊԵՏԱԿԱՆ ՄԱՐՄՆԻ ԳԾՈՎ ԱՐԴՅՈՒՆՔԱՅԻՆ (ԿԱՏԱՐՈՂԱԿԱՆ) ՑՈՒՑԱՆԻՇՆԵՐԸ
B11: Ծրագրի դասիչը | C11: Ծրագրի անվանումը
B12: 1041 | C12: Մեծ նվաճումների սպորտ
B14: Ծրագրի միջոցառումները
B15: Ծրագրի դասիչը | C15: 1041 | D15: Ցուցանիշների փոփոխությունը (նվազեցումները նշված են փակագծերում)
B16: Միջոցառման դասիչը՝ | C16: 12003 | D16: Առաջին կիսամյակ | E16: Ինն ամիս | F16: Տարի
B17: Միջոցառման անվանումը՝ | C17: Օլիմպիական խաղերում, աշխարհի և Եվրոպայի առաջնություններում բարձր արդյունքների հասած ՀՀ հավաքական թիմերի մարզիկներին և նրանց մարզիչներին անվանական թոշակի հատկացում
B18: Նկարագրությունը՝ | C18: Օլիմպիական խաղերում, աշխարհի և Եվրոպայի առաջնություններում բարձր արդյունքների հասած ՀՀ հավաքական թիմերի մարզիկներին և նրանց մարզիչներին անվանական թոշակի հատկացում
B19: Միջոցառման տեսակը՝ | C19: Տրանսֆերտների տրամադրում
B20: Շահառուների ընտրության չափանիշները | C20: Միջոցառման շրջանակներում շահառուներին անվանական թոշակի հատկացման կարգ
B21: Արդյունքի չափորոշիչներ
B22: Ազգային հավաքական թիմերում ընգրկված մարզիկներին տրվող թոշակներ (մարզիկների թիվը) | D22: 2 | E22: 2 | F22: 2
B23: Ազգային հավաքական թիմերում ընգրկված մարզչական անձնակազմին տրվող թոշակներ (մարզչական անձնակազմի թիվը) | D23: 26 | E23: 26 | F23: 26
B24: Միջոցառման վրա կատարվող ծախսը (հազար դրամ) | D24: ='Havelvats 1'!D21 -> 0 | E24: ='Havelvats 1'!E21 -> 0 | F24: ='Havelvats 1'!F21 -> -4907.7
B26: Ծրագրի դասիչը | C26: Ծրագրի անվանումը
B27: 1163 | C27: Մասսայական սպորտ
B29: Ծրագրի միջոցառումները
B30: Ծրագրի դասիչը | C30: 1163 | D30: Ցուցանիշների փոփոխությունը (նվազեցումները նշված են փակագծերում)
B31: Միջոցառման դասիչը՝ | C31: 11002 | D31: Առաջին կիսամյակ | E31: Ինն ամիս | F31: Տարի
B32: Միջոցառման անվանումը` | C32: «Լավագույն մարզական ընտանիք» մրցույթի կազմակերպում և անցկացում
B33: Նկարագրությունը` | C33: «Լավագույն մարզական ընտանիք» մրցույթի կազմակերպում և անցկացում
B34: Միջոցառման տեսակը` | C34: Ծառայությունների մատուցում
B35: Ծառայությունը մատուցող կազմակերպությունների անվանումը | C35: «Գնումների մասին» ՀՀ օրենքի համաձայն ընտրված կազմակերպություն
B36: Արդյունքի չափորոշիչներ
B37: Մրցույթի մասնակից ընտանիքների թիվ | D37: -572 | E37: -572 | F37: -572
B38: Մասանկիցների ընդհանուր թվից իգական սեռի ներկայացուցիչների մասնաբաժինը, տոկոս | D38: -40 | E38: -40 | F38: -40
B39: Մասանկիցների ընդհանուր թվից արական սեռի ներկայացուցիչների մասնաբաժինը, տոկոս | D39: -60 | E39: -60 | F39: -60
B40: Մարզաձևերի թիվ, հատ | D40: -6 | E40: -6 | F40: -6
B41: Միջոցառման վրա կատարվող ծախսը (հազար դրամ) | D41: ='Havelvats 1'!D40 -> -32736.4 | E41: ='Havelvats 1'!E40 -> -35721.7 | F41: ='Havelvats 1'!F40 -> -35721.7
B43: Ծրագրի միջոցառումները
B44: Ծրագրի դասիչը | C44: 1163 | D44: Ցուցանիշների փոփոխությունը (նվազեցումները նշված են փակագծերում)
B45: Միջոցառման դասիչը՝ | C45: 11004 | D45: Առաջին կիսամյակ | E45: Ինն ամիս | F45: Տարի
B46: Միջոցառման անվանումը` | C46: «Հաշմանդամություն ունեցող լավագույն մարզիկ» մրցույթի անցկացում
B47: Նկարագրությունը` | C47: «Հաշմանդամություն ունեցող լավագույն մարզիկ» մրցույթի կազմակերպում և անցկացում
...

Sheet Havelvats 8
H1: Հավելված N 8
H2: ՀՀ կառավարության 2021 թվականի
H3: ______________ ի ___Ն որոշման
A5: ՀԱՅԱՍՏԱՆԻ ՀԱՆՐԱՊԵՏՈՒԹՅԱՆ ԿԱՌԱՎԱՐՈՒԹՅԱՆ 2020 ԹՎԱԿԱՆԻ ԴԵԿՏԵՄԲԵՐԻ 30-Ի N 2215-Ն ՈՐՈՇՄԱՆ N 10 ՀԱՎԵԼՎԱԾՈՒՄ ԿԱՏԱՐՎՈՂ ՓՈՓՈԽՈՒԹՅՈՒՆՆԵՐԸ
A7: Կոդը | B7: Անվանումը | E7: Գնման ձևը | F7: Չափման միավորը | G7: Միավորի գինը | H7: Ցուցանիշների փոփոխությունը (ավելացումները նշված են դրական նշանով, իսկ նվազեցումները` փակագծերում)
H8: Քանակը | I8: Գումարը (հազար դրամ)
A9: 1 | B9: 2 | E9: 3 | F9: 4 | G9: 5 | H9: 6 | I9: 7
A10: ՀՀ կրթության, գիտության, մշակույթի և սպորտի նախարարություն | I10: =+I11 -> -47602.7
A11: Բաժին N 08 | B11: Խումբ N 01 | C11: Դաս N 01 | D11: Հանգստի և սպորտի ծառայություններ | I11: =+I12+I15 -> -47602.7
A12: 1163-11002 | B12: «Լավագույն մարզական ընտանիք» մրցույթի կազմակերպում և անցկացում | I12: =+I13 -> -35721.7
B13: ՄԱՍ III. ԾԱՌԱՅՈՒԹՅՈՒՆՆԵՐ | I13: =+I14 -> -35721.7
A14: 92621110-4 | B14: սպորտային միջոցառումների կազմակերպման ծառայություններ | E14: ԷԱՃ | F14: դրամ | G14: 35721700 | H14: -1 | I14: =-G14/1000 -> -35721.7
A15: 1163-11004 | B15: «Հաշմանդամություն ունեցող լավագույն մարզիկ» մրցույթի անցկացում | I15: =+I16 -> -11881
B16: ՄԱՍ III. ԾԱՌԱՅՈՒԹՅՈՒՆՆԵՐ | I16: =+I17 -> -11881
A17: 92621110-2 | B17: սպորտային միջոցառումների կազմակերպման ծառայություններ | E17: ԷԱՃ | F17: դրամ | G17: 11881000 | H17: -1 | I17: =-G17/1000 -> -11881
