Workbook
Name _tab10: #REF!
Name _tab10: #REF!
Name _tab10: #REF!
Name _tab11: #REF!
Name _tab11: #REF!
Name _tab11: #REF!
Name _tab12: #REF!
Name _tab12: #REF!
Name _tab12: #REF!
Name _tab13: #REF!
Name _tab13: #REF!
Name _tab13: #REF!
Name _tab14: #REF!
Name _tab14: #REF!
Name _tab14: #REF!
Name _tab15: #REF!
Name _tab15: #REF!
Name _tab15: #REF!
Name _tab16: #REF!
Name _tab16: #REF!
Name _tab16: #REF!
Name _tab17: #REF!
Name _tab17: #REF!
Name _tab17: #REF!
Name _tab18: #REF!
Name _tab18: #REF!
Name _tab18: #REF!
Name _tab19: #REF!
Name _tab19: #REF!
Name _tab19: #REF!
Name _tab20: #REF!
Name _tab20: #REF!
Name _tab20: #REF!
Name _tab21: #REF!
Name _tab21: #REF!
Name _tab21: #REF!
Name _tab22: #REF!
Name _tab22: #REF!
Name _tab22: #REF!
Name _tab23: #REF!
Name _tab23: #REF!
Name _tab23: #REF!
Name _tab24: #REF!
Name _tab24: #REF!
Name _tab24: #REF!
Name _tab5: #REF!
Name _tab5: #REF!
Name _tab5: #REF!
Name _tab6: #REF!
Name _tab6: #REF!
Name _tab6: #REF!
Name _tab7: #REF!
Name _tab7: #REF!
Name _tab7: #REF!
Name _tab8: #REF!
Name _tab8: #REF!
Name _tab8: #REF!
Name _tab9: #REF!
Name _tab9: #REF!
Name _tab9: #REF!

Sheet 1
F1: Հավելված N 1
F2: ՀՀ կառավարության 2021 թվականի
F3: ___________ ___-ի N _______ -Ն որոշման
A7: «ՀԱՅԱՍՏԱՆԻ ՀԱՆՐԱՊԵՏՈՒԹՅԱՆ 2021 ԹՎԱԿԱՆԻ ՊԵՏԱԿԱՆ ԲՅՈՒՋԵԻ ՄԱՍԻՆ» ՀԱՅԱՍՏԱՆԻ ՀԱՆՐԱՊԵՏՈՒԹՅԱՆ ՕՐԵՆՔԻ N 1 ՀԱՎԵԼՎԱԾԻ N 2 ԱՂՅՈՒՍԱԿՈՒՄ ԿԱՏԱՐՎՈՂ ՎԵՐԱԲԱՇԽՈՒՄ ԵՎ ՀԱՅԱՍՏԱՆԻ ՀԱՆՐԱՊԵՏՈՒԹՅԱՆ ԿԱՌԱՎԱՐՈՒԹՅԱՆ 2020 ԹՎԱԿԱՆԻ ԴԵԿՏԵՄԲԵՐԻ 30-Ի N 2215-Ն ՈՐՈՇՄԱՆ N 5 ՀԱՎԵԼՎԱԾԻ N 1 ԱՂՅՈՒՍԱԿՈՒՄ ԿԱՏԱՐՎՈՂ ՓՈՓՈԽՈՒԹՅՈՒՆՆԵՐԸ
F8: (հազ.դրամ)
A9: Ծրագրային դասիչը | C9: Բյուջետային հատկացումների գլխավոր կարգադրիչների, ծրագրերի և միջոցառումների անվանումները | D9: Ցուցանիշների փոփոխությունը (ավելացումները նշված են դրական նշանով, իսկ նվազեցումները՝ փակագծերում)
D10: Առաջին կիսամյակ | E10: Ինն ամիս | F10: Տարի
A11: Ծրագիր | B11: Միջոցառում
C12: Ընդամենը | D12: =+D13+D33 -> 0 | E12: =+E13+E33 -> 0 | F12: =+F13+F33 -> 0
C13: ՀՀ կառավարություն | D13: =+D15 -> 0 | E13: =+E15 -> 0 | F13: =+F15 -> 0
A14: 1139 | C14: Ծրագրի անվանումը`
C15: ՀՀ կառավարության պահուստային ֆոնդ | D15: =+D21+D27 -> 0 | E15: =+E21+E27 -> 0 | F15: =+F21+F27 -> 0
C16: Ծրագրի նպատակը`
C17: Պետական բյուջեում չկանխատեսված, ինչպես նաեւ բյուջետային երաշխիքների ապահովման ծախսերի ֆինանսավորման ապահովում
C18: Վերջնական արդյունքի նկարագրությունը`
C19: Պահուստային ֆոնդի կառավարման արդյունավետության և թափանցիկության ապահովում
A20: Ծրագրի միջոցառումներ
B21: 11001 | C21: Միջոցառման անվանումը` | D21: =+'3'!G24 -> -1390488.2 | E21: =+'3'!H24 -> -2852539.3 | F21: =+'3'!I24 -> -5747627.2
C22: ՀՀ կառավարության պահուստային ֆոնդ
C23: Միջոցառման նկարագրությունը`
C24: ՀՀ պետական բյուջեում նախատեսված ելքերի լրացուցիչ ֆինանսավորման, պետական բյուջեում չկանխատեսված ելքերի, ինչպես նաև բյուջետային երաշխիքների ապահովման ելքերի ֆինանսավորման ապահովում
C25: Միջոցառման տեսակը
C26: Ծառայությունների մատուցում
B27: 11001 | C27: Միջոցառման անվանումը` | D27: =+'3'!G32 -> 1390488.2 | E27: =+'3'!H32 -> 2852539.3 | F27: =+'3'!I32 -> 5747627.2
C28: ՀՀ կառավարության պահուստային ֆոնդ
C29: Միջոցառման նկարագրությունը`
C30: ՀՀ պետական բյուջեում նախատեսված ելքերի լրացուցիչ ֆինանսավորման, պետական բյուջեում չկանխատեսված ելքերի, ինչպես նաև բյուջետային երաշխիքների ապահովման ելքերի ֆինանսավորման ապահովում
C31: Միջոցառման տեսակը
C32: Ծառայությունների մատուցում
C33: ՀՀ պաշտպանության նախարարություն | D33: =+D35 -> 0 | E33: =+E35 -> 0 | F33: =+F35 -> 0
C34: Ծրագրի անվանումը՝
A35: 1169 | C35: ՀՀ պաշտպանության ապահովում | D35: =D41+D47+D53 -> 0 | E35: =E41+E47+E53 -> 0 | F35: =F41+F47+F53 -> 0
C36: Ծրագրի նպատակը՝
C37: ՀՀ ԶՈւ ռազմավարական ծավալումն ապահովող մարտական պատրաստականության պահպանում՝ արտաքին թշնամուց ՀՀ պետական սահմանների պաշտպանության ապահովում
C38: Վերջնական արդյունքի նկարագրությունը՝
C39: ՀՀ ԶՈւ ռազմավարական ծավալումն ապահովող մարտական պատրաստականության պահպանում
A40: Ծրագրի միջոցառումներ
B41: 11001 | C41: Միջոցառման անվանումը՝ | D41: =+'3'!G48 -> -1317933.2 | E41: =+'3'!H48 -> -1317933.2 | F41: =+'3'!I48 -> -1317933.2
C42: Ռազմական կարիքների բավարարում
C43: Միջոցառման նկարագրությունը՝
C44: Ընթացիկ գործունեության ապահովման գործողություններ
C45: Միջոցառման տեսակը
C46: Ծառայությունների մատուցում
B47: 31001 | C47: Միջոցառման անվանումը՝ | D47: =+'3'!G65 -> -72555 | E47: =+'3'!H65 -> -1534606.1 | F47: =+'3'!I65 -> -4429694
C48: ՀՀ պաշտպանության նախարարության շենքային պայմանների բարելավում
C49: Միջոցառման նկարագրությունը՝
C50: Պաշտպանության կարիքների համար բնակելի, գրասենյակային և այլ նշանակության շենքերի և շինությունների կառուցում
C51: Միջոցառման տեսակը
C52: Պետական մարմինների կողմից օգտագործվող ոչ ֆինանսական ակտիվների հետ գործառնություններ
B53: 31001 | C53: Միջոցառման անվանումը՝ | D53: =+'3'!G78 -> 1390488.2 | E53: =+'3'!H78 -> 2852539.3 | F53: =+'3'!I78 -> 5747627.2
C54: ՀՀ պաշտպանության նախարարության շենքային պայմանների բարելավում
C55: Միջոցառման նկարագրությունը՝
C56: Պաշտպանության կարիքների համար բնակելի, գրասենյակային և այլ նշանակության շենքերի և շինությունների կառուցում
C57: Միջոցառման տեսակը
C58: Պետական մարմինների կողմից օգտագործվող ոչ ֆինանսական ակտիվների հետ գործառնություններ

Sheet 2
H1: Հավելված N 2
H2: ՀՀ կառավարության 2021 թվականի
H3: ___________ ___-ի N _______ -Ն որոշման
A5: «ՀԱՅԱՍՏԱՆԻ ՀԱՆՐԱՊԵՏՈՒԹՅԱՆ 2021 ԹՎԱԿԱՆԻ ՊԵՏԱԿԱՆ ԲՅՈՒՋԵԻ ՄԱՍԻՆ» ՀԱՅԱՍՏԱՆԻ ՀԱՆՐԱՊԵՏՈՒԹՅԱՆ ՕՐԵՆՔԻ N 1 ՀԱՎԵԼՎԱԾԻ N 3 ԱՂՅՈՒՍԱԿՈՒՄ ԿԱՏԱՐՎՈՂ ՓՈՓՈԽՈՒԹՅՈՒՆԸ
G6: (հազ.դրամ)
A7: Ծրագրային դասիչ | C7: Բյուջետային գլխավոր կարգադրիչների, ծրագրերի, միջոցառումների և ուղղությունների անվանումները | D7: Ցուցանիշների փոփոխությունը (ավելացումները նշված են դրական նշանով)
D8: Ընդամենը, | E8: այդ թվում՝
A9: Ծրագիր | B9: Միջոցառում | E9: Կառուցման աշխատանքներ | F9: Վերակառուցման, վերանորոգման և վերականգնման աշխատանքներ | G9: Նախագծահե- տազոտական, գեոդեզիա- քարտեզագրա- կան աշխա- տանքներ | H9: Ոչ ֆինանսական այլ ակտիվների ձեռքբերում
C10: ԸՆԴԱՄԵՆԸ | D10: =+D12 -> 1317933.2 | E10: =+E12 -> 1317933.2
C11: այդ թվում՝
C12: ՀՀ ՊԱՇՏՊԱՆՈՒԹՅԱՆ ՆԱԽԱՐԱՐՈՒԹՅՈՒՆ | D12: =+D14 -> 1317933.2 | E12: =+E14 -> 1317933.2
C13: այդ թվում`
A14: 1169 | B14: 31001 | C14: ՀՀ պաշտպանության նախարարության շենքային պայմաններ բարելավում | D14: =SUM(E14:H14) -> 1317933.2 | E14: =+'3'!I78+'3'!I65 -> 1317933.2

Sheet 3
I1: Հավելված N 3
F2: ՀՀ կառավարության 2021 թվականի
F3: ___________ ___-ի N _______ -Ն որոշման
A7: ՀԱՅԱՍՏԱՆԻ ՀԱՆՐԱՊԵՏՈՒԹՅԱՆ ԿԱՌԱՎԱՐՈՒԹՅԱՆ 2020 ԹՎԱԿԱՆԻ ԴԵԿՏԵՄԲԵՐԻ 30-Ի N 2215-Ն ՈՐՈՇՄԱՆ NN 3 ԵՎ 4 ՀԱՎԵԼՎԱԾՆԵՐՈՒՄ ԿԱՏԱՐՎՈՂ ՓՈՓՈԽՈՒԹՅՈՒՆՆԵՐԸ
I8: (հազ.դրամ)
A10: Գործառական դասիչը | D10: Ծրագրային դասիչը | F10: Բյուջետային ծախսերի գործառական դասակարգման բաժինների, խմբերի և դասերի, բյուջետային ծրագրերի միջոցառումների, բյուջետային հատկացումների գլխավոր կարգադրիչների անվանումները | G10: Ցուցանիշների փոփոխությունը (ավելացումները նշված են դրական նշանով, իսկ նվազեցումները՝ փակագծերում)
G11: Առաջին կիսամյակ | H11: Ինն ամիս | I11: Տարի
A12: Բաժին | B12: Խումբ | C12: Դաս | D12: Ծրագիր | E12: Միջոցառում
F13: ԸՆԴԱՄԵՆԸ ԾԱԽՍԵՐ այդ թվում՝ | G13: =+G14+G40 -> 0 | H13: =+H14+H40 -> 0 | I13: =+I14+I40 -> 0
A14: 11 | F14: ՀԻՄՆԱԿԱՆ ԲԱԺԻՆՆԵՐԻՆ ՉԴԱՍՎՈՂ ՊԱՀՈՒՍՏԱՅԻՆ ՖՈՆԴԵՐ | G14: =+G16 -> 0 | H14: =+H16 -> 0 | I14: =+I16 -> 0
F15: այդ թվում`
B16: 01 | F16: ՀՀ կառավարության պահուստային ֆոնդ | G16: =+G18 -> 0 | H16: =+H18 -> 0 | I16: =+I18 -> 0
F17: այդ թվում`
C18: 01 | F18: ՀՀ կառավարության պահուստային ֆոնդ | G18: =+G20 -> 0 | H18: =+H20 -> 0 | I18: =+I20 -> 0
F19: այդ թվում`
F20: ՀՀ կառավարություն | G20: =+G22 -> 0 | H20: =+H22 -> 0 | I20: =+I22 -> 0
F21: այդ թվում`
D22: 1139 | F22: ՀՀ կառավարության պահուստային ֆոնդ | G22: =+G24+G32 -> 0 | H22: =+H24+H32 -> 0 | I22: =+I24+I32 -> 0
F23: այդ թվում`
E24: 11001 | F24: ՀՀ կառավարության պահուստային ֆոնդ | G24: =+G26 -> -1390488.2 | H24: =+H26 -> -2852539.3 | I24: =+I26 -> -5747627.2
F25: այդ թվում` ըստ կատարողների
F26: ՀՀ կառավարություն | G26: =+G28 -> -1390488.2 | H26: =+H28 -> -2852539.3 | I26: =+I28 -> -5747627.2
F27: այդ թվում` բյուջետային ծախսերի տնտեսագիտական դասակարգման հոդվածներ
F28: ԸՆԴԱՄԵՆԸ ԾԱԽՍԵՐ | G28: =+G29 -> -1390488.2 | H28: =+H29 -> -2852539.3 | I28: =+I29 -> -5747627.2
F29: ԸՆԹԱՑԻԿ ԾԱԽՍԵՐ | G29: =+G30 -> -1390488.2 | H29: =+H30 -> -2852539.3 | I29: =+I30 -> -5747627.2
F30: ԱՅԼ ԾԱԽՍԵՐ | G30: =+G31 -> -1390488.2 | H30: =+H31 -> -2852539.3 | I30: =+I31 -> -5747627.2
F31: - Պահուստային միջոցներ | G31: -1390488.2 | H31: -2852539.3 | I31: -5747627.2
E32: 11001 | F32: ՀՀ կառավարության պահուստային ֆոնդ | G32: =+G34 -> 1390488.2 | H32: =+H34 -> 2852539.3 | I32: =+I34 -> 5747627.2
F33: այդ թվում` ըստ կատարողների
F34: ՀՀ կառավարություն | G34: =+G36 -> 1390488.2 | H34: =+H36 -> 2852539.3 | I34: =+I36 -> 5747627.2
F35: այդ թվում` բյուջետային ծախսերի տնտեսագիտական դասակարգման հոդվածներ
F36: ԸՆԴԱՄԵՆԸ ԾԱԽՍԵՐ | G36: =+G37 -> 1390488.2 | H36: =+H37 -> 2852539.3 | I36: =+I37 -> 5747627.2
F37: ԸՆԹԱՑԻԿ ԾԱԽՍԵՐ | G37: =+G38 -> 1390488.2 | H37: =+H38 -> 2852539.3 | I37: =+I38 -> 5747627.2
F38: ԱՅԼ ԾԱԽՍԵՐ | G38: =+G39 -> 1390488.2 | H38: =+H39 -> 2852539.3 | I38: =+I39 -> 5747627.2
F39: - Պահուստային միջոցներ | G39: 1390488.2 | H39: 2852539.3 | I39: 5747627.2
A40: 02 | F40: ՊԱՇՏՊԱՆՈՒԹՅՈՒՆ | G40: =+G42 -> 0 | H40: =+H42 -> 0 | I40: =+I42 -> 0
F41: այդ թվում`
B42: 01 | F42: Ռազմական պաշտպանություն | G42: =+G44 -> 0 | H42: =+H44 -> 0 | I42: =+I44 -> 0
F43: այդ թվում`
C44: 01 | F44: Ռազմական պաշտպանություն | G44: =+G46 -> 0 | H44: =+H46 -> 0 | I44: =+I46 -> 0
F45: այդ թվում`
F46: ՀՀ պաշտպանության նախարարություն | G46: =+G47 -> 0 | H46: =+H47 -> 0 | I46: =+I47 -> 0
D47: 1169 | F47: ՀՀ պաշտպանության ապահովում | G47: =+G48+G65+G78 -> 0 | H47: =+H48+H65+H78 -> 0 | I47: =+I48+I65+I78 -> 0
E48: 11001 | F48: Ռազմական կարիքների բավարարում | G48: =+G50 -> -1317933.2 | H48: =+H50 -> -1317933.2 | I48: =+I50 -> -1317933.2
F49: այդ թվում` ըստ կատարողների
F50: ՀՀ պաշտպանության նախարարություն | G50: =+G52 -> -1317933.2 | H50: =+H52 -> -1317933.2 | I50: =+I52 -> -1317933.2
F51: այդ թվում` բյուջետային ծախսերի տնտեսագիտական դասակարգման հոդվածներ
F52: ԸՆԴԱՄԵՆԸ ԾԱԽՍԵՐ | G52: =+G53 -> -1317933.2 | H52: =+H53 -> -1317933.2 | I52: =+I53 -> -1317933.2
F53: ԸՆԹԱՑԻԿ ԾԱԽՍԵՐ | G53: =+G54+G63 -> -1317933.2 | H53: =+H54+H63 -> -1317933.2 | I53: =+I54+I63 -> -1317933.2
F54: ԾԱՌԱՅՈՒԹՅՈՒՆՆԵՐԻ ԵՎ ԱՊՐԱՆՔՆԵՐԻ ՁԵՌՔ ԲԵՐՈՒՄ | G54: =G55++G59 -> -1269112.8 | H54: =H55++H59 -> -1269112.8 | I54: =I55++I59 -> -1269112.8
F55: Պայմանագրային այլ ծառայությունների ձեռքբերում | G55: =SUM(G56:G58) -> -50060.482 | H55: =SUM(H56:H58) -> -50060.482 | I55: =SUM(I56:I58) -> -50060.482
F56: - Կենցաղային և հանրային սննդի ծառայություններ | G56: -20060.482 | H56: -20060.482 | I56: -20060.482
F57: - Ներկայացուցչական ծախսեր | G57: -6000 | H57: -6000 | I57: -6000
F58: - Ընդհանուր բնույթի այլ ծառայություններ | G58: -24000 | H58: -24000 | I58: -24000
F59: Նյութեր (Ապրանքներ) | G59: =SUM(G60:G62) -> -1219052.3 | H59: =SUM(H60:H62) -> -1219052.3 | I59: =SUM(I60:I62) -> -1219052.3
F60: - Գրասենյակային նյութեր և հագուստ | G60: -9218.1 | H60: -9218.1 | I60: -9218.1
F61: - Տրանսպորտային նյութեր | G61: -1139664.2 | H61: -1139664.2 | I61: -1139664.2
F62: - Հատուկ նպատակային այլ նյութեր | G62: -70170 | H62: -70170 | I62: -70170
F63: ԱՅԼ ԾԱԽՍԵՐ | G63: =G64 -> -48820.416 | H63: =H64 -> -48820.416 | I63: =I64 -> -48820.416
F64: - Այլ ծախսեր | G64: -48820.416 | H64: -48820.416 | I64: -48820.416
E65: 31001 | F65: ՀՀ պաշտպանության նախարարության շենքային պայմանների բարելավում | G65: =+G67 -> -72555 | H65: =+H67 -> -1534606.1 | I65: =+I67 -> -4429694
F66: այդ թվում` ըստ կատարողների
F67: ՀՀ պաշտպանության նախարարություն | G67: =+G69 -> -72555 | H67: =+H69 -> -1534606.1 | I67: =+I69 -> -4429694
F68: այդ թվում` բյուջետային ծախսերի տնտեսագիտական դասակարգման հոդվածներ
F69: ԸՆԴԱՄԵՆԸ ԾԱԽՍԵՐ | G69: =+G70 -> -72555 | H69: =+H70 -> -1534606.1 | I69: =+I70 -> -4429694
F70: ՈՉ ՖԻՆԱՆՍԱԿԱՆ ԱԿՏԻՎՆԵՐԻ ԳԾՈՎ ԾԱԽՍԵՐ | G70: =+G71 -> -72555 | H70: =+H71 -> -1534606.1 | I70: =+I71 -> -4429694
F71: ՀԻՄՆԱԿԱՆ ՄԻՋՈՑՆԵՐ | G71: =G72+G74 -> -72555 | H71: =H72+H74 -> -1534606.1 | I71: =I72+I74 -> -4429694
F72: ՇԵՆՔԵՐ ԵՎ ՇԻՆՈՒԹՅՈՒՆՆԵՐ | G72: =G73 -> 0 | H72: =H73 -> 0 | I72: =I73 -> -2895087.9
F73: - Շենքերի և շինությունների շինարարություն | G73: 0 | H73: 0 | I73: -2895087.9
F74: ՄԵՔԵՆԱՆԵՐ ԵՎ ՍԱՐՔԱՎՈՐՈՒՄՆԵՐ | G74: =SUM(G75:G77) -> -72555 | H74: =SUM(H75:H77) -> -1534606.1 | I74: =SUM(I75:I77) -> -1534606.1
F75: - Տրանսպորտային սարքավորումներ | G75: 0 | H75: -813600 | I75: -813600
F76: - Վարչական սարքավորումներ | G76: -72555 | H76: -72555 | I76: -72555
F77: - Այլ մեքենաներ և սարքավորումներ | G77: 0 | H77: -648451.06 | I77: -648451.06
E78: 31001 | F78: ՀՀ պաշտպանության նախարարության շենքային պայմանների բարելավում | G78: =+G80 -> 1390488.2 | H78: =+H80 -> 2852539.3 | I78: =+I80 -> 5747627.2
F79: այդ թվում` ըստ կատարողների
F80: ՀՀ պաշտպանության նախարարություն | G80: =+G82 -> 1390488.2 | H80: =+H82 -> 2852539.3 | I80: =+I82 -> 5747627.2
F81: այդ թվում` բյուջետային ծախսերի տնտեսագիտական դասակարգման հոդվածներ
F82: ԸՆԴԱՄԵՆԸ ԾԱԽՍԵՐ | G82: =+G83 -> 1390488.2 | H82: =+H83 -> 2852539.3 | I82: =+I83 -> 5747627.2
F83: ՈՉ ՖԻՆԱՆՍԱԿԱՆ ԱԿՏԻՎՆԵՐԻ ԳԾՈՎ ԾԱԽՍԵՐ | G83: =+G84 -> 1390488.2 | H83: =+H84 -> 2852539.3 | I83: =+I84 -> 5747627.2
F84: ՀԻՄՆԱԿԱՆ ՄԻՋՈՑՆԵՐ | G84: =G85 -> 1390488.2 | H84: =H85 -> 2852539.3 | I84: =I85 -> 5747627.2
F85: ՇԵՆՔԵՐ ԵՎ ՇԻՆՈՒԹՅՈՒՆՆԵՐ | G85: =G86 -> 1390488.2 | H85: =H86 -> 2852539.3 | I85: =I86 -> 5747627.2
F86: - Շենքերի և շինությունների շինարարություն | G86: 1390488.2 | H86: 2852539.3 | I86: 5747627.2

Sheet 4
A1: Հավելված N 4
A2: ՀՀ կառավարության 2021 թվականի
A3: ______________ ի ___Ն որոշման
A5: ՀԱՅԱՍՏԱՆԻ ՀԱՆՐԱՊԵՏՈՒԹՅԱՆ ԿԱՌԱՎԱՐՈՒԹՅԱՆ 2020 ԹՎԱԿԱՆԻ ԴԵԿՏԵՄԲԵՐԻ 30-Ի N 2215-Ն ՈՐՈՇՄԱՆ N 5 ՀԱՎԵԼՎԱԾԻ N 2 ԱՂՅՈՒՍԱԿՈՒՄ ԿԱՏԱՐՎՈՂ ՓՈՓՈԽՈՒԹՅՈՒՆՆԵՐԸ
F6: (հազ.դրամ)
A7: Ծրագրային դասիչ | C7: Բյուջետային գլխավոր կարգադրիչների, ծրագրերի, միջոցառումների և ուղղությունների անվանումները | D7: Ցուցանիշների փոփոխությունը (ավելացումները նշված են դրական նշանով)
A8: Ծրագիր | B8: Միջոցառում | D8: Առաջին կիսամյակ | E8: Ինն ամիս | F8: Տարի
C10: ԸՆԴԱՄԵՆԸ | D10: =+D12 -> 1317933.2 | E10: =+E12 -> 1317933.2 | F10: =+F12 -> 1317933.2
C11: այդ թվում՝
C12: ՀՀ ՊԱՇՏՊԱՆՈՒԹՅԱՆ ՆԱԽԱՐԱՐՈՒԹՅՈՒՆ | D12: =+D14 -> 1317933.2 | E12: =+E14 -> 1317933.2 | F12: =+F14 -> 1317933.2
C13: այդ թվում`
A14: 1169 | B14: 31001 | C14: ՀՀ պաշտպանության նախարարության շենքային պայմանների բարելավում | D14: =D16 -> 1317933.2 | E14: =E16 -> 1317933.2 | F14: =F16 -> 1317933.2
C15: այդ թվում` ըստ կատարողների
C16: ՀՀ պաշտպանության նախարարություն | D16: =+'3'!G65+'3'!G78 -> 1317933.2 | E16: =+'3'!H65+'3'!H78 -> 1317933.2 | F16: =+'3'!I65+'3'!I78 -> 1317933.2

Sheet 5
E1: Հավելված N 5
B2: ՀՀ կառավարության 2021 թվականի
B3: ______________ ի ___Ն որոշման
A6: ՀԱՅԱՍՏԱՆԻ ՀԱՆՐԱՊԵՏՈՒԹՅԱՆ ԿԱՌԱՎԱՐՈՒԹՅԱՆ 2020 ԹՎԱԿԱՆԻ ԴԵԿՏԵՄԲԵՐԻ 30-Ի N 2215-Ն ՈՐՈՇՄԱՆ N 9 ՀԱՎԵԼՎԱԾԻ N 9.15 ԵՎ N 9.1 ՀԱՎԵԼՎԱԾԻ N 9.1.15 ԱՂՅՈՒՍԱԿՆԵՐՈՒՄ ԿԱՏԱՐՎՈՂ ՓՈՓՈԽՈՒԹՅՈՒՆՆԵՐ
A7: ՀՀ պաշտպանության նախարարություն
A9: Ծրագրի դասիչը | B9: Ծրագրի անվանումը
A10: 1169 | B10: ՀՀ պաշտպանության ապահովում
A12: Ծրագրի միջոցառումները
A14: Ծրագրի դասիչը` | B14: 1169 | C14: Ցուցանիշների փոփոխությունը (նվազեցումները նշված են փակագծերում)
A15: Միջոցառման դասիչը` | B15: 11001 | C15: Առաջին կիսամյակ | D15: Ինն ամիս | E15: Տարի
A16: Միջոցառման անվանումը` | B16: Ռազմական կարիքների բավարարում
A17: Նկարագրությունը` | B17: Ընթացիկ գործունեության ապահովման գործողություններ
A18: Միջոցառման տեսակը` | B18: Ծառայությունների մատուցում
A19: Միջոցառումն իրականացնողի անվանումը | B19: ՀՀ պաշտպանության նախարարություն
A20: Արդյունքի չափորոշիչներ
A21: չի սահմանվում
A22: Միջոցառման վրա կատարվող ծախսը (հազար դրամ) | C22: =+'3'!G48 -> -1317933.2 | D22: =+'3'!H48 -> -1317933.2 | E22: =+'3'!I48 -> -1317933.2
A24: Ծրագրի դասիչը` | B24: 1169 | C24: Ցուցանիշների փոփոխությունը (նվազեցումները նշված են փակագծերում)
A25: Միջոցառման դասիչը` | B25: 31001 | C25: Առաջին կիսամյակ | D25: Ինն ամիս | E25: Տարի
A26: Միջոցառման անվանումը` | B26: ՀՀ պաշտպանության նախարարության շենքային պայմանների բարելավում
A27: Նկարագրությունը` | B27: Պաշտպանության կարիքների համար բնակելի, գրասենյակային և այլ նշանակության շենքերի և շինությունների կառուցում
A28: Միջոցառման տեսակը` | B28: Պետական մարմինների կողմից օգտագործվող ոչ ֆինանսական ակտիվների հետ գործառնություններ
A29: Միջոցառումն իրականացնողի անվանումը | B29: ՀՀ պաշտպանության նախարարություն
A30: Արդյունքի չափորոշիչներ
A31: չի սահմանվում
A32: Միջոցառման վրա կատարվող ծախսը (հազար դրամ) | C32: =+'3'!G65 -> -72555 | D32: =+'3'!H65 -> -1534606.1 | E32: =+'3'!I65 -> -4429694
A34: Ծրագրի դասիչը` | B34: 1169 | C34: Ցուցանիշների փոփոխությունը (ավելացումները նշված են դրական նշանով)
A35: Միջոցառման դասիչը` | B35: 31001 | C35: Առաջին կիսամյակ | D35: Ինն ամիս | E35: Տարի
A36: Միջոցառման անվանումը` | B36: ՀՀ պաշտպանության նախարարության շենքային պայմանների բարելավում
A37: Նկարագրությունը` | B37: Պաշտպանության կարիքների համար բնակելի, գրասենյակային և այլ նշանակության շենքերի և շինությունների կառուցում
A38: Միջոցառման տեսակը` | B38: Պետական մարմինների կողմից օգտագործվող ոչ ֆինանսական ակտիվների հետ գործառնություններ
A39: Միջոցառումն իրականացնողի անվանումը | B39: ՀՀ պաշտպանության նախարարություն
A40: Արդյունքի չափորոշիչներ
A41: չի սահմանվում
A42: Միջոցառման վրա կատարվող ծախսը (հազար դրամ) | C42: =+'3'!G78 -> 1390488.2 | D42: =+'3'!H78 -> 2852539.3 | E42: =+'3'!I78 -> 5747627.2

Sheet 6
E1: Հավելված N 6
B2: ՀՀ կառավարության 2021 թվականի
B3: ______________ ի ___Ն որոշման
A6: ՀԱՅԱՍՏԱՆԻ ՀԱՆՐԱՊԵՏՈՒԹՅԱՆ ԿԱՌԱՎԱՐՈՒԹՅԱՆ 2020 ԹՎԱԿԱՆԻ ԴԵԿՏԵՄԲԵՐԻ 30-Ի N 2215-Ն ՈՐՈՇՄԱՆ N 9 ՀԱՎԵԼՎԱԾԻ N 9.47 ԵՎ N 9.1 ՀԱՎԵԼՎԱԾԻ N 9.1.58 ԱՂՅՈՒՍԱԿՆԵՐՈՒՄ ԿԱՏԱՐՎՈՂ ՓՈՓՈԽՈՒԹՅՈՒՆՆԵՐ
A7: ՀՀ կառավարություն
A9: Ծրագրի դասիչը | B9: Ծրագրի անվանումը
A10: 1139 | B10: ՀՀ կառավարության պահուստային ֆոնդ
A12: Ծրագրի միջոցառումները
A15: Ծրագրի դասիչը` | B15: 1139 | C15: Ցուցանիշների փոփոխությունը (նվազեցումները նշված են փակագծերում)
A16: Միջոցառման դասիչը` | B16: 11001 | C16: Առաջին կիսամյակ | D16: Ինն ամիս | E16: Տարի
A17: Միջոցառման անվանումը` | B17: ՀՀ կառավարության պահուստային ֆոնդ
A18: Նկարագրությունը` | B18: ՀՀ պետական բյուջեում նախատեսված ելքերի լրացուցիչ ֆինանսավորման, պետական բյուջեում չկանխատեսված ելքերի, ինչպես նաև բյուջետային երաշխիքների ապահովման ելքերի ֆինանսավորման ապահովում
A19: Միջոցառման տեսակը` | B19: Ծառայությունների մատուցում
A20: Միջոցառումն իրականացնողի անվանումը | B20: ՀՀ կառավարություն
A21: Արդյունքի չափորոշիչներ
A22: Միջոցառման վրա կատարվող ծախսը (հազար դրամ) | C22: =+'3'!G24 -> -1390488.2 | D22: =+'3'!H24 -> -2852539.3 | E22: =+'3'!I24 -> -5747627.2
A24: Ծրագրի դասիչը` | B24: 1139 | C24: Ցուցանիշների փոփոխությունը (ավելացումները նշված են դրական նշանով)
A25: Միջոցառման դասիչը` | B25: 11001 | C25: Առաջին կիսամյակ | D25: Ինն ամիս | E25: Տարի
A26: Միջոցառման անվանումը` | B26: ՀՀ կառավարության պահուստային ֆոնդ
A27: Նկարագրությունը` | B27: ՀՀ պետական բյուջեում նախատեսված ելքերի լրացուցիչ ֆինանսավորման, պետական բյուջեում չկանխատեսված ելքերի, ինչպես նաև բյուջետային երաշխիքների ապահովման ելքերի ֆինանսավորման ապահովում
A28: Միջոցառման տեսակը` | B28: Ծառայությունների մատուցում
A29: Միջոցառումն իրականացնողի անվանումը | B29: ՀՀ կառավարություն
A30: Արդյունքի չափորոշիչներ
A31: Միջոցառման վրա կատարվող ծախսը (հազար դրամ) | C31: =+'3'!G32 -> 1390488.2 | D31: =+'3'!H32 -> 2852539.3 | E31: =+'3'!I32 -> 5747627.2

Sheet 7
H1: Հավելված N 7
H2: ՀՀ կառավարության 2021 թվականի
H3: ___________ ___-ի N _______ -Ն որոշման
B6: ՀԱՅԱՍՏԱՆԻ ՀԱՆՐԱՊԵՏՈՒԹՅԱՆ ԿԱՌԱՎԱՐՈՒԹՅԱՆ 2020 ԹՎԱԿԱՆԻ ԴԵԿՏԵՄԲԵՐԻ 30-Ի N 2215-Ն ՈՐՈՇՄԱՆ N 10 ՀԱՎԵԼՎԱԾՈՒՄ ԿԱՏԱՐՎՈՂ ՓՈՓՈԽՈՒԹՅՈՒՆՆԵՐԸ
B8: Կոդը | C8: Անվանումը | D8: Գնման ձևը | E8: Չափման միավորը | F8: Ցուցանիշների փոփոխությունը (ավելացումները նշված են դրական նշանով, իսկ նվազեցումները` փակագծերում)
F9: միավորի գինը (դրամով) | G9: քանակը | H9: գումարը (հազար դրամով)
C10: ՀՀ պաշտպանության նախարարություն | H10: =(H11) -> -2779718.9
B11: Բաժին N02 | C11: Խումբ N01 Դաս N01 | D11: Ռազմական պաշտպանություն | H11: =H12+H102 -> -2779718.9
B12: 1169 11001 | C12: Ռազմական կարիքների բավարարում | H12: =SUM(H13:H101) -> -1245112.8
A13: 512112 | B13: 98311100/503 | C13: լվացքի հավաքման ծառայություններ | D13: ԲՄ | E13: դրամ | H13: -4272.912
A14: 512112 | B14: 98311100/504 | C14: լվացքի հավաքման ծառայություններ | D14: ԲՄ | E14: դրամ | H14: -9083.664
A15: 512112 | B15: 98311100/505 | C15: լվացքի հավաքման ծառայություններ | D15: ԲՄ | E15: դրամ | H15: -6636.168
A16: 512112 | B16: 98311100/506 | C16: լվացքի հավաքման ծառայություններ | D16: ԲՄ | E16: դրամ | H16: -67.7376
A17: 512112 | B17: 98391160/1 | C17: ներկայացուցչական, արարողակարգային ծառայություններ | D17: ՄԱ | E17: դրամ | H17: -6000
A18: 512112 | B18: 24931100/1 | C18: լուսանկարչական թիթեղիկներ կամ ժապավեններ | D18: ԳՀ | E18: հատ | F18: -126000 | G18: -2 | H18: -252
A19: 512112 | B19: 35811100/1 | C19: հրշեջ խմբի համազգեստներ | D19: ԳՀ | E19: հատ | F19: -68970 | G19: -130 | H19: -8966.1
A20: 512112 | B20: 09131100/1 | C20: ավիացիոն կերոսին | D20: ԲՄ | E20: տոննա | G20: -480.36 | H20: -216162
A21: 512112 | B21: 09131100/507 | C21: ավիացիոն կերոսին | D21: ԲՄ | E21: տոննա | H21: -333000
A22: 512112 | B22: 09132100/506 | C22: բենզին, պրեմիում | D22: ԲՄ | E22: լիտր | H22: -3400
A23: 512112 | B23: 09132200/506 | C23: բենզին, ռեգուլյար | D23: ԲՄ | E23: լիտր | H23: -21000
A24: 512112 | B24: 09132400/506 | C24: բենզին, ռեգուլյար | D24: ԲՄ | E24: տոննա | H24: -67500
A25: 512112 | B25: 09134200/506 | C25: դիզելային վառելիք, ամառային | D25: ԲՄ | E25: լիտր | H25: -5000
A26: 512112 | B26: 09134240/506 | C26: դիզելային վառելիք, ամառային | D26: ԲՄ | E26: տոննա | H26: -204000
A27: 512112 | B27: 09134250/501 | C27: դիզելային վառելիք, ձմեռային | D27: ԲՄ | E27: տոննա | H27: -48000
A28: 512112 | B28: 09211110/1 | C28: շարժիչի յուղեր | D28: ԳՀ | E28: կիլոգրամ | F28: -15147 | G28: -1500 | H28: -22720.5
A29: 512112 | B29: 09211110/5 | C29: շարժիչի յուղեր | D29: ԳՀ | E29: կիլոգրամ | F29: -4500 | G29: -200 | H29: -900
A30: 512112 | B30: 09211110/513 | C30: շարժիչի յուղեր | D30: ԳՀ | E30: կիլոգրամ | H30: -3010.88
A31: 512112 | B31: 09211150/1 | C31: լիտոլ-24 | D31: ԲՄ | E31: կիլոգրամ | G31: -25000 | H31: -41850
A32: 512112 | B32: 09211631/1 | C32: հակակոռոզիոն յուղեր | D32: ԳՀ | E32: կիլոգրամ | F32: -1971 | G32: -500 | H32: -985.5
A33: 512112 | B33: 09211660/13 | C33: հիդրավլիկ համակարգերում ― այլ նպատակներով օգտագործվող յուղեր | D33: ԳՀ | E33: կիլոգրամ | F33: -3588 | G33: -500 | H33: -1794
A34: 512112 | B34: 09211660/3 | C34: հիդրավլիկ համակարգերում ― այլ նպատակներով օգտագործվող յուղեր | D34: ԳՀ | E34: կիլոգրամ | F34: -2200 | G34: -800 | H34: -1760
A35: 512112 | B35: 09211660/519 | C35: հիդրավլիկ համակարգերում ― այլ նպատակներով օգտագործվող յուղեր | D35: ԳՀ | E35: կիլոգրամ | H35: -153.3
A36: 512112 | B36: 09211660/520 | C36: հիդրավլիկ համակարգերում ― այլ նպատակներով օգտագործվող յուղեր | D36: ԳՀ | E36: կիլոգրամ | H36: -426.76
A37: 512112 | B37: 09211660/7 | C37: հիդրավլիկ համակարգերում ― այլ նպատակներով օգտագործվող յուղեր | D37: ԲՄ | E37: կիլոգրամ | G37: -10000 | H37: -81600
A38: 512112 | B38: 09221600/1 | C38: ուայթ սպիրիտ (լաքային բենզին) | D38: ԳՀ | E38: լիտր | F38: -700 | G38: -5137 | H38: -3595.9
A39: 512112 | B39: 24111180/1 | C39: թթվածին | D39: ԳՀ | E39: խմ | F39: -1000 | G39: -60 | H39: -60
A40: 512112 | B40: 24311114/2 | C40: ծծմբական թթու | D40: ԳՀ | E40: կիլոգրամ | F40: -184 | G40: -7900 | H40: -1453.6
A41: 512112 | B41: 24951100/530 | C41: քսուքներ | D41: ԳՀ | E41: կիլոգրամ | H41: -487.6152
A42: 512112 | B42: 24951100/533 | C42: քսուքներ | D42: ԳՀ | E42: կիլոգրամ | H42: -1065.24
A43: 512112 | B43: 24951100/536 | C43: քսուքներ | D43: ԳՀ | E43: կիլոգրամ | H43: -167.904
A44: 512112 | B44: 31121100/1 | C44: գեներացնող սարքեր | D44: ԳՀ | E44: հատ | F44: -341600 | G44: -5 | H44: -1708
A45: 512112 | B45: 31442100/12 | C45: կուտակիչ մարտկոցներ | D45: ԳՀ | E45: հատ | H45: -2732.4
A46: 512112 | B46: 31442100/2 | C46: կուտակիչ մարտկոցներ | D46: ԳՀ | E46: հատ | H46: -2724.758
A47: 512112 | B47: 31442100/7 | C47: կուտակիչ մարտկոցներ | D47: ԳՀ | E47: հատ | H47: -3762.9
A48: 512112 | B48: 34351200/49 | C48: ավտոմեքենաների անիվներ | D48: ԳՀ | E48: հատ | H48: -198.6
A49: 512112 | B49: 34351200/50 | C49: ավտոմեքենաների անիվներ | D49: ԳՀ | E49: հատ | H49: -1098.6
A50: 512112 | B50: 34351200/53 | C50: ավտոմեքենաների անիվներ | D50: ԳՀ | E50: հատ | H50: -198.6
A51: 512112 | B51: 34351200/54 | C51: ավտոմեքենաների անիվներ | D51: ԳՀ | E51: հատ | H51: -7698.6
A52: 512112 | B52: 34351200/57 | C52: ավտոմեքենաների անիվներ | D52: ԳՀ | E52: հատ | H52: -2099.16
A53: 512112 | B53: 34351200/58 | C53: ավտոմեքենաների անիվներ | D53: ԳՀ | E53: հատ | H53: -5697.9
A54: 512112 | B54: 34351200/61 | C54: ավտոմեքենաների անիվներ | D54: ԳՀ | E54: հատ | H54: -7398.6
A55: 512112 | B55: 34351200/62 | C55: ավտոմեքենաների անիվներ | D55: ԳՀ | E55: հատ | H55: -932.68
A56: 512112 | B56: 34351200/67 | C56: ավտոմեքենաների անիվներ | D56: ԳՀ | E56: հատ | H56: -1224.52
... A58: 512112 | B58: 34351200/9 | C58: ավտոմեքենաների անիվներ | D58: ԳՀ | E58: հատ | H58: -141.4
A59: 512112 | B59: 44111431/2 | C59: ներկ` սպիտակ, ՆՑ-132 | D59: ԳՀ | E59: կիլոգրամ | F59: -1150 | G59: -9724 | H59: -11182.6
A60: 512112 | B60: 44111432/2 | C60: ներկ` ս―, ՆՑ-132 | D60: ԳՀ | E60: կիլոգրամ | F60: -1150 | G60: -2666 | H60: -3065.9
A61: 512112 | B61: 44111433/2 | C61: ներկ` կանաչ, ՆՑ-132 | D61: ԳՀ | E61: կիլոգրամ | F61: -1150 | G61: -2116 | H61: -2433.4
A62: 512112 | B62: 44111435/2 | C62: ներկ` կարմիր, ՆՑ-132 | D62: ԳՀ | E62: կիլոգրամ | F62: -1150 | G62: -1866 | H62: -2145.9
A63: 512112 | B63: 44111436/2 | C63: ներկ` պաշտպանական, ԽՎ-518 | D63: ԳՀ | E63: կիլոգրամ | F63: -1450 | G63: -9200 | H63: -13340
A64: 512112 | B64: 44831500/11 | C64: լուծիչներ | D64: ԳՀ | E64: կիլոգրամ | F64: -650 | G64: -6665 | H64: -4332.25
A65: 512112 | B65: 44831500/12 | C65: լուծիչներ | D65: ԳՀ | E65: կիլոգրամ | F65: -750 | G65: -1150 | H65: -862.5
A66: 512112 | B66: 03411120/501 | C66: փայտանյութից պատրաստված արտադրանք | D66: ԳՀ | E66: հատ | H66: -380
A67: 512112 | B67: 31521570/1 | C67: լապտերներ | D67: ԳՀ | E67: հատ | F67: -15000 | G67: -20 | H67: -300
A68: 512112 | B68: 31521570/2 | C68: լապտերներ | D68: ԳՀ | E68: հատ | F68: -10000 | G68: -30 | H68: -300
A69: 512112 | B69: 32571500/501 | C69: հաղորդակցման մալուխներ հատուկ կիրառման համար | D69: ԳՀ | E69: մետր | H69: -154
A70: 512112 | B70: 34731100/1 | C70: ինքնաթիռի մասեր | D70: ԳՀ | E70: դրամ | F70: -4000000 | G70: -1 | H70: -4000
A71: 512112 | B71: 34731100/2 | C71: ինքնաթիռի մասեր | D71: ԳՀ | E71: դրամ | F71: -4000000 | G71: -1 | H71: -4000
A72: 512112 | B72: 34731100/3 | C72: ինքնաթիռի մասեր | D72: ԳՀ | E72: դրամ | F72: -4000000 | G72: -1 | H72: -4000
A73: 512112 | B73: 34921220/501 | C73: անվտանգության արգելապատնեշներ | D73: ԲՄ | E73: հատ | H73: -4000
A74: 512112 | B74: 35111190/1 | C74: հրդեհի մարման փրփուր կամ համանման միացություններ | D74: ԳՀ | E74: լիտր | F74: -648 | G74: -2000 | H74: -1296
A75: 512112 | B75: 35121610/1 | C75: ազդանշանային փամփուշտներ | D75: ԳՀ | E75: հատ | F75: -20000 | G75: -30 | H75: -600
A76: 512112 | B76: 39224400/1 | C76: լուցկիներ | D76: ԳՀ | E76: տուփ | F76: -300 | G76: -100 | H76: -30
A77: 512112 | B77: 39522203/1 | C77: անկարգելի (պարաշյուտի) ուսապայուսակի (ռանեցի) ճկուն ճկափող | D77: ԳՀ | E77: հատ | F77: -7000 | G77: -100 | H77: -700
A78: 512112 | B78: 39522203/2 | C78: անկարգելի (պարաշյուտի) ուսապայուսակի (ռանեցի) ճկուն ճկափող | D78: ԳՀ | E78: հատ | F78: -7500 | G78: -100 | H78: -750
A79: 512112 | B79: 39522203/3 | C79: անկարգելի (պարաշյուտի) ուսապայուսակի (ռանեցի) ճկուն ճկափող | D79: ԳՀ | E79: հատ | F79: -7500 | G79: -50 | H79: -375
A80: 512112 | B80: 39522203/4 | C80: անկարգելի (պարաշյուտի) ուսապայուսակի (ռանեցի) ճկուն ճկափող | D80: ԳՀ | E80: հատ | F80: -7500 | G80: -50 | H80: -375
A81: 512112 | B81: 39522206/1 | C81: արշավային պաստառ | D81: ԳՀ | E81: քմ | F81: -4500 | G81: -20 | H81: -90
A82: 512112 | B82: 39541170/1 | C82: ճոպաններ | D82: ԳՀ | E82: մետր | F82: -234 | G82: -15000 | H82: -3510
A83: 512112 | B83: 42111220/501 | C83: պատյաններ | D83: ԳՀ | E83: հատ | H83: -1500.4
A84: 512112 | B84: 44111200/501 | C84: ցեմենտ | D84: ԳՀ | E84: կիլոգրամ | H84: -2520
A85: 512112 | B85: 44111431/3 | C85: ներկ` սպիտակ, ՆՑ-132 | D85: ԳՀ | E85: կիլոգրամ | F85: -1500 | G85: -2900 | H85: -4350
A86: 512112 | B86: 44111435/3 | C86: ներկ` կարմիր, ՆՑ-132 | D86: ԳՀ | E86: կիլոգրամ | F86: -1500 | G86: -200 | H86: -300
A87: 512112 | B87: 44111442/1 | C87: ներկ-էմալ, գույնը` կարմիր | D87: ԳՀ | E87: կիլոգրամ | F87: -660 | G87: -2000 | H87: -1320
A88: 512112 | B88: 44111445/1 | C88: ներկ-էմալ, գույնը` սպիտակ | D88: ԳՀ | E88: կիլոգրամ | F88: -774 | G88: -200 | H88: -154.8
A89: 512112 | B89: 44112410/1 | C89: բիտում | D89: ԳՀ | E89: տոննա | F89: -520000 | G89: -3 | H89: -1560
A90: 512112 | B90: 44118300/501 | C90: թիթեղ` մետաղական | D90: ԳՀ | E90: քմ | H90: -52
A91: 512112 | B91: 44118400/1 | C91: պրոֆնաստիլ | D91: ԳՀ | E91: քմ | F91: -3300 | G91: -2000 | H91: -6600
A92: 512112 | B92: 44119100/1 | C92: տախտակ | D92: ԳՀ | E92: խմ | F92: -130000 | G92: -80 | H92: -10400
A93: 512112 | B93: 44192610/1 | C93: մեխ շինարարական | D93: ԳՀ | E93: կիլոգրամ | F93: -550 | G93: -1464 | H93: -805.2
A94: 512112 | B94: 44311120/501 | C94: փշալարեր | D94: ԲՄ | E94: կիլոգրամ | H94: -900
A95: 512112 | B95: 44331300/1 | C95: մետաղալարեր | D95: ԳՀ | E95: կիլոգրամ | F95: -350 | G95: -12000 | H95: -4200
A96: 512112 | B96: 44331300/2 | C96: մետաղալարեր | D96: ԳՀ | E96: կիլոգրամ | F96: -350 | G96: -6000 | H96: -2100
A97: 512112 | B97: 44331400/5 | C97: պրոֆիլներ | D97: ԳՀ | E97: կիլոգրամ | F97: -400 | G97: -2844 | H97: -1137.6
A98: 512112 | B98: 44421700/506 | C98: արկղեր | D98: ԳՀ | E98: հատ | H98: -60
A99: 512112 | B99: 44511140/1 | C99: քլունգներ | D99: ԳՀ | E99: հատ | F99: -3000 | G99: -2000 | H99: -6000
A100: 512112 | B100: 44831500/13 | C100: լուծիչներ | D100: ԳՀ | E100: կիլոգրամ | F100: -2700 | G100: -500 | H100: -1350
A101: 512981
B102: 1169 31001 | C102: ՀՀ պաշտպանության նախարարության շենքային պայմանների բարելավում | H102: =SUM(H103:H171) -> -1534606.1
A103: 512112 | B103: 31731100/1 | C103: էլեկտրատեխնիկական սարքեր | D103: ԳՀ | E103: հատ | F103: -3000000 | G103: -2 | H103: -6000
A104: 512112 | B104: 34111160/1 | C104: ամենագնաց մեքենաներ | D104: ԲՄ | E104: հատ | F104: -7500000 | G104: -10 | H104: -75000
...

Sheet Sheet1
A1: 4239 | B1: 20939.6
A2: 4252 | B2: 4001.2
A3: 4261 | B3: 24221.5
A4: 4264 | B4: 658398.2
A5: 4267 | B5: 51113.2
A6: 4269 | B6: 58135.2
A7: 5121 | B7: 34800
A8: 5122 | B8: 30780.6
A9: 5129 | B9: 165718.2
A10: 5132 | B10: 33.2
