Workbook
Name _tab10: #REF!
Name _tab10: #REF!
Name _tab10: #REF!
Name _tab11: #REF!
Name _tab11: #REF!
Name _tab11: #REF!
Name _tab12: #REF!
Name _tab12: #REF!
Name _tab12: #REF!
Name _tab13: #REF!
Name _tab13: #REF!
Name _tab13: #REF!
Name _tab14: #REF!
Name _tab14: #REF!
Name _tab14: #REF!
Name _tab15: #REF!
Name _tab15: #REF!
Name _tab15: #REF!
Name _tab16: #REF!
Name _tab16: #REF!
Name _tab16: #REF!
Name _tab17: #REF!
Name _tab17: #REF!
Name _tab17: #REF!
Name _tab18: #REF!
Name _tab18: #REF!
Name _tab18: #REF!
Name _tab19: #REF!
Name _tab19: #REF!
Name _tab19: #REF!
Name _tab20: #REF!
Name _tab20: #REF!
Name _tab20: #REF!
Name _tab21: #REF!
Name _tab21: #REF!
Name _tab21: #REF!
Name _tab22: #REF!
Name _tab22: #REF!
Name _tab22: #REF!
Name _tab23: #REF!
Name _tab23: #REF!
Name _tab23: #REF!
Name _tab24: #REF!
Name _tab24: #REF!
Name _tab24: #REF!
Name _tab5: #REF!
Name _tab5: #REF!
Name _tab5: #REF!
Name _tab6: #REF!
Name _tab6: #REF!
Name _tab6: #REF!
Name _tab7: #REF!
Name _tab7: #REF!
Name _tab7: #REF!
Name _tab8: #REF!
Name _tab8: #REF!
Name _tab8: #REF!
Name _tab9: #REF!
Name _tab9: #REF!
Name _tab9: #REF!

Sheet 1
F1: Հավելված N 1
F2: ՀՀ կառավարության 2021 թվականի
F3: ___________ ___-ի N _______ -Ն որոշման
A7: «ՀԱՅԱՍՏԱՆԻ ՀԱՆՐԱՊԵՏՈՒԹՅԱՆ 2021 ԹՎԱԿԱՆԻ ՊԵՏԱԿԱՆ ԲՅՈՒՋԵԻ ՄԱՍԻՆ» ՀԱՅԱՍՏԱՆԻ ՀԱՆՐԱՊԵՏՈՒԹՅԱՆ ՕՐԵՆՔԻ N 1 ՀԱՎԵԼՎԱԾԻ N 2 ԱՂՅՈՒՍԱԿՈՒՄ ԿԱՏԱՐՎՈՂ ՎԵՐԱԲԱՇԽՈՒՄ ԵՎ ՀԱՅԱՍՏԱՆԻ ՀԱՆՐԱՊԵՏՈՒԹՅԱՆ ԿԱՌԱՎԱՐՈՒԹՅԱՆ 2020 ԹՎԱԿԱՆԻ ԴԵԿՏԵՄԲԵՐԻ 30-Ի N 2215-Ն ՈՐՈՇՄԱՆ N 5 ՀԱՎԵԼՎԱԾԻ N 1 ԱՂՅՈՒՍԱԿՈՒՄ ԿԱՏԱՐՎՈՂ ՓՈՓՈԽՈՒԹՅՈՒՆՆԵՐԸ
F8: (հազ.դրամ)
A9: Ծրագրային դասիչը | C9: Բյուջետային հատկացումների գլխավոր կարգադրիչների, ծրագրերի և միջոցառումների անվանումները | D9: Ցուցանիշների փոփոխությունը (ավելացումները նշված են դրական նշանով, իսկ նվազեցումները՝ փակագծերում)
D10: Առաջին կիսամյակ | E10: Ինն ամիս | F10: Տարի
A11: Ծրագիր | B11: Միջոցառում
C12: Ընդամենը | D12: =+D13+D33 -> 0 | E12: =+E13+E33 -> 0 | F12: =+F13+F33 -> 0
C13: ՀՀ կառավարություն | D13: =+D15 -> 0 | E13: =+E15 -> 0 | F13: =+F15 -> 0
A14: 1139 | C14: Ծրագրի անվանումը`
C15: ՀՀ կառավարության պահուստային ֆոնդ | D15: =+D21+D27 -> 0 | E15: =+E21+E27 -> 0 | F15: =+F21+F27 -> 0
C16: Ծրագրի նպատակը`
C17: Պետական բյուջեում չկանխատեսված, ինչպես նաեւ բյուջետային երաշխիքների ապահովման ծախսերի ֆինանսավորման ապահովում
C18: Վերջնական արդյունքի նկարագրությունը`
C19: Պահուստային ֆոնդի կառավարման արդյունավետության և թափանցիկության ապահովում
A20: Ծրագրի միջոցառումներ
B21: 11001 | C21: Միջոցառման անվանումը` | D21: =+'3'!G24 -> -1390488.2 | E21: =+'3'!H24 -> -2852539.3 | F21: =+'3'!I24 -> -5747627.2
C22: ՀՀ կառավարության պահուստային ֆոնդ
C23: Միջոցառման նկարագրությունը`
C24: ՀՀ պետական բյուջեում նախատեսված ելքերի լրացուցիչ ֆինանսավորման, պետական բյուջեում չկանխատեսված ելքերի, ինչպես նաև բյուջետային երաշխիքների ապահովման ելքերի ֆինանսավորման ապահովում
C25: Միջոցառման տեսակը
C26: Ծառայությունների մատուցում
B27: 11001 | C27: Միջոցառման անվանումը` | D27: =+'3'!G32 -> 1390488.2 | E27: =+'3'!H32 -> 2852539.3 | F27: =+'3'!I32 -> 5747627.2
C28: ՀՀ կառավարության պահուստային ֆոնդ
C29: Միջոցառման նկարագրությունը`
C30: ՀՀ պետական բյուջեում նախատեսված ելքերի լրացուցիչ ֆինանսավորման, պետական բյուջեում չկանխատեսված ելքերի, ինչպես նաև բյուջետային երաշխիքների ապահովման ելքերի ֆինանսավորման ապահովում
C31: Միջոցառման տեսակը
C32: Ծառայությունների մատուցում
C33: ՀՀ պաշտպանության նախարարություն | D33: =+D35 -> 0 | E33: =+E35 -> 0 | F33: =+F35 -> 0
C34: Ծրագրի անվանումը՝
A35: 1169 | C35: ՀՀ պաշտպանության ապահովում | D35: =D41+D47+D53 -> 0 | E35: =E41+E47+E53 -> 0 | F35: =F41+F47+F53 -> 0
C36: Ծրագրի նպատակը՝
C37: ՀՀ ԶՈւ ռազմավարական ծավալումն ապահովող մարտական պատրաստականության պահպանում՝ արտաքին թշնամուց ՀՀ պետական սահմանների պաշտպանության ապահովում
C38: Վերջնական արդյունքի նկարագրությունը՝
C39: ՀՀ ԶՈւ ռազմավարական ծավալումն ապահովող մարտական պատրաստականության պահպանում
A40: Ծրագրի միջոցառումներ
B41: 11001 | C41: Միջոցառման անվանումը՝ | D41: =+'3'!G48 -> -1317933.2 | E41: =+'3'!H48 -> -1317933.2 | F41: =+'3'!I48 -> -1317933.2
C42: Ռազմական կարիքների բավարարում
C43: Միջոցառման նկարագրությունը՝
...

Sheet 2
H1: Հավելված N 2
H2: ՀՀ կառավարության 2021 թվականի
H3: ___________ ___-ի N _______ -Ն որոշման
A5: «ՀԱՅԱՍՏԱՆԻ ՀԱՆՐԱՊԵՏՈՒԹՅԱՆ 2021 ԹՎԱԿԱՆԻ ՊԵՏԱԿԱՆ ԲՅՈՒՋԵԻ ՄԱՍԻՆ» ՀԱՅԱՍՏԱՆԻ ՀԱՆՐԱՊԵՏՈՒԹՅԱՆ ՕՐԵՆՔԻ N 1 ՀԱՎԵԼՎԱԾԻ N 3 ԱՂՅՈՒՍԱԿՈՒՄ ԿԱՏԱՐՎՈՂ ՓՈՓՈԽՈՒԹՅՈՒՆԸ
G6: (հազ.դրամ)
A7: Ծրագրային դասիչ | C7: Բյուջետային գլխավոր կարգադրիչների, ծրագրերի, միջոցառումների և ուղղությունների անվանումները | D7: Ցուցանիշների փոփոխությունը (ավելացումները նշված են դրական նշանով)
D8: Ընդամենը, | E8: այդ թվում՝
A9: Ծրագիր | B9: Միջոցառում | E9: Կառուցման աշխատանքներ | F9: Վերակառուցման, վերանորոգման և վերականգնման աշխատանքներ | G9: Նախագծահե- տազոտական, գեոդեզիա- քարտեզագրա- կան աշխա- տանքներ | H9: Ոչ ֆինանսական այլ ակտիվների ձեռքբերում
C10: ԸՆԴԱՄԵՆԸ | D10: =+D12 -> 1317933.2 | E10: =+E12 -> 1317933.2
C11: այդ թվում՝
C12: ՀՀ ՊԱՇՏՊԱՆՈՒԹՅԱՆ ՆԱԽԱՐԱՐՈՒԹՅՈՒՆ | D12: =+D14 -> 1317933.2 | E12: =+E14 -> 1317933.2
C13: այդ թվում`
A14: 1169 | B14: 31001 | C14: ՀՀ պաշտպանության նախարարության շենքային պայմաններ բարելավում | D14: =SUM(E14:H14) -> 1317933.2 | E14: =+'3'!I78+'3'!I65 -> 1317933.2

Sheet 3
I1: Հավելված N 3
F2: ՀՀ կառավարության 2021 թվականի
F3: ___________ ___-ի N _______ -Ն որոշման
A7: ՀԱՅԱՍՏԱՆԻ ՀԱՆՐԱՊԵՏՈՒԹՅԱՆ ԿԱՌԱՎԱՐՈՒԹՅԱՆ 2020 ԹՎԱԿԱՆԻ ԴԵԿՏԵՄԲԵՐԻ 30-Ի N 2215-Ն ՈՐՈՇՄԱՆ NN 3 ԵՎ 4 ՀԱՎԵԼՎԱԾՆԵՐՈՒՄ ԿԱՏԱՐՎՈՂ ՓՈՓՈԽՈՒԹՅՈՒՆՆԵՐԸ
I8: (հազ.դրամ)
A10: Գործառական դասիչը | D10: Ծրագրային դասիչը | F10: Բյուջետային ծախսերի գործառական դասակարգման բաժինների, խմբերի և դասերի, բյուջետային ծրագրերի միջոցառումների, բյուջետային հատկացումների գլխավոր կարգադրիչների անվանումները | G10: Ցուցանիշների փոփոխությունը (ավելացումները նշված են դրական նշանով, իսկ նվազեցումները՝ փակագծերում)
G11: Առաջին կիսամյակ | H11: Ինն ամիս | I11: Տարի
A12: Բաժին | B12: Խումբ | C12: Դաս | D12: Ծրագիր | E12: Միջոցառում
F13: ԸՆԴԱՄԵՆԸ ԾԱԽՍԵՐ այդ թվում՝ | G13: =+G14+G40 -> 0 | H13: =+H14+H40 -> 0 | I13: =+I14+I40 -> 0
A14: 11 | F14: ՀԻՄՆԱԿԱՆ ԲԱԺԻՆՆԵՐԻՆ ՉԴԱՍՎՈՂ ՊԱՀՈՒՍՏԱՅԻՆ ՖՈՆԴԵՐ | G14: =+G16 -> 0 | H14: =+H16 -> 0 | I14: =+I16 -> 0
F15: այդ թվում`
B16: 01 | F16: ՀՀ կառավարության պահուստային ֆոնդ | G16: =+G18 -> 0 | H16: =+H18 -> 0 | I16: =+I18 -> 0
F17: այդ թվում`
C18: 01 | F18: ՀՀ կառավարության պահուստային ֆոնդ | G18: =+G20 -> 0 | H18: =+H20 -> 0 | I18: =+I20 -> 0
F19: այդ թվում`
F20: ՀՀ կառավարություն | G20: =+G22 -> 0 | H20: =+H22 -> 0 | I20: =+I22 -> 0
F21: այդ թվում`
D22: 1139 | F22: ՀՀ կառավարության պահուստային ֆոնդ | G22: =+G24+G32 -> 0 | H22: =+H24+H32 -> 0 | I22: =+I24+I32 -> 0
F23: այդ թվում`
E24: 11001 | F24: ՀՀ կառավարության պահուստային ֆոնդ | G24: =+G26 -> -1390488.2 | H24: =+H26 -> -2852539.3 | I24: =+I26 -> -5747627.2
F25: այդ թվում` ըստ կատարողների
F26: ՀՀ կառավարություն | G26: =+G28 -> -1390488.2 | H26: =+H28 -> -2852539.3 | I26: =+I28 -> -5747627.2
F27: այդ թվում` բյուջետային ծախսերի տնտեսագիտական դասակարգման հոդվածներ
F28: ԸՆԴԱՄԵՆԸ ԾԱԽՍԵՐ | G28: =+G29 -> -1390488.2 | H28: =+H29 -> -2852539.3 | I28: =+I29 -> -5747627.2
F29: ԸՆԹԱՑԻԿ ԾԱԽՍԵՐ | G29: =+G30 -> -1390488.2 | H29: =+H30 -> -2852539.3 | I29: =+I30 -> -5747627.2
F30: ԱՅԼ ԾԱԽՍԵՐ | G30: =+G31 -> -1390488.2 | H30: =+H31 -> -2852539.3 | I30: =+I31 -> -5747627.2
F31: - Պահուստային միջոցներ | G31: -1390488.2 | H31: -2852539.3 | I31: -5747627.2
E32: 11001 | F32: ՀՀ կառավարության պահուստային ֆոնդ | G32: =+G34 -> 1390488.2 | H32: =+H34 -> 2852539.3 | I32: =+I34 -> 5747627.2
F33: այդ թվում` ըստ կատարողների
F34: ՀՀ կառավարություն | G34: =+G36 -> 1390488.2 | H34: =+H36 -> 2852539.3 | I34: =+I36 -> 5747627.2
F35: այդ թվում` բյուջետային ծախսերի տնտեսագիտական դասակարգման հոդվածներ
F36: ԸՆԴԱՄԵՆԸ ԾԱԽՍԵՐ | G36: =+G37 -> 1390488.2 | H36: =+H37 -> 2852539.3 | I36: =+I37 -> 5747627.2
F37: ԸՆԹԱՑԻԿ ԾԱԽՍԵՐ | G37: =+G38 -> 1390488.2 | H37: =+H38 -> 2852539.3 | I37: =+I38 -> 5747627.2
F38: ԱՅԼ ԾԱԽՍԵՐ | G38: =+G39 -> 1390488.2 | H38: =+H39 -> 2852539.3 | I38: =+I39 -> 5747627.2
F39: - Պահուստային միջոցներ | G39: 1390488.2 | H39: 2852539.3 | I39: 5747627.2
A40: 02 | F40: ՊԱՇՏՊԱՆՈՒԹՅՈՒՆ | G40: =+G42 -> 0 | H40: =+H42 -> 0 | I40: =+I42 -> 0
F41: այդ թվում`
B42: 01 | F42: Ռազմական պաշտպանություն | G42: =+G44 -> 0 | H42: =+H44 -> 0 | I42: =+I44 -> 0
F43: այդ թվում`
C44: 01 | F44: Ռազմական պաշտպանություն | G44: =+G46 -> 0 | H44: =+H46 -> 0 | I44: =+I46 -> 0
...

Sheet 4
A1: Հավելված N 4
A2: ՀՀ կառավարության 2021 թվականի
A3: ______________ ի ___Ն որոշման
A5: ՀԱՅԱՍՏԱՆԻ ՀԱՆՐԱՊԵՏՈՒԹՅԱՆ ԿԱՌԱՎԱՐՈՒԹՅԱՆ 2020 ԹՎԱԿԱՆԻ ԴԵԿՏԵՄԲԵՐԻ 30-Ի N 2215-Ն ՈՐՈՇՄԱՆ N 5 ՀԱՎԵԼՎԱԾԻ N 2 ԱՂՅՈՒՍԱԿՈՒՄ ԿԱՏԱՐՎՈՂ ՓՈՓՈԽՈՒԹՅՈՒՆՆԵՐԸ
F6: (հազ.դրամ)
A7: Ծրագրային դասիչ | C7: Բյուջետային գլխավոր կարգադրիչների, ծրագրերի, միջոցառումների և ուղղությունների անվանումները | D7: Ցուցանիշների փոփոխությունը (ավելացումները նշված են դրական նշանով)
A8: Ծրագիր | B8: Միջոցառում | D8: Առաջին կիսամյակ | E8: Ինն ամիս | F8: Տարի
C10: ԸՆԴԱՄԵՆԸ | D10: =+D12 -> 1317933.2 | E10: =+E12 -> 1317933.2 | F10: =+F12 -> 1317933.2
C11: այդ թվում՝
C12: ՀՀ ՊԱՇՏՊԱՆՈՒԹՅԱՆ ՆԱԽԱՐԱՐՈՒԹՅՈՒՆ | D12: =+D14 -> 1317933.2 | E12: =+E14 -> 1317933.2 | F12: =+F14 -> 1317933.2
C13: այդ թվում`
A14: 1169 | B14: 31001 | C14: ՀՀ պաշտպանության նախարարության շենքային պայմանների բարելավում | D14: =D16 -> 1317933.2 | E14: =E16 -> 1317933.2 | F14: =F16 -> 1317933.2
C15: այդ թվում` ըստ կատարողների
C16: ՀՀ պաշտպանության նախարարություն | D16: =+'3'!G65+'3'!G78 -> 1317933.2 | E16: =+'3'!H65+'3'!H78 -> 1317933.2 | F16: =+'3'!I65+'3'!I78 -> 1317933.2

Sheet 5
E1: Հավելված N 5
B2: ՀՀ կառավարության 2021 թվականի
B3: ______________ ի ___Ն որոշման
A6: ՀԱՅԱՍՏԱՆԻ ՀԱՆՐԱՊԵՏՈՒԹՅԱՆ ԿԱՌԱՎԱՐՈՒԹՅԱՆ 2020 ԹՎԱԿԱՆԻ ԴԵԿՏԵՄԲԵՐԻ 30-Ի N 2215-Ն ՈՐՈՇՄԱՆ N 9 ՀԱՎԵԼՎԱԾԻ N 9.15 ԵՎ N 9.1 ՀԱՎԵԼՎԱԾԻ N 9.1.15 ԱՂՅՈՒՍԱԿՆԵՐՈՒՄ ԿԱՏԱՐՎՈՂ ՓՈՓՈԽՈՒԹՅՈՒՆՆԵՐ
A7: ՀՀ պաշտպանության նախարարություն
A9: Ծրագրի դասիչը | B9: Ծրագրի անվանումը
A10: 1169 | B10: ՀՀ պաշտպանության ապահովում
A12: Ծրագրի միջոցառումները
A14: Ծրագրի դասիչը` | B14: 1169 | C14: Ցուցանիշների փոփոխությունը (նվազեցումները նշված են փակագծերում)
A15: Միջոցառման դասիչը` | B15: 11001 | C15: Առաջին կիսամյակ | D15: Ինն ամիս | E15: Տարի
A16: Միջոցառման անվանումը` | B16: Ռազմական կարիքների բավարարում
A17: Նկարագրությունը` | B17: Ընթացիկ գործունեության ապահովման գործողություններ
A18: Միջոցառման տեսակը` | B18: Ծառայությունների մատուցում
A19: Միջոցառումն իրականացնողի անվանումը | B19: ՀՀ պաշտպանության նախարարություն
A20: Արդյունքի չափորոշիչներ
A21: չի սահմանվում
A22: Միջոցառման վրա կատարվող ծախսը (հազար դրամ) | C22: =+'3'!G48 -> -1317933.2 | D22: =+'3'!H48 -> -1317933.2 | E22: =+'3'!I48 -> -1317933.2
A24: Ծրագրի դասիչը` | B24: 1169 | C24: Ցուցանիշների փոփոխությունը (նվազեցումները նշված են փակագծերում)
A25: Միջոցառման դասիչը` | B25: 31001 | C25: Առաջին կիսամյակ | D25: Ինն ամիս | E25: Տարի
A26: Միջոցառման անվանումը` | B26: ՀՀ պաշտպանության նախարարության շենքային պայմանների բարելավում
A27: Նկարագրությունը` | B27: Պաշտպանության կարիքների համար բնակելի, գրասենյակային և այլ նշանակության շենքերի և շինությունների կառուցում
A28: Միջոցառման տեսակը` | B28: Պետական մարմինների կողմից օգտագործվող ոչ ֆինանսական ակտիվների հետ գործառնություններ
A29: Միջոցառումն իրականացնողի անվանումը | B29: ՀՀ պաշտպանության նախարարություն
A30: Արդյունքի չափորոշիչներ
A31: չի սահմանվում
A32: Միջոցառման վրա կատարվող ծախսը (հազար դրամ) | C32: =+'3'!G65 -> -72555 | D32: =+'3'!H65 -> -1534606.1 | E32: =+'3'!I65 -> -4429694
A34: Ծրագրի դասիչը` | B34: 1169 | C34: Ցուցանիշների փոփոխությունը (ավելացումները նշված են դրական նշանով)
A35: Միջոցառման դասիչը` | B35: 31001 | C35: Առաջին կիսամյակ | D35: Ինն ամիս | E35: Տարի
A36: Միջոցառման անվանումը` | B36: ՀՀ պաշտպանության նախարարության շենքային պայմանների բարելավում
A37: Նկարագրությունը` | B37: Պաշտպանության կարիքների համար բնակելի, գրասենյակային և այլ նշանակության շենքերի և շինությունների կառուցում
A38: Միջոցառման տեսակը` | B38: Պետական մարմինների կողմից օգտագործվող ոչ ֆինանսական ակտիվների հետ գործառնություններ
A39: Միջոցառումն իրականացնողի անվանումը | B39: ՀՀ պաշտպանության նախարարություն
A40: Արդյունքի չափորոշիչներ
A41: չի սահմանվում
A42: Միջոցառման վրա կատարվող ծախսը (հազար դրամ) | C42: =+'3'!G78 -> 1390488.2 | D42: =+'3'!H78 -> 2852539.3 | E42: =+'3'!I78 -> 5747627.2

Sheet 6
E1: Հավելված N 6
B2: ՀՀ կառավարության 2021 թվականի
B3: ______________ ի ___Ն որոշման
A6: ՀԱՅԱՍՏԱՆԻ ՀԱՆՐԱՊԵՏՈՒԹՅԱՆ ԿԱՌԱՎԱՐՈՒԹՅԱՆ 2020 ԹՎԱԿԱՆԻ ԴԵԿՏԵՄԲԵՐԻ 30-Ի N 2215-Ն ՈՐՈՇՄԱՆ N 9 ՀԱՎԵԼՎԱԾԻ N 9.47 ԵՎ N 9.1 ՀԱՎԵԼՎԱԾԻ N 9.1.58 ԱՂՅՈՒՍԱԿՆԵՐՈՒՄ ԿԱՏԱՐՎՈՂ ՓՈՓՈԽՈՒԹՅՈՒՆՆԵՐ
A7: ՀՀ կառավարություն
A9: Ծրագրի դասիչը | B9: Ծրագրի անվանումը
A10: 1139 | B10: ՀՀ կառավարության պահուստային ֆոնդ
A12: Ծրագրի միջոցառումները
A15: Ծրագրի դասիչը` | B15: 1139 | C15: Ցուցանիշների փոփոխությունը (նվազեցումները նշված են փակագծերում)
A16: Միջոցառման դասիչը` | B16: 11001 | C16: Առաջին կիսամյակ | D16: Ինն ամիս | E16: Տարի
A17: Միջոցառման անվանումը` | B17: ՀՀ կառավարության պահուստային ֆոնդ
A18: Նկարագրությունը` | B18: ՀՀ պետական բյուջեում նախատեսված ելքերի լրացուցիչ ֆինանսավորման, պետական բյուջեում չկանխատեսված ելքերի, ինչպես նաև բյուջետային երաշխիքների ապահովման ելքերի ֆինանսավորման ապահովում
A19: Միջոցառման տեսակը` | B19: Ծառայությունների մատուցում
A20: Միջոցառումն իրականացնողի անվանումը | B20: ՀՀ կառավարություն
A21: Արդյունքի չափորոշիչներ
A22: Միջոցառման վրա կատարվող ծախսը (հազար դրամ) | C22: =+'3'!G24 -> -1390488.2 | D22: =+'3'!H24 -> -2852539.3 | E22: =+'3'!I24 -> -5747627.2
A24: Ծրագրի դասիչը` | B24: 1139 | C24: Ցուցանիշների փոփոխությունը (ավելացումները նշված են դրական նշանով)
A25: Միջոցառման դասիչը` | B25: 11001 | C25: Առաջին կիսամյակ | D25: Ինն ամիս | E25: Տարի
A26: Միջոցառման անվանումը` | B26: ՀՀ կառավարության պահուստային ֆոնդ
A27: Նկարագրությունը` | B27: ՀՀ պետական բյուջեում նախատեսված ելքերի լրացուցիչ ֆինանսավորման, պետական բյուջեում չկանխատեսված ելքերի, ինչպես նաև բյուջետային երաշխիքների ապահովման ելքերի ֆինանսավորման ապահովում
A28: Միջոցառման տեսակը` | B28: Ծառայությունների մատուցում
A29: Միջոցառումն իրականացնողի անվանումը | B29: ՀՀ կառավարություն
A30: Արդյունքի չափորոշիչներ
A31: Միջոցառման վրա կատարվող ծախսը (հազար դրամ) | C31: =+'3'!G32 -> 1390488.2 | D31: =+'3'!H32 -> 2852539.3 | E31: =+'3'!I32 -> 5747627.2

Sheet 7
H1: Հավելված N 7
H2: ՀՀ կառավարության 2021 թվականի
H3: ___________ ___-ի N _______ -Ն որոշման
B6: ՀԱՅԱՍՏԱՆԻ ՀԱՆՐԱՊԵՏՈՒԹՅԱՆ ԿԱՌԱՎԱՐՈՒԹՅԱՆ 2020 ԹՎԱԿԱՆԻ ԴԵԿՏԵՄԲԵՐԻ 30-Ի N 2215-Ն ՈՐՈՇՄԱՆ N 10 ՀԱՎԵԼՎԱԾՈՒՄ ԿԱՏԱՐՎՈՂ ՓՈՓՈԽՈՒԹՅՈՒՆՆԵՐԸ
B8: Կոդը | C8: Անվանումը | D8: Գնման ձևը | E8: Չափման միավորը | F8: Ցուցանիշների փոփոխությունը (ավելացումները նշված են դրական նշանով, իսկ նվազեցումները` փակագծերում)
F9: միավորի գինը (դրամով) | G9: քանակը | H9: գումարը (հազար դրամով)
C10: ՀՀ պաշտպանության նախարարություն | H10: =(H11) -> -2779718.9
B11: Բաժին N02 | C11: Խումբ N01 Դաս N01 | D11: Ռազմական պաշտպանություն | H11: =H12+H102 -> -2779718.9
B12: 1169 11001 | C12: Ռազմական կարիքների բավարարում | H12: =SUM(H13:H101) -> -1245112.8
A13: 512112 | B13: 98311100/503 | C13: լվացքի հավաքման ծառայություններ | D13: ԲՄ | E13: դրամ | H13: -4272.912
A14: 512112 | B14: 98311100/504 | C14: լվացքի հավաքման ծառայություններ | D14: ԲՄ | E14: դրամ | H14: -9083.664
A15: 512112 | B15: 98311100/505 | C15: լվացքի հավաքման ծառայություններ | D15: ԲՄ | E15: դրամ | H15: -6636.168
A16: 512112 | B16: 98311100/506 | C16: լվացքի հավաքման ծառայություններ | D16: ԲՄ | E16: դրամ | H16: -67.7376
A17: 512112 | B17: 98391160/1 | C17: ներկայացուցչական, արարողակարգային ծառայություններ | D17: ՄԱ | E17: դրամ | H17: -6000
A18: 512112 | B18: 24931100/1 | C18: լուսանկարչական թիթեղիկներ կամ ժապավեններ | D18: ԳՀ | E18: հատ | F18: -126000 | G18: -2 | H18: -252
A19: 512112 | B19: 35811100/1 | C19: հրշեջ խմբի համազգեստներ | D19: ԳՀ | E19: հատ | F19: -68970 | G19: -130 | H19: -8966.1
A20: 512112 | B20: 09131100/1 | C20: ավիացիոն կերոսին | D20: ԲՄ | E20: տոննա | G20: -480.36 | H20: -216162
A21: 512112 | B21: 09131100/507 | C21: ավիացիոն կերոսին | D21: ԲՄ | E21: տոննա | H21: -333000
A22: 512112 | B22: 09132100/506 | C22: բենզին, պրեմիում | D22: ԲՄ | E22: լիտր | H22: -3400
A23: 512112 | B23: 09132200/506 | C23: բենզին, ռեգուլյար | D23: ԲՄ | E23: լիտր | H23: -21000
A24: 512112 | B24: 09132400/506 | C24: բենզին, ռեգուլյար | D24: ԲՄ | E24: տոննա | H24: -67500
A25: 512112 | B25: 09134200/506 | C25: դիզելային վառելիք, ամառային | D25: ԲՄ | E25: լիտր | H25: -5000
A26: 512112 | B26: 09134240/506 | C26: դիզելային վառելիք, ամառային | D26: ԲՄ | E26: տոննա | H26: -204000
A27: 512112 | B27: 09134250/501 | C27: դիզելային վառելիք, ձմեռային | D27: ԲՄ | E27: տոննա | H27: -48000
A28: 512112 | B28: 09211110/1 | C28: շարժիչի յուղեր | D28: ԳՀ | E28: կիլոգրամ | F28: -15147 | G28: -1500 | H28: -22720.5
A29: 512112 | B29: 09211110/5 | C29: շարժիչի յուղեր | D29: ԳՀ | E29: կիլոգրամ | F29: -4500 | G29: -200 | H29: -900
A30: 512112 | B30: 09211110/513 | C30: շարժիչի յուղեր | D30: ԳՀ | E30: կիլոգրամ | H30: -3010.88
A31: 512112 | B31: 09211150/1 | C31: լիտոլ-24 | D31: ԲՄ | E31: կիլոգրամ | G31: -25000 | H31: -41850
A32: 512112 | B32: 09211631/1 | C32: հակակոռոզիոն յուղեր | D32: ԳՀ | E32: կիլոգրամ | F32: -1971 | G32: -500 | H32: -985.5
A33: 512112 | B33: 09211660/13 | C33: հիդրավլիկ համակարգերում ― այլ նպատակներով օգտագործվող յուղեր | D33: ԳՀ | E33: կիլոգրամ | F33: -3588 | G33: -500 | H33: -1794
A34: 512112 | B34: 09211660/3 | C34: հիդրավլիկ համակարգերում ― այլ նպատակներով օգտագործվող յուղեր | D34: ԳՀ | E34: կիլոգրամ | F34: -2200 | G34: -800 | H34: -1760
A35: 512112 | B35: 09211660/519 | C35: հիդրավլիկ համակարգերում ― այլ նպատակներով օգտագործվող յուղեր | D35: ԳՀ | E35: կիլոգրամ | H35: -153.3
A36: 512112 | B36: 09211660/520 | C36: հիդրավլիկ համակարգերում ― այլ նպատակներով օգտագործվող յուղեր | D36: ԳՀ | E36: կիլոգրամ | H36: -426.76
A37: 512112 | B37: 09211660/7 | C37: հիդրավլիկ համակարգերում ― այլ նպատակներով օգտագործվող յուղեր | D37: ԲՄ | E37: կիլոգրամ | G37: -10000 | H37: -81600
A38: 512112 | B38: 09221600/1 | C38: ուայթ սպիրիտ (լաքային բենզին) | D38: ԳՀ | E38: լիտր | F38: -700 | G38: -5137 | H38: -3595.9
A39: 512112 | B39: 24111180/1 | C39: թթվածին | D39: ԳՀ | E39: խմ | F39: -1000 | G39: -60 | H39: -60
A40: 512112 | B40: 24311114/2 | C40: ծծմբական թթու | D40: ԳՀ | E40: կիլոգրամ | F40: -184 | G40: -7900 | H40: -1453.6
A41: 512112 | B41: 24951100/530 | C41: քսուքներ | D41: ԳՀ | E41: կիլոգրամ | H41: -487.6152
A42: 512112 | B42: 24951100/533 | C42: քսուքներ | D42: ԳՀ | E42: կիլոգրամ | H42: -1065.24
A43: 512112 | B43: 24951100/536 | C43: քսուքներ | D43: ԳՀ | E43: կիլոգրամ | H43: -167.904
...

Sheet Sheet1
A1: 4239 | B1: 20939.6
A2: 4252 | B2: 4001.2
A3: 4261 | B3: 24221.5
A4: 4264 | B4: 658398.2
A5: 4267 | B5: 51113.2
A6: 4269 | B6: 58135.2
A7: 5121 | B7: 34800
A8: 5122 | B8: 30780.6
A9: 5129 | B9: 165718.2
A10: 5132 | B10: 33.2
