Workbook
Name _tab10: #REF!
Name _tab10: #REF!
Name _tab11: #REF!
Name _tab11: #REF!
Name _tab12: #REF!
Name _tab12: #REF!
Name _tab13: #REF!
Name _tab13: #REF!
Name _tab14: #REF!
Name _tab14: #REF!
Name _tab15: #REF!
Name _tab15: #REF!
Name _tab16: #REF!
Name _tab16: #REF!
Name _tab17: #REF!
Name _tab17: #REF!
Name _tab18: #REF!
Name _tab18: #REF!
Name _tab19: #REF!
Name _tab19: #REF!
Name _tab20: #REF!
Name _tab20: #REF!
Name _tab21: #REF!
Name _tab21: #REF!
Name _tab22: #REF!
Name _tab22: #REF!
Name _tab23: #REF!
Name _tab23: #REF!
Name _tab24: #REF!
Name _tab24: #REF!
Name _tab5: #REF!
Name _tab5: #REF!
Name _tab6: #REF!
Name _tab6: #REF!
Name _tab7: #REF!
Name _tab7: #REF!
Name _tab8: #REF!
Name _tab8: #REF!
Name _tab9: #REF!
Name _tab9: #REF!
Name par_count: #REF!,#REF!,#REF!,#REF!,#REF!,#REF!,#REF!,#REF!,#REF!,#REF!,#REF!,#REF!,#REF!,#REF!,#REF!
Name par_count: #REF!,#REF!,#REF!,#REF!,#REF!,#REF!,#REF!,#REF!,#REF!,#REF!,#REF!,#REF!,#REF!,#REF!,#REF!
Name par_qual: #REF!,#REF!,#REF!,#REF!,#REF!
Name par_qual: #REF!,#REF!,#REF!,#REF!,#REF!
Name par_time: #REF!,#REF!,#REF!,#REF!
Name par_time: #REF!,#REF!,#REF!,#REF!
Name par2.12s: #REF!
Name par2.12s: #REF!
Name par2.4s: #REF!,#REF!,#REF!,#REF!,#REF!,#REF!,#REF!,#REF!,#REF!,#REF!,#REF!,#REF!,#REF!,#REF!,#REF!,#REF!
Name par2.4s: #REF!,#REF!,#REF!,#REF!,#REF!,#REF!,#REF!,#REF!,#REF!,#REF!,#REF!,#REF!,#REF!,#REF!,#REF!,#REF!
Name par2.5s: #REF!,#REF!
Name par2.5s: #REF!,#REF!
Name par2.6s: #REF!,#REF!,#REF!,#REF!
Name par2.6s: #REF!,#REF!,#REF!,#REF!
Name par2.7s: #REF!,#REF!
Name par2.7s: #REF!,#REF!
Name par2.9s: #REF!,#REF!,#REF!,#REF!,#REF!,#REF!,#REF!,#REF!,#REF!,#REF!,#REF!,#REF!,#REF!,#REF!,#REF!,#REF!
Name par2.9s: #REF!,#REF!,#REF!,#REF!,#REF!,#REF!,#REF!,#REF!,#REF!,#REF!,#REF!,#REF!,#REF!,#REF!,#REF!,#REF!
Name par4.10s: #REF!,#REF!
Name par4.10s: #REF!,#REF!

Sheet 1
E1: Հավելված № 1
E2: ՀՀ կառավարության 2021 թվականի
E3: -------------- ի № ---- -Ն որոշման
B5: ՀՀ ԿԱՌԱՎԱՐՈՒԹՅԱՆ 2020 ԹՎԱԿԱՆԻ ԴԵԿՏԵՄԲԵՐԻ 30-Ի № 2215-Ն ՈՐՈՇՄԱՆ № 1 ՀԱՎԵԼՎԱԾԻ № 1 ԱՂՅՈՒՍԱԿԻ ՑՈՒՑԱՆԻՇՆԵՐՈՒՄ ԿԱՏԱՐՎՈՂ ԼՐԱՑՈՒՄՆԵՐԸ
E6: հազար դրամ
B7: Պետական բյուջեի դեֆիցիտի ֆինանսավորման աղբյուրների ու դրանց տարրերի անվանումները | C7: Ցուցանիշների փոփոխությունը (մուտքերի ավելացումները նշված են դրական նշանով)
C8: Առաջին կիսամյակ | D8: Ինն ամիս | E8: Տարի
B9: ԸՆԴԱՄԵՆԸ | C9: =C15 -> 554380.67 | D9: =D15 -> 554380.67 | E9: =+E11 -> 0
B10: այդ թվում՝
B11: Ա.Ներքին աղբյուրներ-ընդամենը | C11: =C15 -> 554380.67 | D11: =D9 -> 554380.67 | E11: =+E12 -> 0
B12: 2. Ֆինանսական զուտ ակտիվներ | C12: =C15 -> 554380.67 | D12: =D11 -> 554380.67 | E12: =+E14 -> 0
B13: այդ թվում՝
B14: 2.6.Այլ | C14: =C15 -> 554380.67 | D14: =D12 -> 554380.67 | E14: =SUM(E15:E15) -> 0
B15: ժամանակավորապես ազատ միջոցներ | C15: ='2'!D17 -> 554380.67 | D15: ='2'!E17 -> 554380.67 | E15: =+'[1]2'!F9 -> 0

Sheet 2
F1: Հավելված № 2
F2: ՀՀ կառավարության 2021 թվականի
F3: -------------- ի № ---- -Ն որոշման
A5: «ՀԱՅԱՍՏԱՆԻ ՀԱՆՐԱՊԵՏՈՒԹՅԱՆ 2021 ԹՎԱԿԱՆԻ ՊԵՏԱԿԱՆ ԲՅՈՒՋԵԻ ՄԱՍԻՆ» ՕՐԵՆՔԻ N 1 ՀԱՎԵԼՎԱԾԻ N 7 ԱՂՅՈՒՍԱԿՈՒՄ ԵՎ ՀԱՅԱՍՏԱՆԻ ՀԱՆՐԱՊԵՏՈՒԹՅԱՆ ԿԱՌԱՎԱՐՈՒԹՅԱՆ 2020 ԹՎԱԿԱՆԻ ԴԵԿՏԵՄԲԵՐԻ 30-Ի N 2215-Ն ՈՐՈՇՄԱՆ N 5 ՀԱՎԵԼՎԱԾԻ N 6 ԱՂՅՈՒՍԱԿՈՒՄ ԿԱՏԱՐՎՈՂ ՓՈՓՈԽՈՒԹՅՈՒՆԸ ԼՐԱՑՈՒՄՆԵՐԸ
A7: Ծրագրային դասիչը | C7: Բյուջետային հատկացումների գլխավոր կարգադրիչների, ծրագրերի, միջոցառումների և միջոցառումները կատարող պետական մարմինների անվանումները | D7: Ցուցանիշների փոփոխությունը (ավելացումները նշված են դրական նշանով, իսկ նվազեցումները` փակագծերում)
A8: Ծրագիր | B8: Միջոցառում | D8: Առաջին կիսամյակ | E8: Ինն ամիս | F8: Տարի
C9: ԸՆԴԱՄԵՆԸ | D9: ='1'!C9 -> 554380.67 | E9: ='1'!D9 -> 554380.67 | F9: ='1'!E9 -> 0
C10: այդ թվում
A11: Կապիտալ սուբվենցիաներ համայնքներին | D11: =D9 -> 554380.67 | E11: =E9 -> 554380.67 | F11: =F9 -> 0
A12: այդ թվում`
A13: ՀՀ տարածքային կառավարման և ենթակառուցվածքների նախարարություն | D13: =D11 -> 554380.67 | E13: =E11 -> 554380.67 | F13: =F11 -> 0
A14: այդ թվում`
A15: 1212 | B15: Տարածքային զարգացում | D15: =D13 -> 554380.67 | E15: =E13 -> 554380.67 | F15: =F13 -> 0
C16: այդ թվում`
B17: 12007 | C17: ՀՀ մարզերին սուբվենցիաների տրամադրում՝ ենթակառուցվածքների զարգացման նպատակով | D17: =D20+D24+D30+D43+D47+D50 -> 554380.67 | E17: =E20+E24+E30+E43+E47+E50 -> 554380.67 | F17: =F15 -> 0
C18: այդ թվում` ըստ կատարողների
C19: ՀՀ կառավարություն | D19: =-D17+D17 -> 0 | E19: =-E17+E17 -> 0 | F19: =-E17 -> -554380.67
C20: ՀՀ Արագածոտնի մարզպետարան | D20: =D22+D23 -> 30366 | E20: =E22+E23 -> 30366 | F20: =F22+F23 -> 30366
C21: այդ թվում` ըստ ուղղությունների
C22: Օշականի համայնքի գերեզմանատան ճանապարհի զառիթափ հատվածների ասֆալտապատման աշխատանքների իրականացում | D22: 3510 | E22: 3510 | F22: 3510
C23: Ապարան քաղաքի և վարչական շրջանների ներհամայնքային ճանապարհների բարեկարգում, կամուրջների վերանորոգում | D23: 26856 | E23: 26856 | F23: 26856
C24: ՀՀ Արմավիրի մարզպետարան | D24: =D26+D27+D28+D29 -> 76561.6 | E24: =E26+E27+E28+E29 -> 76561.6 | F24: =SUM(F26:F29) -> 76561.6
C25: այդ թվում` ըստ ուղղությունների
C26: Փարաքար համայնքի կոյուղագծի կառուցում 1400գծմ, Թաիրովի Վ. Մամիկոնյան փողոցից մինչև Փարաքարի Արարատյան փողոց | D26: 32151 | E26: 32151 | F26: =E26 -> 32151
C27: Փարաքար համայնքի գոյություն ունեցող կեղտաջրերի մաքրման կայանի վերակառուցում | D27: 37829.6 | E27: 37829.6 | F27: =E27 -> 37829.6
C28: Արգավանդի համայնքի մշակույթի տանը գտնվող համայնքապետարանի և հարակից տարածքի վերանորոգում | D28: 2759.4 | E28: 2759.4 | F28: =E28 -> 2759.4
C29: Արմավիրի համայնքի Սայաթ-Նովա փողոցի Ջիվանի-Հանրապետության, Մյասնիկյան փողոցի Ջիվանի-Չարենց հատվածների հիմնանորոգում | D29: 3821.6 | E29: 3821.6 | F29: =E29 -> 3821.6
C30: ՀՀ Արարատի մարզպետարան | D30: =D32+D33+D34+D35+D36+D37+D38+D39+D40+D41+D42 -> 157359.57 | E30: =E32+E33+E34+E35+E36+E37+E38+E39+E40+E41+E42 -> 157359.57 | F30: =F32+F33+F34+F35+F36+F37+F38+F39+F40+F41+F42 -> 157359.57
C31: այդ թվում` ըստ ուղղությունների
C32: Խաչփար համայնքի 1-ին, 2-րդ, 9-րդ, 11-րդ, 20-րդ և 21-րդ փողոցների գազաֆիկացում | D32: 13115 | E32: 13115 | F32: 13115
C33: Վերին Արտաշատ համայնքի «Լուսնթագ» մանկապարտեզի ՀՈԱԿ-ի վերանորոգման աշխատանքներ | D33: 5338.437 | E33: 5338.437 | F33: 5338.437
C34: Ազատաշեն համայնքի ոռոգման ներտնտեսային ցանցի քայքայված ջրանցքի վերակառուցում ե/բ վաքերով | D34: 12142.55 | E34: 12142.55 | F34: 12142.55
C35: Արալեզ համայնքի Ներհամայնքային փողոցների ասֆալտապատման աշխատանքներ | D35: 29078.582 | E35: 29078.582 | F35: 29078.582
C36: Դաշտավան համայնքի «Դաշտավանի Գ. Տոնոյանի անվան միջնակարգ դպրոց» ՀՈԱԿ-ի 2-րդ մասնաշենքի 2-րդ հարկը որպես մանկապարտեզ վերակառուցման և վերանորոգման աշխատանքներ | D36: 16718.5 | E36: 16718.5 | F36: 16718.5
C37: Նոր Խարբերդի համայնքի ներհամայնքային փողոցների ասֆալտապատման աշխատանքներ | D37: 36720 | E37: 36720 | F37: 36720
C38: Վեդի համայնքի Կոմիտաս փողոցից դեպի գերեզմանատուն տանող ճանապարհի մասնակի վերականգնման աշխատանքներ | D38: 3078 | E38: 3078 | F38: 3078
C39: Վեդի համայնքի Կասյան փող. ԲԲՇ բնակելի զանգվածի մուտքի և ելքի ճանապարհի ասֆալտապատում | D39: 5670 | E39: 5670 | F39: 5670
C40: Սիսավանի համայնքի Հ. Բաղրամյան և Վարդանանց փողոցների ասֆալտապատում | D40: 7019.999 | E40: 7019.999 | F40: 7019.999
C41: Ոսկետափ համայնքի ներհամայնքային փողոցների ասֆալտապատման աշխատանքներ | D41: 6966.2 | E41: 6966.2 | F41: 6966.2
C42: Արտաշատ համայնքի Օգոստոսի 23 փողոցի թիվ 19, 21, 23, Մարքսի փողոցի թիվ 3, 5, 7, Իսակովի փողոցի թիվ 47/2 47/3 բազմաբնակարան շենքերի բակերի և Շահումյան փողոցի որոշակի հատվածի բարեկարգում և ասֆալտապատում | D42: 21512.3 | E42: 21512.3 | F42: 21512.3
C43: ՀՀ Կոտայքի մարզպետարան | D43: =D45+D46 -> 116328 | E43: =E45+E46 -> 116328 | F43: =F45+F46 -> 116328
C44: այդ թվում` ըստ ուղղությունների
C45: Արամուս համայնքի մակապարտեզի շենքի կառուցում | D45: 111311.7 | E45: 111311.7 | F45: 111311.7
C46: Գառնի համայնքի երաժշտական դպրոցի վերանորոգում | D46: 5016.3 | E46: 5016.3 | F46: 5016.3
C47: ՀՀ Վայոց ձորի մարզպետարան | D47: =D49 -> 11806.8 | E47: =SUM(E49:E49) -> 11806.8 | F47: =SUM(F49:F49) -> 11806.8
C48: այդ թվում` ըստ ուղղությունների
C49: Եղեգնաձոր համայնքի Նոր ավան թաղամասի լուսավորության ցանցի կառուցում (Այգեձորի փողոց, Այգեձորի 1-ին նրբանցք, Սյունիքի 1-ին նրբանցք,Պռոշյան փողոց, Պռոշյան 1-ին և 2-րդ նրբանցքներ | D49: 11806.8 | E49: 11806.8 | F49: 11806.8
C50: ՀՀ Սյունիքի մարզպետարան | D50: =D52+D53+D54+D55 -> 161958.7 | E50: =E52+E53+E54+E55 -> 161958.7 | F50: =F52+F53+F54+F55 -> 161958.7
C51: այդ թվում` ըստ ուղղությունների
C52: Քաջարանի համայնքի Բակունց փողոցում գտնվող մինի ֆուտբոլային մարզադաշտի վերակառուցում, Բաբիկավանում, Քաջարան քաղաքի Խանջյան և Աբովյան փողոցներում խաղահրապարակների կառուցում | D52: 72822.6 | E52: 72822.6 | F52: 72822.6
C53: Մեղրի համայնքի «Շվանիձոր գյուղում մանկապարտեզի և բուժկետի համար հատկացված շինության վերահատակագծում և վերանորոգում, Լեհվազ գյուղի մանկապարտեզի հիմնանորոգում» | D53: 64084.6 | E53: 64084.6 | F53: 64084.6
C54: Գորայք համայնքի «Ծղուկ բնակավայրի մշակույթի տան հիմնանորոգում» | D54: 16754.6 | E54: 16754.6 | F54: 16754.6
C55: Գորայք համայնքի Սպանդարյան բնակավայրի հանդիսությունների սրահի վերակառուցում | D55: 8296.9 | E55: 8296.9 | F55: 8296.9

Sheet 3
F1: Հավելված № 3
F2: ՀՀ կառավարության 2021 թվականի
F3: -------------- ի № ---- -Ն որոշման
A5: ՀԱՅԱՍՏԱՆԻ ՀԱՆՐԱՊԵՏՈՒԹՅԱՆ ԿԱՌԱՎԱՐՈՒԹՅԱՆ 2020 ԹՎԱԿԱՆԻ ԴԵԿՏԵՄԲԵՐԻ 30-Ի № 2215-Ն ՈՐՈՇՄԱՆ № 5 ՀԱՎԵԼՎԱԾԻ № 1 ԱՂՅՈՒՍԱԿՈՒՄ ԿԱՏԱՐՎՈՂ ԼՐԱՑՈՒՄԸ
A7: Ծրագրային դասիչը | C7: Բյուջետային հատկացումների գլխավոր կարգադրիչների, ծրագրերի և միջոցառումների անվանումները | D7: Ցուցանիշների փոփոխությունները (ավելացումները նշված են դրական նշանով)
A8: Ծրագիր | B8: Միջոցառում | D8: Առաջին կիսամյակ | E8: Ինն ամիս | F8: Տարի
C9: ԸՆԴԱՄԵՆԸ | D9: ='2'!D9 -> 554380.67 | E9: ='2'!E9 -> 554380.67 | F9: =F10 -> 0
C10: ՀՀ տարածքային կառավարման և ենթակառուցվածքների նախարարություն | D10: =D9 -> 554380.67 | E10: =E12 -> 554380.67 | F10: =+F12 -> 0
C11: Ծրագրի անվանումը
A12: 1212 | C12: Տարածքային զարգացում | D12: =D10 -> 554380.67 | E12: =E19 -> 554380.67 | F12: =F19 -> 0
C13: Ծրագրի նպատակը
C14: Տարածքային համաչափ զարգացման խթանում
C15: Վերջնական արդյունքի նկարագրությունը
C16: ՀՀ համայնքների կառավարման արդյունավետության բարձրացում և տնտեսական գործունեության խթանում
A17: Ծրագրի միջոցառումներ
B18: 12007 | C18: Միջոցառման անվանումը
C19: ՀՀ մարզերին սուբվենցիաների տրամադրում՛ ենթակառուցվածքների զարգացման նպատակով | D19: =D12 -> 554380.67 | E19: ='2'!E9 -> 554380.67 | F19: ='2'!F9 -> 0
C20: Միջոցառման նկարագրությունը
C21: ՀՀ մարզերին սուբվենցիաների տրամադրում՛ ենթակառուցվածքների զարգացման նպատակով
C22: Միջոցառման տեսակը
C23: Տրանսֆերտների տրամադրում

Sheet 4
I1: Հավելված № 4
I2: ՀՀ կառավարության 2021 թվականի
I3: -------------- ի № ---- -Ն որոշման
A5: ՀԱՅԱՍՏԱՆԻ ՀԱՆՐԱՊԵՏՈՒԹՅԱՆ ԿԱՌԱՎԱՐՈՒԹՅԱՆ 2020 ԹՎԱԿԱՆԻ ԴԵԿՏԵՄԲԵՐԻ 30-Ի № 2215-Ն ՈՐՈՇՄԱՆ №№ 3 և 4 ՀԱՎԵԼՎԱԾՆԵՐՈՒՄ ԿԱՏԱՐՎՈՂ ՓՈՓՈԽՈՒԹՅՈՒՆՆԵՐԸ ԵՎ ԼՐԱՑՈՒՄՆԵՐԸ
I6: հազար դրամ
A7: Գործառական դասիչը | D7: Ծրագրային դասիչը | F7: Բյուջետային հատկացումների գլխավոր կարգադրիչների, ծրագրերի, միջոցառումների և միջոցառումները կատարող պետական մարմինների անվանումները | G7: Ցուցանիշների փոփոխությունները (ավելացումները նշված են դրական նշանով իսկ նվազեցումները` փակագծերում)
A8: բաժին | B8: խումբ | C8: դաս | D8: Ծրագիր | E8: Միջոցառում | G8: Առաջին կիսամյակ | H8: Ինն ամիս | I8: տարի
A9: ԸՆԴԱՄԵՆԸ ԾԱԽՍԵՐ | G9: ='3'!D9 -> 554380.67 | H9: ='3'!E9 -> 554380.67 | I9: =I22+H20 -> 0
A10: 01 | F10: ԸՆԴՀԱՆՈՒՐ ԲՆՈՒՅԹԻ ՀԱՆՐԱՅԻՆ ԾԱՌԱՅՈՒԹՅՈՒՆՆԵՐ | G10: =G9 -> 554380.67 | H10: ='3'!E10 -> 554380.67 | I10: =I23+H21 -> 0
F11: այդ թվում՝
B12: 08 | F12: Կառավարության տարբեր մակարդակների միջև իրականացվող ընդհանուր բնույթի տրանսֆերտներ | G12: =G10 -> 554380.67 | H12: ='3'!E12 -> 554380.67 | I12: =-H12+G12 -> 0
F13: այդ թվում՝
C14: 01 | F14: Կառավարության տարբեր մակարդակների միջև իրականացվող ընդհանուր բնույթի տրանսֆերտներ | G14: =G12 -> 554380.67 | H14: =H12 -> 554380.67 | I14: =-H14+G14 -> 0
F15: այդ թվում՝
F16: ՀՀ տարածքային կառավարման և ենթակառուցվածքների նախարարություն | G16: =G14 -> 554380.67 | H16: =H14 -> 554380.67 | I16: =-H16+G16 -> 0
F17: այդ թվում՝
D18: 1212 | F18: Տարածքային զարգացում | G18: =G16 -> 554380.67 | H18: =H16 -> 554380.67 | I18: =-H18+G18 -> 0
F19: այդ թվում`
E20: 12007 | F20: ՀՀ մարզերին սուբվենցիաների տրամադրում՛ ենթակառուցվածքների զարգացման նպատակով_x000D_ | G20: =G18 -> 554380.67 | H20: =H18 -> 554380.67 | I20: =-H20+G20 -> 0
F21: այդ թվում` ըստ կատարողների
F22: ՀՀ կառավարություն | G22: =-G24 -> 0 | H22: =+H24 -> 0 | I22: =+I24 -> -554380.67
F23: այդ թվում` բյուջետային ծախսերի տնտեսագիտական դասակարգման հոդվածներ
F24: ԸՆԴԱՄԵՆԸ ԾԱԽՍԵՐ | G24: =+G25 -> 0 | H24: =+H25 -> 0 | I24: =+I25 -> -554380.67
F25: ԸՆԹԱՑԻԿ ԾԱԽՍԵՐ | G25: =+G26 -> 0 | H25: =+H26 -> 0 | I25: =+I26 -> -554380.67
F26: ԴՐԱՄԱՇՆՈՐՀՆԵՐ | G26: =+G27 -> 0 | H26: =+H27 -> 0 | I26: =+I27 -> -554380.67
F27: Կապիտալ դրամաշնորհներ պետական հատվածի այլ մակարդակներին | G27: =+G28 -> 0 | H27: =+H28 -> 0 | I27: =+I28 -> -554380.67
F28: - Կապիտալ սուբվենցիաներ համայնքներին | G28: ='2'!D19 -> 0 | H28: ='2'!E19 -> 0 | I28: ='2'!F19 -> -554380.67
F29: ՀՀ Արագածոտնի մարզպետարան | G29: ='2'!D20 -> 30366 | H29: ='2'!E20 -> 30366 | I29: ='2'!F20 -> 30366
F30: այդ թվում` բյուջետային ծախսերի տնտեսագիտական դասակարգման հոդվածներ
F31: ԸՆԴԱՄԵՆԸ ԾԱԽՍԵՐ | G31: =G29 -> 30366 | H31: =H29 -> 30366 | I31: =I29 -> 30366
F32: ԸՆԹԱՑԻԿ ԾԱԽՍԵՐ | G32: =G31 -> 30366 | H32: =H31 -> 30366 | I32: =I31 -> 30366
F33: ԴՐԱՄԱՇՆՈՐՀՆԵՐ | G33: =G32 -> 30366 | H33: =H32 -> 30366 | I33: =I32 -> 30366
F34: Կապիտալ դրամաշնորհներ պետական հատվածի այլ մակարդակներին | G34: =G33 -> 30366 | H34: =H33 -> 30366 | I34: =I33 -> 30366
F35: - Կապիտալ սուբվենցիաներ համայնքներին | G35: =G34 -> 30366 | H35: =H34 -> 30366 | I35: =I34 -> 30366
F36: ՀՀ Արմավիրի մարզպետարան | G36: ='2'!D24 -> 76561.6 | H36: ='2'!E24 -> 76561.6 | I36: ='2'!F24 -> 76561.6
F37: այդ թվում` բյուջետային ծախսերի տնտեսագիտական դասակարգման հոդվածներ
F38: ԸՆԴԱՄԵՆԸ ԾԱԽՍԵՐ | G38: =G36 -> 76561.6 | H38: =H36 -> 76561.6 | I38: =I36 -> 76561.6
F39: ԸՆԹԱՑԻԿ ԾԱԽՍԵՐ | G39: =G38 -> 76561.6 | H39: =H38 -> 76561.6 | I39: =I38 -> 76561.6
F40: ԴՐԱՄԱՇՆՈՐՀՆԵՐ | G40: =G39 -> 76561.6 | H40: =H39 -> 76561.6 | I40: =I39 -> 76561.6
F41: Կապիտալ դրամաշնորհներ պետական հատվածի այլ մակարդակներին | G41: =G40 -> 76561.6 | H41: =H40 -> 76561.6 | I41: =I40 -> 76561.6
F42: - Կապիտալ սուբվենցիաներ համայնքներին | G42: =G41 -> 76561.6 | H42: =H41 -> 76561.6 | I42: =I41 -> 76561.6
F43: ՀՀ Արարատի մարզպետարան | G43: ='2'!D30 -> 157359.57 | H43: ='2'!E30 -> 157359.57 | I43: ='2'!F30 -> 157359.57
F44: այդ թվում` բյուջետային ծախսերի տնտեսագիտական դասակարգման հոդվածներ
F45: ԸՆԴԱՄԵՆԸ ԾԱԽՍԵՐ | G45: =G43 -> 157359.57 | H45: =H43 -> 157359.57 | I45: =I43 -> 157359.57
F46: ԸՆԹԱՑԻԿ ԾԱԽՍԵՐ | G46: =G45 -> 157359.57 | H46: =H45 -> 157359.57 | I46: =I45 -> 157359.57
F47: ԴՐԱՄԱՇՆՈՐՀՆԵՐ | G47: =G46 -> 157359.57 | H47: =H46 -> 157359.57 | I47: =I46 -> 157359.57
F48: Կապիտալ դրամաշնորհներ պետական հատվածի այլ մակարդակներին | G48: =G47 -> 157359.57 | H48: =H47 -> 157359.57 | I48: =I47 -> 157359.57
F49: - Կապիտալ սուբվենցիաներ համայնքներին | G49: =G48 -> 157359.57 | H49: =H48 -> 157359.57 | I49: =I48 -> 157359.57
F50: ՀՀ Կոտայքի մարզպետարան | G50: ='2'!D43 -> 116328 | H50: ='2'!E43 -> 116328 | I50: ='2'!F43 -> 116328
F51: այդ թվում` բյուջետային ծախսերի տնտեսագիտական դասակարգման հոդվածներ
F52: ԸՆԴԱՄԵՆԸ ԾԱԽՍԵՐ | G52: =G54 -> 116328 | H52: =H54 -> 116328 | I52: =I54 -> 116328
F53: ԸՆԹԱՑԻԿ ԾԱԽՍԵՐ | G53: =G54 -> 116328 | H53: =H54 -> 116328 | I53: =I54 -> 116328
F54: ԴՐԱՄԱՇՆՈՐՀՆԵՐ | G54: =G55 -> 116328 | H54: =H55 -> 116328 | I54: =I55 -> 116328
F55: Կապիտալ դրամաշնորհներ պետական հատվածի այլ մակարդակներին | G55: =+G56 -> 116328 | H55: =+H56 -> 116328 | I55: =+I56 -> 116328
F56: - Կապիտալ սուբվենցիաներ համայնքներին | G56: =+'2'!D43 -> 116328 | H56: =+'2'!E43 -> 116328 | I56: =+'2'!F43 -> 116328
F57: ՀՀ Վայոց ձորի մարզպետարան | G57: =+G59 -> 11806.8 | H57: =+H59 -> 11806.8 | I57: =+I59 -> 11806.8
F58: այդ թվում` բյուջետային ծախսերի տնտեսագիտական դասակարգման հոդվածներ
F59: ԸՆԴԱՄԵՆԸ ԾԱԽՍԵՐ | G59: =G61 -> 11806.8 | H59: =H61 -> 11806.8 | I59: =I61 -> 11806.8
F60: ԸՆԹԱՑԻԿ ԾԱԽՍԵՐ | G60: =G61 -> 11806.8 | H60: =H61 -> 11806.8 | I60: =I61 -> 11806.8
F61: ԴՐԱՄԱՇՆՈՐՀՆԵՐ | G61: =G62 -> 11806.8 | H61: =H62 -> 11806.8 | I61: =I62 -> 11806.8
F62: Կապիտալ դրամաշնորհներ պետական հատվածի այլ մակարդակներին | G62: =+G63 -> 11806.8 | H62: =+H63 -> 11806.8 | I62: =+I63 -> 11806.8
F63: - Կապիտալ սուբվենցիաներ համայնքներին | G63: =+'2'!D47 -> 11806.8 | H63: =+'2'!E47 -> 11806.8 | I63: =+'2'!F47 -> 11806.8
F64: ՀՀ Սյունիքի մարզպետարան | G64: ='2'!D50 -> 161958.7 | H64: ='2'!E50 -> 161958.7 | I64: ='2'!F50 -> 161958.7
F65: այդ թվում` բյուջետային ծախսերի տնտեսագիտական դասակարգման հոդվածներ
F66: ԸՆԴԱՄԵՆԸ ԾԱԽՍԵՐ | G66: =G64 -> 161958.7 | H66: =H64 -> 161958.7 | I66: =I64 -> 161958.7
F67: ԸՆԹԱՑԻԿ ԾԱԽՍԵՐ | G67: =G66 -> 161958.7 | H67: =H66 -> 161958.7 | I67: =I66 -> 161958.7
F68: ԴՐԱՄԱՇՆՈՐՀՆԵՐ | G68: =G67 -> 161958.7 | H68: =H67 -> 161958.7 | I68: =I67 -> 161958.7
F69: Կապիտալ դրամաշնորհներ պետական հատվածի այլ մակարդակներին | G69: =G68 -> 161958.7 | H69: =H68 -> 161958.7 | I69: =I68 -> 161958.7
F70: - Կապիտալ սուբվենցիաներ համայնքներին | G70: =G69 -> 161958.7 | H70: =H69 -> 161958.7 | I70: =H70 -> 161958.7

Sheet 5
E1: Հավելված № 5
E2: ՀՀ կառավարության 2021 թվականի
E3: -------------- ի № ---- -Ն որոշման
A5: ՀԱՅԱՍՏԱՆԻ ՀԱՆՐԱՊԵՏՈՒԹՅԱՆ ԿԱՌԱՎԱՐՈՒԹՅԱՆ 2020 ԹՎԱԿԱՆԻ ԴԵԿՏԵՄԲԵՐԻ 30-Ի № 2215-Ն ՈՐՈՇՄԱՆ № 9 ՀԱՎԵԼՎԱԾԻ № 9.8 ԱՂՅՈՒՍԱԿՈՒՄ ԿԱՏԱՐՎՈՂ ԼՐԱՑՈՒՄԸ
A6: ՀՀ տարածքային կառավարման և ենթակառուցվածքների նախարարություն
A9: Ծրագրի դասիչը | B9: Ծրագրի անվանումը
A10: 1212 | B10: Տարածքային զարգացում
A12: Ծրագրի միջոցառումները
A14: Ծրագրի դասիչը` | B14: 1212 | C14: Ցուցանիշների փոփոխությունները (ավելացումները նշված են դրական նշանով)
A15: Միջոցառման դասիչը` | B15: 12007 | C15: Առաջին կիսամյակ | D15: Ինն ամիս | E15: Տարի
A16: Միջոցառման անվանումը` | B16: ՀՀ մարզերին սուբվենցիաների տրամադրում` ենթակառուցվածքների զարգացման նպատակով_x000D_
A17: Նկարագրությունը` | B17: ՀՀ մարզերին սուբվենցիաների տրամադրում` ենթակառուցվածքների զարգացման նպատակով
A18: Միջոցառման տեսակը` | B18: Տրանսֆերտների տրամադրում
A19: Միջոցառումն իրականացնողի անվանումը | B19: ՀՀ համայնքներ
A20: Արդյունքի չափորոշիչներ
A21: ՀՀ համայնքների թիվ, հատ | C21: 21 | D21: 21 | E21: 21
A22: Միջոցառման վրա կատարվող ծախսը (հազար դրամ) | C22: =D22 -> 554380.67 | D22: ='4'!G20 -> 554380.67 | E22: ='4'!H28 -> 0

Sheet 6
E1: Հավելված № 6
E2: ՀՀ կառավարության 2021 թվականի
E3: -------------- ի № ---- -Ն որոշման
A5: ՀԱՅԱՍՏԱՆԻ ՀԱՆՐԱՊԵՏՈՒԹՅԱՆ ԿԱՌԱՎԱՐՈՒԹՅԱՆ 2020 ԹՎԱԿԱՆԻ ԴԵԿՏԵՄԲԵՐԻ 30-Ի № 2215-Ն ՈՐՈՇՄԱՆ № 9.1 ՀԱՎԵԼՎԱԾԻ № 9.1.50 ԱՂՅՈՒՍԱԿՈՒՄ ԿԱՏԱՐՎՈՂ ԼՐԱՑՈՒՄԸ
A6: ՀՀ Արմավիրի մարզպետարան
A8: ՄԱՍ 1. ՊԵՏԱԿԱՆ ՄԱՐՄՆԻ ԳԾՈՎ ԱՐԴՅՈՒՆՔԱՅԻՆ (ԿԱՏԱՐՈՂԱԿԱՆ) ՑՈՒՑԱՆԻՇՆԵՐԸ
A10: Ծրագրի դասիչը | B10: Ծրագրի անվանումը
A11: 1212 | B11: Տարածքային զարգացում
A13: Ծրագրի միջոցառումները
A15: Ծրագրի դասիչը` | B15: 1212 | C15: Ցուցանիշների փոփոխությունները (ավելացումները նշված են դրական նշանով)
A16: Միջոցառման դասիչը` | B16: 12007 | C16: Առաջին կիսամյակ | D16: Ինն ամիս | E16: տարի
A17: Միջոցառման անվանումը` | B17: ՀՀ մարզերին սուբվենցիաների տրամադրում` ենթակառուցվածքների զարգացման նպատակով_x000D_
A18: Նկարագրությունը` | B18: ՀՀ մարզերին սուբվենցիաների տրամադրում` ենթակառուցվածքների զարգացման նպատակով
A19: Միջոցառման տեսակը` | B19: Տրանսֆերտների տրամադրում
A20: Միջոցառումն իրականացնողի անվանումը | B20: ՀՀ համայնքներ
A21: Արդյունքի չափորոշիչներ
A22: ՀՀ համայնքների թիվ, հատ | C22: 3 | D22: 3 | E22: 3
A23: Միջոցառման վրա կատարվող ծախսը (հազար դրամ) | C23: ='2'!D24 -> 76561.6 | D23: ='2'!E24 -> 76561.6 | E23: ='2'!F24 -> 76561.6
A26: ՀԱՅԱՍՏԱՆԻ ՀԱՆՐԱՊԵՏՈՒԹՅԱՆ ԿԱՌԱՎԱՐՈՒԹՅԱՆ 2020 ԹՎԱԿԱՆԻ ԴԵԿՏԵՄԲԵՐԻ 30-Ի № 2215-Ն ՈՐՈՇՄԱՆ № 9.1 ՀԱՎԵԼՎԱԾԻ № 9.1.48 ԱՂՅՈՒՍԱԿՈՒՄ ԿԱՏԱՐՎՈՂ ԼՐԱՑՈՒՄԸ
A27: ՀՀ Արագածոտնի մարզպետարան
A29: ՄԱՍ 1. ՊԵՏԱԿԱՆ ՄԱՐՄՆԻ ԳԾՈՎ ԱՐԴՅՈՒՆՔԱՅԻՆ (ԿԱՏԱՐՈՂԱԿԱՆ) ՑՈՒՑԱՆԻՇՆԵՐԸ
A31: Ծրագրի դասիչը | B31: Ծրագրի անվանումը
A32: 1212 | B32: Տարածքային զարգացում
A34: Ծրագրի միջոցառումները
A36: Ծրագրի դասիչը` | B36: 1212 | C36: Ցուցանիշների փոփոխությունները (ավելացումները նշված են դրական նշանով)
A37: Միջոցառման դասիչը` | B37: 12007 | C37: Առաջին կիսամյակ | D37: Ինն ամիս | E37: Տարի
A38: Միջոցառման անվանումը` | B38: ՀՀ մարզերին սուբվենցիաների տրամադրում` ենթակառուցվածքների զարգացման նպատակով_x000D_
A39: Նկարագրությունը` | B39: ՀՀ մարզերին սուբվենցիաների տրամադրում` ենթակառուցվածքների զարգացման նպատակով
A40: Միջոցառման տեսակը` | B40: Տրանսֆերտների տրամադրում
A41: Միջոցառումն իրականացնողի անվանումը | B41: ՀՀ համայնքներ
A42: Արդյունքի չափորոշիչներ
A43: ՀՀ համայնքների թիվ, հատ | C43: 2 | D43: 2 | E43: 2
A44: Միջոցառման վրա կատարվող ծախսը (հազար դրամ) | C44: ='2'!D20 -> 30366 | D44: ='2'!E20 -> 30366 | E44: ='2'!F20 -> 30366
A47: ՀԱՅԱՍՏԱՆԻ ՀԱՆՐԱՊԵՏՈՒԹՅԱՆ ԿԱՌԱՎԱՐՈՒԹՅԱՆ 2020 ԹՎԱԿԱՆԻ ԴԵԿՏԵՄԲԵՐԻ 30-Ի № 2215-Ն ՈՐՈՇՄԱՆ № 9.1 ՀԱՎԵԼՎԱԾԻ № 9.1.49 ԱՂՅՈՒՍԱԿՈՒՄ ԿԱՏԱՐՎՈՂ ԼՐԱՑՈՒՄԸ
A48: ՀՀ Արարատի մարզպետարան
A50: ՄԱՍ 1. ՊԵՏԱԿԱՆ ՄԱՐՄՆԻ ԳԾՈՎ ԱՐԴՅՈՒՆՔԱՅԻՆ (ԿԱՏԱՐՈՂԱԿԱՆ) ՑՈՒՑԱՆԻՇՆԵՐԸ
A52: Ծրագրի դասիչը | B52: Ծրագրի անվանումը
A53: 1212 | B53: Տարածքային զարգացում
A55: Ծրագրի միջոցառումները
A57: Ծրագրի դասիչը` | B57: 1212 | C57: Ցուցանիշների փոփոխությունները (ավելացումները նշված են դրական նշանով)
A58: Միջոցառման դասիչը` | B58: 12007 | C58: Առաջին կիսամյակ | D58: Ինն ամիս | E58: Տարի
A59: Միջոցառման անվանումը` | B59: ՀՀ մարզերին սուբվենցիաների տրամադրում` ենթակառուցվածքների զարգացման նպատակով_x000D_
A60: Նկարագրությունը` | B60: ՀՀ մարզերին սուբվենցիաների տրամադրում` ենթակառուցվածքների զարգացման նպատակով
A61: Միջոցառման տեսակը` | B61: Տրանսֆերտների տրամադրում
A62: Միջոցառումն իրականացնողի անվանումը | B62: ՀՀ համայնքներ
A63: Արդյունքի չափորոշիչներ
A64: ՀՀ համայնքների թիվ, հատ | C64: 10 | D64: 10 | E64: 10
A65: Միջոցառման վրա կատարվող ծախսը (հազար դրամ) | C65: ='2'!D30 -> 157359.57 | D65: ='2'!E30 -> 157359.57 | E65: ='2'!F30 -> 157359.57
A68: ՀԱՅԱՍՏԱՆԻ ՀԱՆՐԱՊԵՏՈՒԹՅԱՆ ԿԱՌԱՎԱՐՈՒԹՅԱՆ 2020 ԹՎԱԿԱՆԻ ԴԵԿՏԵՄԲԵՐԻ 30-Ի № 2215-Ն ՈՐՈՇՄԱՆ № 9.1 ՀԱՎԵԼՎԱԾԻ № 9.1.53 ԱՂՅՈՒՍԱԿՈՒՄ ԿԱՏԱՐՎՈՂ ԼՐԱՑՈՒՄԸ
A69: ՀՀ Կոտայքի մարզպետարան
A71: ՄԱՍ 1. ՊԵՏԱԿԱՆ ՄԱՐՄՆԻ ԳԾՈՎ ԱՐԴՅՈՒՆՔԱՅԻՆ (ԿԱՏԱՐՈՂԱԿԱՆ) ՑՈՒՑԱՆԻՇՆԵՐԸ
A73: Ծրագրի դասիչը | B73: Ծրագրի անվանումը
A74: 1212 | B74: Տարածքային զարգացում
A76: Ծրագրի միջոցառումները
A78: Ծրագրի դասիչը` | B78: 1212 | C78: Ցուցանիշների փոփոխությունները (ավելացումները նշված են դրական նշանով)
A79: Միջոցառման դասիչը` | B79: 12007 | C79: Առաջին կիսամյակ | D79: Ինն ամիս | E79: Տարի
A80: Միջոցառման անվանումը` | B80: ՀՀ մարզերին սուբվենցիաների տրամադրում` ենթակառուցվածքների զարգացման նպատակով_x000D_
A81: Նկարագրությունը` | B81: ՀՀ մարզերին սուբվենցիաների տրամադրում` ենթակառուցվածքների զարգացման նպատակով
A82: Միջոցառման տեսակը` | B82: Տրանսֆերտների տրամադրում
A83: Միջոցառումն իրականացնողի անվանումը | B83: ՀՀ համայնքներ
A84: Արդյունքի չափորոշիչներ
A85: ՀՀ համայնքների թիվ, հատ | C85: 2 | D85: 2 | E85: 2
A86: Միջոցառման վրա կատարվող ծախսը (հազար դրամ) | C86: =+'2'!D43 -> 116328 | D86: =+'2'!E43 -> 116328 | E86: =+'2'!F43 -> 116328
A88: ՀԱՅԱՍՏԱՆԻ ՀԱՆՐԱՊԵՏՈՒԹՅԱՆ ԿԱՌԱՎԱՐՈՒԹՅԱՆ 2020 ԹՎԱԿԱՆԻ ԴԵԿՏԵՄԲԵՐԻ 30-Ի № 2215-Ն ՈՐՈՇՄԱՆ № 9.1 ՀԱՎԵԼՎԱԾԻ № 9.1.55 ԱՂՅՈՒՍԱԿՈՒՄ ԿԱՏԱՐՎՈՂ ԼՐԱՑՈՒՄԸ
A89: ՀՀ Սյունիքի մարզպետարան
A91: ՄԱՍ 1. ՊԵՏԱԿԱՆ ՄԱՐՄՆԻ ԳԾՈՎ ԱՐԴՅՈՒՆՔԱՅԻՆ (ԿԱՏԱՐՈՂԱԿԱՆ) ՑՈՒՑԱՆԻՇՆԵՐԸ
A93: Ծրագրի դասիչը | B93: Ծրագրի անվանումը
A94: 1212 | B94: Տարածքային զարգացում
A96: Ծրագրի միջոցառումները
A98: Ծրագրի դասիչը` | B98: 1212 | C98: Ցուցանիշների փոփոխությունները (ավելացումները նշված են դրական նշանով)
A99: Միջոցառման դասիչը` | B99: 12007 | C99: Առաջին կիսամյակ | D99: Ինն ամիս | E99: Տարի
A100: Միջոցառման անվանումը` | B100: ՀՀ մարզերին սուբվենցիաների տրամադրում` ենթակառուցվածքների զարգացման նպատակով_x000D_
A101: Նկարագրությունը` | B101: ՀՀ մարզերին սուբվենցիաների տրամադրում` ենթակառուցվածքների զարգացման նպատակով
A102: Միջոցառման տեսակը` | B102: Տրանսֆերտների տրամադրում
A103: Միջոցառումն իրականացնողի անվանումը | B103: ՀՀ համայնքներ
A104: Արդյունքի չափորոշիչներ
A105: ՀՀ համայնքների թիվ, հատ | C105: 3 | D105: 3 | E105: 3
A106: Միջոցառման վրա կատարվող ծախսը (հազար դրամ) | C106: ='4'!G64 -> 161958.7 | D106: ='4'!H64 -> 161958.7 | E106: ='4'!I64 -> 161958.7
A109: ՀԱՅԱՍՏԱՆԻ ՀԱՆՐԱՊԵՏՈՒԹՅԱՆ ԿԱՌԱՎԱՐՈՒԹՅԱՆ 2020 ԹՎԱԿԱՆԻ ԴԵԿՏԵՄԲԵՐԻ 30-Ի № 2215-Ն ՈՐՈՇՄԱՆ № 9.1 ՀԱՎԵԼՎԱԾԻ № 9.1.56 ԱՂՅՈՒՍԱԿՈՒՄ ԿԱՏԱՐՎՈՂ ԼՐԱՑՈՒՄԸ
A110: ՀՀ Վայոց ձորի մարզպետարան
A112: ՄԱՍ 1. ՊԵՏԱԿԱՆ ՄԱՐՄՆԻ ԳԾՈՎ ԱՐԴՅՈՒՆՔԱՅԻՆ (ԿԱՏԱՐՈՂԱԿԱՆ) ՑՈՒՑԱՆԻՇՆԵՐԸ
A114: Ծրագրի դասիչը | B114: Ծրագրի անվանումը
A115: 1212 | B115: Տարածքային զարգացում
A117: Ծրագրի միջոցառումները
A119: Ծրագրի դասիչը` | B119: 1212 | C119: Ցուցանիշների փոփոխությունները (ավելացումները նշված են դրական նշանով)
A120: Միջոցառման դասիչը` | B120: 12007 | C120: Առաջին կիսամյակ | D120: Ինն ամիս | E120: Տարի
A121: Միջոցառման անվանումը` | B121: ՀՀ մարզերին սուբվենցիաների տրամադրում` ենթակառուցվածքների զարգացման նպատակով_x000D_
A122: Նկարագրությունը` | B122: ՀՀ մարզերին սուբվենցիաների տրամադրում` ենթակառուցվածքների զարգացման նպատակով
A123: Միջոցառման տեսակը` | B123: Տրանսֆերտների տրամադրում
A124: Միջոցառումն իրականացնողի անվանումը | B124: ՀՀ համայնքներ
A125: Արդյունքի չափորոշիչներ
A126: ՀՀ համայնքների թիվ, հատ | C126: 1 | D126: 1 | E126: 1
A127: Միջոցառման վրա կատարվող ծախսը (հազար դրամ) | C127: =+'2'!D47 -> 11806.8 | D127: =+'2'!E47 -> 11806.8 | E127: =+'2'!F47 -> 11806.8
A131: ՀԱՅԱՍՏԱՆԻ ՀԱՆՐԱՊԵՏՈՒԹՅԱՆ ԿԱՌԱՎԱՐՈՒԹՅԱՆ 2020 ԹՎԱԿԱՆԻ ԴԵԿՏԵՄԲԵՐԻ 30-Ի № 2215-Ն ՈՐՈՇՄԱՆ № 9.1 ՀԱՎԵԼՎԱԾԻ № 9.1.58 ԱՂՅՈՒՍԱԿՈՒՄ ԿԱՏԱՐՎՈՂ ՓՈՓՈԽՈՒԹՅՈՒՆԸ
A132: ՀՀ կառավարություն
A134: ՄԱՍ 1. ՊԵՏԱԿԱՆ ՄԱՐՄՆԻ ԳԾՈՎ ԱՐԴՅՈՒՆՔԱՅԻՆ (ԿԱՏԱՐՈՂԱԿԱՆ) ՑՈՒՑԱՆԻՇՆԵՐԸ
A136: Ծրագրի դասիչը | B136: Ծրագրի անվանումը
A137: 1212 | B137: Տարածքային զարգացում
A139: Ծրագրի միջոցառումները
A141: Ծրագրի դասիչը` | B141: 1212 | C141: Ցուցանիշների փոփոխությունները (նվազեցումները նշված են փակագծերում)
...
