Workbook
Name շախմատիստ: #REF!
Name շախմատիստ: #REF!
Name շախմատիստ: #REF!

Sheet Հավելված N 1
D1: Հավելված N 1
D2: ՀՀ կառավարության 2021 թվականի
D3: ______________ ի ___Ն որոշման
A4: «ՀԱՅԱՍՏԱՆԻ ՀԱՆՐԱՊԵՏՈՒԹՅԱՆ 2021 ԹՎԱԿԱՆԻ ՊԵՏԱԿԱՆ ԲՅՈՒՋԵԻ ՄԱՍԻՆ» ՕՐԵՆՔԻ N 1 ՀԱՎԵԼՎԱԾԻ N 2 ԱՂՅՈՒՍԱԿՈՒՄ ԿԱՏԱՐՎՈՂ ՎԵՐԱԲԱՇԽՈՒՄԸ ԵՎ ՀԱՅԱՍՏԱՆԻ ՀԱՆՐԱՊԵՏՈՒԹՅԱՆ ԿԱՌԱՎԱՐՈՒԹՅԱՆ 2020 ԹՎԱԿԱՆԻ ԴԵԿՏԵՄԲԵՐԻ 30-Ի N 2215-Ն ՈՐՈՇՄԱՆ N 5 ՀԱՎԵԼՎԱԾԻ N 1 ԱՂՅՈՒՍԱԿՈՒՄ ԿԱՏԱՐՎՈՂ ԼՐԱՑՈՒՄՆԵՐԸ ԵՎ ՓՈՓՈԽՈՒԹՅՈՒՆՆԵՐԸ
F5: հազ. դրամ
A6: Ծրագրային դասիչը | C6: Բյուջետային հատկացումների գլխավոր կարգադրիչների, ծրագրերի և միջոցառումների անվանումները | D6: Ցուցանիշների փոփոխությունը (ավելացումները նշված են դրական նշանով, իսկ նվազեցումները՝ փակագծերում)
A7: ծրագիր | B7: միջոցառում | D7: Առաջին կիսամյակ | E7: Ինն ամիս | F7: Տարի
C8: ԸՆԴԱՄԵՆԸ | D8: =D10+D30 -> 0 | E8: =E10+E30 -> 0 | F8: =F10+F30 -> 0
C9: այդ թվում
A10: ՀՀ կառավարություն | D10: =+D12 -> 0 | E10: =+E12 -> 0 | F10: =+F12 -> 0
A11: 1139 | C11: Ծրագրի անվանումը`
C12: ՀՀ կառավարության պահուստային ֆոնդ | D12: =+D19+D25 -> 0 | E12: =+E19+E25 -> 0 | F12: =+F19+F25 -> 0
C13: Ծրագրի նպատակը`
C14: Պետական բյուջեում չկանխատեսված, ինչպես նաև բյուջետային երաշխիքների ապահովման ծախսերի ֆինանսավորման ապահովում
C15: Վերջնական արդյունքի նկարագրությունը`
C16: Պահուստային ֆոնդի կառավարման արդյունավետության և թափանցիկության ապահովում
C17: Ծրագրի միջոցառումներ
B18: 11001 | C18: Միջոցառման անվանումը`
C19: ՀՀ կառավարության պահուստային ֆոնդ | D19: =D51 -> 0 | E19: =E51 -> 100993.4 | F19: =F51 -> 182712
C20: Միջոցառման նկարագրությունը`
C21: ՀՀ պետական բյուջեում նախատեսված ելքերի լրացուցիչ ֆինանսավորման՝ պետական բյուջեում չկանխատեսված ելքերի, ինչպես նաև բյուջետային երաշխիքների ապահովման ելքերի ֆինանսավորման ապահովում
C22: Միջոցառման տեսակը
C23: Ծառայությունների մատուցում
B24: 11001 | C24: Միջոցառման անվանումը`
C25: ՀՀ կառավարության պահուստային ֆոնդ | D25: =D39+D45 -> 0 | E25: =E39+E45 -> -100993.4 | F25: =F39+F45 -> -182712
C26: Միջոցառման նկարագրությունը`
C27: ՀՀ պետական բյուջեում նախատեսված ելքերի լրացուցիչ ֆինանսավորման՝ պետական բյուջեում չկանխատեսված ելքերի, ինչպես նաև բյուջետային երաշխիքների ապահովման ելքերի ֆինանսավորման ապահովում
C28: Միջոցառման տեսակը
C29: Ծառայությունների մատուցում
A30: ՀՀ կրթության, գիտության, մշակույթի և սպորտի նախարարություն | D30: =D32 -> 0 | E30: =E32 -> 0 | F30: =F32 -> 0
A31: 1192 | C31: Ծրագրի անվանումը`
C32: Կրթության որակի ապահովում | D32: =D39+D45+D51 -> 0 | E32: =E39+E45+E51 -> 0 | F32: =F39+F45+F51 -> 0
C33: Ծրագրի նպատակը`
C34: Ընթացիկ աշխատանքների, բարեփոխումների և նոր նախաձեռնությունների միջոցով ֆորմալ և ոչ-ֆորմալ կրթության ոլորտում իրականացվող միջոցառումների, մատուցվող ծառայությունների բովանդակության և կազմակերպման որակի շարունակական բարելավում
C35: Վերջնական արդյունքի նկարագրությունը`
C36: Նախադպրոցականից մինչև հետբուհական կրթության որակի, այն է սովորողների, միջավայրի, ծրագրերի և ուսումնական նյութերի բովանդակության, գործընթացների, ինչպես նաև վերջնարդյունքների որակի բարելավում ըստ ներպետական և միջազգային ցուցիչների
A37: Ծրագրի միջոցառումներ
B38: 11010 | C38: Միջոցառման անվանումը`
C39: Ատեստավորման նոր համակարգի ներդրում՛ ուղղված ուսուցիչների որակի բարձրացմանը | D39: 0 | E39: -46711.7 | F39: -100091.4
C40: Միջոցառման նկարագրությունը`
C41: Հանրակրթական դպրոցներում դասվանդող ուսուցիչների կամավոր ատեստավորման համակարգի մշակում և ներդրում
C42: Միջոցառման տեսակը
C43: Ծառայությունների մատուցում
B44: 11006 | C44: Միջոցառման անվանումը`
C45: Կրթության բովանդակային և մեթոդական սպասարկում | D45: 0 | E45: -54281.7 | F45: -82620.6
C46: Միջոցառման նկարագրությունը`
C47: Հանրակրթության պետական կրթական չափորոշիչների մշակում, վերանայում
C48: Միջոցառման տեսակը
C49: Ծառայությունների մատուցում
B50: 11022 | C50: Միջոցառման անվանումը`
C51: Հանրակրթական հիմնական ծրագրեր իրականացնող ուսումնական հաստատությունների հերթական ատեստավորման ենթակա ուսուցչի վերապատրաստում | D51: 0 | E51: =54281.7+46711.7 -> 100993.4 | F51: =82620.6+100091.4 -> 182712
C52: Միջոցառման նկարագրությունը`
C53: Հանրակրթական հիմնական ծրագրեր իրականացնող ուսումնական հաստատությունների հերթական ատեստավորման ենթակա ուսուցիչների վերապատրաստման գործընթացի կազմակերպում և իրականացում
C54: Միջոցառման տեսակը
C55: Ծառայությունների մատուցում

Sheet Հավելված N 2
G1: Հավելված N 2
G2: ՀՀ կառավարության 2021 թվականի
G3: ______________ ի ___Ն որոշման
A4: ՀԱՅԱՍՏԱՆԻ ՀԱՆՐԱՊԵՏՈՒԹՅԱՆ ԿԱՌԱՎԱՐՈՒԹՅԱՆ 2020 ԹՎԱԿԱՆԻ ԴԵԿՏԵՄԲԵՐԻ 30-Ի N 2215-Ն ՈՐՈՇՄԱՆ N 3 և N 4 ՀԱՎԵԼՎԱԾՆԵՐՈՒՄ ԿԱՏԱՐՎՈՂ ԼՐԱՑՈՒՄՆԵՐԸ ԵՎ ՓՈՓՈԽՈՒԹՅՈՒՆՆԵՐԸ
I5: հազ. դրամ
A6: Գործառական դասիչը | D6: Ծրագրային դասիչը | F6: Բյուջետային ծախսերի գործառական դասակարգման բաժինների, խմբերի և դասերի, բյուջետային ծրագրերի միջոցառումների, բյուջետային հատկացումների գլխավոր կարգադրիչների անվանումները | G6: Ցուցանիշների փոփոխությունը (ավելացումները նշված են դրական նշանով, իսկ նվազեցումները՝ փակագծերում )
A7: Բաժին | B7: Խումբ | C7: Դաս | D7: Ծրագիր | E7: Միջոցառում | G7: Առաջին կիսամյակ | H7: Ինն ամիս | I7: Տարի
F8: ԸՆԴԱՄԵՆԸ | G8: =G10+G28 -> 0 | H8: =H10+H28 -> 0 | I8: =I10+I28 -> 0
F9: այդ թվում`
A10: ՀՀ կառավարություն | G10: =+G11 -> 0 | H10: =+H11 -> 0 | I10: =+I11 -> 0
A11: 11 | F11: ՀԻՄՆԱԿԱՆ ԲԱԺԻՆՆԵՐԻՆ ՉԴԱՍՎՈՂ ՊԱՀՈՒՍՏԱՅԻՆ ՖՈՆԴԵՐ | G11: =+G13 -> 0 | H11: =+H13 -> 0 | I11: =+I13 -> 0
F12: այդ թվում`
B13: 01 | F13: ՀՀ կառավարության և համայնքների պահուստային ֆոնդ | G13: =+G15 -> 0 | H13: =+H15 -> 0 | I13: =+I15 -> 0
F14: այդ թվում`
C15: 01 | F15: ՀՀ կառավարության պահուստային ֆոնդ | G15: =+G17 -> 0 | H15: =+H17 -> 0 | I15: =+I17 -> 0
F16: այդ թվում`
D17: 1139 | E17: ՀՀ կառավարության պահուստային ֆոնդ | G17: =+G19 -> 0 | H17: =+H19 -> 0 | I17: =+I19 -> 0
F18: այդ թվում`
E19: 11001 | F19: ՀՀ կառավարության պահուստային ֆոնդ | G19: =+G21 -> 0 | H19: =+H21 -> 0 | I19: =+I21 -> 0
F20: այդ թվում` ըստ կատարողների
F21: ՀՀ կառավարություն | G21: =+G23 -> 0 | H21: =+H23 -> 0 | I21: =+I23 -> 0
F22: այդ թվում՝ բյուջետային ծախսերի տնտեսագիտական դասակարգման հոդվածներ
F23: ԸՆԴԱՄԵՆԸ ԾԱԽՍԵՐ | G23: =+G24 -> 0 | H23: =+H24 -> 0 | I23: =+I24 -> 0
F24: ԸՆԹԱՑԻԿ ԾԱԽՍԵՐ | G24: =+G25 -> 0 | H24: =+H25 -> 0 | I24: =+I25 -> 0
F25: ԱՅԼ ԾԱԽՍԵՐ | G25: =+G26+G27 -> 0 | H25: =+H26+H27 -> 0 | I25: =+I26+I27 -> 0
F26: Պահուստային միջոցներ | G26: ='Հավելված N 1'!D19 -> 0 | H26: ='Հավելված N 1'!E19 -> 100993.4 | I26: ='Հավելված N 1'!F19 -> 182712
F27: Պահուստային միջոցներ | G27: ='Հավելված N 1'!D25 -> 0 | H27: ='Հավելված N 1'!E25 -> -100993.4 | I27: ='Հավելված N 1'!F25 -> -182712
A28: ՀՀ կրթության, գիտության, մշակույթի և սպորտի նախարարություն | G28: =G29 -> 0 | H28: =H29 -> 0 | I28: =I29 -> 0
A29: 09 | F29: ԿՐԹՈՒԹՅՈՒՆ | G29: =G31 -> 0 | H29: =H31 -> 0 | I29: =I31 -> 0
F30: այդ թվում`
B31: 06 | F31: Կրթությանը տրամադրվող օժանդակ ծառայություններ | G31: =G33 -> 0 | H31: =H33 -> 0 | I31: =I33 -> 0
F32: այդ թվում`
C33: 01 | F33: Կրթությանը տրամադրվող օժանդակ ծառայություններ | G33: =G35 -> 0 | H33: =H35 -> 0 | I33: =I35 -> 0
F34: այդ թվում`
D35: 1192 | E35: Կրթության որակի ապահովում | G35: =G37+G46+G55 -> 0 | H35: =H37+H46+H55 -> 0 | I35: =I37+I46+I55 -> 0
F36: այդ թվում`
E37: 11006 | F37: Կրթության բովանդակային և մեթոդական սպասարկում | G37: =G39 -> 0 | H37: =H39 -> -54281.7 | I37: =I39 -> -82620.6
F38: այդ թվում` ըստ կատարողների
F39: ՀՀ կրթության , գիտության, մշակույթի և սպորտի նախարարություն | G39: =G41 -> 0 | H39: =H41 -> -54281.7 | I39: =I41 -> -82620.6
F40: այդ թվում` բյուջետային ծախսերի տնտեսագիտական դասակարգման հոդվածներ
F41: ԸՆԴԱՄԵՆԸ ԾԱԽՍԵՐ | G41: =G42 -> 0 | H41: =H42 -> -54281.7 | I41: =I42 -> -82620.6
F42: ԸՆԹԱՑԻԿ ԾԱԽՍԵՐ | G42: =G43 -> 0 | H42: =H43 -> -54281.7 | I42: =I43 -> -82620.6
F43: ԴՐԱՄԱՇՆՈՐՀՆԵՐ | G43: =G44 -> 0 | H43: =H44 -> -54281.7 | I43: =I44 -> -82620.6
F44: Ընթացիկ դրամաշնորհներ պետական հատվածի այլ մակարդակներին | G44: =G45 -> 0 | H44: =H45 -> -54281.7 | I44: =I45 -> -82620.6
F45: - Այլ ընթացիկ դրամաշնորհներ | G45: ='Հավելված N 1'!D45 -> 0 | H45: ='Հավելված N 1'!E45 -> -54281.7 | I45: ='Հավելված N 1'!F45 -> -82620.6
E46: 11010 | F46: Ատեստավորման նոր համակարգի ներդրում՛ ուղղված ուսուցիչների որակի բարձրացմանը | G46: =G48 -> 0 | H46: =H48 -> -46711.7 | I46: =I48 -> -100091.4
F47: այդ թվում` ըստ կատարողների
F48: ՀՀ կրթության , գիտության, մշակույթի և սպորտի նախարարություն | G48: =G50 -> 0 | H48: =H50 -> -46711.7 | I48: =I50 -> -100091.4
F49: այդ թվում` բյուջետային ծախսերի տնտեսագիտական դասակարգման հոդվածներ
F50: ԸՆԴԱՄԵՆԸ ԾԱԽՍԵՐ | G50: =G51 -> 0 | H50: =H51 -> -46711.7 | I50: =I51 -> -100091.4
F51: ԸՆԹԱՑԻԿ ԾԱԽՍԵՐ | G51: =G52 -> 0 | H51: =H52 -> -46711.7 | I51: =I52 -> -100091.4
F52: ԴՐԱՄԱՇՆՈՐՀՆԵՐ | G52: =G53 -> 0 | H52: =H53 -> -46711.7 | I52: =I53 -> -100091.4
F53: Ընթացիկ դրամաշնորհներ պետական հատվածի այլ մակարդակներին | G53: =G54 -> 0 | H53: =H54 -> -46711.7 | I53: =I54 -> -100091.4
F54: - Ընթացիկ դրամաշնորհներ պետական և համայնքային ոչ առևտրային կազմակերպություններին | G54: ='Հավելված N 1'!D39 -> 0 | H54: ='Հավելված N 1'!E39 -> -46711.7 | I54: ='Հավելված N 1'!F39 -> -100091.4
E55: 11022 | F55: Հանրակրթական հիմնական ծրագրեր իրականացնող ուսումնական հաստատությունների հերթական ատեստավորման ենթակա ուսուցչի վերապատրաստում | G55: =G57+G64+G71+G78+G85+G92+G99+G106+G113+G120+G127+G134 -> 0 | H55: =H57+H64+H71+H78+H85+H92+H99+H106+H113+H120+H127+H134 -> 100993.4 | I55: =I57+I64+I71+I78+I85+I92+I99+I106+I113+I120+I127+I134 -> 182712
F56: այդ թվում` ըստ կատարողների
F57: ՀՀ տարածքային կառավարման և ենթակառուցվածքների նախարարություն | G57: =+G59 -> 0 | H57: =+H59 -> 18943.2 | I57: =+I59 -> 34272
F58: այդ թվում՝ բյուջետային ծախսերի տնտեսագիտական դասակարգման հոդվածներ
F59: ԸՆԴԱՄԵՆԸ ԾԱԽՍԵՐ | G59: =+G60 -> 0 | H59: =+H60 -> 18943.2 | I59: =+I60 -> 34272
F60: ԸՆԹԱՑԻԿ ԾԱԽՍԵՐ | G60: =+G61 -> 0 | H60: =+H61 -> 18943.2 | I60: =+I61 -> 34272
F61: ԾԱՌԱՅՈՒԹՅՈՒՆՆԵՐԻ ԵՎ ԱՊՐԱՆՔՆԵՐԻ ՁԵՌՔԲԵՐՈՒՄ | G61: =+G62 -> 0 | H61: =+H62 -> 18943.2 | I61: =+I62 -> 34272
F62: Նյութեր (Ապրանքներ) | G62: =+G63 -> 0 | H62: =+H63 -> 18943.2 | I62: =+I63 -> 34272
F63: - Ընթացիկ դրամաշնորհներ պետական և համայնքային ոչ առևտրային կազմակերպություններին | G63: 0 | H63: 18943.2 | I63: 34272
F64: ՀՀ կրթության, գիտության, մշակույթի և սպորտի նախարարություն | G64: =+G66 -> 0 | H64: =+H66 -> 11488.4 | I64: =+I66 -> 20784
F65: այդ թվում՝ բյուջետային ծախսերի տնտեսագիտական դասակարգման հոդվածներ
F66: ԸՆԴԱՄԵՆԸ ԾԱԽՍԵՐ | G66: =+G67 -> 0 | H66: =+H67 -> 11488.4 | I66: =+I67 -> 20784
F67: ԸՆԹԱՑԻԿ ԾԱԽՍԵՐ | G67: =+G68 -> 0 | H67: =+H68 -> 11488.4 | I67: =+I68 -> 20784
F68: ԾԱՌԱՅՈՒԹՅՈՒՆՆԵՐԻ ԵՎ ԱՊՐԱՆՔՆԵՐԻ ՁԵՌՔԲԵՐՈՒՄ | G68: =+G69 -> 0 | H68: =+H69 -> 11488.4 | I68: =+I69 -> 20784
F69: Նյութեր (Ապրանքներ) | G69: =+G70 -> 0 | H69: =+H70 -> 11488.4 | I69: =+I70 -> 20784
F70: - Ընթացիկ դրամաշնորհներ պետական և համայնքային ոչ առևտրային կազմակերպություններին | G70: 0 | H70: 11488.4 | I70: 20784
F71: ՀՀ Արագածոտնի մարզպետարան | G71: =+G73 -> 0 | H71: =+H73 -> 6341.1 | I71: =+I73 -> 11472
F72: այդ թվում՝ բյուջետային ծախսերի տնտեսագիտական դասակարգման հոդվածներ
F73: ԸՆԴԱՄԵՆԸ ԾԱԽՍԵՐ | G73: =+G74 -> 0 | H73: =+H74 -> 6341.1 | I73: =+I74 -> 11472
F74: ԸՆԹԱՑԻԿ ԾԱԽՍԵՐ | G74: =+G75 -> 0 | H74: =+H75 -> 6341.1 | I74: =+I75 -> 11472
F75: ԾԱՌԱՅՈՒԹՅՈՒՆՆԵՐԻ ԵՎ ԱՊՐԱՆՔՆԵՐԻ ՁԵՌՔԲԵՐՈՒՄ | G75: =+G76 -> 0 | H75: =+H76 -> 6341.1 | I75: =+I76 -> 11472
F76: Նյութեր (Ապրանքներ) | G76: =+G77 -> 0 | H76: =+H77 -> 6341.1 | I76: =+I77 -> 11472
F77: - Ընթացիկ դրամաշնորհներ պետական և համայնքային ոչ առևտրային կազմակերպություններին | G77: 0 | H77: 6341.1 | I77: 11472
F78: ՀՀ Արարատի մարզպետարան | G78: =+G80 -> 0 | H78: =+H80 -> 8583.1 | I78: =+I80 -> 15528
F79: այդ թվում՝ բյուջետային ծախսերի տնտեսագիտական դասակարգման հոդվածներ
F80: ԸՆԴԱՄԵՆԸ ԾԱԽՍԵՐ | G80: =+G81 -> 0 | H80: =+H81 -> 8583.1 | I80: =+I81 -> 15528
F81: ԸՆԹԱՑԻԿ ԾԱԽՍԵՐ | G81: =+G82 -> 0 | H81: =+H82 -> 8583.1 | I81: =+I82 -> 15528
F82: ԾԱՌԱՅՈՒԹՅՈՒՆՆԵՐԻ ԵՎ ԱՊՐԱՆՔՆԵՐԻ ՁԵՌՔԲԵՐՈՒՄ | G82: =+G83 -> 0 | H82: =+H83 -> 8583.1 | I82: =+I83 -> 15528
F83: Նյութեր (Ապրանքներ) | G83: =+G84 -> 0 | H83: =+H84 -> 8583.1 | I83: =+I84 -> 15528
F84: - Ընթացիկ դրամաշնորհներ պետական և համայնքային ոչ առևտրային կազմակերպություններին | G84: 0 | H84: 8583.1 | I84: 15528
F85: ՀՀ Արմավիրի մարզպետարան | G85: =+G87 -> 0 | H85: =+H87 -> 8530 | I85: =+I87 -> 15432
F86: այդ թվում՝ բյուջետային ծախսերի տնտեսագիտական դասակարգման հոդվածներ
F87: ԸՆԴԱՄԵՆԸ ԾԱԽՍԵՐ | G87: =+G88 -> 0 | H87: =+H88 -> 8530 | I87: =+I88 -> 15432
F88: ԸՆԹԱՑԻԿ ԾԱԽՍԵՐ | G88: =+G89 -> 0 | H88: =+H89 -> 8530 | I88: =+I89 -> 15432
F89: ԾԱՌԱՅՈՒԹՅՈՒՆՆԵՐԻ ԵՎ ԱՊՐԱՆՔՆԵՐԻ ՁԵՌՔԲԵՐՈՒՄ | G89: =+G90 -> 0 | H89: =+H90 -> 8530 | I89: =+I90 -> 15432
F90: Նյութեր (Ապրանքներ) | G90: =+G91 -> 0 | H90: =+H91 -> 8530 | I90: =+I91 -> 15432
F91: - Ընթացիկ դրամաշնորհներ պետական և համայնքային ոչ առևտրային կազմակերպություններին | G91: 0 | H91: 8530 | I91: 15432
F92: ՀՀ Գեղարքունիքի մարզպետարան | G92: =+G94 -> 0 | H92: =+H94 -> 8171.9 | I92: =+I94 -> 14784
F93: այդ թվում՝ բյուջետային ծախսերի տնտեսագիտական դասակարգման հոդվածներ
F94: ԸՆԴԱՄԵՆԸ ԾԱԽՍԵՐ | G94: =+G95 -> 0 | H94: =+H95 -> 8171.9 | I94: =+I95 -> 14784
F95: ԸՆԹԱՑԻԿ ԾԱԽՍԵՐ | G95: =+G96 -> 0 | H95: =+H96 -> 8171.9 | I95: =+I96 -> 14784
F96: ԾԱՌԱՅՈՒԹՅՈՒՆՆԵՐԻ ԵՎ ԱՊՐԱՆՔՆԵՐԻ ՁԵՌՔԲԵՐՈՒՄ | G96: =+G97 -> 0 | H96: =+H97 -> 8171.9 | I96: =+I97 -> 14784
F97: Նյութեր (Ապրանքներ) | G97: =+G98 -> 0 | H97: =+H98 -> 8171.9 | I97: =+I98 -> 14784
F98: - Ընթացիկ դրամաշնորհներ պետական և համայնքային ոչ առևտրային կազմակերպություններին | G98: 0 | H98: 8171.9 | I98: 14784
F99: ՀՀ Լոռու մարզպետարան | G99: =+G101 -> 0 | H99: =+H101 -> 8636.2 | I99: =+I101 -> 15624
F100: այդ թվում՝ բյուջետային ծախսերի տնտեսագիտական դասակարգման հոդվածներ
...

Sheet Հավելված3
G1: Հավելված N 3
G2: ՀՀ կառավարության 2021 թվականի
G3: ______________ ի ___Ն որոշման
A5: ՀԱՅԱՍՏԱՆԻ ՀԱՆՐԱՊԵՏՈՒԹՅԱՆ ԿԱՌԱՎԱՐՈՒԹՅԱՆ 2020 ԹՎԱԿԱՆԻ ԴԵԿՏԵՄԲԵՐԻ 30-Ի N 2215-Ն ՈՐՈՇՄԱՆ N 5 ՀԱՎԵԼՎԱԾԻ N 7 ԱՂՅՈՒՍԱԿՈՒՄ ԿԱՏԱՐՎՈՂ ԼՐԱՑՈՒՄՆԵՐԸ ԵՎ ՓՈՓՈԽՈՒԹՅՈՒՆՆԵՐԸ
G6: հազ. դրամ
A7: Ծրագրային դասիչ | C7: Բյուջետային հատկացումների գլխավոր կարգադրիչների, ծրագրերի, միջոցառումների, ծախսային ուղղությունների անվանումները | F7: Միջոցառումները կատարող պետական մարմինների և դրամաշնորհ ստացող տնտեսվարող սուբյեկտների անվանումները | G7: Ցուցանիշների փոփոխությունը (ավելացումները նշված են դրական նշանով)Տարի
A8: Ծրագիր | B8: Միջոցառում
A9: 1 | B9: 2 | C9: 3 | F9: 4 | G9: 5
A10: ՀՀ կրթության, գիտության, մշակույթի և սպորտի նախարարություն | G10: =G11 -> 0
A11: 1192 | B11: Կրթության որակի ապահովում | G11: =G12+G14+G16 -> 0
B12: 11006 | C12: Կրթության բովանդակային և մեթոդական սպասարկում | F12: ՀՀ կրթության, գիտության, մշակույթի և սպորտի նախարարություն | G12: =G13 -> -82620.6
F13: «Կրթության զարգացման և նորարարությունների ազգային կենտրոն» հիմնադրամ | G13: -82620.6
B14: 11010 | C14: Ատեստավորման նոր համակարգի ներդրում՝ ուղղված ուսուցիչների որակի բարձրացմանը | F14: ՀՀ կրթության, գիտության, մշակույթի և սպորտի նախարարություն | G14: =G15 -> -100091.4
F15: Ատեստավորված ուսուցիչներ | G15: -100091.4
B16: 11022 | C16: Հանրակրթական հիմնական ծրագրեր իրականացնող ուսումնական հաստատությունների հերթական ատեստավորման ենթակա ուսուցչի վերապատրաստում | F16: ընդամենը, որից՝ | G16: =SUM(G17,G19,G21,G23,G25,G27,G29,G31,G33,G35,G37,G39) -> 182712
F17: ՀՀ տարածքային կառավարման և ենթակառուցվածքների նախարարություն | G17: =G18 -> 34272
F18: Հանրակրթական հիմնական ծրագրեր իրականացնող ուսումնական հաստատություններ | G18: ='Հավելված N 2'!I63 -> 34272
F19: ՀՀ կրթության, գիտության, մշակույթի և սպորտի նախարարություն | G19: =G20 -> 20784
F20: Հանրակրթական հիմնական ծրագրեր իրականացնող ուսումնական հաստատություններ | G20: ='Հավելված N 2'!I70 -> 20784
F21: ՀՀ Արագածոտնի մարզպետարան | G21: =G22 -> 11472
F22: Հանրակրթական հիմնական ծրագրեր իրականացնող ուսումնական հաստատություններ | G22: ='Հավելված N 2'!I77 -> 11472
F23: ՀՀ Արարատի մարզպետարան | G23: =G24 -> 15528
F24: Հանրակրթական հիմնական ծրագրեր իրականացնող ուսումնական հաստատություններ | G24: ='Հավելված N 2'!I84 -> 15528
F25: ՀՀ Արմավիրի մարզպետարան | G25: =G26 -> 15432
F26: Հանրակրթական հիմնական ծրագրեր իրականացնող ուսումնական հաստատություններ | G26: ='Հավելված N 2'!I91 -> 15432
F27: ՀՀ Գեղարքունիքի մարզպետարան | G27: =G28 -> 14784
F28: Հանրակրթական հիմնական ծրագրեր իրականացնող ուսումնական հաստատություններ | G28: ='Հավելված N 2'!I98 -> 14784
F29: ՀՀ Լոռու մարզպետարան | G29: =G30 -> 15624
F30: Հանրակրթական հիմնական ծրագրեր իրականացնող ուսումնական հաստատություններ | G30: ='Հավելված N 2'!I105 -> 15624
F31: ՀՀ Կոտայքի մարզպետարան | G31: =G32 -> 13416
F32: Հանրակրթական հիմնական ծրագրեր իրականացնող ուսումնական հաստատություններ | G32: ='Հավելված N 2'!I112 -> 13416
F33: ՀՀ Շիրակի մարզպետարան | G33: =G34 -> 17376
F34: Հանրակրթական հիմնական ծրագրեր իրականացնող ուսումնական հաստատություններ | G34: ='Հավելված N 2'!I119 -> 17376
F35: ՀՀ Սյունիքի մարզպետարան | G35: =G36 -> 10584
F36: Հանրակրթական հիմնական ծրագրեր իրականացնող ուսումնական հաստատություններ | G36: ='Հավելված N 2'!I126 -> 10584
F37: ՀՀ Վայոց ձորի մարզպետարան | G37: =G38 -> 4440
F38: Հանրակրթական հիմնական ծրագրեր իրականացնող ուսումնական հաստատություններ | G38: ='Հավելված N 2'!I133 -> 4440
F39: ՀՀ Տավուշի մարզպետարան | G39: =G40 -> 9000
F40: Հանրակրթական հիմնական ծրագրեր իրականացնող ուսումնական հաստատություններ | G40: ='Հավելված N 2'!I140 -> 9000

Sheet Հավելված N4
B1: Հավելված N 4
B2: ՀՀ կառավարության 2021 թվականի
B3: ______________ ի ___Ն որոշման
A5: ՀԱՅԱՍՏԱՆԻ ՀԱՆՐԱՊԵՏՈՒԹՅԱՆ ԿԱՌԱՎԱՐՈՒԹՅԱՆ 2020 ԹՎԱԿԱՆԻ ԴԵԿՏԵՄԲԵՐԻ 30-Ի N 2215-Ն ՈՐՈՇՄԱՆ N 9 ՀԱՎԵԼՎԱԾԻ N 9.14 ԵՎ N 9.47 ԱՂՅՈՒՍԱԿՆԵՐՈՒՄ ԿԱՏԱՐՎՈՂ ԼՐԱՑՈՒՄՆԵՐԸ ԵՎ ՓՈՓՈԽՈՒԹՅՈՒՆՆԵՐԸ
A7: ՀՀ կառավարություն | E7: 9.47
A8: ՄԱՍ 2. ՊԵՏԱԿԱՆ ՄԱՐՄՆԻ ԳԾՈՎ ԱՐԴՅՈՒՆՔԱՅԻՆ (ԿԱՏԱՐՈՂԱԿԱՆ) ՑՈՒՑԱՆԻՇՆԵՐԸ
A10: Ծրագրի դասիչը | B10: Ծրագրի անվանումը
A11: 1139 | B11: ՀՀ կառավարության պահուստային ֆոնդ
A12: Ծրագրի միջոցառումները
A13: Ծրագրի դասիչը՝ | B13: 1139 | C13: Ցուցանիշների փոփոխությունը (նվազեցումները նշված են փակագծերում)
A14: Միջոցառման դասիչը՝ | B14: 11001 | C14: Առաջին կիսամյակ | D14: Ինն ամիս | E14: Տարի
A15: Միջոցառման անվանումը՝ | B15: ՀՀ կառավարության պահուստային ֆոնդ
A16: Նկարագրությունը՝ | B16: ՀՀ պետական բյուջեում նախատեսված ելքերի լրացուցիչ ֆինանսավորման՝ պետական բյուջեում չկանխատեսված ելքերի, ինչպես նաև բյուջետային երաշխիքների ապահովման ելքերի ֆինանսավորման ապահովում
A17: Միջոցառման տեսակը՝ | B17: Ծառայությունների մատուցում
A18: Միջոցառումն իրականացնողի անվանումը | B18: ՀՀ կառավարություն
A19: Արդյունքի չափորոշիչներ
A20: Միջոցառման վրա կատարվող ծախսը (հազար դրամ) | C20: ='Հավելված N 2'!G27 -> 0 | D20: ='Հավելված N 2'!H27 -> -100993.4 | E20: ='Հավելված N 2'!I27 -> -182712
A22: Ծրագրի դասիչը՝ | B22: 1139 | C22: Ցուցանիշների փոփոխությունը (ավելացումները նշված են դրական նշանով)
A23: Միջոցառման դասիչը՝ | B23: 11001 | C23: Առաջին կիսամյակ | D23: Ինն ամիս | E23: Տարի
A24: Միջոցառման անվանումը՝ | B24: ՀՀ կառավարության պահուստային ֆոնդ
A25: Նկարագրությունը՝ | B25: ՀՀ պետական բյուջեում նախատեսված ելքերի լրացուցիչ ֆինանսավորման՝ պետական բյուջեում չկանխատեսված ելքերի, ինչպես նաև բյուջետային երաշխիքների ապահովման ելքերի ֆինանսավորման ապահովում
A26: Միջոցառման տեսակը՝ | B26: Ծառայությունների մատուցում
A27: Միջոցառումն իրականացնողի անվանումը | B27: ՀՀ կառավարություն
A28: Արդյունքի չափորոշիչներ
A29: Միջոցառման վրա կատարվող ծախսը (հազար դրամ) | C29: ='Հավելված N 2'!G26 -> 0 | D29: ='Հավելված N 2'!H26 -> 100993.4 | E29: ='Հավելված N 2'!I26 -> 182712
A31: ՀՀ կրթության, գիտության, մշակույթի և սպորտի նախարարություն | E31: 9.14
A32: ՄԱՍ 2. ՊԵՏԱԿԱՆ ՄԱՐՄՆԻ ԳԾՈՎ ԱՐԴՅՈՒՆՔԱՅԻՆ (ԿԱՏԱՐՈՂԱԿԱՆ) ՑՈՒՑԱՆԻՇՆԵՐԸ
A34: Ծրագրի դասիչը | B34: Ծրագրի անվանումը
A35: 1192 | B35: Կրթության որակի ապահովում
A37: Ծրագրի միջոցառումները
A39: Ծրագրի դասիչը` | B39: 1192 | C39: Ցուցանիշների փոփոխությունը (նվազեցումները նշված են փակագծերում)
A40: Միջոցառման դասիչը` | B40: 11010 | C40: Առաջին կիսամյակ | D40: Ինն ամիս | E40: Տարի
A41: Միջոցառման անվանումը` | B41: Ատեստավորման նոր համակարգի ներդրում՛ ուղղված ուսուցիչների որակի բարձրացմանը
A42: Նկարագրությունը` | B42: Հանրակրթական դպրոցներում դասվանդող ուսուցիչների կամավոր ատեստավորման համակարգի մշակում և ներդրում
A43: Միջոցառման տեսակը` | B43: Ծառայությունների մատուցում
A44: Ծառայությունը մատուցող կազմակերպության(ների) անվանում(ներ)ը՛ | B44: Մասնագիտացված կազմակերպություն
A45: Արդյունքի չափորոշիչներ
A46: Կամավոր ատեստավորմանը մասնակցած ուսուցիչների թիվը, մարդ | C46: -340 | D46: -340 | E46: -340
A47: Կամավոր ատեստավորման արդյունքում հավելավճար ստացող ուսուցիչների թվաքանակը | C47: -277 | D47: -277 | E47: -277
A48: Միջոցառման վրա կատարվող ծախսը (հազար դրամ) | C48: ='Հավելված N 1'!D39 -> 0 | D48: ='Հավելված N 1'!E39 -> -46711.7 | E48: ='Հավելված N 1'!F39 -> -100091.4
A50: Ծրագրի դասիչը` | B50: 1192 | C50: Ցուցանիշների փոփոխությունը (նվազեցումները նշված են փակագծերում)
A51: Միջոցառման դասիչը` | B51: 11006 | C51: Առաջին կիսամյակ | D51: Ինն ամիս | E51: Տարի
A52: Միջոցառման անվանումը` | B52: Կրթության բովանդակային և մեթոդական սպասարկում
A53: Նկարագրությունը` | B53: Հանրակրթության պետական կրթական չափորոշիչների մշակում, վերանայում
A54: Միջոցառման տեսակը` | B54: Ծառայությունների մատուցում
A55: Ծառայությունը մատուցող կազմակերպության(ների) անվանում(ներ)ը՛ | B55: Մասնագիտացված կազմակերպություն
A56: Արդյունքի չափորոշիչներ
A57: Վերապատրաստված ուսուցիչների թիվը | C57: 0 | D57: -300 | E57: -300
A58: Միջոցառման վրա կատարվող ծախսը (հազար դրամ) | C58: ='Հավելված N 1'!D45 -> 0 | D58: ='Հավելված N 1'!E45 -> -54281.7 | E58: ='Հավելված N 1'!F45 -> -82620.6
A60: Ծրագրի դասիչը` | B60: 1192 | C60: Ցուցանիշների փոփոխությունը (ավելացումները նշված են դրական նշանով)
A61: Միջոցառման դասիչը` | B61: 11022 | C61: Առաջին կիսամյակ | D61: Ինն ամիս | E61: Տարի
A62: Միջոցառման անվանումը` | B62: Հանրակրթական հիմնական ծրագրեր իրականացնող ուսումնական հաստատությունների հերթական ատեստավորման ենթակա ուսուցչի վերապատրաստում
A63: Նկարագրությունը` | B63: Հանրակրթական հիմնական ծրագրեր իրականացնող ուսումնական հաստատությունների հերթական ատեստավորման ենթակա ուսուցիչների վերապատրաստման գործընթացի կազմակերպում և իրականացում
A64: Միջոցառման տեսակը` | B64: Ծառայությունների մատուցում
A65: Ծառայությունը մատուցող կազմակերպության(ների) անվանում(ներ)ը՛ | B65: Հանրակրթական հիմնական ծրագրեր իրականացնող ուսումնական հաստատություններ
A66: Արդյունքի չափորոշիչներ
A67: Վերապատրաստված ուսուցիչների թիվը | C67: 0 | D67: 4208 | E67: 7613
A68: Միջոցառման վրա կատարվող ծախսը (հազար դրամ) | C68: ='Հավելված N 1'!D51 -> 0 | D68: ='Հավելված N 1'!E51 -> 100993.4 | E68: ='Հավելված N 1'!F51 -> 182712

Sheet Հավելված N5
B1: Հավելված N 5
B2: ՀՀ կառավարության 2021 թվականի
B3: ______________ ի ___Ն որոշման
A5: ՀԱՅԱՍՏԱՆԻ ՀԱՆՐԱՊԵՏՈՒԹՅԱՆ ԿԱՌԱՎԱՐՈՒԹՅԱՆ 2020 ԹՎԱԿԱՆԻ ԴԵԿՏԵՄԲԵՐԻ 30-Ի N 2215-Ն ՈՐՈՇՄԱՆ N 9.1 ՀԱՎԵԼՎԱԾԻ N 9.1.8, 9.1.14, 9.1.48, 9.1.49, 9.1.50, 9.1.51, 9.1.52, 9.1.53, 9.1.54, 9.1.55, 9.1.56, 9.1.57 ԵՎ 9․1.58 ԱՂՅՈՒՍԱԿՆԵՐՈՒՄ ԿԱՏԱՐՎՈՂ ԼՐԱՑՈՒՄՆԵՐԸ ԵՎ ՓՈՓՈԽՈՒԹՅՈՒՆՆԵՐԸ
A7: ՀՀ կառավարություն | E7: 9.1.58
A8: ՄԱՍ 2. ՊԵՏԱԿԱՆ ՄԱՐՄՆԻ ԳԾՈՎ ԱՐԴՅՈՒՆՔԱՅԻՆ (ԿԱՏԱՐՈՂԱԿԱՆ) ՑՈՒՑԱՆԻՇՆԵՐԸ
A10: Ծրագրի դասիչը | B10: Ծրագրի անվանումը
A11: 1139 | B11: ՀՀ կառավարության պահուստային ֆոնդ
A12: Ծրագրի միջոցառումները
A13: Ծրագրի դասիչը՝ | B13: 1139 | C13: Ցուցանիշների փոփոխությունը (նվազեցումները նշված են փակագծերում)
A14: Միջոցառման դասիչը՝ | B14: 11001 | C14: Առաջին կիսամյակ | D14: Ինն ամիս | E14: Տարի
A15: Միջոցառման անվանումը՝ | B15: ՀՀ կառավարության պահուստային ֆոնդ
A16: Նկարագրությունը՝ | B16: ՀՀ պետական բյուջեում նախատեսված ելքերի լրացուցիչ ֆինանսավորման՝ պետական բյուջեում չկանխատեսված ելքերի, ինչպես նաև բյուջետային երաշխիքների ապահովման ելքերի ֆինանսավորման ապահովում
A17: Միջոցառման տեսակը՝ | B17: Ծառայությունների մատուցում
A18: Միջոցառումն իրականացնողի անվանումը | B18: ՀՀ կառավարություն
A19: Արդյունքի չափորոշիչներ
A20: Միջոցառման վրա կատարվող ծախսը (հազար դրամ) | C20: ='Հավելված N 2'!G27 -> 0 | D20: ='Հավելված N 2'!H27 -> -100993.4 | E20: ='Հավելված N 2'!I27 -> -182712
A22: Ծրագրի դասիչը՝ | B22: 1139 | C22: Ցուցանիշների փոփոխությունը (ավելացումները նշված են դրական նշանով)
A23: Միջոցառման դասիչը՝ | B23: 11001 | C23: Առաջին կիսամյակ | D23: Ինն ամիս | E23: Տարի
A24: Միջոցառման անվանումը՝ | B24: ՀՀ կառավարության պահուստային ֆոնդ
A25: Նկարագրությունը՝ | B25: ՀՀ պետական բյուջեում նախատեսված ելքերի լրացուցիչ ֆինանսավորման՝ պետական բյուջեում չկանխատեսված ելքերի, ինչպես նաև բյուջետային երաշխիքների ապահովման ելքերի ֆինանսավորման ապահովում
A26: Միջոցառման տեսակը՝ | B26: Ծառայությունների մատուցում
A27: Միջոցառումն իրականացնողի անվանումը | B27: ՀՀ կառավարություն
A28: Արդյունքի չափորոշիչներ
A29: Միջոցառման վրա կատարվող ծախսը (հազար դրամ) | C29: ='Հավելված N 2'!G26 -> 0 | D29: ='Հավելված N 2'!H26 -> 100993.4 | E29: ='Հավելված N 2'!I26 -> 182712
A31: ՀՀ կրթության, գիտության, մշակույթի և սպորտի նախարարություն | E31: 9.1.14
A32: ՄԱՍ 2. ՊԵՏԱԿԱՆ ՄԱՐՄՆԻ ԳԾՈՎ ԱՐԴՅՈՒՆՔԱՅԻՆ (ԿԱՏԱՐՈՂԱԿԱՆ) ՑՈՒՑԱՆԻՇՆԵՐԸ
A33: Ծրագրի դասիչը | B33: Ծրագրի անվանումը
A34: 1192 | B34: Կրթության որակի ապահովում
A35: Ծրագրի միջոցառումները
A37: Ծրագրի դասիչը` | B37: 1192 | C37: Ցուցանիշների փոփոխությունը (նվազեցումները նշված են փակագծերում)
A38: Միջոցառման դասիչը` | B38: 11010 | C38: Առաջին կիսամյակ | D38: Ինն ամիս | E38: Տարի
A39: Միջոցառման անվանումը` | B39: Ատեստավորման նոր համակարգի ներդրում՛ ուղղված ուսուցիչների որակի բարձրացմանը
A40: Նկարագրությունը` | B40: Հանրակրթական դպրոցներում դասվանդող ուսուցիչների կամավոր ատեստավորման համակարգի մշակում և ներդրում
A41: Միջոցառման տեսակը` | B41: Ծառայությունների մատուցում
A42: Ծառայությունը մատուցող կազմակերպության(ների) անվանում(ներ)ը՛ | B42: Մասնագիտացված կազմակերպություն
A43: Արդյունքի չափորոշիչներ
A44: Կամավոր ատեստավորմանը մասնակցած ուսուցիչների թիվը, մարդ | C44: -340 | D44: -340 | E44: -340
A45: Կամավոր ատեստավորման արդյունքում հավելավճար ստացող ուսուցիչների թվաքանակը | C45: -277 | D45: -277 | E45: -277
A46: Միջոցառման վրա կատարվող ծախսը (հազար դրամ) | C46: ='Հավելված N 1'!D39 -> 0 | D46: ='Հավելված N 1'!E39 -> -46711.7 | E46: ='Հավելված N 1'!F39 -> -100091.4
A48: Ծրագրի դասիչը` | B48: 1192 | C48: Ցուցանիշների փոփոխությունը (նվազեցումները նշված են փակագծերում)
A49: Միջոցառման դասիչը` | B49: 11006 | C49: Առաջին կիսամյակ | D49: Ինն ամիս | E49: Տարի
A50: Միջոցառման անվանումը` | B50: Կրթության բովանդակային և մեթոդական սպասարկում
A51: Նկարագրությունը` | B51: Հանրակրթության պետական կրթական չափորոշիչների մշակում, վերանայում
A52: Միջոցառման տեսակը` | B52: Ծառայությունների մատուցում
A53: Ծառայությունը մատուցող կազմակերպության(ների) անվանում(ներ)ը՛ | B53: Մասնագիտացված կազմակերպություն
A54: Արդյունքի չափորոշիչներ
A55: Վերապատրաստված ուսուցիչների թիվը | C55: 0 | D55: -300 | E55: -300
A56: Միջոցառման վրա կատարվող ծախսը (հազար դրամ) | C56: ='Հավելված N 1'!D45 -> 0 | D56: ='Հավելված N 1'!E45 -> -54281.7 | E56: ='Հավելված N 1'!F45 -> -82620.6
A58: Ծրագրի դասիչը` | B58: 1192 | C58: Ցուցանիշների փոփոխությունը (ավելացումները նշված են դրական նշանով)
A59: Միջոցառման դասիչը` | B59: 11022 | C59: Առաջին կիսամյակ | D59: Ինն ամիս | E59: Տարի
A60: Միջոցառման անվանումը` | B60: Հանրակրթական հիմնական ծրագրեր իրականացնող ուսումնական հաստատությունների հերթական ատեստավորման ենթակա ուսուցչի վերապատրաստում
A61: Նկարագրությունը` | B61: Հանրակրթական հիմնական ծրագրեր իրականացնող ուսումնական հաստատությունների հերթական ատեստավորման ենթակա ուսուցիչների վերապատրաստման գործընթացի կազմակերպում և իրականացում
A62: Միջոցառման տեսակը` | B62: Ծառայությունների մատուցում
A63: Ծառայությունը մատուցող կազմակերպության(ների) անվանում(ներ)ը՛ | B63: Հանրակրթական հիմնական ծրագրեր իրականացնող ուսումնական հաստատություններ
A64: Արդյունքի չափորոշիչներ
A65: Վերապատրաստված ուսուցիչների թիվը | D65: 480 | E65: 866
A66: Միջոցառման վրա կատարվող ծախսը (հազար դրամ) | C66: ='Հավելված N 2'!G70 -> 0 | D66: ='Հավելված N 2'!H70 -> 11488.4 | E66: ='Հավելված N 2'!I70 -> 20784
A68: ՀՀ տարածքային կառավարման և ենթակառուցվածքների նախարարություն | E68: Աղյուսակ 9.1.8
A69: Ծրագրի դասիչը` | B69: 1192 | C69: Ցուցանիշների փոփոխությունը (ավելացումները նշված են դրական նշանով)
A70: Միջոցառման դասիչը` | B70: 11022 | C70: Առաջին կիսամյակ | D70: Ինն ամիս | E70: Տարի
A71: Միջոցառման անվանումը` | B71: Հանրակրթական հիմնական ծրագրեր իրականացնող ուսումնական հաստատությունների հերթական ատեստավորման ենթակա ուսուցչի վերապատրաստում
A72: Նկարագրությունը` | B72: Հանրակրթական հիմնական ծրագրեր իրականացնող ուսումնական հաստատությունների հերթական ատեստավորման ենթակա ուսուցիչների վերապատրաստման գործընթացի կազմակերպում և իրականացում
A73: Միջոցառման տեսակը` | B73: Ծառայությունների մատուցում
A74: Ծառայությունը մատուցող կազմակերպության(ների) անվանում(ներ)ը՛ | B74: Հանրակրթական հիմնական ծրագրեր իրականացնող ուսումնական հաստատություններ
A75: Արդյունքի չափորոշիչներ
A76: Վերապատրաստված ուսուցիչների թիվը | D76: 789 | E76: 1428
A77: Միջոցառման վրա կատարվող ծախսը (հազար դրամ) | C77: ='Հավելված N 2'!G63 -> 0 | D77: ='Հավելված N 2'!H63 -> 18943.2 | E77: ='Հավելված N 2'!I63 -> 34272
A79: ՀՀ Արագածոտնի մարզպետարան | E79: Աղյուսակ 9.1.48
A80: Ծրագրի դասիչը` | B80: 1192 | C80: Ցուցանիշների փոփոխությունը (ավելացումները նշված են դրական նշանով)
A81: Միջոցառման դասիչը` | B81: 11022 | C81: Առաջին կիսամյակ | D81: Ինն ամիս | E81: Տարի
A82: Միջոցառման անվանումը` | B82: Հանրակրթական հիմնական ծրագրեր իրականացնող ուսումնական հաստատությունների հերթական ատեստավորման ենթակա ուսուցչի վերապատրաստում
A83: Նկարագրությունը` | B83: Հանրակրթական հիմնական ծրագրեր իրականացնող ուսումնական հաստատությունների հերթական ատեստավորման ենթակա ուսուցիչների վերապատրաստման գործընթացի կազմակերպում և իրականացում
A84: Միջոցառման տեսակը` | B84: Ծառայությունների մատուցում
A85: Ծառայությունը մատուցող կազմակերպության(ների) անվանում(ներ)ը՛ | B85: Հանրակրթական հիմնական ծրագրեր իրականացնող ուսումնական հաստատություններ
A86: Արդյունքի չափորոշիչներ
A87: Վերապատրաստված ուսուցիչների թիվը | D87: 264 | E87: 478
A88: Միջոցառման վրա կատարվող ծախսը (հազար դրամ) | C88: ='Հավելված N 2'!G77 -> 0 | D88: ='Հավելված N 2'!H77 -> 6341.1 | E88: ='Հավելված N 2'!I77 -> 11472
A90: ՀՀ Արարատի մարզպետարան | E90: Աղյուսակ 9.1.49
A91: Ծրագրի դասիչը` | B91: 1192 | C91: Ցուցանիշների փոփոխությունը (ավելացումները նշված են դրական նշանով)
A92: Միջոցառման դասիչը` | B92: 11022 | C92: Առաջին կիսամյակ | D92: Ինն ամիս | E92: Տարի
A93: Միջոցառման անվանումը` | B93: Հանրակրթական հիմնական ծրագրեր իրականացնող ուսումնական հաստատությունների հերթական ատեստավորման ենթակա ուսուցչի վերապատրաստում
A94: Նկարագրությունը` | B94: Հանրակրթական հիմնական ծրագրեր իրականացնող ուսումնական հաստատությունների հերթական ատեստավորման ենթակա ուսուցիչների վերապատրաստման գործընթացի կազմակերպում և իրականացում
A95: Միջոցառման տեսակը` | B95: Ծառայությունների մատուցում
A96: Ծառայությունը մատուցող կազմակերպության(ների) անվանում(ներ)ը՛ | B96: Հանրակրթական հիմնական ծրագրեր իրականացնող ուսումնական հաստատություններ
A97: Արդյունքի չափորոշիչներ
A98: Վերապատրաստված ուսուցիչների թիվը | D98: 358 | E98: 647
A99: Միջոցառման վրա կատարվող ծախսը (հազար դրամ) | C99: ='Հավելված N 2'!G84 -> 0 | D99: ='Հավելված N 2'!H84 -> 8583.1 | E99: ='Հավելված N 2'!I84 -> 15528
A101: ՀՀ Արմավիրի մարզպետարան | E101: Աղյուսակ 9.1.50
A102: Ծրագրի դասիչը` | B102: 1192 | C102: Ցուցանիշների փոփոխությունը (ավելացումները նշված են դրական նշանով)
A103: Միջոցառման դասիչը` | B103: 11022 | C103: Առաջին կիսամյակ | D103: Ինն ամիս | E103: Տարի
A104: Միջոցառման անվանումը` | B104: Հանրակրթական հիմնական ծրագրեր իրականացնող ուսումնական հաստատությունների հերթական ատեստավորման ենթակա ուսուցչի վերապատրաստում
A105: Նկարագրությունը` | B105: Հանրակրթական հիմնական ծրագրեր իրականացնող ուսումնական հաստատությունների հերթական ատեստավորման ենթակա ուսուցիչների վերապատրաստման գործընթացի կազմակերպում և իրականացում
A106: Միջոցառման տեսակը` | B106: Ծառայությունների մատուցում
A107: Ծառայությունը մատուցող կազմակերպության(ների) անվանում(ներ)ը՛ | B107: Հանրակրթական հիմնական ծրագրեր իրականացնող ուսումնական հաստատություններ
A108: Արդյունքի չափորոշիչներ
A109: Վերապատրաստված ուսուցիչների թիվը | D109: 355 | E109: 643
A110: Միջոցառման վրա կատարվող ծախսը (հազար դրամ) | C110: ='Հավելված N 2'!G91 -> 0 | D110: ='Հավելված N 2'!H91 -> 8530 | E110: ='Հավելված N 2'!I91 -> 15432
A112: ՀՀ Գեղարքունիքի մարզպետարան | E112: Աղյուսակ 9.1.51
A113: Ծրագրի դասիչը` | B113: 1192 | C113: Ցուցանիշների փոփոխությունը (ավելացումները նշված են դրական նշանով)
...

Sheet հավելված 6
F1: Հավելված N 6
F2: ՀՀ կառավարության 2021 թվականի
F3: ______________ ի ___Ն որոշման
A5: ՀԱՅԱՍՏԱՆԻ ՀԱՆՐԱՊԵՏՈՒԹՅԱՆ ԿԱՌԱՎԱՐՈՒԹՅԱՆ 2020 ԹՎԱԿԱՆԻ ԴԵԿՏԵՄԲԵՐԻ 30-Ի N 2215-Ն ՈՐՈՇՄԱՆ N 8 ՀԱՎԵԼՎԱԾԻ ՑԱՆԿՈՒՄ ԿԱՏԱՐՎՈՂ ԼՐԱՑՈՒՄԸ
A7: Գործառական դասիչ | D7: Ծրագրային դասիչը | F7: Բյուջետային հատակացումների գլխավոր կարգադրիչներ, ծրագրերի, միջոցառումների և միջոցառումներն իրականացնող պետական մարմինների անվանումները
A8: Բաժին | B8: Խումբ | C8: Դաս | D8: Ծրագիր | E8: Միջոցառում
A9: 09 | F9: ԿՐԹՈՒԹՅՈՒՆ
B10: 06 | F10: Կրթությանը տրամադրվող օժանդակ ծառայություններ
C11: 01 | F11: Կրթությանը տրամադրվող օժանդակ ծառայություններ
D12: 1192 | F12: Կրթության որակի ապահովում
E13: 11022 | F13: Հանրակրթական հիմնական ծրագրեր իրականացնող ուսումնական հաստատությունների հերթական ատեստավորման ենթակա ուսուցչի վերապատրաստում
