Workbook
Name շախմատիստ: #REF!
Name շախմատիստ: #REF!
Name շախմատիստ: #REF!

Sheet Հավելված N 1
D1: Հավելված N 1
D2: ՀՀ կառավարության 2021 թվականի
D3: ______________ ի ___Ն որոշման
A4: «ՀԱՅԱՍՏԱՆԻ ՀԱՆՐԱՊԵՏՈՒԹՅԱՆ 2021 ԹՎԱԿԱՆԻ ՊԵՏԱԿԱՆ ԲՅՈՒՋԵԻ ՄԱՍԻՆ» ՕՐԵՆՔԻ N 1 ՀԱՎԵԼՎԱԾԻ N 2 ԱՂՅՈՒՍԱԿՈՒՄ ԿԱՏԱՐՎՈՂ ՎԵՐԱԲԱՇԽՈՒՄԸ ԵՎ ՀԱՅԱՍՏԱՆԻ ՀԱՆՐԱՊԵՏՈՒԹՅԱՆ ԿԱՌԱՎԱՐՈՒԹՅԱՆ 2020 ԹՎԱԿԱՆԻ ԴԵԿՏԵՄԲԵՐԻ 30-Ի N 2215-Ն ՈՐՈՇՄԱՆ N 5 ՀԱՎԵԼՎԱԾԻ N 1 ԱՂՅՈՒՍԱԿՈՒՄ ԿԱՏԱՐՎՈՂ ԼՐԱՑՈՒՄՆԵՐԸ ԵՎ ՓՈՓՈԽՈՒԹՅՈՒՆՆԵՐԸ
F5: հազ. դրամ
A6: Ծրագրային դասիչը | C6: Բյուջետային հատկացումների գլխավոր կարգադրիչների, ծրագրերի և միջոցառումների անվանումները | D6: Ցուցանիշների փոփոխությունը (ավելացումները նշված են դրական նշանով, իսկ նվազեցումները՝ փակագծերում)
A7: ծրագիր | B7: միջոցառում | D7: Առաջին կիսամյակ | E7: Ինն ամիս | F7: Տարի
C8: ԸՆԴԱՄԵՆԸ | D8: =D10+D30 -> 0 | E8: =E10+E30 -> 0 | F8: =F10+F30 -> 0
C9: այդ թվում
A10: ՀՀ կառավարություն | D10: =+D12 -> 0 | E10: =+E12 -> 0 | F10: =+F12 -> 0
A11: 1139 | C11: Ծրագրի անվանումը`
C12: ՀՀ կառավարության պահուստային ֆոնդ | D12: =+D19+D25 -> 0 | E12: =+E19+E25 -> 0 | F12: =+F19+F25 -> 0
C13: Ծրագրի նպատակը`
C14: Պետական բյուջեում չկանխատեսված, ինչպես նաև բյուջետային երաշխիքների ապահովման ծախսերի ֆինանսավորման ապահովում
C15: Վերջնական արդյունքի նկարագրությունը`
C16: Պահուստային ֆոնդի կառավարման արդյունավետության և թափանցիկության ապահովում
C17: Ծրագրի միջոցառումներ
B18: 11001 | C18: Միջոցառման անվանումը`
C19: ՀՀ կառավարության պահուստային ֆոնդ | D19: =D51 -> 0 | E19: =E51 -> 100993.4 | F19: =F51 -> 182712
C20: Միջոցառման նկարագրությունը`
C21: ՀՀ պետական բյուջեում նախատեսված ելքերի լրացուցիչ ֆինանսավորման՝ պետական բյուջեում չկանխատեսված ելքերի, ինչպես նաև բյուջետային երաշխիքների ապահովման ելքերի ֆինանսավորման ապահովում
C22: Միջոցառման տեսակը
C23: Ծառայությունների մատուցում
B24: 11001 | C24: Միջոցառման անվանումը`
C25: ՀՀ կառավարության պահուստային ֆոնդ | D25: =D39+D45 -> 0 | E25: =E39+E45 -> -100993.4 | F25: =F39+F45 -> -182712
C26: Միջոցառման նկարագրությունը`
C27: ՀՀ պետական բյուջեում նախատեսված ելքերի լրացուցիչ ֆինանսավորման՝ պետական բյուջեում չկանխատեսված ելքերի, ինչպես նաև բյուջետային երաշխիքների ապահովման ելքերի ֆինանսավորման ապահովում
C28: Միջոցառման տեսակը
C29: Ծառայությունների մատուցում
A30: ՀՀ կրթության, գիտության, մշակույթի և սպորտի նախարարություն | D30: =D32 -> 0 | E30: =E32 -> 0 | F30: =F32 -> 0
A31: 1192 | C31: Ծրագրի անվանումը`
C32: Կրթության որակի ապահովում | D32: =D39+D45+D51 -> 0 | E32: =E39+E45+E51 -> 0 | F32: =F39+F45+F51 -> 0
C33: Ծրագրի նպատակը`
C34: Ընթացիկ աշխատանքների, բարեփոխումների և նոր նախաձեռնությունների միջոցով ֆորմալ և ոչ-ֆորմալ կրթության ոլորտում իրականացվող միջոցառումների, մատուցվող ծառայությունների բովանդակության և կազմակերպման որակի շարունակական բարելավում
C35: Վերջնական արդյունքի նկարագրությունը`
C36: Նախադպրոցականից մինչև հետբուհական կրթության որակի, այն է սովորողների, միջավայրի, ծրագրերի և ուսումնական նյութերի բովանդակության, գործընթացների, ինչպես նաև վերջնարդյունքների որակի բարելավում ըստ ներպետական և միջազգային ցուցիչների
A37: Ծրագրի միջոցառումներ
B38: 11010 | C38: Միջոցառման անվանումը`
C39: Ատեստավորման նոր համակարգի ներդրում՛ ուղղված ուսուցիչների որակի բարձրացմանը | D39: 0 | E39: -46711.7 | F39: -100091.4
C40: Միջոցառման նկարագրությունը`
...

Sheet Հավելված N 2
G1: Հավելված N 2
G2: ՀՀ կառավարության 2021 թվականի
G3: ______________ ի ___Ն որոշման
A4: ՀԱՅԱՍՏԱՆԻ ՀԱՆՐԱՊԵՏՈՒԹՅԱՆ ԿԱՌԱՎԱՐՈՒԹՅԱՆ 2020 ԹՎԱԿԱՆԻ ԴԵԿՏԵՄԲԵՐԻ 30-Ի N 2215-Ն ՈՐՈՇՄԱՆ N 3 և N 4 ՀԱՎԵԼՎԱԾՆԵՐՈՒՄ ԿԱՏԱՐՎՈՂ ԼՐԱՑՈՒՄՆԵՐԸ ԵՎ ՓՈՓՈԽՈՒԹՅՈՒՆՆԵՐԸ
I5: հազ. դրամ
A6: Գործառական դասիչը | D6: Ծրագրային դասիչը | F6: Բյուջետային ծախսերի գործառական դասակարգման բաժինների, խմբերի և դասերի, բյուջետային ծրագրերի միջոցառումների, բյուջետային հատկացումների գլխավոր կարգադրիչների անվանումները | G6: Ցուցանիշների փոփոխությունը (ավելացումները նշված են դրական նշանով, իսկ նվազեցումները՝ փակագծերում )
A7: Բաժին | B7: Խումբ | C7: Դաս | D7: Ծրագիր | E7: Միջոցառում | G7: Առաջին կիսամյակ | H7: Ինն ամիս | I7: Տարի
F8: ԸՆԴԱՄԵՆԸ | G8: =G10+G28 -> 0 | H8: =H10+H28 -> 0 | I8: =I10+I28 -> 0
F9: այդ թվում`
A10: ՀՀ կառավարություն | G10: =+G11 -> 0 | H10: =+H11 -> 0 | I10: =+I11 -> 0
A11: 11 | F11: ՀԻՄՆԱԿԱՆ ԲԱԺԻՆՆԵՐԻՆ ՉԴԱՍՎՈՂ ՊԱՀՈՒՍՏԱՅԻՆ ՖՈՆԴԵՐ | G11: =+G13 -> 0 | H11: =+H13 -> 0 | I11: =+I13 -> 0
F12: այդ թվում`
B13: 01 | F13: ՀՀ կառավարության և համայնքների պահուստային ֆոնդ | G13: =+G15 -> 0 | H13: =+H15 -> 0 | I13: =+I15 -> 0
F14: այդ թվում`
C15: 01 | F15: ՀՀ կառավարության պահուստային ֆոնդ | G15: =+G17 -> 0 | H15: =+H17 -> 0 | I15: =+I17 -> 0
F16: այդ թվում`
D17: 1139 | E17: ՀՀ կառավարության պահուստային ֆոնդ | G17: =+G19 -> 0 | H17: =+H19 -> 0 | I17: =+I19 -> 0
F18: այդ թվում`
E19: 11001 | F19: ՀՀ կառավարության պահուստային ֆոնդ | G19: =+G21 -> 0 | H19: =+H21 -> 0 | I19: =+I21 -> 0
F20: այդ թվում` ըստ կատարողների
F21: ՀՀ կառավարություն | G21: =+G23 -> 0 | H21: =+H23 -> 0 | I21: =+I23 -> 0
F22: այդ թվում՝ բյուջետային ծախսերի տնտեսագիտական դասակարգման հոդվածներ
F23: ԸՆԴԱՄԵՆԸ ԾԱԽՍԵՐ | G23: =+G24 -> 0 | H23: =+H24 -> 0 | I23: =+I24 -> 0
F24: ԸՆԹԱՑԻԿ ԾԱԽՍԵՐ | G24: =+G25 -> 0 | H24: =+H25 -> 0 | I24: =+I25 -> 0
F25: ԱՅԼ ԾԱԽՍԵՐ | G25: =+G26+G27 -> 0 | H25: =+H26+H27 -> 0 | I25: =+I26+I27 -> 0
F26: Պահուստային միջոցներ | G26: ='Հավելված N 1'!D19 -> 0 | H26: ='Հավելված N 1'!E19 -> 100993.4 | I26: ='Հավելված N 1'!F19 -> 182712
F27: Պահուստային միջոցներ | G27: ='Հավելված N 1'!D25 -> 0 | H27: ='Հավելված N 1'!E25 -> -100993.4 | I27: ='Հավելված N 1'!F25 -> -182712
A28: ՀՀ կրթության, գիտության, մշակույթի և սպորտի նախարարություն | G28: =G29 -> 0 | H28: =H29 -> 0 | I28: =I29 -> 0
A29: 09 | F29: ԿՐԹՈՒԹՅՈՒՆ | G29: =G31 -> 0 | H29: =H31 -> 0 | I29: =I31 -> 0
F30: այդ թվում`
B31: 06 | F31: Կրթությանը տրամադրվող օժանդակ ծառայություններ | G31: =G33 -> 0 | H31: =H33 -> 0 | I31: =I33 -> 0
F32: այդ թվում`
C33: 01 | F33: Կրթությանը տրամադրվող օժանդակ ծառայություններ | G33: =G35 -> 0 | H33: =H35 -> 0 | I33: =I35 -> 0
F34: այդ թվում`
D35: 1192 | E35: Կրթության որակի ապահովում | G35: =G37+G46+G55 -> 0 | H35: =H37+H46+H55 -> 0 | I35: =I37+I46+I55 -> 0
F36: այդ թվում`
E37: 11006 | F37: Կրթության բովանդակային և մեթոդական սպասարկում | G37: =G39 -> 0 | H37: =H39 -> -54281.7 | I37: =I39 -> -82620.6
F38: այդ թվում` ըստ կատարողների
F39: ՀՀ կրթության , գիտության, մշակույթի և սպորտի նախարարություն | G39: =G41 -> 0 | H39: =H41 -> -54281.7 | I39: =I41 -> -82620.6
F40: այդ թվում` բյուջետային ծախսերի տնտեսագիտական դասակարգման հոդվածներ
...

Sheet Հավելված3
G1: Հավելված N 3
G2: ՀՀ կառավարության 2021 թվականի
G3: ______________ ի ___Ն որոշման
A5: ՀԱՅԱՍՏԱՆԻ ՀԱՆՐԱՊԵՏՈՒԹՅԱՆ ԿԱՌԱՎԱՐՈՒԹՅԱՆ 2020 ԹՎԱԿԱՆԻ ԴԵԿՏԵՄԲԵՐԻ 30-Ի N 2215-Ն ՈՐՈՇՄԱՆ N 5 ՀԱՎԵԼՎԱԾԻ N 7 ԱՂՅՈՒՍԱԿՈՒՄ ԿԱՏԱՐՎՈՂ ԼՐԱՑՈՒՄՆԵՐԸ ԵՎ ՓՈՓՈԽՈՒԹՅՈՒՆՆԵՐԸ
G6: հազ. դրամ
A7: Ծրագրային դասիչ | C7: Բյուջետային հատկացումների գլխավոր կարգադրիչների, ծրագրերի, միջոցառումների, ծախսային ուղղությունների անվանումները | F7: Միջոցառումները կատարող պետական մարմինների և դրամաշնորհ ստացող տնտեսվարող սուբյեկտների անվանումները | G7: Ցուցանիշների փոփոխությունը (ավելացումները նշված են դրական նշանով)Տարի
A8: Ծրագիր | B8: Միջոցառում
A9: 1 | B9: 2 | C9: 3 | F9: 4 | G9: 5
A10: ՀՀ կրթության, գիտության, մշակույթի և սպորտի նախարարություն | G10: =G11 -> 0
A11: 1192 | B11: Կրթության որակի ապահովում | G11: =G12+G14+G16 -> 0
B12: 11006 | C12: Կրթության բովանդակային և մեթոդական սպասարկում | F12: ՀՀ կրթության, գիտության, մշակույթի և սպորտի նախարարություն | G12: =G13 -> -82620.6
F13: «Կրթության զարգացման և նորարարությունների ազգային կենտրոն» հիմնադրամ | G13: -82620.6
B14: 11010 | C14: Ատեստավորման նոր համակարգի ներդրում՝ ուղղված ուսուցիչների որակի բարձրացմանը | F14: ՀՀ կրթության, գիտության, մշակույթի և սպորտի նախարարություն | G14: =G15 -> -100091.4
F15: Ատեստավորված ուսուցիչներ | G15: -100091.4
B16: 11022 | C16: Հանրակրթական հիմնական ծրագրեր իրականացնող ուսումնական հաստատությունների հերթական ատեստավորման ենթակա ուսուցչի վերապատրաստում | F16: ընդամենը, որից՝ | G16: =SUM(G17,G19,G21,G23,G25,G27,G29,G31,G33,G35,G37,G39) -> 182712
F17: ՀՀ տարածքային կառավարման և ենթակառուցվածքների նախարարություն | G17: =G18 -> 34272
F18: Հանրակրթական հիմնական ծրագրեր իրականացնող ուսումնական հաստատություններ | G18: ='Հավելված N 2'!I63 -> 34272
F19: ՀՀ կրթության, գիտության, մշակույթի և սպորտի նախարարություն | G19: =G20 -> 20784
F20: Հանրակրթական հիմնական ծրագրեր իրականացնող ուսումնական հաստատություններ | G20: ='Հավելված N 2'!I70 -> 20784
F21: ՀՀ Արագածոտնի մարզպետարան | G21: =G22 -> 11472
F22: Հանրակրթական հիմնական ծրագրեր իրականացնող ուսումնական հաստատություններ | G22: ='Հավելված N 2'!I77 -> 11472
F23: ՀՀ Արարատի մարզպետարան | G23: =G24 -> 15528
F24: Հանրակրթական հիմնական ծրագրեր իրականացնող ուսումնական հաստատություններ | G24: ='Հավելված N 2'!I84 -> 15528
F25: ՀՀ Արմավիրի մարզպետարան | G25: =G26 -> 15432
F26: Հանրակրթական հիմնական ծրագրեր իրականացնող ուսումնական հաստատություններ | G26: ='Հավելված N 2'!I91 -> 15432
F27: ՀՀ Գեղարքունիքի մարզպետարան | G27: =G28 -> 14784
F28: Հանրակրթական հիմնական ծրագրեր իրականացնող ուսումնական հաստատություններ | G28: ='Հավելված N 2'!I98 -> 14784
F29: ՀՀ Լոռու մարզպետարան | G29: =G30 -> 15624
F30: Հանրակրթական հիմնական ծրագրեր իրականացնող ուսումնական հաստատություններ | G30: ='Հավելված N 2'!I105 -> 15624
F31: ՀՀ Կոտայքի մարզպետարան | G31: =G32 -> 13416
F32: Հանրակրթական հիմնական ծրագրեր իրականացնող ուսումնական հաստատություններ | G32: ='Հավելված N 2'!I112 -> 13416
F33: ՀՀ Շիրակի մարզպետարան | G33: =G34 -> 17376
F34: Հանրակրթական հիմնական ծրագրեր իրականացնող ուսումնական հաստատություններ | G34: ='Հավելված N 2'!I119 -> 17376
F35: ՀՀ Սյունիքի մարզպետարան | G35: =G36 -> 10584
F36: Հանրակրթական հիմնական ծրագրեր իրականացնող ուսումնական հաստատություններ | G36: ='Հավելված N 2'!I126 -> 10584
F37: ՀՀ Վայոց ձորի մարզպետարան | G37: =G38 -> 4440
F38: Հանրակրթական հիմնական ծրագրեր իրականացնող ուսումնական հաստատություններ | G38: ='Հավելված N 2'!I133 -> 4440
F39: ՀՀ Տավուշի մարզպետարան | G39: =G40 -> 9000
F40: Հանրակրթական հիմնական ծրագրեր իրականացնող ուսումնական հաստատություններ | G40: ='Հավելված N 2'!I140 -> 9000

Sheet Հավելված N4
B1: Հավելված N 4
B2: ՀՀ կառավարության 2021 թվականի
B3: ______________ ի ___Ն որոշման
A5: ՀԱՅԱՍՏԱՆԻ ՀԱՆՐԱՊԵՏՈՒԹՅԱՆ ԿԱՌԱՎԱՐՈՒԹՅԱՆ 2020 ԹՎԱԿԱՆԻ ԴԵԿՏԵՄԲԵՐԻ 30-Ի N 2215-Ն ՈՐՈՇՄԱՆ N 9 ՀԱՎԵԼՎԱԾԻ N 9.14 ԵՎ N 9.47 ԱՂՅՈՒՍԱԿՆԵՐՈՒՄ ԿԱՏԱՐՎՈՂ ԼՐԱՑՈՒՄՆԵՐԸ ԵՎ ՓՈՓՈԽՈՒԹՅՈՒՆՆԵՐԸ
A7: ՀՀ կառավարություն | E7: 9.47
A8: ՄԱՍ 2. ՊԵՏԱԿԱՆ ՄԱՐՄՆԻ ԳԾՈՎ ԱՐԴՅՈՒՆՔԱՅԻՆ (ԿԱՏԱՐՈՂԱԿԱՆ) ՑՈՒՑԱՆԻՇՆԵՐԸ
A10: Ծրագրի դասիչը | B10: Ծրագրի անվանումը
A11: 1139 | B11: ՀՀ կառավարության պահուստային ֆոնդ
A12: Ծրագրի միջոցառումները
A13: Ծրագրի դասիչը՝ | B13: 1139 | C13: Ցուցանիշների փոփոխությունը (նվազեցումները նշված են փակագծերում)
A14: Միջոցառման դասիչը՝ | B14: 11001 | C14: Առաջին կիսամյակ | D14: Ինն ամիս | E14: Տարի
A15: Միջոցառման անվանումը՝ | B15: ՀՀ կառավարության պահուստային ֆոնդ
A16: Նկարագրությունը՝ | B16: ՀՀ պետական բյուջեում նախատեսված ելքերի լրացուցիչ ֆինանսավորման՝ պետական բյուջեում չկանխատեսված ելքերի, ինչպես նաև բյուջետային երաշխիքների ապահովման ելքերի ֆինանսավորման ապահովում
A17: Միջոցառման տեսակը՝ | B17: Ծառայությունների մատուցում
A18: Միջոցառումն իրականացնողի անվանումը | B18: ՀՀ կառավարություն
A19: Արդյունքի չափորոշիչներ
A20: Միջոցառման վրա կատարվող ծախսը (հազար դրամ) | C20: ='Հավելված N 2'!G27 -> 0 | D20: ='Հավելված N 2'!H27 -> -100993.4 | E20: ='Հավելված N 2'!I27 -> -182712
A22: Ծրագրի դասիչը՝ | B22: 1139 | C22: Ցուցանիշների փոփոխությունը (ավելացումները նշված են դրական նշանով)
A23: Միջոցառման դասիչը՝ | B23: 11001 | C23: Առաջին կիսամյակ | D23: Ինն ամիս | E23: Տարի
A24: Միջոցառման անվանումը՝ | B24: ՀՀ կառավարության պահուստային ֆոնդ
A25: Նկարագրությունը՝ | B25: ՀՀ պետական բյուջեում նախատեսված ելքերի լրացուցիչ ֆինանսավորման՝ պետական բյուջեում չկանխատեսված ելքերի, ինչպես նաև բյուջետային երաշխիքների ապահովման ելքերի ֆինանսավորման ապահովում
A26: Միջոցառման տեսակը՝ | B26: Ծառայությունների մատուցում
A27: Միջոցառումն իրականացնողի անվանումը | B27: ՀՀ կառավարություն
A28: Արդյունքի չափորոշիչներ
A29: Միջոցառման վրա կատարվող ծախսը (հազար դրամ) | C29: ='Հավելված N 2'!G26 -> 0 | D29: ='Հավելված N 2'!H26 -> 100993.4 | E29: ='Հավելված N 2'!I26 -> 182712
A31: ՀՀ կրթության, գիտության, մշակույթի և սպորտի նախարարություն | E31: 9.14
A32: ՄԱՍ 2. ՊԵՏԱԿԱՆ ՄԱՐՄՆԻ ԳԾՈՎ ԱՐԴՅՈՒՆՔԱՅԻՆ (ԿԱՏԱՐՈՂԱԿԱՆ) ՑՈՒՑԱՆԻՇՆԵՐԸ
A34: Ծրագրի դասիչը | B34: Ծրագրի անվանումը
A35: 1192 | B35: Կրթության որակի ապահովում
A37: Ծրագրի միջոցառումները
A39: Ծրագրի դասիչը` | B39: 1192 | C39: Ցուցանիշների փոփոխությունը (նվազեցումները նշված են փակագծերում)
A40: Միջոցառման դասիչը` | B40: 11010 | C40: Առաջին կիսամյակ | D40: Ինն ամիս | E40: Տարի
A41: Միջոցառման անվանումը` | B41: Ատեստավորման նոր համակարգի ներդրում՛ ուղղված ուսուցիչների որակի բարձրացմանը
A42: Նկարագրությունը` | B42: Հանրակրթական դպրոցներում դասվանդող ուսուցիչների կամավոր ատեստավորման համակարգի մշակում և ներդրում
A43: Միջոցառման տեսակը` | B43: Ծառայությունների մատուցում
A44: Ծառայությունը մատուցող կազմակերպության(ների) անվանում(ներ)ը՛ | B44: Մասնագիտացված կազմակերպություն
A45: Արդյունքի չափորոշիչներ
A46: Կամավոր ատեստավորմանը մասնակցած ուսուցիչների թիվը, մարդ | C46: -340 | D46: -340 | E46: -340
A47: Կամավոր ատեստավորման արդյունքում հավելավճար ստացող ուսուցիչների թվաքանակը | C47: -277 | D47: -277 | E47: -277
A48: Միջոցառման վրա կատարվող ծախսը (հազար դրամ) | C48: ='Հավելված N 1'!D39 -> 0 | D48: ='Հավելված N 1'!E39 -> -46711.7 | E48: ='Հավելված N 1'!F39 -> -100091.4
...

Sheet Հավելված N5
B1: Հավելված N 5
B2: ՀՀ կառավարության 2021 թվականի
B3: ______________ ի ___Ն որոշման
A5: ՀԱՅԱՍՏԱՆԻ ՀԱՆՐԱՊԵՏՈՒԹՅԱՆ ԿԱՌԱՎԱՐՈՒԹՅԱՆ 2020 ԹՎԱԿԱՆԻ ԴԵԿՏԵՄԲԵՐԻ 30-Ի N 2215-Ն ՈՐՈՇՄԱՆ N 9.1 ՀԱՎԵԼՎԱԾԻ N 9.1.8, 9.1.14, 9.1.48, 9.1.49, 9.1.50, 9.1.51, 9.1.52, 9.1.53, 9.1.54, 9.1.55, 9.1.56, 9.1.57 ԵՎ 9․1.58 ԱՂՅՈՒՍԱԿՆԵՐՈՒՄ ԿԱՏԱՐՎՈՂ ԼՐԱՑՈՒՄՆԵՐԸ ԵՎ ՓՈՓՈԽՈՒԹՅՈՒՆՆԵՐԸ
A7: ՀՀ կառավարություն | E7: 9.1.58
A8: ՄԱՍ 2. ՊԵՏԱԿԱՆ ՄԱՐՄՆԻ ԳԾՈՎ ԱՐԴՅՈՒՆՔԱՅԻՆ (ԿԱՏԱՐՈՂԱԿԱՆ) ՑՈՒՑԱՆԻՇՆԵՐԸ
A10: Ծրագրի դասիչը | B10: Ծրագրի անվանումը
A11: 1139 | B11: ՀՀ կառավարության պահուստային ֆոնդ
A12: Ծրագրի միջոցառումները
A13: Ծրագրի դասիչը՝ | B13: 1139 | C13: Ցուցանիշների փոփոխությունը (նվազեցումները նշված են փակագծերում)
A14: Միջոցառման դասիչը՝ | B14: 11001 | C14: Առաջին կիսամյակ | D14: Ինն ամիս | E14: Տարի
A15: Միջոցառման անվանումը՝ | B15: ՀՀ կառավարության պահուստային ֆոնդ
A16: Նկարագրությունը՝ | B16: ՀՀ պետական բյուջեում նախատեսված ելքերի լրացուցիչ ֆինանսավորման՝ պետական բյուջեում չկանխատեսված ելքերի, ինչպես նաև բյուջետային երաշխիքների ապահովման ելքերի ֆինանսավորման ապահովում
A17: Միջոցառման տեսակը՝ | B17: Ծառայությունների մատուցում
A18: Միջոցառումն իրականացնողի անվանումը | B18: ՀՀ կառավարություն
A19: Արդյունքի չափորոշիչներ
A20: Միջոցառման վրա կատարվող ծախսը (հազար դրամ) | C20: ='Հավելված N 2'!G27 -> 0 | D20: ='Հավելված N 2'!H27 -> -100993.4 | E20: ='Հավելված N 2'!I27 -> -182712
A22: Ծրագրի դասիչը՝ | B22: 1139 | C22: Ցուցանիշների փոփոխությունը (ավելացումները նշված են դրական նշանով)
A23: Միջոցառման դասիչը՝ | B23: 11001 | C23: Առաջին կիսամյակ | D23: Ինն ամիս | E23: Տարի
A24: Միջոցառման անվանումը՝ | B24: ՀՀ կառավարության պահուստային ֆոնդ
A25: Նկարագրությունը՝ | B25: ՀՀ պետական բյուջեում նախատեսված ելքերի լրացուցիչ ֆինանսավորման՝ պետական բյուջեում չկանխատեսված ելքերի, ինչպես նաև բյուջետային երաշխիքների ապահովման ելքերի ֆինանսավորման ապահովում
A26: Միջոցառման տեսակը՝ | B26: Ծառայությունների մատուցում
A27: Միջոցառումն իրականացնողի անվանումը | B27: ՀՀ կառավարություն
A28: Արդյունքի չափորոշիչներ
A29: Միջոցառման վրա կատարվող ծախսը (հազար դրամ) | C29: ='Հավելված N 2'!G26 -> 0 | D29: ='Հավելված N 2'!H26 -> 100993.4 | E29: ='Հավելված N 2'!I26 -> 182712
A31: ՀՀ կրթության, գիտության, մշակույթի և սպորտի նախարարություն | E31: 9.1.14
A32: ՄԱՍ 2. ՊԵՏԱԿԱՆ ՄԱՐՄՆԻ ԳԾՈՎ ԱՐԴՅՈՒՆՔԱՅԻՆ (ԿԱՏԱՐՈՂԱԿԱՆ) ՑՈՒՑԱՆԻՇՆԵՐԸ
A33: Ծրագրի դասիչը | B33: Ծրագրի անվանումը
A34: 1192 | B34: Կրթության որակի ապահովում
A35: Ծրագրի միջոցառումները
A37: Ծրագրի դասիչը` | B37: 1192 | C37: Ցուցանիշների փոփոխությունը (նվազեցումները նշված են փակագծերում)
A38: Միջոցառման դասիչը` | B38: 11010 | C38: Առաջին կիսամյակ | D38: Ինն ամիս | E38: Տարի
A39: Միջոցառման անվանումը` | B39: Ատեստավորման նոր համակարգի ներդրում՛ ուղղված ուսուցիչների որակի բարձրացմանը
A40: Նկարագրությունը` | B40: Հանրակրթական դպրոցներում դասվանդող ուսուցիչների կամավոր ատեստավորման համակարգի մշակում և ներդրում
A41: Միջոցառման տեսակը` | B41: Ծառայությունների մատուցում
A42: Ծառայությունը մատուցող կազմակերպության(ների) անվանում(ներ)ը՛ | B42: Մասնագիտացված կազմակերպություն
A43: Արդյունքի չափորոշիչներ
A44: Կամավոր ատեստավորմանը մասնակցած ուսուցիչների թիվը, մարդ | C44: -340 | D44: -340 | E44: -340
A45: Կամավոր ատեստավորման արդյունքում հավելավճար ստացող ուսուցիչների թվաքանակը | C45: -277 | D45: -277 | E45: -277
A46: Միջոցառման վրա կատարվող ծախսը (հազար դրամ) | C46: ='Հավելված N 1'!D39 -> 0 | D46: ='Հավելված N 1'!E39 -> -46711.7 | E46: ='Հավելված N 1'!F39 -> -100091.4
...

Sheet հավելված 6
F1: Հավելված N 6
F2: ՀՀ կառավարության 2021 թվականի
F3: ______________ ի ___Ն որոշման
A5: ՀԱՅԱՍՏԱՆԻ ՀԱՆՐԱՊԵՏՈՒԹՅԱՆ ԿԱՌԱՎԱՐՈՒԹՅԱՆ 2020 ԹՎԱԿԱՆԻ ԴԵԿՏԵՄԲԵՐԻ 30-Ի N 2215-Ն ՈՐՈՇՄԱՆ N 8 ՀԱՎԵԼՎԱԾԻ ՑԱՆԿՈՒՄ ԿԱՏԱՐՎՈՂ ԼՐԱՑՈՒՄԸ
A7: Գործառական դասիչ | D7: Ծրագրային դասիչը | F7: Բյուջետային հատակացումների գլխավոր կարգադրիչներ, ծրագրերի, միջոցառումների և միջոցառումներն իրականացնող պետական մարմինների անվանումները
A8: Բաժին | B8: Խումբ | C8: Դաս | D8: Ծրագիր | E8: Միջոցառում
A9: 09 | F9: ԿՐԹՈՒԹՅՈՒՆ
B10: 06 | F10: Կրթությանը տրամադրվող օժանդակ ծառայություններ
C11: 01 | F11: Կրթությանը տրամադրվող օժանդակ ծառայություններ
D12: 1192 | F12: Կրթության որակի ապահովում
E13: 11022 | F13: Հանրակրթական հիմնական ծրագրեր իրականացնող ուսումնական հաստատությունների հերթական ատեստավորման ենթակա ուսուցչի վերապատրաստում
